{"text_format":"1","workbook":"xlsx","n_sheets":43,"sheets":["Menu","Info","Cem 1","Cem 2","Cem 3","Cem 4","Fly Ash 1","Fly Ash 2","Fly Ash 3","Fly Ash 4","Slag 1","Slag 2","Coarse Agg 1","Coarse Agg 2","Coarse Agg 3","Fine Agg 1","Fine Agg 2","Fine Agg 3","Maturity 1","Maturity 2","Maturity 3","ADMIX","Sp. Gr.","Moist.","Mixer","Ck. List","Rand","Insp","CA","FA","CEMENT","FLYASH","SLAG","ADMIX-AIR","ADMIX-WR","ADMIX-MR","ADMIX-HR","ADMIX-RETARDER","ADMIX-SP","FIBERS","ADMIX-CO2","ADMIX-FF","COUNTIES"],"not_rendered":{"charts":0,"images":0,"macros":1,"external_links":0,"defined_names":3,"comments":0,"pivot_tables":0},"unopened":[],"bounds":{"document_bytes":16777216,"sheet_cells":100000,"rows_first":2000,"rows_last":500,"rows_between":2000,"halvings":0,"cell_chars":16384,"cell_head_chars":4096},"cells_cut":0,"cells_raw":0,"read":"whole","date_system":"1900"}

{"sheet":"Menu","index":0,"n_rows":28,"n_cols":5,"rows_kept":28,"cut":false,"hidden":false,"merged":[[1,2,4,3]]}
["PCC Structural Plant Book","By: D. Steenhard & C. Barko","2024-06-17","v4.2","C. Barko"]
["Item Description","Screen","Use for English or Metric Projects.\nEnter weights in Tons or Mg's."]
[" Project Information","Info"]
[" Cement Shipments   1","Cem  1"]
[" Cement Shipments   2","Cem  2"]
[" Cement Shipments   3","Cem  3"]
[" Cement Shipments   4","Cem  4"]
[" Fly Ash  1  Shipments","Fly Ash 1"]
[" Fly Ash  2  Shipments","Fly Ash 2"]
[" Fly Ash  3  Shipments","Fly Ash 3"]
[" Fly Ash  4 Shipments","Fly Ash 4"]
["Slag 1 Shipments","Slag 1"]
["Slag 2 Shipments","Slag 2"]
[" Coarse Aggregate Certifications   1","Coarse Agg  1"]
[" Coarse Aggregate Certifications   2","Coarse Agg  2"]
[" Coarse Aggregate Certifications   3","Coarse Agg  3"]
[" Fine Aggregate Certifications   1","Fine Agg  1"]
[" Fine Aggregate Certifications   2","Fine Agg  2"]
[" Fine Aggregate Certifications   3","Fine Agg  3"]
["Flexural Maturity 1","Maturity 1"]
["Flexural Maturity 2","Maturity 2"]
["Flexural Maturity 3","Maturity 3"]
["Admixture Data","Admix"]
[" Specific  Gravity Test","Sp.  Gr."]
[" Moisture  Test","Moist."]
[" Mixer  Data","Mixer"]
[" Ready Mix Check List","Ck. List"]
[" Plant Site Inspection List","Insp"]

{"sheet":"Info","index":1,"n_rows":82,"n_cols":21,"rows_kept":82,"cut":false,"hidden":false,"merged":[[9,2,10,2]]}
[null,"Plant  Information  Screen"]
["English or Metric (E or M)","E"]
["Project  No.:  "]
["Contract ID.:  "]
["Prime Contractor:  "]
["Plant Location:  "]
["Plant Phone #:  "]
["Plant Fax #:  "]
["Storm Water Permit No.:  "]
["Date Calibrated:  ",null,"Enter Alternate Sources Not Listed In This Column             "]
["By:  "]
["Cement Source  1:  "]
[" Cement Type  1:  ",{"$f":"IF(B12=\"\",\"\", VLOOKUP(B12,CEMENT!A3:E70, 4,FALSE ))","v":""}]
["Cement Sp. Gr.  1:  ",{"$f":"IF(B12=\"\",\"\", VLOOKUP(B12,CEMENT!A3:E70, 5,FALSE))","v":""}]
["Cement Source  2:  "]
["Cement Type  2:  ",{"$f":"IF(B15=\"\",\"\", VLOOKUP(B15,CEMENT!A3:E70, 4,FALSE))","v":""}]
["Cement Sp. Gr.  2:  ",{"$f":"IF(B15=\"\",\"\", VLOOKUP(B15,CEMENT!A3:E70, 5,FALSE))","v":""}]
["Cement Source  3:  "]
["Cement Type  3:  ",{"$f":"IF(B18=\"\",\"\", VLOOKUP(B18,CEMENT!A3:E70, 4,FALSE))","v":""}]
["Cement Sp. Gr. 3:  ",{"$f":"IF(B18=\"\",\"\", VLOOKUP(B18,CEMENT!A3:E70, 5,FALSE))","v":""}]
["Cement Source  4:  "]
["Cement Type  4:  ",{"$f":"IF(B21=\"\",\"\", VLOOKUP(B21,CEMENT!A3:E70, 4,FALSE))","v":""}]
["Cement Sp. Gr. 4:  ",{"$f":"IF(B21=\"\",\"\", VLOOKUP(B21,CEMENT!A3:E70, 5,FALSE))","v":""}]
["Fly Ash Source 1:  "]
["Fly Ash Type 1:  ",{"$f":"IF(B24=\"\",\"\", VLOOKUP(B24,FLYASH!A3:E70,4,FALSE))","v":""}]
["Fly Ash Sp. Gr. 1:  ",{"$f":"IF(B24=\"\",\"\", VLOOKUP(B24,FLYASH!A3:E70,5,FALSE))","v":""}]
["Fly Ash Source 2:  "]
["Fly Ash Type 2:  ",{"$f":"IF(B27=\"\",\"\", VLOOKUP(B27,FLYASH!A3:E70,4,FALSE))","v":""}]
["Fly Ash Sp. Gr. 2:  ",{"$f":"IF(B27=\"\",\"\", VLOOKUP(B27,FLYASH!A3:E70,5,FALSE))","v":""}]
["Fly Ash Source 3:  "]
["Fly Ash Type 3:  ",{"$f":"IF(B30=\"\",\"\", VLOOKUP(B30,FLYASH!A3:E70,4,FALSE))","v":""}]
["Fly Ash Sp. Gr. 3:  ",{"$f":"IF(B30=\"\",\"\", VLOOKUP(B30,FLYASH!A3:E70,5,FALSE))","v":""}]
["Fly Ash Source 4:  "]
["Fly Ash Type 4:  ",{"$f":"IF(B33=\"\",\"\", VLOOKUP(B33,FLYASH!A3:E70,4,FALSE))","v":""}]
["Fly Ash Sp. Gr. 4:  ",{"$f":"IF(B33=\"\",\"\", VLOOKUP(B33,FLYASH!A3:E70,5,FALSE))","v":""}]
["GGBFS Source 1:  "]
["GGBFS Grade 1:  ",{"$f":"IF(B36=\"\",\"\", VLOOKUP(B36,SLAG!A4:E15, 5, FALSE))","v":""}]
["GGBFS Sp. Gr. 1:  ",{"$f":"IF(B36=\"\",\"\", VLOOKUP(B36,SLAG!A4:E16, 4, FALSE))","v":""}]
["GGBFS Source 2:  ",null,null,null,null,null,null,null,null,null,null,null,null,null,null,null,null,null,null,1,2]
["GGBFS Grade 2:  ",{"$f":"IF(B39=\"\",\"\", VLOOKUP(B39,SLAG!A4:E15, 5, FALSE))","v":""},null,null,null,null,null,null,null,null,null,null,null,null,null,null,null,null,null,7,3]
["GGBFS Sp. Gr. 2:  ",{"$f":"IF(B39=\"\",\"\", VLOOKUP(B39,SLAG!A4:E16, 4, FALSE))","v":""},null,null,null,null,null,null,null,null,null,null,null,null,null,null,null,null,null,null,4]
["Coarse Agg. Source  1:  ",null,null,null,null,null,null,null,null,null,null,null,null,null,null,null,null,null,null,null,5]
["Coarse Agg. Sp. Gr.  1:  ",null,null,null,null,null,null,null,null,null,null,null,null,null,null,null,null,null,null,null,6]
["Coarse Agg. Grad No.  1:  "]
["Coarse Agg. Source  2:  "]
["Coarse Agg. Sp. Gr.  2:  "]
["Coarse Agg. Grad No.  2:  "]
["Coarse Agg. Source  3:  "]
["Coarse Agg. Sp. Gr.  3:  "]
["Coarse Agg. Grad No.  3:  "]
["Fine Agg. Source  1:  "]
["Fine Agg. Sp. Gr.  1:  "]
["Fine Agg. Grad No.  1:  "]
["Fine Agg. Source  2:  "]
["Fine Agg. Sp. Gr.  2:  "]
["Fine Agg. Grad No.  2:  "]
["Fine Agg. Source  3:  "]
["Fine Agg. Sp. Gr.  3:  "]
["Fine Agg. Grad No.  3:  "]
["Plant Superintendent:  "]
["Phone #:  "]
["Cellular #:  "]
["Certified Plant Inspector:  "]
["Certification No.:  "]
["Certified Plant Inspector:  "]
["Certification No.:  "]
["Certified Plant Monitor:  "]
["Certification No.:  "]
["Phone #:  "]
["Fax #:  "]
["Certified Plant Monitor:  "]
["Certification No.:  "]
["Project Engineer:  "]
["Phone #:  "]
["Fax #:  "]
["Project Manager:  "]
["Project Inspector:  "]
["Materials Inspector:  "]
["Phone #:  "]
["Fax #:  "]
["Resident Auditor:  "]
["TC Auditor:  "]

{"sheet":"Cem 1","index":2,"n_rows":607,"n_cols":9,"rows_kept":607,"cut":false,"hidden":false,"merged":[]}
["Cement  Shipments  1",null,null,null,null,null,null,null,{"$f":"Info!B2","v":"E"}]
["Spec. Grav.: ",{"$f":"IF(AND(Info!B14=\"\", Info!C14=\"\"),\"\", IF(Info!B14<>\"\", Info!B14, Info!C14))","v":""},null,null,null,null,"Page No.: "]
["Source: ",{"$f":"IF(AND(Info!B12=\"\", Info!C12=\"\"),\"\", IF(Info!B12<>\"\", Info!B12, Info!C12))","v":""},null,null,null,null,"Type: ",{"$f":"IF(AND(Info!B13=\"\", Info!C13=\"\"),\"\", IF(Info!B13<>\"\", Info!B13, Info!C13))","v":""}]
["Project No.: ",{"$f":"IF(Info!B3=\"\",\"\",(Info!B3))","v":""},null,null,null,null,"Contract ID.: ",{"$f":"IF(Info!B4=\"\",\"\",(Info!B4))","v":""}]
[]
[null,"Ticket","Certified","To  Date","Used","To  Date",null,null," "]
["Date","No.",{"$f":"IF(Info!$B$2=\"M\",\"(Mg's)\",\"(Tons)\")","v":"(Tons)"},{"$f":"IF(Info!$B$2=\"M\",\"(Mg's)\",\"(Tons)\")","v":"(Tons)"},{"$f":"IF(Info!$B$2=\"M\",\"(Mg's)\",\"(Tons)\")","v":"(Tons)"},{"$f":"IF(Info!$B$2=\"M\",\"(Mg's)\",\"(Tons)\")","v":"(Tons)"},"Remarks",null,"By"]
[null,null,null,{"$f":"SUM(C8)","v":0},null,{"$f":"SUM(E8)","v":0}]
[null,null,null,{"$f":"ROUND(IF(C9=\"\",0,SUM(C$8:C9)),2)","v":0},null,{"$f":"ROUND(IF(E9=\"\",0,SUM(E$8:E9)),2)","v":0}]
[null,null,null,{"$f":"ROUND(IF(C10=\"\",0,SUM(C$8:C10)),2)","v":0},null,{"$f":"ROUND(IF(E10=\"\",0,SUM(E$8:E10)),2)","v":0}]
[null,null,null,{"$f":"ROUND(IF(C11=\"\",0,SUM(C$8:C11)),2)","v":0},null,{"$f":"ROUND(IF(E11=\"\",0,SUM(E$8:E11)),2)","v":0}]
[null,null,null,{"$f":"ROUND(IF(C12=\"\",0,SUM(C$8:C12)),2)","v":0},null,{"$f":"ROUND(IF(E12=\"\",0,SUM(E$8:E12)),2)","v":0}]
[null,null,null,{"$f":"ROUND(IF(C13=\"\",0,SUM(C$8:C13)),2)","v":0},null,{"$f":"ROUND(IF(E13=\"\",0,SUM(E$8:E13)),2)","v":0}]
[null,null,null,{"$f":"ROUND(IF(C14=\"\",0,SUM(C$8:C14)),2)","v":0},null,{"$f":"ROUND(IF(E14=\"\",0,SUM(E$8:E14)),2)","v":0}]
[null,null,null,{"$f":"ROUND(IF(C15=\"\",0,SUM(C$8:C15)),2)","v":0},null,{"$f":"ROUND(IF(E15=\"\",0,SUM(E$8:E15)),2)","v":0}]
[null,null,null,{"$f":"ROUND(IF(C16=\"\",0,SUM(C$8:C16)),2)","v":0},null,{"$f":"ROUND(IF(E16=\"\",0,SUM(E$8:E16)),2)","v":0}]
[null,null,null,{"$f":"ROUND(IF(C17=\"\",0,SUM(C$8:C17)),2)","v":0},null,{"$f":"ROUND(IF(E17=\"\",0,SUM(E$8:E17)),2)","v":0}]
[null,null,null,{"$f":"ROUND(IF(C18=\"\",0,SUM(C$8:C18)),2)","v":0},null,{"$f":"ROUND(IF(E18=\"\",0,SUM(E$8:E18)),2)","v":0}]
[null,null,null,{"$f":"ROUND(IF(C19=\"\",0,SUM(C$8:C19)),2)","v":0},null,{"$f":"ROUND(IF(E19=\"\",0,SUM(E$8:E19)),2)","v":0}]
[null,null,null,{"$f":"ROUND(IF(C20=\"\",0,SUM(C$8:C20)),2)","v":0},null,{"$f":"ROUND(IF(E20=\"\",0,SUM(E$8:E20)),2)","v":0}]
[null,null,null,{"$f":"ROUND(IF(C21=\"\",0,SUM(C$8:C21)),2)","v":0},null,{"$f":"ROUND(IF(E21=\"\",0,SUM(E$8:E21)),2)","v":0}]
[null,null,null,{"$f":"ROUND(IF(C22=\"\",0,SUM(C$8:C22)),2)","v":0},null,{"$f":"ROUND(IF(E22=\"\",0,SUM(E$8:E22)),2)","v":0}]
[null,null,null,{"$f":"ROUND(IF(C23=\"\",0,SUM(C$8:C23)),2)","v":0},null,{"$f":"ROUND(IF(E23=\"\",0,SUM(E$8:E23)),2)","v":0}]
[null,null,null,{"$f":"ROUND(IF(C24=\"\",0,SUM(C$8:C24)),2)","v":0},null,{"$f":"ROUND(IF(E24=\"\",0,SUM(E$8:E24)),2)","v":0}]
[null,null,null,{"$f":"ROUND(IF(C25=\"\",0,SUM(C$8:C25)),2)","v":0},null,{"$f":"ROUND(IF(E25=\"\",0,SUM(E$8:E25)),2)","v":0}]
[null,null,null,{"$f":"ROUND(IF(C26=\"\",0,SUM(C$8:C26)),2)","v":0},null,{"$f":"ROUND(IF(E26=\"\",0,SUM(E$8:E26)),2)","v":0}]
[null,null,null,{"$f":"ROUND(IF(C27=\"\",0,SUM(C$8:C27)),2)","v":0},null,{"$f":"ROUND(IF(E27=\"\",0,SUM(E$8:E27)),2)","v":0}]
[null,null,null,{"$f":"ROUND(IF(C28=\"\",0,SUM(C$8:C28)),2)","v":0},null,{"$f":"ROUND(IF(E28=\"\",0,SUM(E$8:E28)),2)","v":0}]
[null,null,null,{"$f":"ROUND(IF(C29=\"\",0,SUM(C$8:C29)),2)","v":0},null,{"$f":"ROUND(IF(E29=\"\",0,SUM(E$8:E29)),2)","v":0}]
[null,null,null,{"$f":"ROUND(IF(C30=\"\",0,SUM(C$8:C30)),2)","v":0},null,{"$f":"ROUND(IF(E30=\"\",0,SUM(E$8:E30)),2)","v":0}]
[null,null,null,{"$f":"ROUND(IF(C31=\"\",0,SUM(C$8:C31)),2)","v":0},null,{"$f":"ROUND(IF(E31=\"\",0,SUM(E$8:E31)),2)","v":0}]
[null,null,null,{"$f":"ROUND(IF(C32=\"\",0,SUM(C$8:C32)),2)","v":0},null,{"$f":"ROUND(IF(E32=\"\",0,SUM(E$8:E32)),2)","v":0}]
[null,null,null,{"$f":"ROUND(IF(C33=\"\",0,SUM(C$8:C33)),2)","v":0},null,{"$f":"ROUND(IF(E33=\"\",0,SUM(E$8:E33)),2)","v":0}]
[null,null,null,{"$f":"ROUND(IF(C34=\"\",0,SUM(C$8:C34)),2)","v":0},null,{"$f":"ROUND(IF(E34=\"\",0,SUM(E$8:E34)),2)","v":0}]
[null,null,null,{"$f":"ROUND(IF(C35=\"\",0,SUM(C$8:C35)),2)","v":0},null,{"$f":"ROUND(IF(E35=\"\",0,SUM(E$8:E35)),2)","v":0}]
[null,null,null,{"$f":"ROUND(IF(C36=\"\",0,SUM(C$8:C36)),2)","v":0},null,{"$f":"ROUND(IF(E36=\"\",0,SUM(E$8:E36)),2)","v":0}]
[null,null,null,{"$f":"ROUND(IF(C37=\"\",0,SUM(C$8:C37)),2)","v":0},null,{"$f":"ROUND(IF(E37=\"\",0,SUM(E$8:E37)),2)","v":0}]
[null,null,null,{"$f":"ROUND(IF(C38=\"\",0,SUM(C$8:C38)),2)","v":0},null,{"$f":"ROUND(IF(E38=\"\",0,SUM(E$8:E38)),2)","v":0}]
[null,null,null,{"$f":"ROUND(IF(C39=\"\",0,SUM(C$8:C39)),2)","v":0},null,{"$f":"ROUND(IF(E39=\"\",0,SUM(E$8:E39)),2)","v":0}]
[null,null,null,{"$f":"ROUND(IF(C40=\"\",0,SUM(C$8:C40)),2)","v":0},null,{"$f":"ROUND(IF(E40=\"\",0,SUM(E$8:E40)),2)","v":0}]
[null,null,null,{"$f":"ROUND(IF(C41=\"\",0,SUM(C$8:C41)),2)","v":0},null,{"$f":"ROUND(IF(E41=\"\",0,SUM(E$8:E41)),2)","v":0}]
[null,null,null,{"$f":"ROUND(IF(C42=\"\",0,SUM(C$8:C42)),2)","v":0},null,{"$f":"ROUND(IF(E42=\"\",0,SUM(E$8:E42)),2)","v":0}]
[null,null,null,{"$f":"ROUND(IF(C43=\"\",0,SUM(C$8:C43)),2)","v":0},null,{"$f":"ROUND(IF(E43=\"\",0,SUM(E$8:E43)),2)","v":0}]
[null,null,null,{"$f":"ROUND(IF(C44=\"\",0,SUM(C$8:C44)),2)","v":0},null,{"$f":"ROUND(IF(E44=\"\",0,SUM(E$8:E44)),2)","v":0}]
[null,null,null,{"$f":"ROUND(IF(C45=\"\",0,SUM(C$8:C45)),2)","v":0},null,{"$f":"ROUND(IF(E45=\"\",0,SUM(E$8:E45)),2)","v":0}]
[null,null,null,{"$f":"ROUND(IF(C46=\"\",0,SUM(C$8:C46)),2)","v":0},null,{"$f":"ROUND(IF(E46=\"\",0,SUM(E$8:E46)),2)","v":0}]
[null,null,null,{"$f":"ROUND(IF(C47=\"\",0,SUM(C$8:C47)),2)","v":0},null,{"$f":"ROUND(IF(E47=\"\",0,SUM(E$8:E47)),2)","v":0}]
[null,null,null,{"$f":"ROUND(IF(C48=\"\",0,SUM(C$8:C48)),2)","v":0},null,{"$f":"ROUND(IF(E48=\"\",0,SUM(E$8:E48)),2)","v":0}]
[null,null,null,{"$f":"ROUND(IF(C49=\"\",0,SUM(C$8:C49)),2)","v":0},null,{"$f":"ROUND(IF(E49=\"\",0,SUM(E$8:E49)),2)","v":0}]
[null,null,null,{"$f":"ROUND(IF(C50=\"\",0,SUM(C$8:C50)),2)","v":0},null,{"$f":"ROUND(IF(E50=\"\",0,SUM(E$8:E50)),2)","v":0}]
[null,null,null,{"$f":"ROUND(IF(C51=\"\",0,SUM(C$8:C51)),2)","v":0},null,{"$f":"ROUND(IF(E51=\"\",0,SUM(E$8:E51)),2)","v":0}]
[null,null,null,{"$f":"ROUND(IF(C52=\"\",0,SUM(C$8:C52)),2)","v":0},null,{"$f":"ROUND(IF(E52=\"\",0,SUM(E$8:E52)),2)","v":0}]
[null,null,null,{"$f":"ROUND(IF(C53=\"\",0,SUM(C$8:C53)),2)","v":0},null,{"$f":"ROUND(IF(E53=\"\",0,SUM(E$8:E53)),2)","v":0}]
[null,null,null,{"$f":"ROUND(IF(C54=\"\",0,SUM(C$8:C54)),2)","v":0},null,{"$f":"ROUND(IF(E54=\"\",0,SUM(E$8:E54)),2)","v":0}]
[null,null,null,{"$f":"ROUND(IF(C55=\"\",0,SUM(C$8:C55)),2)","v":0},null,{"$f":"ROUND(IF(E55=\"\",0,SUM(E$8:E55)),2)","v":0}]
[null,null,null,{"$f":"ROUND(IF(C56=\"\",0,SUM(C$8:C56)),2)","v":0},null,{"$f":"ROUND(IF(E56=\"\",0,SUM(E$8:E56)),2)","v":0}]
[null,null,null,{"$f":"ROUND(IF(C57=\"\",0,SUM(C$8:C57)),2)","v":0},null,{"$f":"ROUND(IF(E57=\"\",0,SUM(E$8:E57)),2)","v":0}]
[null,null,null,{"$f":"ROUND(IF(C58=\"\",0,SUM(C$8:C58)),2)","v":0},null,{"$f":"ROUND(IF(E58=\"\",0,SUM(E$8:E58)),2)","v":0}]
[null,null,null,{"$f":"ROUND(IF(C59=\"\",0,SUM(C$8:C59)),2)","v":0},null,{"$f":"ROUND(IF(E59=\"\",0,SUM(E$8:E59)),2)","v":0}]
[null,null,null,{"$f":"ROUND(IF(C60=\"\",0,SUM(C$8:C60)),2)","v":0},null,{"$f":"ROUND(IF(E60=\"\",0,SUM(E$8:E60)),2)","v":0}]
[null,null,null,{"$f":"ROUND(IF(C61=\"\",0,SUM(C$8:C61)),2)","v":0},null,{"$f":"ROUND(IF(E61=\"\",0,SUM(E$8:E61)),2)","v":0}]
[null,null,null,{"$f":"ROUND(IF(C62=\"\",0,SUM(C$8:C62)),2)","v":0},null,{"$f":"ROUND(IF(E62=\"\",0,SUM(E$8:E62)),2)","v":0}]
[null,null,null,{"$f":"ROUND(IF(C63=\"\",0,SUM(C$8:C63)),2)","v":0},null,{"$f":"ROUND(IF(E63=\"\",0,SUM(E$8:E63)),2)","v":0}]
[null,null,null,{"$f":"ROUND(IF(C64=\"\",0,SUM(C$8:C64)),2)","v":0},null,{"$f":"ROUND(IF(E64=\"\",0,SUM(E$8:E64)),2)","v":0}]
[null,null,null,{"$f":"ROUND(IF(C65=\"\",0,SUM(C$8:C65)),2)","v":0},null,{"$f":"ROUND(IF(E65=\"\",0,SUM(E$8:E65)),2)","v":0}]
[null,null,null,{"$f":"ROUND(IF(C66=\"\",0,SUM(C$8:C66)),2)","v":0},null,{"$f":"ROUND(IF(E66=\"\",0,SUM(E$8:E66)),2)","v":0}]
[null,null,null,{"$f":"ROUND(IF(C67=\"\",0,SUM(C$8:C67)),2)","v":0},null,{"$f":"ROUND(IF(E67=\"\",0,SUM(E$8:E67)),2)","v":0}]
[null,null,null,{"$f":"ROUND(IF(C68=\"\",0,SUM(C$8:C68)),2)","v":0},null,{"$f":"ROUND(IF(E68=\"\",0,SUM(E$8:E68)),2)","v":0}]
[null,null,null,{"$f":"ROUND(IF(C69=\"\",0,SUM(C$8:C69)),2)","v":0},null,{"$f":"ROUND(IF(E69=\"\",0,SUM(E$8:E69)),2)","v":0}]
[null,null,null,{"$f":"ROUND(IF(C70=\"\",0,SUM(C$8:C70)),2)","v":0},null,{"$f":"ROUND(IF(E70=\"\",0,SUM(E$8:E70)),2)","v":0}]
[null,null,null,{"$f":"ROUND(IF(C71=\"\",0,SUM(C$8:C71)),2)","v":0},null,{"$f":"ROUND(IF(E71=\"\",0,SUM(E$8:E71)),2)","v":0}]
[null,null,null,{"$f":"ROUND(IF(C72=\"\",0,SUM(C$8:C72)),2)","v":0},null,{"$f":"ROUND(IF(E72=\"\",0,SUM(E$8:E72)),2)","v":0}]
[null,null,null,{"$f":"ROUND(IF(C73=\"\",0,SUM(C$8:C73)),2)","v":0},null,{"$f":"ROUND(IF(E73=\"\",0,SUM(E$8:E73)),2)","v":0}]
[null,null,null,{"$f":"ROUND(IF(C74=\"\",0,SUM(C$8:C74)),2)","v":0},null,{"$f":"ROUND(IF(E74=\"\",0,SUM(E$8:E74)),2)","v":0}]
[null,null,null,{"$f":"ROUND(IF(C75=\"\",0,SUM(C$8:C75)),2)","v":0},null,{"$f":"ROUND(IF(E75=\"\",0,SUM(E$8:E75)),2)","v":0}]
[null,null,null,{"$f":"ROUND(IF(C76=\"\",0,SUM(C$8:C76)),2)","v":0},null,{"$f":"ROUND(IF(E76=\"\",0,SUM(E$8:E76)),2)","v":0}]
[null,null,null,{"$f":"ROUND(IF(C77=\"\",0,SUM(C$8:C77)),2)","v":0},null,{"$f":"ROUND(IF(E77=\"\",0,SUM(E$8:E77)),2)","v":0}]
[null,null,null,{"$f":"ROUND(IF(C78=\"\",0,SUM(C$8:C78)),2)","v":0},null,{"$f":"ROUND(IF(E78=\"\",0,SUM(E$8:E78)),2)","v":0}]
[null,null,null,{"$f":"ROUND(IF(C79=\"\",0,SUM(C$8:C79)),2)","v":0},null,{"$f":"ROUND(IF(E79=\"\",0,SUM(E$8:E79)),2)","v":0}]
[null,null,null,{"$f":"ROUND(IF(C80=\"\",0,SUM(C$8:C80)),2)","v":0},null,{"$f":"ROUND(IF(E80=\"\",0,SUM(E$8:E80)),2)","v":0}]
[null,null,null,{"$f":"ROUND(IF(C81=\"\",0,SUM(C$8:C81)),2)","v":0},null,{"$f":"ROUND(IF(E81=\"\",0,SUM(E$8:E81)),2)","v":0}]
[null,null,null,{"$f":"ROUND(IF(C82=\"\",0,SUM(C$8:C82)),2)","v":0},null,{"$f":"ROUND(IF(E82=\"\",0,SUM(E$8:E82)),2)","v":0}]
[null,null,null,{"$f":"ROUND(IF(C83=\"\",0,SUM(C$8:C83)),2)","v":0},null,{"$f":"ROUND(IF(E83=\"\",0,SUM(E$8:E83)),2)","v":0}]
[null,null,null,{"$f":"ROUND(IF(C84=\"\",0,SUM(C$8:C84)),2)","v":0},null,{"$f":"ROUND(IF(E84=\"\",0,SUM(E$8:E84)),2)","v":0}]
[null,null,null,{"$f":"ROUND(IF(C85=\"\",0,SUM(C$8:C85)),2)","v":0},null,{"$f":"ROUND(IF(E85=\"\",0,SUM(E$8:E85)),2)","v":0}]
[null,null,null,{"$f":"ROUND(IF(C86=\"\",0,SUM(C$8:C86)),2)","v":0},null,{"$f":"ROUND(IF(E86=\"\",0,SUM(E$8:E86)),2)","v":0}]
[null,null,null,{"$f":"ROUND(IF(C87=\"\",0,SUM(C$8:C87)),2)","v":0},null,{"$f":"ROUND(IF(E87=\"\",0,SUM(E$8:E87)),2)","v":0}]
[null,null,null,{"$f":"ROUND(IF(C88=\"\",0,SUM(C$8:C88)),2)","v":0},null,{"$f":"ROUND(IF(E88=\"\",0,SUM(E$8:E88)),2)","v":0}]
[null,null,null,{"$f":"ROUND(IF(C89=\"\",0,SUM(C$8:C89)),2)","v":0},null,{"$f":"ROUND(IF(E89=\"\",0,SUM(E$8:E89)),2)","v":0}]
[null,null,null,{"$f":"ROUND(IF(C90=\"\",0,SUM(C$8:C90)),2)","v":0},null,{"$f":"ROUND(IF(E90=\"\",0,SUM(E$8:E90)),2)","v":0}]
[null,null,null,{"$f":"ROUND(IF(C91=\"\",0,SUM(C$8:C91)),2)","v":0},null,{"$f":"ROUND(IF(E91=\"\",0,SUM(E$8:E91)),2)","v":0}]
[null,null,null,{"$f":"ROUND(IF(C92=\"\",0,SUM(C$8:C92)),2)","v":0},null,{"$f":"ROUND(IF(E92=\"\",0,SUM(E$8:E92)),2)","v":0}]
[null,null,null,{"$f":"ROUND(IF(C93=\"\",0,SUM(C$8:C93)),2)","v":0},null,{"$f":"ROUND(IF(E93=\"\",0,SUM(E$8:E93)),2)","v":0}]
[null,null,null,{"$f":"ROUND(IF(C94=\"\",0,SUM(C$8:C94)),2)","v":0},null,{"$f":"ROUND(IF(E94=\"\",0,SUM(E$8:E94)),2)","v":0}]
[null,null,null,{"$f":"ROUND(IF(C95=\"\",0,SUM(C$8:C95)),2)","v":0},null,{"$f":"ROUND(IF(E95=\"\",0,SUM(E$8:E95)),2)","v":0}]
[null,null,null,{"$f":"ROUND(IF(C96=\"\",0,SUM(C$8:C96)),2)","v":0},null,{"$f":"ROUND(IF(E96=\"\",0,SUM(E$8:E96)),2)","v":0}]
[null,null,null,{"$f":"ROUND(IF(C97=\"\",0,SUM(C$8:C97)),2)","v":0},null,{"$f":"ROUND(IF(E97=\"\",0,SUM(E$8:E97)),2)","v":0}]
[null,null,null,{"$f":"ROUND(IF(C98=\"\",0,SUM(C$8:C98)),2)","v":0},null,{"$f":"ROUND(IF(E98=\"\",0,SUM(E$8:E98)),2)","v":0}]
[null,null,null,{"$f":"ROUND(IF(C99=\"\",0,SUM(C$8:C99)),2)","v":0},null,{"$f":"ROUND(IF(E99=\"\",0,SUM(E$8:E99)),2)","v":0}]
[null,null,null,{"$f":"ROUND(IF(C100=\"\",0,SUM(C$8:C100)),2)","v":0},null,{"$f":"ROUND(IF(E100=\"\",0,SUM(E$8:E100)),2)","v":0}]
[null,null,null,{"$f":"ROUND(IF(C101=\"\",0,SUM(C$8:C101)),2)","v":0},null,{"$f":"ROUND(IF(E101=\"\",0,SUM(E$8:E101)),2)","v":0}]
[null,null,null,{"$f":"ROUND(IF(C102=\"\",0,SUM(C$8:C102)),2)","v":0},null,{"$f":"ROUND(IF(E102=\"\",0,SUM(E$8:E102)),2)","v":0}]
[null,null,null,{"$f":"ROUND(IF(C103=\"\",0,SUM(C$8:C103)),2)","v":0},null,{"$f":"ROUND(IF(E103=\"\",0,SUM(E$8:E103)),2)","v":0}]
[null,null,null,{"$f":"ROUND(IF(C104=\"\",0,SUM(C$8:C104)),2)","v":0},null,{"$f":"ROUND(IF(E104=\"\",0,SUM(E$8:E104)),2)","v":0}]
[null,null,null,{"$f":"ROUND(IF(C105=\"\",0,SUM(C$8:C105)),2)","v":0},null,{"$f":"ROUND(IF(E105=\"\",0,SUM(E$8:E105)),2)","v":0}]
[null,null,null,{"$f":"ROUND(IF(C106=\"\",0,SUM(C$8:C106)),2)","v":0},null,{"$f":"ROUND(IF(E106=\"\",0,SUM(E$8:E106)),2)","v":0}]
[null,null,null,{"$f":"ROUND(IF(C107=\"\",0,SUM(C$8:C107)),2)","v":0},null,{"$f":"ROUND(IF(E107=\"\",0,SUM(E$8:E107)),2)","v":0}]
[null,null,null,{"$f":"ROUND(IF(C108=\"\",0,SUM(C$8:C108)),2)","v":0},null,{"$f":"ROUND(IF(E108=\"\",0,SUM(E$8:E108)),2)","v":0}]
[null,null,null,{"$f":"ROUND(IF(C109=\"\",0,SUM(C$8:C109)),2)","v":0},null,{"$f":"ROUND(IF(E109=\"\",0,SUM(E$8:E109)),2)","v":0}]
[null,null,null,{"$f":"ROUND(IF(C110=\"\",0,SUM(C$8:C110)),2)","v":0},null,{"$f":"ROUND(IF(E110=\"\",0,SUM(E$8:E110)),2)","v":0}]
[null,null,null,{"$f":"ROUND(IF(C111=\"\",0,SUM(C$8:C111)),2)","v":0},null,{"$f":"ROUND(IF(E111=\"\",0,SUM(E$8:E111)),2)","v":0}]
[null,null,null,{"$f":"ROUND(IF(C112=\"\",0,SUM(C$8:C112)),2)","v":0},null,{"$f":"ROUND(IF(E112=\"\",0,SUM(E$8:E112)),2)","v":0}]
[null,null,null,{"$f":"ROUND(IF(C113=\"\",0,SUM(C$8:C113)),2)","v":0},null,{"$f":"ROUND(IF(E113=\"\",0,SUM(E$8:E113)),2)","v":0}]
[null,null,null,{"$f":"ROUND(IF(C114=\"\",0,SUM(C$8:C114)),2)","v":0},null,{"$f":"ROUND(IF(E114=\"\",0,SUM(E$8:E114)),2)","v":0}]
[null,null,null,{"$f":"ROUND(IF(C115=\"\",0,SUM(C$8:C115)),2)","v":0},null,{"$f":"ROUND(IF(E115=\"\",0,SUM(E$8:E115)),2)","v":0}]
[null,null,null,{"$f":"ROUND(IF(C116=\"\",0,SUM(C$8:C116)),2)","v":0},null,{"$f":"ROUND(IF(E116=\"\",0,SUM(E$8:E116)),2)","v":0}]
[null,null,null,{"$f":"ROUND(IF(C117=\"\",0,SUM(C$8:C117)),2)","v":0},null,{"$f":"ROUND(IF(E117=\"\",0,SUM(E$8:E117)),2)","v":0}]
[null,null,null,{"$f":"ROUND(IF(C118=\"\",0,SUM(C$8:C118)),2)","v":0},null,{"$f":"ROUND(IF(E118=\"\",0,SUM(E$8:E118)),2)","v":0}]
[null,null,null,{"$f":"ROUND(IF(C119=\"\",0,SUM(C$8:C119)),2)","v":0},null,{"$f":"ROUND(IF(E119=\"\",0,SUM(E$8:E119)),2)","v":0}]
[null,null,null,{"$f":"ROUND(IF(C120=\"\",0,SUM(C$8:C120)),2)","v":0},null,{"$f":"ROUND(IF(E120=\"\",0,SUM(E$8:E120)),2)","v":0}]
[null,null,null,{"$f":"ROUND(IF(C121=\"\",0,SUM(C$8:C121)),2)","v":0},null,{"$f":"ROUND(IF(E121=\"\",0,SUM(E$8:E121)),2)","v":0}]
[null,null,null,{"$f":"ROUND(IF(C122=\"\",0,SUM(C$8:C122)),2)","v":0},null,{"$f":"ROUND(IF(E122=\"\",0,SUM(E$8:E122)),2)","v":0}]
[null,null,null,{"$f":"ROUND(IF(C123=\"\",0,SUM(C$8:C123)),2)","v":0},null,{"$f":"ROUND(IF(E123=\"\",0,SUM(E$8:E123)),2)","v":0}]
[null,null,null,{"$f":"ROUND(IF(C124=\"\",0,SUM(C$8:C124)),2)","v":0},null,{"$f":"ROUND(IF(E124=\"\",0,SUM(E$8:E124)),2)","v":0}]
[null,null,null,{"$f":"ROUND(IF(C125=\"\",0,SUM(C$8:C125)),2)","v":0},null,{"$f":"ROUND(IF(E125=\"\",0,SUM(E$8:E125)),2)","v":0}]
[null,null,null,{"$f":"ROUND(IF(C126=\"\",0,SUM(C$8:C126)),2)","v":0},null,{"$f":"ROUND(IF(E126=\"\",0,SUM(E$8:E126)),2)","v":0}]
[null,null,null,{"$f":"ROUND(IF(C127=\"\",0,SUM(C$8:C127)),2)","v":0},null,{"$f":"ROUND(IF(E127=\"\",0,SUM(E$8:E127)),2)","v":0}]
[null,null,null,{"$f":"ROUND(IF(C128=\"\",0,SUM(C$8:C128)),2)","v":0},null,{"$f":"ROUND(IF(E128=\"\",0,SUM(E$8:E128)),2)","v":0}]
[null,null,null,{"$f":"ROUND(IF(C129=\"\",0,SUM(C$8:C129)),2)","v":0},null,{"$f":"ROUND(IF(E129=\"\",0,SUM(E$8:E129)),2)","v":0}]
[null,null,null,{"$f":"ROUND(IF(C130=\"\",0,SUM(C$8:C130)),2)","v":0},null,{"$f":"ROUND(IF(E130=\"\",0,SUM(E$8:E130)),2)","v":0}]
[null,null,null,{"$f":"ROUND(IF(C131=\"\",0,SUM(C$8:C131)),2)","v":0},null,{"$f":"ROUND(IF(E131=\"\",0,SUM(E$8:E131)),2)","v":0}]
[null,null,null,{"$f":"ROUND(IF(C132=\"\",0,SUM(C$8:C132)),2)","v":0},null,{"$f":"ROUND(IF(E132=\"\",0,SUM(E$8:E132)),2)","v":0}]
[null,null,null,{"$f":"ROUND(IF(C133=\"\",0,SUM(C$8:C133)),2)","v":0},null,{"$f":"ROUND(IF(E133=\"\",0,SUM(E$8:E133)),2)","v":0}]
[null,null,null,{"$f":"ROUND(IF(C134=\"\",0,SUM(C$8:C134)),2)","v":0},null,{"$f":"ROUND(IF(E134=\"\",0,SUM(E$8:E134)),2)","v":0}]
[null,null,null,{"$f":"ROUND(IF(C135=\"\",0,SUM(C$8:C135)),2)","v":0},null,{"$f":"ROUND(IF(E135=\"\",0,SUM(E$8:E135)),2)","v":0}]
[null,null,null,{"$f":"ROUND(IF(C136=\"\",0,SUM(C$8:C136)),2)","v":0},null,{"$f":"ROUND(IF(E136=\"\",0,SUM(E$8:E136)),2)","v":0}]
[null,null,null,{"$f":"ROUND(IF(C137=\"\",0,SUM(C$8:C137)),2)","v":0},null,{"$f":"ROUND(IF(E137=\"\",0,SUM(E$8:E137)),2)","v":0}]
[null,null,null,{"$f":"ROUND(IF(C138=\"\",0,SUM(C$8:C138)),2)","v":0},null,{"$f":"ROUND(IF(E138=\"\",0,SUM(E$8:E138)),2)","v":0}]
[null,null,null,{"$f":"ROUND(IF(C139=\"\",0,SUM(C$8:C139)),2)","v":0},null,{"$f":"ROUND(IF(E139=\"\",0,SUM(E$8:E139)),2)","v":0}]
[null,null,null,{"$f":"ROUND(IF(C140=\"\",0,SUM(C$8:C140)),2)","v":0},null,{"$f":"ROUND(IF(E140=\"\",0,SUM(E$8:E140)),2)","v":0}]
[null,null,null,{"$f":"ROUND(IF(C141=\"\",0,SUM(C$8:C141)),2)","v":0},null,{"$f":"ROUND(IF(E141=\"\",0,SUM(E$8:E141)),2)","v":0}]
[null,null,null,{"$f":"ROUND(IF(C142=\"\",0,SUM(C$8:C142)),2)","v":0},null,{"$f":"ROUND(IF(E142=\"\",0,SUM(E$8:E142)),2)","v":0}]
[null,null,null,{"$f":"ROUND(IF(C143=\"\",0,SUM(C$8:C143)),2)","v":0},null,{"$f":"ROUND(IF(E143=\"\",0,SUM(E$8:E143)),2)","v":0}]
[null,null,null,{"$f":"ROUND(IF(C144=\"\",0,SUM(C$8:C144)),2)","v":0},null,{"$f":"ROUND(IF(E144=\"\",0,SUM(E$8:E144)),2)","v":0}]
[null,null,null,{"$f":"ROUND(IF(C145=\"\",0,SUM(C$8:C145)),2)","v":0},null,{"$f":"ROUND(IF(E145=\"\",0,SUM(E$8:E145)),2)","v":0}]
[null,null,null,{"$f":"ROUND(IF(C146=\"\",0,SUM(C$8:C146)),2)","v":0},null,{"$f":"ROUND(IF(E146=\"\",0,SUM(E$8:E146)),2)","v":0}]
[null,null,null,{"$f":"ROUND(IF(C147=\"\",0,SUM(C$8:C147)),2)","v":0},null,{"$f":"ROUND(IF(E147=\"\",0,SUM(E$8:E147)),2)","v":0}]
[null,null,null,{"$f":"ROUND(IF(C148=\"\",0,SUM(C$8:C148)),2)","v":0},null,{"$f":"ROUND(IF(E148=\"\",0,SUM(E$8:E148)),2)","v":0}]
[null,null,null,{"$f":"ROUND(IF(C149=\"\",0,SUM(C$8:C149)),2)","v":0},null,{"$f":"ROUND(IF(E149=\"\",0,SUM(E$8:E149)),2)","v":0}]
[null,null,null,{"$f":"ROUND(IF(C150=\"\",0,SUM(C$8:C150)),2)","v":0},null,{"$f":"ROUND(IF(E150=\"\",0,SUM(E$8:E150)),2)","v":0}]
[null,null,null,{"$f":"ROUND(IF(C151=\"\",0,SUM(C$8:C151)),2)","v":0},null,{"$f":"ROUND(IF(E151=\"\",0,SUM(E$8:E151)),2)","v":0}]
[null,null,null,{"$f":"ROUND(IF(C152=\"\",0,SUM(C$8:C152)),2)","v":0},null,{"$f":"ROUND(IF(E152=\"\",0,SUM(E$8:E152)),2)","v":0}]
[null,null,null,{"$f":"ROUND(IF(C153=\"\",0,SUM(C$8:C153)),2)","v":0},null,{"$f":"ROUND(IF(E153=\"\",0,SUM(E$8:E153)),2)","v":0}]
[null,null,null,{"$f":"ROUND(IF(C154=\"\",0,SUM(C$8:C154)),2)","v":0},null,{"$f":"ROUND(IF(E154=\"\",0,SUM(E$8:E154)),2)","v":0}]
[null,null,null,{"$f":"ROUND(IF(C155=\"\",0,SUM(C$8:C155)),2)","v":0},null,{"$f":"ROUND(IF(E155=\"\",0,SUM(E$8:E155)),2)","v":0}]
[null,null,null,{"$f":"ROUND(IF(C156=\"\",0,SUM(C$8:C156)),2)","v":0},null,{"$f":"ROUND(IF(E156=\"\",0,SUM(E$8:E156)),2)","v":0}]
[null,null,null,{"$f":"ROUND(IF(C157=\"\",0,SUM(C$8:C157)),2)","v":0},null,{"$f":"ROUND(IF(E157=\"\",0,SUM(E$8:E157)),2)","v":0}]
[null,null,null,{"$f":"ROUND(IF(C158=\"\",0,SUM(C$8:C158)),2)","v":0},null,{"$f":"ROUND(IF(E158=\"\",0,SUM(E$8:E158)),2)","v":0}]
[null,null,null,{"$f":"ROUND(IF(C159=\"\",0,SUM(C$8:C159)),2)","v":0},null,{"$f":"ROUND(IF(E159=\"\",0,SUM(E$8:E159)),2)","v":0}]
[null,null,null,{"$f":"ROUND(IF(C160=\"\",0,SUM(C$8:C160)),2)","v":0},null,{"$f":"ROUND(IF(E160=\"\",0,SUM(E$8:E160)),2)","v":0}]
[null,null,null,{"$f":"ROUND(IF(C161=\"\",0,SUM(C$8:C161)),2)","v":0},null,{"$f":"ROUND(IF(E161=\"\",0,SUM(E$8:E161)),2)","v":0}]
[null,null,null,{"$f":"ROUND(IF(C162=\"\",0,SUM(C$8:C162)),2)","v":0},null,{"$f":"ROUND(IF(E162=\"\",0,SUM(E$8:E162)),2)","v":0}]
[null,null,null,{"$f":"ROUND(IF(C163=\"\",0,SUM(C$8:C163)),2)","v":0},null,{"$f":"ROUND(IF(E163=\"\",0,SUM(E$8:E163)),2)","v":0}]
[null,null,null,{"$f":"ROUND(IF(C164=\"\",0,SUM(C$8:C164)),2)","v":0},null,{"$f":"ROUND(IF(E164=\"\",0,SUM(E$8:E164)),2)","v":0}]
[null,null,null,{"$f":"ROUND(IF(C165=\"\",0,SUM(C$8:C165)),2)","v":0},null,{"$f":"ROUND(IF(E165=\"\",0,SUM(E$8:E165)),2)","v":0}]
[null,null,null,{"$f":"ROUND(IF(C166=\"\",0,SUM(C$8:C166)),2)","v":0},null,{"$f":"ROUND(IF(E166=\"\",0,SUM(E$8:E166)),2)","v":0}]
[null,null,null,{"$f":"ROUND(IF(C167=\"\",0,SUM(C$8:C167)),2)","v":0},null,{"$f":"ROUND(IF(E167=\"\",0,SUM(E$8:E167)),2)","v":0}]
[null,null,null,{"$f":"ROUND(IF(C168=\"\",0,SUM(C$8:C168)),2)","v":0},null,{"$f":"ROUND(IF(E168=\"\",0,SUM(E$8:E168)),2)","v":0}]
[null,null,null,{"$f":"ROUND(IF(C169=\"\",0,SUM(C$8:C169)),2)","v":0},null,{"$f":"ROUND(IF(E169=\"\",0,SUM(E$8:E169)),2)","v":0}]
[null,null,null,{"$f":"ROUND(IF(C170=\"\",0,SUM(C$8:C170)),2)","v":0},null,{"$f":"ROUND(IF(E170=\"\",0,SUM(E$8:E170)),2)","v":0}]
[null,null,null,{"$f":"ROUND(IF(C171=\"\",0,SUM(C$8:C171)),2)","v":0},null,{"$f":"ROUND(IF(E171=\"\",0,SUM(E$8:E171)),2)","v":0}]
[null,null,null,{"$f":"ROUND(IF(C172=\"\",0,SUM(C$8:C172)),2)","v":0},null,{"$f":"ROUND(IF(E172=\"\",0,SUM(E$8:E172)),2)","v":0}]
[null,null,null,{"$f":"ROUND(IF(C173=\"\",0,SUM(C$8:C173)),2)","v":0},null,{"$f":"ROUND(IF(E173=\"\",0,SUM(E$8:E173)),2)","v":0}]
[null,null,null,{"$f":"ROUND(IF(C174=\"\",0,SUM(C$8:C174)),2)","v":0},null,{"$f":"ROUND(IF(E174=\"\",0,SUM(E$8:E174)),2)","v":0}]
[null,null,null,{"$f":"ROUND(IF(C175=\"\",0,SUM(C$8:C175)),2)","v":0},null,{"$f":"ROUND(IF(E175=\"\",0,SUM(E$8:E175)),2)","v":0}]
[null,null,null,{"$f":"ROUND(IF(C176=\"\",0,SUM(C$8:C176)),2)","v":0},null,{"$f":"ROUND(IF(E176=\"\",0,SUM(E$8:E176)),2)","v":0}]
[null,null,null,{"$f":"ROUND(IF(C177=\"\",0,SUM(C$8:C177)),2)","v":0},null,{"$f":"ROUND(IF(E177=\"\",0,SUM(E$8:E177)),2)","v":0}]
[null,null,null,{"$f":"ROUND(IF(C178=\"\",0,SUM(C$8:C178)),2)","v":0},null,{"$f":"ROUND(IF(E178=\"\",0,SUM(E$8:E178)),2)","v":0}]
[null,null,null,{"$f":"ROUND(IF(C179=\"\",0,SUM(C$8:C179)),2)","v":0},null,{"$f":"ROUND(IF(E179=\"\",0,SUM(E$8:E179)),2)","v":0}]
[null,null,null,{"$f":"ROUND(IF(C180=\"\",0,SUM(C$8:C180)),2)","v":0},null,{"$f":"ROUND(IF(E180=\"\",0,SUM(E$8:E180)),2)","v":0}]
[null,null,null,{"$f":"ROUND(IF(C181=\"\",0,SUM(C$8:C181)),2)","v":0},null,{"$f":"ROUND(IF(E181=\"\",0,SUM(E$8:E181)),2)","v":0}]
[null,null,null,{"$f":"ROUND(IF(C182=\"\",0,SUM(C$8:C182)),2)","v":0},null,{"$f":"ROUND(IF(E182=\"\",0,SUM(E$8:E182)),2)","v":0}]
[null,null,null,{"$f":"ROUND(IF(C183=\"\",0,SUM(C$8:C183)),2)","v":0},null,{"$f":"ROUND(IF(E183=\"\",0,SUM(E$8:E183)),2)","v":0}]
[null,null,null,{"$f":"ROUND(IF(C184=\"\",0,SUM(C$8:C184)),2)","v":0},null,{"$f":"ROUND(IF(E184=\"\",0,SUM(E$8:E184)),2)","v":0}]
[null,null,null,{"$f":"ROUND(IF(C185=\"\",0,SUM(C$8:C185)),2)","v":0},null,{"$f":"ROUND(IF(E185=\"\",0,SUM(E$8:E185)),2)","v":0}]
[null,null,null,{"$f":"ROUND(IF(C186=\"\",0,SUM(C$8:C186)),2)","v":0},null,{"$f":"ROUND(IF(E186=\"\",0,SUM(E$8:E186)),2)","v":0}]
[null,null,null,{"$f":"ROUND(IF(C187=\"\",0,SUM(C$8:C187)),2)","v":0},null,{"$f":"ROUND(IF(E187=\"\",0,SUM(E$8:E187)),2)","v":0}]
[null,null,null,{"$f":"ROUND(IF(C188=\"\",0,SUM(C$8:C188)),2)","v":0},null,{"$f":"ROUND(IF(E188=\"\",0,SUM(E$8:E188)),2)","v":0}]
[null,null,null,{"$f":"ROUND(IF(C189=\"\",0,SUM(C$8:C189)),2)","v":0},null,{"$f":"ROUND(IF(E189=\"\",0,SUM(E$8:E189)),2)","v":0}]
[null,null,null,{"$f":"ROUND(IF(C190=\"\",0,SUM(C$8:C190)),2)","v":0},null,{"$f":"ROUND(IF(E190=\"\",0,SUM(E$8:E190)),2)","v":0}]
[null,null,null,{"$f":"ROUND(IF(C191=\"\",0,SUM(C$8:C191)),2)","v":0},null,{"$f":"ROUND(IF(E191=\"\",0,SUM(E$8:E191)),2)","v":0}]
[null,null,null,{"$f":"ROUND(IF(C192=\"\",0,SUM(C$8:C192)),2)","v":0},null,{"$f":"ROUND(IF(E192=\"\",0,SUM(E$8:E192)),2)","v":0}]
[null,null,null,{"$f":"ROUND(IF(C193=\"\",0,SUM(C$8:C193)),2)","v":0},null,{"$f":"ROUND(IF(E193=\"\",0,SUM(E$8:E193)),2)","v":0}]
[null,null,null,{"$f":"ROUND(IF(C194=\"\",0,SUM(C$8:C194)),2)","v":0},null,{"$f":"ROUND(IF(E194=\"\",0,SUM(E$8:E194)),2)","v":0}]
[null,null,null,{"$f":"ROUND(IF(C195=\"\",0,SUM(C$8:C195)),2)","v":0},null,{"$f":"ROUND(IF(E195=\"\",0,SUM(E$8:E195)),2)","v":0}]
[null,null,null,{"$f":"ROUND(IF(C196=\"\",0,SUM(C$8:C196)),2)","v":0},null,{"$f":"ROUND(IF(E196=\"\",0,SUM(E$8:E196)),2)","v":0}]
[null,null,null,{"$f":"ROUND(IF(C197=\"\",0,SUM(C$8:C197)),2)","v":0},null,{"$f":"ROUND(IF(E197=\"\",0,SUM(E$8:E197)),2)","v":0}]
[null,null,null,{"$f":"ROUND(IF(C198=\"\",0,SUM(C$8:C198)),2)","v":0},null,{"$f":"ROUND(IF(E198=\"\",0,SUM(E$8:E198)),2)","v":0}]
[null,null,null,{"$f":"ROUND(IF(C199=\"\",0,SUM(C$8:C199)),2)","v":0},null,{"$f":"ROUND(IF(E199=\"\",0,SUM(E$8:E199)),2)","v":0}]
[null,null,null,{"$f":"ROUND(IF(C200=\"\",0,SUM(C$8:C200)),2)","v":0},null,{"$f":"ROUND(IF(E200=\"\",0,SUM(E$8:E200)),2)","v":0}]
[null,null,null,{"$f":"ROUND(IF(C201=\"\",0,SUM(C$8:C201)),2)","v":0},null,{"$f":"ROUND(IF(E201=\"\",0,SUM(E$8:E201)),2)","v":0}]
[null,null,null,{"$f":"ROUND(IF(C202=\"\",0,SUM(C$8:C202)),2)","v":0},null,{"$f":"ROUND(IF(E202=\"\",0,SUM(E$8:E202)),2)","v":0}]
[null,null,null,{"$f":"ROUND(IF(C203=\"\",0,SUM(C$8:C203)),2)","v":0},null,{"$f":"ROUND(IF(E203=\"\",0,SUM(E$8:E203)),2)","v":0}]
[null,null,null,{"$f":"ROUND(IF(C204=\"\",0,SUM(C$8:C204)),2)","v":0},null,{"$f":"ROUND(IF(E204=\"\",0,SUM(E$8:E204)),2)","v":0}]
[null,null,null,{"$f":"ROUND(IF(C205=\"\",0,SUM(C$8:C205)),2)","v":0},null,{"$f":"ROUND(IF(E205=\"\",0,SUM(E$8:E205)),2)","v":0}]
[null,null,null,{"$f":"ROUND(IF(C206=\"\",0,SUM(C$8:C206)),2)","v":0},null,{"$f":"ROUND(IF(E206=\"\",0,SUM(E$8:E206)),2)","v":0}]
[null,null,null,{"$f":"ROUND(IF(C207=\"\",0,SUM(C$8:C207)),2)","v":0},null,{"$f":"ROUND(IF(E207=\"\",0,SUM(E$8:E207)),2)","v":0}]
[null,null,null,{"$f":"ROUND(IF(C208=\"\",0,SUM(C$8:C208)),2)","v":0},null,{"$f":"ROUND(IF(E208=\"\",0,SUM(E$8:E208)),2)","v":0}]
[null,null,null,{"$f":"ROUND(IF(C209=\"\",0,SUM(C$8:C209)),2)","v":0},null,{"$f":"ROUND(IF(E209=\"\",0,SUM(E$8:E209)),2)","v":0}]
[null,null,null,{"$f":"ROUND(IF(C210=\"\",0,SUM(C$8:C210)),2)","v":0},null,{"$f":"ROUND(IF(E210=\"\",0,SUM(E$8:E210)),2)","v":0}]
[null,null,null,{"$f":"ROUND(IF(C211=\"\",0,SUM(C$8:C211)),2)","v":0},null,{"$f":"ROUND(IF(E211=\"\",0,SUM(E$8:E211)),2)","v":0}]
[null,null,null,{"$f":"ROUND(IF(C212=\"\",0,SUM(C$8:C212)),2)","v":0},null,{"$f":"ROUND(IF(E212=\"\",0,SUM(E$8:E212)),2)","v":0}]
[null,null,null,{"$f":"ROUND(IF(C213=\"\",0,SUM(C$8:C213)),2)","v":0},null,{"$f":"ROUND(IF(E213=\"\",0,SUM(E$8:E213)),2)","v":0}]
[null,null,null,{"$f":"ROUND(IF(C214=\"\",0,SUM(C$8:C214)),2)","v":0},null,{"$f":"ROUND(IF(E214=\"\",0,SUM(E$8:E214)),2)","v":0}]
[null,null,null,{"$f":"ROUND(IF(C215=\"\",0,SUM(C$8:C215)),2)","v":0},null,{"$f":"ROUND(IF(E215=\"\",0,SUM(E$8:E215)),2)","v":0}]
[null,null,null,{"$f":"ROUND(IF(C216=\"\",0,SUM(C$8:C216)),2)","v":0},null,{"$f":"ROUND(IF(E216=\"\",0,SUM(E$8:E216)),2)","v":0}]
[null,null,null,{"$f":"ROUND(IF(C217=\"\",0,SUM(C$8:C217)),2)","v":0},null,{"$f":"ROUND(IF(E217=\"\",0,SUM(E$8:E217)),2)","v":0}]
[null,null,null,{"$f":"ROUND(IF(C218=\"\",0,SUM(C$8:C218)),2)","v":0},null,{"$f":"ROUND(IF(E218=\"\",0,SUM(E$8:E218)),2)","v":0}]
[null,null,null,{"$f":"ROUND(IF(C219=\"\",0,SUM(C$8:C219)),2)","v":0},null,{"$f":"ROUND(IF(E219=\"\",0,SUM(E$8:E219)),2)","v":0}]
[null,null,null,{"$f":"ROUND(IF(C220=\"\",0,SUM(C$8:C220)),2)","v":0},null,{"$f":"ROUND(IF(E220=\"\",0,SUM(E$8:E220)),2)","v":0}]
[null,null,null,{"$f":"ROUND(IF(C221=\"\",0,SUM(C$8:C221)),2)","v":0},null,{"$f":"ROUND(IF(E221=\"\",0,SUM(E$8:E221)),2)","v":0}]
[null,null,null,{"$f":"ROUND(IF(C222=\"\",0,SUM(C$8:C222)),2)","v":0},null,{"$f":"ROUND(IF(E222=\"\",0,SUM(E$8:E222)),2)","v":0}]
[null,null,null,{"$f":"ROUND(IF(C223=\"\",0,SUM(C$8:C223)),2)","v":0},null,{"$f":"ROUND(IF(E223=\"\",0,SUM(E$8:E223)),2)","v":0}]
[null,null,null,{"$f":"ROUND(IF(C224=\"\",0,SUM(C$8:C224)),2)","v":0},null,{"$f":"ROUND(IF(E224=\"\",0,SUM(E$8:E224)),2)","v":0}]
[null,null,null,{"$f":"ROUND(IF(C225=\"\",0,SUM(C$8:C225)),2)","v":0},null,{"$f":"ROUND(IF(E225=\"\",0,SUM(E$8:E225)),2)","v":0}]
[null,null,null,{"$f":"ROUND(IF(C226=\"\",0,SUM(C$8:C226)),2)","v":0},null,{"$f":"ROUND(IF(E226=\"\",0,SUM(E$8:E226)),2)","v":0}]
[null,null,null,{"$f":"ROUND(IF(C227=\"\",0,SUM(C$8:C227)),2)","v":0},null,{"$f":"ROUND(IF(E227=\"\",0,SUM(E$8:E227)),2)","v":0}]
[null,null,null,{"$f":"ROUND(IF(C228=\"\",0,SUM(C$8:C228)),2)","v":0},null,{"$f":"ROUND(IF(E228=\"\",0,SUM(E$8:E228)),2)","v":0}]
[null,null,null,{"$f":"ROUND(IF(C229=\"\",0,SUM(C$8:C229)),2)","v":0},null,{"$f":"ROUND(IF(E229=\"\",0,SUM(E$8:E229)),2)","v":0}]
[null,null,null,{"$f":"ROUND(IF(C230=\"\",0,SUM(C$8:C230)),2)","v":0},null,{"$f":"ROUND(IF(E230=\"\",0,SUM(E$8:E230)),2)","v":0}]
[null,null,null,{"$f":"ROUND(IF(C231=\"\",0,SUM(C$8:C231)),2)","v":0},null,{"$f":"ROUND(IF(E231=\"\",0,SUM(E$8:E231)),2)","v":0}]
[null,null,null,{"$f":"ROUND(IF(C232=\"\",0,SUM(C$8:C232)),2)","v":0},null,{"$f":"ROUND(IF(E232=\"\",0,SUM(E$8:E232)),2)","v":0}]
[null,null,null,{"$f":"ROUND(IF(C233=\"\",0,SUM(C$8:C233)),2)","v":0},null,{"$f":"ROUND(IF(E233=\"\",0,SUM(E$8:E233)),2)","v":0}]
[null,null,null,{"$f":"ROUND(IF(C234=\"\",0,SUM(C$8:C234)),2)","v":0},null,{"$f":"ROUND(IF(E234=\"\",0,SUM(E$8:E234)),2)","v":0}]
[null,null,null,{"$f":"ROUND(IF(C235=\"\",0,SUM(C$8:C235)),2)","v":0},null,{"$f":"ROUND(IF(E235=\"\",0,SUM(E$8:E235)),2)","v":0}]
[null,null,null,{"$f":"ROUND(IF(C236=\"\",0,SUM(C$8:C236)),2)","v":0},null,{"$f":"ROUND(IF(E236=\"\",0,SUM(E$8:E236)),2)","v":0}]
[null,null,null,{"$f":"ROUND(IF(C237=\"\",0,SUM(C$8:C237)),2)","v":0},null,{"$f":"ROUND(IF(E237=\"\",0,SUM(E$8:E237)),2)","v":0}]
[null,null,null,{"$f":"ROUND(IF(C238=\"\",0,SUM(C$8:C238)),2)","v":0},null,{"$f":"ROUND(IF(E238=\"\",0,SUM(E$8:E238)),2)","v":0}]
[null,null,null,{"$f":"ROUND(IF(C239=\"\",0,SUM(C$8:C239)),2)","v":0},null,{"$f":"ROUND(IF(E239=\"\",0,SUM(E$8:E239)),2)","v":0}]
[null,null,null,{"$f":"ROUND(IF(C240=\"\",0,SUM(C$8:C240)),2)","v":0},null,{"$f":"ROUND(IF(E240=\"\",0,SUM(E$8:E240)),2)","v":0}]
[null,null,null,{"$f":"ROUND(IF(C241=\"\",0,SUM(C$8:C241)),2)","v":0},null,{"$f":"ROUND(IF(E241=\"\",0,SUM(E$8:E241)),2)","v":0}]
[null,null,null,{"$f":"ROUND(IF(C242=\"\",0,SUM(C$8:C242)),2)","v":0},null,{"$f":"ROUND(IF(E242=\"\",0,SUM(E$8:E242)),2)","v":0}]
[null,null,null,{"$f":"ROUND(IF(C243=\"\",0,SUM(C$8:C243)),2)","v":0},null,{"$f":"ROUND(IF(E243=\"\",0,SUM(E$8:E243)),2)","v":0}]
[null,null,null,{"$f":"ROUND(IF(C244=\"\",0,SUM(C$8:C244)),2)","v":0},null,{"$f":"ROUND(IF(E244=\"\",0,SUM(E$8:E244)),2)","v":0}]
[null,null,null,{"$f":"ROUND(IF(C245=\"\",0,SUM(C$8:C245)),2)","v":0},null,{"$f":"ROUND(IF(E245=\"\",0,SUM(E$8:E245)),2)","v":0}]
[null,null,null,{"$f":"ROUND(IF(C246=\"\",0,SUM(C$8:C246)),2)","v":0},null,{"$f":"ROUND(IF(E246=\"\",0,SUM(E$8:E246)),2)","v":0}]
[null,null,null,{"$f":"ROUND(IF(C247=\"\",0,SUM(C$8:C247)),2)","v":0},null,{"$f":"ROUND(IF(E247=\"\",0,SUM(E$8:E247)),2)","v":0}]
[null,null,null,{"$f":"ROUND(IF(C248=\"\",0,SUM(C$8:C248)),2)","v":0},null,{"$f":"ROUND(IF(E248=\"\",0,SUM(E$8:E248)),2)","v":0}]
[null,null,null,{"$f":"ROUND(IF(C249=\"\",0,SUM(C$8:C249)),2)","v":0},null,{"$f":"ROUND(IF(E249=\"\",0,SUM(E$8:E249)),2)","v":0}]
[null,null,null,{"$f":"ROUND(IF(C250=\"\",0,SUM(C$8:C250)),2)","v":0},null,{"$f":"ROUND(IF(E250=\"\",0,SUM(E$8:E250)),2)","v":0}]
[null,null,null,{"$f":"ROUND(IF(C251=\"\",0,SUM(C$8:C251)),2)","v":0},null,{"$f":"ROUND(IF(E251=\"\",0,SUM(E$8:E251)),2)","v":0}]
[null,null,null,{"$f":"ROUND(IF(C252=\"\",0,SUM(C$8:C252)),2)","v":0},null,{"$f":"ROUND(IF(E252=\"\",0,SUM(E$8:E252)),2)","v":0}]
[null,null,null,{"$f":"ROUND(IF(C253=\"\",0,SUM(C$8:C253)),2)","v":0},null,{"$f":"ROUND(IF(E253=\"\",0,SUM(E$8:E253)),2)","v":0}]
[null,null,null,{"$f":"ROUND(IF(C254=\"\",0,SUM(C$8:C254)),2)","v":0},null,{"$f":"ROUND(IF(E254=\"\",0,SUM(E$8:E254)),2)","v":0}]
[null,null,null,{"$f":"ROUND(IF(C255=\"\",0,SUM(C$8:C255)),2)","v":0},null,{"$f":"ROUND(IF(E255=\"\",0,SUM(E$8:E255)),2)","v":0}]
[null,null,null,{"$f":"ROUND(IF(C256=\"\",0,SUM(C$8:C256)),2)","v":0},null,{"$f":"ROUND(IF(E256=\"\",0,SUM(E$8:E256)),2)","v":0}]
[null,null,null,{"$f":"ROUND(IF(C257=\"\",0,SUM(C$8:C257)),2)","v":0},null,{"$f":"ROUND(IF(E257=\"\",0,SUM(E$8:E257)),2)","v":0}]
[null,null,null,{"$f":"ROUND(IF(C258=\"\",0,SUM(C$8:C258)),2)","v":0},null,{"$f":"ROUND(IF(E258=\"\",0,SUM(E$8:E258)),2)","v":0}]
[null,null,null,{"$f":"ROUND(IF(C259=\"\",0,SUM(C$8:C259)),2)","v":0},null,{"$f":"ROUND(IF(E259=\"\",0,SUM(E$8:E259)),2)","v":0}]
[null,null,null,{"$f":"ROUND(IF(C260=\"\",0,SUM(C$8:C260)),2)","v":0},null,{"$f":"ROUND(IF(E260=\"\",0,SUM(E$8:E260)),2)","v":0}]
[null,null,null,{"$f":"ROUND(IF(C261=\"\",0,SUM(C$8:C261)),2)","v":0},null,{"$f":"ROUND(IF(E261=\"\",0,SUM(E$8:E261)),2)","v":0}]
[null,null,null,{"$f":"ROUND(IF(C262=\"\",0,SUM(C$8:C262)),2)","v":0},null,{"$f":"ROUND(IF(E262=\"\",0,SUM(E$8:E262)),2)","v":0}]
[null,null,null,{"$f":"ROUND(IF(C263=\"\",0,SUM(C$8:C263)),2)","v":0},null,{"$f":"ROUND(IF(E263=\"\",0,SUM(E$8:E263)),2)","v":0}]
[null,null,null,{"$f":"ROUND(IF(C264=\"\",0,SUM(C$8:C264)),2)","v":0},null,{"$f":"ROUND(IF(E264=\"\",0,SUM(E$8:E264)),2)","v":0}]
[null,null,null,{"$f":"ROUND(IF(C265=\"\",0,SUM(C$8:C265)),2)","v":0},null,{"$f":"ROUND(IF(E265=\"\",0,SUM(E$8:E265)),2)","v":0}]
[null,null,null,{"$f":"ROUND(IF(C266=\"\",0,SUM(C$8:C266)),2)","v":0},null,{"$f":"ROUND(IF(E266=\"\",0,SUM(E$8:E266)),2)","v":0}]
[null,null,null,{"$f":"ROUND(IF(C267=\"\",0,SUM(C$8:C267)),2)","v":0},null,{"$f":"ROUND(IF(E267=\"\",0,SUM(E$8:E267)),2)","v":0}]
[null,null,null,{"$f":"ROUND(IF(C268=\"\",0,SUM(C$8:C268)),2)","v":0},null,{"$f":"ROUND(IF(E268=\"\",0,SUM(E$8:E268)),2)","v":0}]
[null,null,null,{"$f":"ROUND(IF(C269=\"\",0,SUM(C$8:C269)),2)","v":0},null,{"$f":"ROUND(IF(E269=\"\",0,SUM(E$8:E269)),2)","v":0}]
[null,null,null,{"$f":"ROUND(IF(C270=\"\",0,SUM(C$8:C270)),2)","v":0},null,{"$f":"ROUND(IF(E270=\"\",0,SUM(E$8:E270)),2)","v":0}]
[null,null,null,{"$f":"ROUND(IF(C271=\"\",0,SUM(C$8:C271)),2)","v":0},null,{"$f":"ROUND(IF(E271=\"\",0,SUM(E$8:E271)),2)","v":0}]
[null,null,null,{"$f":"ROUND(IF(C272=\"\",0,SUM(C$8:C272)),2)","v":0},null,{"$f":"ROUND(IF(E272=\"\",0,SUM(E$8:E272)),2)","v":0}]
[null,null,null,{"$f":"ROUND(IF(C273=\"\",0,SUM(C$8:C273)),2)","v":0},null,{"$f":"ROUND(IF(E273=\"\",0,SUM(E$8:E273)),2)","v":0}]
[null,null,null,{"$f":"ROUND(IF(C274=\"\",0,SUM(C$8:C274)),2)","v":0},null,{"$f":"ROUND(IF(E274=\"\",0,SUM(E$8:E274)),2)","v":0}]
[null,null,null,{"$f":"ROUND(IF(C275=\"\",0,SUM(C$8:C275)),2)","v":0},null,{"$f":"ROUND(IF(E275=\"\",0,SUM(E$8:E275)),2)","v":0}]
[null,null,null,{"$f":"ROUND(IF(C276=\"\",0,SUM(C$8:C276)),2)","v":0},null,{"$f":"ROUND(IF(E276=\"\",0,SUM(E$8:E276)),2)","v":0}]
[null,null,null,{"$f":"ROUND(IF(C277=\"\",0,SUM(C$8:C277)),2)","v":0},null,{"$f":"ROUND(IF(E277=\"\",0,SUM(E$8:E277)),2)","v":0}]
[null,null,null,{"$f":"ROUND(IF(C278=\"\",0,SUM(C$8:C278)),2)","v":0},null,{"$f":"ROUND(IF(E278=\"\",0,SUM(E$8:E278)),2)","v":0}]
[null,null,null,{"$f":"ROUND(IF(C279=\"\",0,SUM(C$8:C279)),2)","v":0},null,{"$f":"ROUND(IF(E279=\"\",0,SUM(E$8:E279)),2)","v":0}]
[null,null,null,{"$f":"ROUND(IF(C280=\"\",0,SUM(C$8:C280)),2)","v":0},null,{"$f":"ROUND(IF(E280=\"\",0,SUM(E$8:E280)),2)","v":0}]
[null,null,null,{"$f":"ROUND(IF(C281=\"\",0,SUM(C$8:C281)),2)","v":0},null,{"$f":"ROUND(IF(E281=\"\",0,SUM(E$8:E281)),2)","v":0}]
[null,null,null,{"$f":"ROUND(IF(C282=\"\",0,SUM(C$8:C282)),2)","v":0},null,{"$f":"ROUND(IF(E282=\"\",0,SUM(E$8:E282)),2)","v":0}]
[null,null,null,{"$f":"ROUND(IF(C283=\"\",0,SUM(C$8:C283)),2)","v":0},null,{"$f":"ROUND(IF(E283=\"\",0,SUM(E$8:E283)),2)","v":0}]
[null,null,null,{"$f":"ROUND(IF(C284=\"\",0,SUM(C$8:C284)),2)","v":0},null,{"$f":"ROUND(IF(E284=\"\",0,SUM(E$8:E284)),2)","v":0}]
[null,null,null,{"$f":"ROUND(IF(C285=\"\",0,SUM(C$8:C285)),2)","v":0},null,{"$f":"ROUND(IF(E285=\"\",0,SUM(E$8:E285)),2)","v":0}]
[null,null,null,{"$f":"ROUND(IF(C286=\"\",0,SUM(C$8:C286)),2)","v":0},null,{"$f":"ROUND(IF(E286=\"\",0,SUM(E$8:E286)),2)","v":0}]
[null,null,null,{"$f":"ROUND(IF(C287=\"\",0,SUM(C$8:C287)),2)","v":0},null,{"$f":"ROUND(IF(E287=\"\",0,SUM(E$8:E287)),2)","v":0}]
[null,null,null,{"$f":"ROUND(IF(C288=\"\",0,SUM(C$8:C288)),2)","v":0},null,{"$f":"ROUND(IF(E288=\"\",0,SUM(E$8:E288)),2)","v":0}]
[null,null,null,{"$f":"ROUND(IF(C289=\"\",0,SUM(C$8:C289)),2)","v":0},null,{"$f":"ROUND(IF(E289=\"\",0,SUM(E$8:E289)),2)","v":0}]
[null,null,null,{"$f":"ROUND(IF(C290=\"\",0,SUM(C$8:C290)),2)","v":0},null,{"$f":"ROUND(IF(E290=\"\",0,SUM(E$8:E290)),2)","v":0}]
[null,null,null,{"$f":"ROUND(IF(C291=\"\",0,SUM(C$8:C291)),2)","v":0},null,{"$f":"ROUND(IF(E291=\"\",0,SUM(E$8:E291)),2)","v":0}]
[null,null,null,{"$f":"ROUND(IF(C292=\"\",0,SUM(C$8:C292)),2)","v":0},null,{"$f":"ROUND(IF(E292=\"\",0,SUM(E$8:E292)),2)","v":0}]
[null,null,null,{"$f":"ROUND(IF(C293=\"\",0,SUM(C$8:C293)),2)","v":0},null,{"$f":"ROUND(IF(E293=\"\",0,SUM(E$8:E293)),2)","v":0}]
[null,null,null,{"$f":"ROUND(IF(C294=\"\",0,SUM(C$8:C294)),2)","v":0},null,{"$f":"ROUND(IF(E294=\"\",0,SUM(E$8:E294)),2)","v":0}]
[null,null,null,{"$f":"ROUND(IF(C295=\"\",0,SUM(C$8:C295)),2)","v":0},null,{"$f":"ROUND(IF(E295=\"\",0,SUM(E$8:E295)),2)","v":0}]
[null,null,null,{"$f":"ROUND(IF(C296=\"\",0,SUM(C$8:C296)),2)","v":0},null,{"$f":"ROUND(IF(E296=\"\",0,SUM(E$8:E296)),2)","v":0}]
[null,null,null,{"$f":"ROUND(IF(C297=\"\",0,SUM(C$8:C297)),2)","v":0},null,{"$f":"ROUND(IF(E297=\"\",0,SUM(E$8:E297)),2)","v":0}]
[null,null,null,{"$f":"ROUND(IF(C298=\"\",0,SUM(C$8:C298)),2)","v":0},null,{"$f":"ROUND(IF(E298=\"\",0,SUM(E$8:E298)),2)","v":0}]
[null,null,null,{"$f":"ROUND(IF(C299=\"\",0,SUM(C$8:C299)),2)","v":0},null,{"$f":"ROUND(IF(E299=\"\",0,SUM(E$8:E299)),2)","v":0}]
[null,null,null,{"$f":"ROUND(IF(C300=\"\",0,SUM(C$8:C300)),2)","v":0},null,{"$f":"ROUND(IF(E300=\"\",0,SUM(E$8:E300)),2)","v":0}]
[null,null,null,{"$f":"ROUND(IF(C301=\"\",0,SUM(C$8:C301)),2)","v":0},null,{"$f":"ROUND(IF(E301=\"\",0,SUM(E$8:E301)),2)","v":0}]
[null,null,null,{"$f":"ROUND(IF(C302=\"\",0,SUM(C$8:C302)),2)","v":0},null,{"$f":"ROUND(IF(E302=\"\",0,SUM(E$8:E302)),2)","v":0}]
[null,null,null,{"$f":"ROUND(IF(C303=\"\",0,SUM(C$8:C303)),2)","v":0},null,{"$f":"ROUND(IF(E303=\"\",0,SUM(E$8:E303)),2)","v":0}]
[null,null,null,{"$f":"ROUND(IF(C304=\"\",0,SUM(C$8:C304)),2)","v":0},null,{"$f":"ROUND(IF(E304=\"\",0,SUM(E$8:E304)),2)","v":0}]
[null,null,null,{"$f":"ROUND(IF(C305=\"\",0,SUM(C$8:C305)),2)","v":0},null,{"$f":"ROUND(IF(E305=\"\",0,SUM(E$8:E305)),2)","v":0}]
[null,null,null,{"$f":"ROUND(IF(C306=\"\",0,SUM(C$8:C306)),2)","v":0},null,{"$f":"ROUND(IF(E306=\"\",0,SUM(E$8:E306)),2)","v":0}]
[null,null,null,{"$f":"ROUND(IF(C307=\"\",0,SUM(C$8:C307)),2)","v":0},null,{"$f":"ROUND(IF(E307=\"\",0,SUM(E$8:E307)),2)","v":0}]
[null,null,null,{"$f":"ROUND(IF(C308=\"\",0,SUM(C$8:C308)),2)","v":0},null,{"$f":"ROUND(IF(E308=\"\",0,SUM(E$8:E308)),2)","v":0}]
[null,null,null,{"$f":"ROUND(IF(C309=\"\",0,SUM(C$8:C309)),2)","v":0},null,{"$f":"ROUND(IF(E309=\"\",0,SUM(E$8:E309)),2)","v":0}]
[null,null,null,{"$f":"ROUND(IF(C310=\"\",0,SUM(C$8:C310)),2)","v":0},null,{"$f":"ROUND(IF(E310=\"\",0,SUM(E$8:E310)),2)","v":0}]
[null,null,null,{"$f":"ROUND(IF(C311=\"\",0,SUM(C$8:C311)),2)","v":0},null,{"$f":"ROUND(IF(E311=\"\",0,SUM(E$8:E311)),2)","v":0}]
[null,null,null,{"$f":"ROUND(IF(C312=\"\",0,SUM(C$8:C312)),2)","v":0},null,{"$f":"ROUND(IF(E312=\"\",0,SUM(E$8:E312)),2)","v":0}]
[null,null,null,{"$f":"ROUND(IF(C313=\"\",0,SUM(C$8:C313)),2)","v":0},null,{"$f":"ROUND(IF(E313=\"\",0,SUM(E$8:E313)),2)","v":0}]
[null,null,null,{"$f":"ROUND(IF(C314=\"\",0,SUM(C$8:C314)),2)","v":0},null,{"$f":"ROUND(IF(E314=\"\",0,SUM(E$8:E314)),2)","v":0}]
[null,null,null,{"$f":"ROUND(IF(C315=\"\",0,SUM(C$8:C315)),2)","v":0},null,{"$f":"ROUND(IF(E315=\"\",0,SUM(E$8:E315)),2)","v":0}]
[null,null,null,{"$f":"ROUND(IF(C316=\"\",0,SUM(C$8:C316)),2)","v":0},null,{"$f":"ROUND(IF(E316=\"\",0,SUM(E$8:E316)),2)","v":0}]
[null,null,null,{"$f":"ROUND(IF(C317=\"\",0,SUM(C$8:C317)),2)","v":0},null,{"$f":"ROUND(IF(E317=\"\",0,SUM(E$8:E317)),2)","v":0}]
[null,null,null,{"$f":"ROUND(IF(C318=\"\",0,SUM(C$8:C318)),2)","v":0},null,{"$f":"ROUND(IF(E318=\"\",0,SUM(E$8:E318)),2)","v":0}]
[null,null,null,{"$f":"ROUND(IF(C319=\"\",0,SUM(C$8:C319)),2)","v":0},null,{"$f":"ROUND(IF(E319=\"\",0,SUM(E$8:E319)),2)","v":0}]
[null,null,null,{"$f":"ROUND(IF(C320=\"\",0,SUM(C$8:C320)),2)","v":0},null,{"$f":"ROUND(IF(E320=\"\",0,SUM(E$8:E320)),2)","v":0}]
[null,null,null,{"$f":"ROUND(IF(C321=\"\",0,SUM(C$8:C321)),2)","v":0},null,{"$f":"ROUND(IF(E321=\"\",0,SUM(E$8:E321)),2)","v":0}]
[null,null,null,{"$f":"ROUND(IF(C322=\"\",0,SUM(C$8:C322)),2)","v":0},null,{"$f":"ROUND(IF(E322=\"\",0,SUM(E$8:E322)),2)","v":0}]
[null,null,null,{"$f":"ROUND(IF(C323=\"\",0,SUM(C$8:C323)),2)","v":0},null,{"$f":"ROUND(IF(E323=\"\",0,SUM(E$8:E323)),2)","v":0}]
[null,null,null,{"$f":"ROUND(IF(C324=\"\",0,SUM(C$8:C324)),2)","v":0},null,{"$f":"ROUND(IF(E324=\"\",0,SUM(E$8:E324)),2)","v":0}]
[null,null,null,{"$f":"ROUND(IF(C325=\"\",0,SUM(C$8:C325)),2)","v":0},null,{"$f":"ROUND(IF(E325=\"\",0,SUM(E$8:E325)),2)","v":0}]
[null,null,null,{"$f":"ROUND(IF(C326=\"\",0,SUM(C$8:C326)),2)","v":0},null,{"$f":"ROUND(IF(E326=\"\",0,SUM(E$8:E326)),2)","v":0}]
[null,null,null,{"$f":"ROUND(IF(C327=\"\",0,SUM(C$8:C327)),2)","v":0},null,{"$f":"ROUND(IF(E327=\"\",0,SUM(E$8:E327)),2)","v":0}]
[null,null,null,{"$f":"ROUND(IF(C328=\"\",0,SUM(C$8:C328)),2)","v":0},null,{"$f":"ROUND(IF(E328=\"\",0,SUM(E$8:E328)),2)","v":0}]
[null,null,null,{"$f":"ROUND(IF(C329=\"\",0,SUM(C$8:C329)),2)","v":0},null,{"$f":"ROUND(IF(E329=\"\",0,SUM(E$8:E329)),2)","v":0}]
[null,null,null,{"$f":"ROUND(IF(C330=\"\",0,SUM(C$8:C330)),2)","v":0},null,{"$f":"ROUND(IF(E330=\"\",0,SUM(E$8:E330)),2)","v":0}]
[null,null,null,{"$f":"ROUND(IF(C331=\"\",0,SUM(C$8:C331)),2)","v":0},null,{"$f":"ROUND(IF(E331=\"\",0,SUM(E$8:E331)),2)","v":0}]
[null,null,null,{"$f":"ROUND(IF(C332=\"\",0,SUM(C$8:C332)),2)","v":0},null,{"$f":"ROUND(IF(E332=\"\",0,SUM(E$8:E332)),2)","v":0}]
[null,null,null,{"$f":"ROUND(IF(C333=\"\",0,SUM(C$8:C333)),2)","v":0},null,{"$f":"ROUND(IF(E333=\"\",0,SUM(E$8:E333)),2)","v":0}]
[null,null,null,{"$f":"ROUND(IF(C334=\"\",0,SUM(C$8:C334)),2)","v":0},null,{"$f":"ROUND(IF(E334=\"\",0,SUM(E$8:E334)),2)","v":0}]
[null,null,null,{"$f":"ROUND(IF(C335=\"\",0,SUM(C$8:C335)),2)","v":0},null,{"$f":"ROUND(IF(E335=\"\",0,SUM(E$8:E335)),2)","v":0}]
[null,null,null,{"$f":"ROUND(IF(C336=\"\",0,SUM(C$8:C336)),2)","v":0},null,{"$f":"ROUND(IF(E336=\"\",0,SUM(E$8:E336)),2)","v":0}]
[null,null,null,{"$f":"ROUND(IF(C337=\"\",0,SUM(C$8:C337)),2)","v":0},null,{"$f":"ROUND(IF(E337=\"\",0,SUM(E$8:E337)),2)","v":0}]
[null,null,null,{"$f":"ROUND(IF(C338=\"\",0,SUM(C$8:C338)),2)","v":0},null,{"$f":"ROUND(IF(E338=\"\",0,SUM(E$8:E338)),2)","v":0}]
[null,null,null,{"$f":"ROUND(IF(C339=\"\",0,SUM(C$8:C339)),2)","v":0},null,{"$f":"ROUND(IF(E339=\"\",0,SUM(E$8:E339)),2)","v":0}]
[null,null,null,{"$f":"ROUND(IF(C340=\"\",0,SUM(C$8:C340)),2)","v":0},null,{"$f":"ROUND(IF(E340=\"\",0,SUM(E$8:E340)),2)","v":0}]
[null,null,null,{"$f":"ROUND(IF(C341=\"\",0,SUM(C$8:C341)),2)","v":0},null,{"$f":"ROUND(IF(E341=\"\",0,SUM(E$8:E341)),2)","v":0}]
[null,null,null,{"$f":"ROUND(IF(C342=\"\",0,SUM(C$8:C342)),2)","v":0},null,{"$f":"ROUND(IF(E342=\"\",0,SUM(E$8:E342)),2)","v":0}]
[null,null,null,{"$f":"ROUND(IF(C343=\"\",0,SUM(C$8:C343)),2)","v":0},null,{"$f":"ROUND(IF(E343=\"\",0,SUM(E$8:E343)),2)","v":0}]
[null,null,null,{"$f":"ROUND(IF(C344=\"\",0,SUM(C$8:C344)),2)","v":0},null,{"$f":"ROUND(IF(E344=\"\",0,SUM(E$8:E344)),2)","v":0}]
[null,null,null,{"$f":"ROUND(IF(C345=\"\",0,SUM(C$8:C345)),2)","v":0},null,{"$f":"ROUND(IF(E345=\"\",0,SUM(E$8:E345)),2)","v":0}]
[null,null,null,{"$f":"ROUND(IF(C346=\"\",0,SUM(C$8:C346)),2)","v":0},null,{"$f":"ROUND(IF(E346=\"\",0,SUM(E$8:E346)),2)","v":0}]
[null,null,null,{"$f":"ROUND(IF(C347=\"\",0,SUM(C$8:C347)),2)","v":0},null,{"$f":"ROUND(IF(E347=\"\",0,SUM(E$8:E347)),2)","v":0}]
[null,null,null,{"$f":"ROUND(IF(C348=\"\",0,SUM(C$8:C348)),2)","v":0},null,{"$f":"ROUND(IF(E348=\"\",0,SUM(E$8:E348)),2)","v":0}]
[null,null,null,{"$f":"ROUND(IF(C349=\"\",0,SUM(C$8:C349)),2)","v":0},null,{"$f":"ROUND(IF(E349=\"\",0,SUM(E$8:E349)),2)","v":0}]
[null,null,null,{"$f":"ROUND(IF(C350=\"\",0,SUM(C$8:C350)),2)","v":0},null,{"$f":"ROUND(IF(E350=\"\",0,SUM(E$8:E350)),2)","v":0}]
[null,null,null,{"$f":"ROUND(IF(C351=\"\",0,SUM(C$8:C351)),2)","v":0},null,{"$f":"ROUND(IF(E351=\"\",0,SUM(E$8:E351)),2)","v":0}]
[null,null,null,{"$f":"ROUND(IF(C352=\"\",0,SUM(C$8:C352)),2)","v":0},null,{"$f":"ROUND(IF(E352=\"\",0,SUM(E$8:E352)),2)","v":0}]
[null,null,null,{"$f":"ROUND(IF(C353=\"\",0,SUM(C$8:C353)),2)","v":0},null,{"$f":"ROUND(IF(E353=\"\",0,SUM(E$8:E353)),2)","v":0}]
[null,null,null,{"$f":"ROUND(IF(C354=\"\",0,SUM(C$8:C354)),2)","v":0},null,{"$f":"ROUND(IF(E354=\"\",0,SUM(E$8:E354)),2)","v":0}]
[null,null,null,{"$f":"ROUND(IF(C355=\"\",0,SUM(C$8:C355)),2)","v":0},null,{"$f":"ROUND(IF(E355=\"\",0,SUM(E$8:E355)),2)","v":0}]
[null,null,null,{"$f":"ROUND(IF(C356=\"\",0,SUM(C$8:C356)),2)","v":0},null,{"$f":"ROUND(IF(E356=\"\",0,SUM(E$8:E356)),2)","v":0}]
[null,null,null,{"$f":"ROUND(IF(C357=\"\",0,SUM(C$8:C357)),2)","v":0},null,{"$f":"ROUND(IF(E357=\"\",0,SUM(E$8:E357)),2)","v":0}]
[null,null,null,{"$f":"ROUND(IF(C358=\"\",0,SUM(C$8:C358)),2)","v":0},null,{"$f":"ROUND(IF(E358=\"\",0,SUM(E$8:E358)),2)","v":0}]
[null,null,null,{"$f":"ROUND(IF(C359=\"\",0,SUM(C$8:C359)),2)","v":0},null,{"$f":"ROUND(IF(E359=\"\",0,SUM(E$8:E359)),2)","v":0}]
[null,null,null,{"$f":"ROUND(IF(C360=\"\",0,SUM(C$8:C360)),2)","v":0},null,{"$f":"ROUND(IF(E360=\"\",0,SUM(E$8:E360)),2)","v":0}]
[null,null,null,{"$f":"ROUND(IF(C361=\"\",0,SUM(C$8:C361)),2)","v":0},null,{"$f":"ROUND(IF(E361=\"\",0,SUM(E$8:E361)),2)","v":0}]
[null,null,null,{"$f":"ROUND(IF(C362=\"\",0,SUM(C$8:C362)),2)","v":0},null,{"$f":"ROUND(IF(E362=\"\",0,SUM(E$8:E362)),2)","v":0}]
[null,null,null,{"$f":"ROUND(IF(C363=\"\",0,SUM(C$8:C363)),2)","v":0},null,{"$f":"ROUND(IF(E363=\"\",0,SUM(E$8:E363)),2)","v":0}]
[null,null,null,{"$f":"ROUND(IF(C364=\"\",0,SUM(C$8:C364)),2)","v":0},null,{"$f":"ROUND(IF(E364=\"\",0,SUM(E$8:E364)),2)","v":0}]
[null,null,null,{"$f":"ROUND(IF(C365=\"\",0,SUM(C$8:C365)),2)","v":0},null,{"$f":"ROUND(IF(E365=\"\",0,SUM(E$8:E365)),2)","v":0}]
[null,null,null,{"$f":"ROUND(IF(C366=\"\",0,SUM(C$8:C366)),2)","v":0},null,{"$f":"ROUND(IF(E366=\"\",0,SUM(E$8:E366)),2)","v":0}]
[null,null,null,{"$f":"ROUND(IF(C367=\"\",0,SUM(C$8:C367)),2)","v":0},null,{"$f":"ROUND(IF(E367=\"\",0,SUM(E$8:E367)),2)","v":0}]
[null,null,null,{"$f":"ROUND(IF(C368=\"\",0,SUM(C$8:C368)),2)","v":0},null,{"$f":"ROUND(IF(E368=\"\",0,SUM(E$8:E368)),2)","v":0}]
[null,null,null,{"$f":"ROUND(IF(C369=\"\",0,SUM(C$8:C369)),2)","v":0},null,{"$f":"ROUND(IF(E369=\"\",0,SUM(E$8:E369)),2)","v":0}]
[null,null,null,{"$f":"ROUND(IF(C370=\"\",0,SUM(C$8:C370)),2)","v":0},null,{"$f":"ROUND(IF(E370=\"\",0,SUM(E$8:E370)),2)","v":0}]
[null,null,null,{"$f":"ROUND(IF(C371=\"\",0,SUM(C$8:C371)),2)","v":0},null,{"$f":"ROUND(IF(E371=\"\",0,SUM(E$8:E371)),2)","v":0}]
[null,null,null,{"$f":"ROUND(IF(C372=\"\",0,SUM(C$8:C372)),2)","v":0},null,{"$f":"ROUND(IF(E372=\"\",0,SUM(E$8:E372)),2)","v":0}]
[null,null,null,{"$f":"ROUND(IF(C373=\"\",0,SUM(C$8:C373)),2)","v":0},null,{"$f":"ROUND(IF(E373=\"\",0,SUM(E$8:E373)),2)","v":0}]
[null,null,null,{"$f":"ROUND(IF(C374=\"\",0,SUM(C$8:C374)),2)","v":0},null,{"$f":"ROUND(IF(E374=\"\",0,SUM(E$8:E374)),2)","v":0}]
[null,null,null,{"$f":"ROUND(IF(C375=\"\",0,SUM(C$8:C375)),2)","v":0},null,{"$f":"ROUND(IF(E375=\"\",0,SUM(E$8:E375)),2)","v":0}]
[null,null,null,{"$f":"ROUND(IF(C376=\"\",0,SUM(C$8:C376)),2)","v":0},null,{"$f":"ROUND(IF(E376=\"\",0,SUM(E$8:E376)),2)","v":0}]
[null,null,null,{"$f":"ROUND(IF(C377=\"\",0,SUM(C$8:C377)),2)","v":0},null,{"$f":"ROUND(IF(E377=\"\",0,SUM(E$8:E377)),2)","v":0}]
[null,null,null,{"$f":"ROUND(IF(C378=\"\",0,SUM(C$8:C378)),2)","v":0},null,{"$f":"ROUND(IF(E378=\"\",0,SUM(E$8:E378)),2)","v":0}]
[null,null,null,{"$f":"ROUND(IF(C379=\"\",0,SUM(C$8:C379)),2)","v":0},null,{"$f":"ROUND(IF(E379=\"\",0,SUM(E$8:E379)),2)","v":0}]
[null,null,null,{"$f":"ROUND(IF(C380=\"\",0,SUM(C$8:C380)),2)","v":0},null,{"$f":"ROUND(IF(E380=\"\",0,SUM(E$8:E380)),2)","v":0}]
[null,null,null,{"$f":"ROUND(IF(C381=\"\",0,SUM(C$8:C381)),2)","v":0},null,{"$f":"ROUND(IF(E381=\"\",0,SUM(E$8:E381)),2)","v":0}]
[null,null,null,{"$f":"ROUND(IF(C382=\"\",0,SUM(C$8:C382)),2)","v":0},null,{"$f":"ROUND(IF(E382=\"\",0,SUM(E$8:E382)),2)","v":0}]
[null,null,null,{"$f":"ROUND(IF(C383=\"\",0,SUM(C$8:C383)),2)","v":0},null,{"$f":"ROUND(IF(E383=\"\",0,SUM(E$8:E383)),2)","v":0}]
[null,null,null,{"$f":"ROUND(IF(C384=\"\",0,SUM(C$8:C384)),2)","v":0},null,{"$f":"ROUND(IF(E384=\"\",0,SUM(E$8:E384)),2)","v":0}]
[null,null,null,{"$f":"ROUND(IF(C385=\"\",0,SUM(C$8:C385)),2)","v":0},null,{"$f":"ROUND(IF(E385=\"\",0,SUM(E$8:E385)),2)","v":0}]
[null,null,null,{"$f":"ROUND(IF(C386=\"\",0,SUM(C$8:C386)),2)","v":0},null,{"$f":"ROUND(IF(E386=\"\",0,SUM(E$8:E386)),2)","v":0}]
[null,null,null,{"$f":"ROUND(IF(C387=\"\",0,SUM(C$8:C387)),2)","v":0},null,{"$f":"ROUND(IF(E387=\"\",0,SUM(E$8:E387)),2)","v":0}]
[null,null,null,{"$f":"ROUND(IF(C388=\"\",0,SUM(C$8:C388)),2)","v":0},null,{"$f":"ROUND(IF(E388=\"\",0,SUM(E$8:E388)),2)","v":0}]
[null,null,null,{"$f":"ROUND(IF(C389=\"\",0,SUM(C$8:C389)),2)","v":0},null,{"$f":"ROUND(IF(E389=\"\",0,SUM(E$8:E389)),2)","v":0}]
[null,null,null,{"$f":"ROUND(IF(C390=\"\",0,SUM(C$8:C390)),2)","v":0},null,{"$f":"ROUND(IF(E390=\"\",0,SUM(E$8:E390)),2)","v":0}]
[null,null,null,{"$f":"ROUND(IF(C391=\"\",0,SUM(C$8:C391)),2)","v":0},null,{"$f":"ROUND(IF(E391=\"\",0,SUM(E$8:E391)),2)","v":0}]
[null,null,null,{"$f":"ROUND(IF(C392=\"\",0,SUM(C$8:C392)),2)","v":0},null,{"$f":"ROUND(IF(E392=\"\",0,SUM(E$8:E392)),2)","v":0}]
[null,null,null,{"$f":"ROUND(IF(C393=\"\",0,SUM(C$8:C393)),2)","v":0},null,{"$f":"ROUND(IF(E393=\"\",0,SUM(E$8:E393)),2)","v":0}]
[null,null,null,{"$f":"ROUND(IF(C394=\"\",0,SUM(C$8:C394)),2)","v":0},null,{"$f":"ROUND(IF(E394=\"\",0,SUM(E$8:E394)),2)","v":0}]
[null,null,null,{"$f":"ROUND(IF(C395=\"\",0,SUM(C$8:C395)),2)","v":0},null,{"$f":"ROUND(IF(E395=\"\",0,SUM(E$8:E395)),2)","v":0}]
[null,null,null,{"$f":"ROUND(IF(C396=\"\",0,SUM(C$8:C396)),2)","v":0},null,{"$f":"ROUND(IF(E396=\"\",0,SUM(E$8:E396)),2)","v":0}]
[null,null,null,{"$f":"ROUND(IF(C397=\"\",0,SUM(C$8:C397)),2)","v":0},null,{"$f":"ROUND(IF(E397=\"\",0,SUM(E$8:E397)),2)","v":0}]
[null,null,null,{"$f":"ROUND(IF(C398=\"\",0,SUM(C$8:C398)),2)","v":0},null,{"$f":"ROUND(IF(E398=\"\",0,SUM(E$8:E398)),2)","v":0}]
[null,null,null,{"$f":"ROUND(IF(C399=\"\",0,SUM(C$8:C399)),2)","v":0},null,{"$f":"ROUND(IF(E399=\"\",0,SUM(E$8:E399)),2)","v":0}]
[null,null,null,{"$f":"ROUND(IF(C400=\"\",0,SUM(C$8:C400)),2)","v":0},null,{"$f":"ROUND(IF(E400=\"\",0,SUM(E$8:E400)),2)","v":0}]
[null,null,null,{"$f":"ROUND(IF(C401=\"\",0,SUM(C$8:C401)),2)","v":0},null,{"$f":"ROUND(IF(E401=\"\",0,SUM(E$8:E401)),2)","v":0}]
[null,null,null,{"$f":"ROUND(IF(C402=\"\",0,SUM(C$8:C402)),2)","v":0},null,{"$f":"ROUND(IF(E402=\"\",0,SUM(E$8:E402)),2)","v":0}]
[null,null,null,{"$f":"ROUND(IF(C403=\"\",0,SUM(C$8:C403)),2)","v":0},null,{"$f":"ROUND(IF(E403=\"\",0,SUM(E$8:E403)),2)","v":0}]
[null,null,null,{"$f":"ROUND(IF(C404=\"\",0,SUM(C$8:C404)),2)","v":0},null,{"$f":"ROUND(IF(E404=\"\",0,SUM(E$8:E404)),2)","v":0}]
[null,null,null,{"$f":"ROUND(IF(C405=\"\",0,SUM(C$8:C405)),2)","v":0},null,{"$f":"ROUND(IF(E405=\"\",0,SUM(E$8:E405)),2)","v":0}]
[null,null,null,{"$f":"ROUND(IF(C406=\"\",0,SUM(C$8:C406)),2)","v":0},null,{"$f":"ROUND(IF(E406=\"\",0,SUM(E$8:E406)),2)","v":0}]
[null,null,null,{"$f":"ROUND(IF(C407=\"\",0,SUM(C$8:C407)),2)","v":0},null,{"$f":"ROUND(IF(E407=\"\",0,SUM(E$8:E407)),2)","v":0}]
[null,null,null,{"$f":"ROUND(IF(C408=\"\",0,SUM(C$8:C408)),2)","v":0},null,{"$f":"ROUND(IF(E408=\"\",0,SUM(E$8:E408)),2)","v":0}]
[null,null,null,{"$f":"ROUND(IF(C409=\"\",0,SUM(C$8:C409)),2)","v":0},null,{"$f":"ROUND(IF(E409=\"\",0,SUM(E$8:E409)),2)","v":0}]
[null,null,null,{"$f":"ROUND(IF(C410=\"\",0,SUM(C$8:C410)),2)","v":0},null,{"$f":"ROUND(IF(E410=\"\",0,SUM(E$8:E410)),2)","v":0}]
[null,null,null,{"$f":"ROUND(IF(C411=\"\",0,SUM(C$8:C411)),2)","v":0},null,{"$f":"ROUND(IF(E411=\"\",0,SUM(E$8:E411)),2)","v":0}]
[null,null,null,{"$f":"ROUND(IF(C412=\"\",0,SUM(C$8:C412)),2)","v":0},null,{"$f":"ROUND(IF(E412=\"\",0,SUM(E$8:E412)),2)","v":0}]
[null,null,null,{"$f":"ROUND(IF(C413=\"\",0,SUM(C$8:C413)),2)","v":0},null,{"$f":"ROUND(IF(E413=\"\",0,SUM(E$8:E413)),2)","v":0}]
[null,null,null,{"$f":"ROUND(IF(C414=\"\",0,SUM(C$8:C414)),2)","v":0},null,{"$f":"ROUND(IF(E414=\"\",0,SUM(E$8:E414)),2)","v":0}]
[null,null,null,{"$f":"ROUND(IF(C415=\"\",0,SUM(C$8:C415)),2)","v":0},null,{"$f":"ROUND(IF(E415=\"\",0,SUM(E$8:E415)),2)","v":0}]
[null,null,null,{"$f":"ROUND(IF(C416=\"\",0,SUM(C$8:C416)),2)","v":0},null,{"$f":"ROUND(IF(E416=\"\",0,SUM(E$8:E416)),2)","v":0}]
[null,null,null,{"$f":"ROUND(IF(C417=\"\",0,SUM(C$8:C417)),2)","v":0},null,{"$f":"ROUND(IF(E417=\"\",0,SUM(E$8:E417)),2)","v":0}]
[null,null,null,{"$f":"ROUND(IF(C418=\"\",0,SUM(C$8:C418)),2)","v":0},null,{"$f":"ROUND(IF(E418=\"\",0,SUM(E$8:E418)),2)","v":0}]
[null,null,null,{"$f":"ROUND(IF(C419=\"\",0,SUM(C$8:C419)),2)","v":0},null,{"$f":"ROUND(IF(E419=\"\",0,SUM(E$8:E419)),2)","v":0}]
[null,null,null,{"$f":"ROUND(IF(C420=\"\",0,SUM(C$8:C420)),2)","v":0},null,{"$f":"ROUND(IF(E420=\"\",0,SUM(E$8:E420)),2)","v":0}]
[null,null,null,{"$f":"ROUND(IF(C421=\"\",0,SUM(C$8:C421)),2)","v":0},null,{"$f":"ROUND(IF(E421=\"\",0,SUM(E$8:E421)),2)","v":0}]
[null,null,null,{"$f":"ROUND(IF(C422=\"\",0,SUM(C$8:C422)),2)","v":0},null,{"$f":"ROUND(IF(E422=\"\",0,SUM(E$8:E422)),2)","v":0}]
[null,null,null,{"$f":"ROUND(IF(C423=\"\",0,SUM(C$8:C423)),2)","v":0},null,{"$f":"ROUND(IF(E423=\"\",0,SUM(E$8:E423)),2)","v":0}]
[null,null,null,{"$f":"ROUND(IF(C424=\"\",0,SUM(C$8:C424)),2)","v":0},null,{"$f":"ROUND(IF(E424=\"\",0,SUM(E$8:E424)),2)","v":0}]
[null,null,null,{"$f":"ROUND(IF(C425=\"\",0,SUM(C$8:C425)),2)","v":0},null,{"$f":"ROUND(IF(E425=\"\",0,SUM(E$8:E425)),2)","v":0}]
[null,null,null,{"$f":"ROUND(IF(C426=\"\",0,SUM(C$8:C426)),2)","v":0},null,{"$f":"ROUND(IF(E426=\"\",0,SUM(E$8:E426)),2)","v":0}]
[null,null,null,{"$f":"ROUND(IF(C427=\"\",0,SUM(C$8:C427)),2)","v":0},null,{"$f":"ROUND(IF(E427=\"\",0,SUM(E$8:E427)),2)","v":0}]
[null,null,null,{"$f":"ROUND(IF(C428=\"\",0,SUM(C$8:C428)),2)","v":0},null,{"$f":"ROUND(IF(E428=\"\",0,SUM(E$8:E428)),2)","v":0}]
[null,null,null,{"$f":"ROUND(IF(C429=\"\",0,SUM(C$8:C429)),2)","v":0},null,{"$f":"ROUND(IF(E429=\"\",0,SUM(E$8:E429)),2)","v":0}]
[null,null,null,{"$f":"ROUND(IF(C430=\"\",0,SUM(C$8:C430)),2)","v":0},null,{"$f":"ROUND(IF(E430=\"\",0,SUM(E$8:E430)),2)","v":0}]
[null,null,null,{"$f":"ROUND(IF(C431=\"\",0,SUM(C$8:C431)),2)","v":0},null,{"$f":"ROUND(IF(E431=\"\",0,SUM(E$8:E431)),2)","v":0}]
[null,null,null,{"$f":"ROUND(IF(C432=\"\",0,SUM(C$8:C432)),2)","v":0},null,{"$f":"ROUND(IF(E432=\"\",0,SUM(E$8:E432)),2)","v":0}]
[null,null,null,{"$f":"ROUND(IF(C433=\"\",0,SUM(C$8:C433)),2)","v":0},null,{"$f":"ROUND(IF(E433=\"\",0,SUM(E$8:E433)),2)","v":0}]
[null,null,null,{"$f":"ROUND(IF(C434=\"\",0,SUM(C$8:C434)),2)","v":0},null,{"$f":"ROUND(IF(E434=\"\",0,SUM(E$8:E434)),2)","v":0}]
[null,null,null,{"$f":"ROUND(IF(C435=\"\",0,SUM(C$8:C435)),2)","v":0},null,{"$f":"ROUND(IF(E435=\"\",0,SUM(E$8:E435)),2)","v":0}]
[null,null,null,{"$f":"ROUND(IF(C436=\"\",0,SUM(C$8:C436)),2)","v":0},null,{"$f":"ROUND(IF(E436=\"\",0,SUM(E$8:E436)),2)","v":0}]
[null,null,null,{"$f":"ROUND(IF(C437=\"\",0,SUM(C$8:C437)),2)","v":0},null,{"$f":"ROUND(IF(E437=\"\",0,SUM(E$8:E437)),2)","v":0}]
[null,null,null,{"$f":"ROUND(IF(C438=\"\",0,SUM(C$8:C438)),2)","v":0},null,{"$f":"ROUND(IF(E438=\"\",0,SUM(E$8:E438)),2)","v":0}]
[null,null,null,{"$f":"ROUND(IF(C439=\"\",0,SUM(C$8:C439)),2)","v":0},null,{"$f":"ROUND(IF(E439=\"\",0,SUM(E$8:E439)),2)","v":0}]
[null,null,null,{"$f":"ROUND(IF(C440=\"\",0,SUM(C$8:C440)),2)","v":0},null,{"$f":"ROUND(IF(E440=\"\",0,SUM(E$8:E440)),2)","v":0}]
[null,null,null,{"$f":"ROUND(IF(C441=\"\",0,SUM(C$8:C441)),2)","v":0},null,{"$f":"ROUND(IF(E441=\"\",0,SUM(E$8:E441)),2)","v":0}]
[null,null,null,{"$f":"ROUND(IF(C442=\"\",0,SUM(C$8:C442)),2)","v":0},null,{"$f":"ROUND(IF(E442=\"\",0,SUM(E$8:E442)),2)","v":0}]
[null,null,null,{"$f":"ROUND(IF(C443=\"\",0,SUM(C$8:C443)),2)","v":0},null,{"$f":"ROUND(IF(E443=\"\",0,SUM(E$8:E443)),2)","v":0}]
[null,null,null,{"$f":"ROUND(IF(C444=\"\",0,SUM(C$8:C444)),2)","v":0},null,{"$f":"ROUND(IF(E444=\"\",0,SUM(E$8:E444)),2)","v":0}]
[null,null,null,{"$f":"ROUND(IF(C445=\"\",0,SUM(C$8:C445)),2)","v":0},null,{"$f":"ROUND(IF(E445=\"\",0,SUM(E$8:E445)),2)","v":0}]
[null,null,null,{"$f":"ROUND(IF(C446=\"\",0,SUM(C$8:C446)),2)","v":0},null,{"$f":"ROUND(IF(E446=\"\",0,SUM(E$8:E446)),2)","v":0}]
[null,null,null,{"$f":"ROUND(IF(C447=\"\",0,SUM(C$8:C447)),2)","v":0},null,{"$f":"ROUND(IF(E447=\"\",0,SUM(E$8:E447)),2)","v":0}]
[null,null,null,{"$f":"ROUND(IF(C448=\"\",0,SUM(C$8:C448)),2)","v":0},null,{"$f":"ROUND(IF(E448=\"\",0,SUM(E$8:E448)),2)","v":0}]
[null,null,null,{"$f":"ROUND(IF(C449=\"\",0,SUM(C$8:C449)),2)","v":0},null,{"$f":"ROUND(IF(E449=\"\",0,SUM(E$8:E449)),2)","v":0}]
[null,null,null,{"$f":"ROUND(IF(C450=\"\",0,SUM(C$8:C450)),2)","v":0},null,{"$f":"ROUND(IF(E450=\"\",0,SUM(E$8:E450)),2)","v":0}]
[null,null,null,{"$f":"ROUND(IF(C451=\"\",0,SUM(C$8:C451)),2)","v":0},null,{"$f":"ROUND(IF(E451=\"\",0,SUM(E$8:E451)),2)","v":0}]
[null,null,null,{"$f":"ROUND(IF(C452=\"\",0,SUM(C$8:C452)),2)","v":0},null,{"$f":"ROUND(IF(E452=\"\",0,SUM(E$8:E452)),2)","v":0}]
[null,null,null,{"$f":"ROUND(IF(C453=\"\",0,SUM(C$8:C453)),2)","v":0},null,{"$f":"ROUND(IF(E453=\"\",0,SUM(E$8:E453)),2)","v":0}]
[null,null,null,{"$f":"ROUND(IF(C454=\"\",0,SUM(C$8:C454)),2)","v":0},null,{"$f":"ROUND(IF(E454=\"\",0,SUM(E$8:E454)),2)","v":0}]
[null,null,null,{"$f":"ROUND(IF(C455=\"\",0,SUM(C$8:C455)),2)","v":0},null,{"$f":"ROUND(IF(E455=\"\",0,SUM(E$8:E455)),2)","v":0}]
[null,null,null,{"$f":"ROUND(IF(C456=\"\",0,SUM(C$8:C456)),2)","v":0},null,{"$f":"ROUND(IF(E456=\"\",0,SUM(E$8:E456)),2)","v":0}]
[null,null,null,{"$f":"ROUND(IF(C457=\"\",0,SUM(C$8:C457)),2)","v":0},null,{"$f":"ROUND(IF(E457=\"\",0,SUM(E$8:E457)),2)","v":0}]
[null,null,null,{"$f":"ROUND(IF(C458=\"\",0,SUM(C$8:C458)),2)","v":0},null,{"$f":"ROUND(IF(E458=\"\",0,SUM(E$8:E458)),2)","v":0}]
[null,null,null,{"$f":"ROUND(IF(C459=\"\",0,SUM(C$8:C459)),2)","v":0},null,{"$f":"ROUND(IF(E459=\"\",0,SUM(E$8:E459)),2)","v":0}]
[null,null,null,{"$f":"ROUND(IF(C460=\"\",0,SUM(C$8:C460)),2)","v":0},null,{"$f":"ROUND(IF(E460=\"\",0,SUM(E$8:E460)),2)","v":0}]
[null,null,null,{"$f":"ROUND(IF(C461=\"\",0,SUM(C$8:C461)),2)","v":0},null,{"$f":"ROUND(IF(E461=\"\",0,SUM(E$8:E461)),2)","v":0}]
[null,null,null,{"$f":"ROUND(IF(C462=\"\",0,SUM(C$8:C462)),2)","v":0},null,{"$f":"ROUND(IF(E462=\"\",0,SUM(E$8:E462)),2)","v":0}]
[null,null,null,{"$f":"ROUND(IF(C463=\"\",0,SUM(C$8:C463)),2)","v":0},null,{"$f":"ROUND(IF(E463=\"\",0,SUM(E$8:E463)),2)","v":0}]
[null,null,null,{"$f":"ROUND(IF(C464=\"\",0,SUM(C$8:C464)),2)","v":0},null,{"$f":"ROUND(IF(E464=\"\",0,SUM(E$8:E464)),2)","v":0}]
[null,null,null,{"$f":"ROUND(IF(C465=\"\",0,SUM(C$8:C465)),2)","v":0},null,{"$f":"ROUND(IF(E465=\"\",0,SUM(E$8:E465)),2)","v":0}]
[null,null,null,{"$f":"ROUND(IF(C466=\"\",0,SUM(C$8:C466)),2)","v":0},null,{"$f":"ROUND(IF(E466=\"\",0,SUM(E$8:E466)),2)","v":0}]
[null,null,null,{"$f":"ROUND(IF(C467=\"\",0,SUM(C$8:C467)),2)","v":0},null,{"$f":"ROUND(IF(E467=\"\",0,SUM(E$8:E467)),2)","v":0}]
[null,null,null,{"$f":"ROUND(IF(C468=\"\",0,SUM(C$8:C468)),2)","v":0},null,{"$f":"ROUND(IF(E468=\"\",0,SUM(E$8:E468)),2)","v":0}]
[null,null,null,{"$f":"ROUND(IF(C469=\"\",0,SUM(C$8:C469)),2)","v":0},null,{"$f":"ROUND(IF(E469=\"\",0,SUM(E$8:E469)),2)","v":0}]
[null,null,null,{"$f":"ROUND(IF(C470=\"\",0,SUM(C$8:C470)),2)","v":0},null,{"$f":"ROUND(IF(E470=\"\",0,SUM(E$8:E470)),2)","v":0}]
[null,null,null,{"$f":"ROUND(IF(C471=\"\",0,SUM(C$8:C471)),2)","v":0},null,{"$f":"ROUND(IF(E471=\"\",0,SUM(E$8:E471)),2)","v":0}]
[null,null,null,{"$f":"ROUND(IF(C472=\"\",0,SUM(C$8:C472)),2)","v":0},null,{"$f":"ROUND(IF(E472=\"\",0,SUM(E$8:E472)),2)","v":0}]
[null,null,null,{"$f":"ROUND(IF(C473=\"\",0,SUM(C$8:C473)),2)","v":0},null,{"$f":"ROUND(IF(E473=\"\",0,SUM(E$8:E473)),2)","v":0}]
[null,null,null,{"$f":"ROUND(IF(C474=\"\",0,SUM(C$8:C474)),2)","v":0},null,{"$f":"ROUND(IF(E474=\"\",0,SUM(E$8:E474)),2)","v":0}]
[null,null,null,{"$f":"ROUND(IF(C475=\"\",0,SUM(C$8:C475)),2)","v":0},null,{"$f":"ROUND(IF(E475=\"\",0,SUM(E$8:E475)),2)","v":0}]
[null,null,null,{"$f":"ROUND(IF(C476=\"\",0,SUM(C$8:C476)),2)","v":0},null,{"$f":"ROUND(IF(E476=\"\",0,SUM(E$8:E476)),2)","v":0}]
[null,null,null,{"$f":"ROUND(IF(C477=\"\",0,SUM(C$8:C477)),2)","v":0},null,{"$f":"ROUND(IF(E477=\"\",0,SUM(E$8:E477)),2)","v":0}]
[null,null,null,{"$f":"ROUND(IF(C478=\"\",0,SUM(C$8:C478)),2)","v":0},null,{"$f":"ROUND(IF(E478=\"\",0,SUM(E$8:E478)),2)","v":0}]
[null,null,null,{"$f":"ROUND(IF(C479=\"\",0,SUM(C$8:C479)),2)","v":0},null,{"$f":"ROUND(IF(E479=\"\",0,SUM(E$8:E479)),2)","v":0}]
[null,null,null,{"$f":"ROUND(IF(C480=\"\",0,SUM(C$8:C480)),2)","v":0},null,{"$f":"ROUND(IF(E480=\"\",0,SUM(E$8:E480)),2)","v":0}]
[null,null,null,{"$f":"ROUND(IF(C481=\"\",0,SUM(C$8:C481)),2)","v":0},null,{"$f":"ROUND(IF(E481=\"\",0,SUM(E$8:E481)),2)","v":0}]
[null,null,null,{"$f":"ROUND(IF(C482=\"\",0,SUM(C$8:C482)),2)","v":0},null,{"$f":"ROUND(IF(E482=\"\",0,SUM(E$8:E482)),2)","v":0}]
[null,null,null,{"$f":"ROUND(IF(C483=\"\",0,SUM(C$8:C483)),2)","v":0},null,{"$f":"ROUND(IF(E483=\"\",0,SUM(E$8:E483)),2)","v":0}]
[null,null,null,{"$f":"ROUND(IF(C484=\"\",0,SUM(C$8:C484)),2)","v":0},null,{"$f":"ROUND(IF(E484=\"\",0,SUM(E$8:E484)),2)","v":0}]
[null,null,null,{"$f":"ROUND(IF(C485=\"\",0,SUM(C$8:C485)),2)","v":0},null,{"$f":"ROUND(IF(E485=\"\",0,SUM(E$8:E485)),2)","v":0}]
[null,null,null,{"$f":"ROUND(IF(C486=\"\",0,SUM(C$8:C486)),2)","v":0},null,{"$f":"ROUND(IF(E486=\"\",0,SUM(E$8:E486)),2)","v":0}]
[null,null,null,{"$f":"ROUND(IF(C487=\"\",0,SUM(C$8:C487)),2)","v":0},null,{"$f":"ROUND(IF(E487=\"\",0,SUM(E$8:E487)),2)","v":0}]
[null,null,null,{"$f":"ROUND(IF(C488=\"\",0,SUM(C$8:C488)),2)","v":0},null,{"$f":"ROUND(IF(E488=\"\",0,SUM(E$8:E488)),2)","v":0}]
[null,null,null,{"$f":"ROUND(IF(C489=\"\",0,SUM(C$8:C489)),2)","v":0},null,{"$f":"ROUND(IF(E489=\"\",0,SUM(E$8:E489)),2)","v":0}]
[null,null,null,{"$f":"ROUND(IF(C490=\"\",0,SUM(C$8:C490)),2)","v":0},null,{"$f":"ROUND(IF(E490=\"\",0,SUM(E$8:E490)),2)","v":0}]
[null,null,null,{"$f":"ROUND(IF(C491=\"\",0,SUM(C$8:C491)),2)","v":0},null,{"$f":"ROUND(IF(E491=\"\",0,SUM(E$8:E491)),2)","v":0}]
[null,null,null,{"$f":"ROUND(IF(C492=\"\",0,SUM(C$8:C492)),2)","v":0},null,{"$f":"ROUND(IF(E492=\"\",0,SUM(E$8:E492)),2)","v":0}]
[null,null,null,{"$f":"ROUND(IF(C493=\"\",0,SUM(C$8:C493)),2)","v":0},null,{"$f":"ROUND(IF(E493=\"\",0,SUM(E$8:E493)),2)","v":0}]
[null,null,null,{"$f":"ROUND(IF(C494=\"\",0,SUM(C$8:C494)),2)","v":0},null,{"$f":"ROUND(IF(E494=\"\",0,SUM(E$8:E494)),2)","v":0}]
[null,null,null,{"$f":"ROUND(IF(C495=\"\",0,SUM(C$8:C495)),2)","v":0},null,{"$f":"ROUND(IF(E495=\"\",0,SUM(E$8:E495)),2)","v":0}]
[null,null,null,{"$f":"ROUND(IF(C496=\"\",0,SUM(C$8:C496)),2)","v":0},null,{"$f":"ROUND(IF(E496=\"\",0,SUM(E$8:E496)),2)","v":0}]
[null,null,null,{"$f":"ROUND(IF(C497=\"\",0,SUM(C$8:C497)),2)","v":0},null,{"$f":"ROUND(IF(E497=\"\",0,SUM(E$8:E497)),2)","v":0}]
[null,null,null,{"$f":"ROUND(IF(C498=\"\",0,SUM(C$8:C498)),2)","v":0},null,{"$f":"ROUND(IF(E498=\"\",0,SUM(E$8:E498)),2)","v":0}]
[null,null,null,{"$f":"ROUND(IF(C499=\"\",0,SUM(C$8:C499)),2)","v":0},null,{"$f":"ROUND(IF(E499=\"\",0,SUM(E$8:E499)),2)","v":0}]
[null,null,null,{"$f":"ROUND(IF(C500=\"\",0,SUM(C$8:C500)),2)","v":0},null,{"$f":"ROUND(IF(E500=\"\",0,SUM(E$8:E500)),2)","v":0}]
[null,null,null,{"$f":"ROUND(IF(C501=\"\",0,SUM(C$8:C501)),2)","v":0},null,{"$f":"ROUND(IF(E501=\"\",0,SUM(E$8:E501)),2)","v":0}]
[null,null,null,{"$f":"ROUND(IF(C502=\"\",0,SUM(C$8:C502)),2)","v":0},null,{"$f":"ROUND(IF(E502=\"\",0,SUM(E$8:E502)),2)","v":0}]
[null,null,null,{"$f":"ROUND(IF(C503=\"\",0,SUM(C$8:C503)),2)","v":0},null,{"$f":"ROUND(IF(E503=\"\",0,SUM(E$8:E503)),2)","v":0}]
[null,null,null,{"$f":"ROUND(IF(C504=\"\",0,SUM(C$8:C504)),2)","v":0},null,{"$f":"ROUND(IF(E504=\"\",0,SUM(E$8:E504)),2)","v":0}]
[null,null,null,{"$f":"ROUND(IF(C505=\"\",0,SUM(C$8:C505)),2)","v":0},null,{"$f":"ROUND(IF(E505=\"\",0,SUM(E$8:E505)),2)","v":0}]
[null,null,null,{"$f":"ROUND(IF(C506=\"\",0,SUM(C$8:C506)),2)","v":0},null,{"$f":"ROUND(IF(E506=\"\",0,SUM(E$8:E506)),2)","v":0}]
[null,null,null,{"$f":"ROUND(IF(C507=\"\",0,SUM(C$8:C507)),2)","v":0},null,{"$f":"ROUND(IF(E507=\"\",0,SUM(E$8:E507)),2)","v":0}]
[null,null,null,{"$f":"ROUND(IF(C508=\"\",0,SUM(C$8:C508)),2)","v":0},null,{"$f":"ROUND(IF(E508=\"\",0,SUM(E$8:E508)),2)","v":0}]
[null,null,null,{"$f":"ROUND(IF(C509=\"\",0,SUM(C$8:C509)),2)","v":0},null,{"$f":"ROUND(IF(E509=\"\",0,SUM(E$8:E509)),2)","v":0}]
[null,null,null,{"$f":"ROUND(IF(C510=\"\",0,SUM(C$8:C510)),2)","v":0},null,{"$f":"ROUND(IF(E510=\"\",0,SUM(E$8:E510)),2)","v":0}]
[null,null,null,{"$f":"ROUND(IF(C511=\"\",0,SUM(C$8:C511)),2)","v":0},null,{"$f":"ROUND(IF(E511=\"\",0,SUM(E$8:E511)),2)","v":0}]
[null,null,null,{"$f":"ROUND(IF(C512=\"\",0,SUM(C$8:C512)),2)","v":0},null,{"$f":"ROUND(IF(E512=\"\",0,SUM(E$8:E512)),2)","v":0}]
[null,null,null,{"$f":"ROUND(IF(C513=\"\",0,SUM(C$8:C513)),2)","v":0},null,{"$f":"ROUND(IF(E513=\"\",0,SUM(E$8:E513)),2)","v":0}]
[null,null,null,{"$f":"ROUND(IF(C514=\"\",0,SUM(C$8:C514)),2)","v":0},null,{"$f":"ROUND(IF(E514=\"\",0,SUM(E$8:E514)),2)","v":0}]
[null,null,null,{"$f":"ROUND(IF(C515=\"\",0,SUM(C$8:C515)),2)","v":0},null,{"$f":"ROUND(IF(E515=\"\",0,SUM(E$8:E515)),2)","v":0}]
[null,null,null,{"$f":"ROUND(IF(C516=\"\",0,SUM(C$8:C516)),2)","v":0},null,{"$f":"ROUND(IF(E516=\"\",0,SUM(E$8:E516)),2)","v":0}]
[null,null,null,{"$f":"ROUND(IF(C517=\"\",0,SUM(C$8:C517)),2)","v":0},null,{"$f":"ROUND(IF(E517=\"\",0,SUM(E$8:E517)),2)","v":0}]
[null,null,null,{"$f":"ROUND(IF(C518=\"\",0,SUM(C$8:C518)),2)","v":0},null,{"$f":"ROUND(IF(E518=\"\",0,SUM(E$8:E518)),2)","v":0}]
[null,null,null,{"$f":"ROUND(IF(C519=\"\",0,SUM(C$8:C519)),2)","v":0},null,{"$f":"ROUND(IF(E519=\"\",0,SUM(E$8:E519)),2)","v":0}]
[null,null,null,{"$f":"ROUND(IF(C520=\"\",0,SUM(C$8:C520)),2)","v":0},null,{"$f":"ROUND(IF(E520=\"\",0,SUM(E$8:E520)),2)","v":0}]
[null,null,null,{"$f":"ROUND(IF(C521=\"\",0,SUM(C$8:C521)),2)","v":0},null,{"$f":"ROUND(IF(E521=\"\",0,SUM(E$8:E521)),2)","v":0}]
[null,null,null,{"$f":"ROUND(IF(C522=\"\",0,SUM(C$8:C522)),2)","v":0},null,{"$f":"ROUND(IF(E522=\"\",0,SUM(E$8:E522)),2)","v":0}]
[null,null,null,{"$f":"ROUND(IF(C523=\"\",0,SUM(C$8:C523)),2)","v":0},null,{"$f":"ROUND(IF(E523=\"\",0,SUM(E$8:E523)),2)","v":0}]
[null,null,null,{"$f":"ROUND(IF(C524=\"\",0,SUM(C$8:C524)),2)","v":0},null,{"$f":"ROUND(IF(E524=\"\",0,SUM(E$8:E524)),2)","v":0}]
[null,null,null,{"$f":"ROUND(IF(C525=\"\",0,SUM(C$8:C525)),2)","v":0},null,{"$f":"ROUND(IF(E525=\"\",0,SUM(E$8:E525)),2)","v":0}]
[null,null,null,{"$f":"ROUND(IF(C526=\"\",0,SUM(C$8:C526)),2)","v":0},null,{"$f":"ROUND(IF(E526=\"\",0,SUM(E$8:E526)),2)","v":0}]
[null,null,null,{"$f":"ROUND(IF(C527=\"\",0,SUM(C$8:C527)),2)","v":0},null,{"$f":"ROUND(IF(E527=\"\",0,SUM(E$8:E527)),2)","v":0}]
[null,null,null,{"$f":"ROUND(IF(C528=\"\",0,SUM(C$8:C528)),2)","v":0},null,{"$f":"ROUND(IF(E528=\"\",0,SUM(E$8:E528)),2)","v":0}]
[null,null,null,{"$f":"ROUND(IF(C529=\"\",0,SUM(C$8:C529)),2)","v":0},null,{"$f":"ROUND(IF(E529=\"\",0,SUM(E$8:E529)),2)","v":0}]
[null,null,null,{"$f":"ROUND(IF(C530=\"\",0,SUM(C$8:C530)),2)","v":0},null,{"$f":"ROUND(IF(E530=\"\",0,SUM(E$8:E530)),2)","v":0}]
[null,null,null,{"$f":"ROUND(IF(C531=\"\",0,SUM(C$8:C531)),2)","v":0},null,{"$f":"ROUND(IF(E531=\"\",0,SUM(E$8:E531)),2)","v":0}]
[null,null,null,{"$f":"ROUND(IF(C532=\"\",0,SUM(C$8:C532)),2)","v":0},null,{"$f":"ROUND(IF(E532=\"\",0,SUM(E$8:E532)),2)","v":0}]
[null,null,null,{"$f":"ROUND(IF(C533=\"\",0,SUM(C$8:C533)),2)","v":0},null,{"$f":"ROUND(IF(E533=\"\",0,SUM(E$8:E533)),2)","v":0}]
[null,null,null,{"$f":"ROUND(IF(C534=\"\",0,SUM(C$8:C534)),2)","v":0},null,{"$f":"ROUND(IF(E534=\"\",0,SUM(E$8:E534)),2)","v":0}]
[null,null,null,{"$f":"ROUND(IF(C535=\"\",0,SUM(C$8:C535)),2)","v":0},null,{"$f":"ROUND(IF(E535=\"\",0,SUM(E$8:E535)),2)","v":0}]
[null,null,null,{"$f":"ROUND(IF(C536=\"\",0,SUM(C$8:C536)),2)","v":0},null,{"$f":"ROUND(IF(E536=\"\",0,SUM(E$8:E536)),2)","v":0}]
[null,null,null,{"$f":"ROUND(IF(C537=\"\",0,SUM(C$8:C537)),2)","v":0},null,{"$f":"ROUND(IF(E537=\"\",0,SUM(E$8:E537)),2)","v":0}]
[null,null,null,{"$f":"ROUND(IF(C538=\"\",0,SUM(C$8:C538)),2)","v":0},null,{"$f":"ROUND(IF(E538=\"\",0,SUM(E$8:E538)),2)","v":0}]
[null,null,null,{"$f":"ROUND(IF(C539=\"\",0,SUM(C$8:C539)),2)","v":0},null,{"$f":"ROUND(IF(E539=\"\",0,SUM(E$8:E539)),2)","v":0}]
[null,null,null,{"$f":"ROUND(IF(C540=\"\",0,SUM(C$8:C540)),2)","v":0},null,{"$f":"ROUND(IF(E540=\"\",0,SUM(E$8:E540)),2)","v":0}]
[null,null,null,{"$f":"ROUND(IF(C541=\"\",0,SUM(C$8:C541)),2)","v":0},null,{"$f":"ROUND(IF(E541=\"\",0,SUM(E$8:E541)),2)","v":0}]
[null,null,null,{"$f":"ROUND(IF(C542=\"\",0,SUM(C$8:C542)),2)","v":0},null,{"$f":"ROUND(IF(E542=\"\",0,SUM(E$8:E542)),2)","v":0}]
[null,null,null,{"$f":"ROUND(IF(C543=\"\",0,SUM(C$8:C543)),2)","v":0},null,{"$f":"ROUND(IF(E543=\"\",0,SUM(E$8:E543)),2)","v":0}]
[null,null,null,{"$f":"ROUND(IF(C544=\"\",0,SUM(C$8:C544)),2)","v":0},null,{"$f":"ROUND(IF(E544=\"\",0,SUM(E$8:E544)),2)","v":0}]
[null,null,null,{"$f":"ROUND(IF(C545=\"\",0,SUM(C$8:C545)),2)","v":0},null,{"$f":"ROUND(IF(E545=\"\",0,SUM(E$8:E545)),2)","v":0}]
[null,null,null,{"$f":"ROUND(IF(C546=\"\",0,SUM(C$8:C546)),2)","v":0},null,{"$f":"ROUND(IF(E546=\"\",0,SUM(E$8:E546)),2)","v":0}]
[null,null,null,{"$f":"ROUND(IF(C547=\"\",0,SUM(C$8:C547)),2)","v":0},null,{"$f":"ROUND(IF(E547=\"\",0,SUM(E$8:E547)),2)","v":0}]
[null,null,null,{"$f":"ROUND(IF(C548=\"\",0,SUM(C$8:C548)),2)","v":0},null,{"$f":"ROUND(IF(E548=\"\",0,SUM(E$8:E548)),2)","v":0}]
[null,null,null,{"$f":"ROUND(IF(C549=\"\",0,SUM(C$8:C549)),2)","v":0},null,{"$f":"ROUND(IF(E549=\"\",0,SUM(E$8:E549)),2)","v":0}]
[null,null,null,{"$f":"ROUND(IF(C550=\"\",0,SUM(C$8:C550)),2)","v":0},null,{"$f":"ROUND(IF(E550=\"\",0,SUM(E$8:E550)),2)","v":0}]
[null,null,null,{"$f":"ROUND(IF(C551=\"\",0,SUM(C$8:C551)),2)","v":0},null,{"$f":"ROUND(IF(E551=\"\",0,SUM(E$8:E551)),2)","v":0}]
[null,null,null,{"$f":"ROUND(IF(C552=\"\",0,SUM(C$8:C552)),2)","v":0},null,{"$f":"ROUND(IF(E552=\"\",0,SUM(E$8:E552)),2)","v":0}]
[null,null,null,{"$f":"ROUND(IF(C553=\"\",0,SUM(C$8:C553)),2)","v":0},null,{"$f":"ROUND(IF(E553=\"\",0,SUM(E$8:E553)),2)","v":0}]
[null,null,null,{"$f":"ROUND(IF(C554=\"\",0,SUM(C$8:C554)),2)","v":0},null,{"$f":"ROUND(IF(E554=\"\",0,SUM(E$8:E554)),2)","v":0}]
[null,null,null,{"$f":"ROUND(IF(C555=\"\",0,SUM(C$8:C555)),2)","v":0},null,{"$f":"ROUND(IF(E555=\"\",0,SUM(E$8:E555)),2)","v":0}]
[null,null,null,{"$f":"ROUND(IF(C556=\"\",0,SUM(C$8:C556)),2)","v":0},null,{"$f":"ROUND(IF(E556=\"\",0,SUM(E$8:E556)),2)","v":0}]
[null,null,null,{"$f":"ROUND(IF(C557=\"\",0,SUM(C$8:C557)),2)","v":0},null,{"$f":"ROUND(IF(E557=\"\",0,SUM(E$8:E557)),2)","v":0}]
[null,null,null,{"$f":"ROUND(IF(C558=\"\",0,SUM(C$8:C558)),2)","v":0},null,{"$f":"ROUND(IF(E558=\"\",0,SUM(E$8:E558)),2)","v":0}]
[null,null,null,{"$f":"ROUND(IF(C559=\"\",0,SUM(C$8:C559)),2)","v":0},null,{"$f":"ROUND(IF(E559=\"\",0,SUM(E$8:E559)),2)","v":0}]
[null,null,null,{"$f":"ROUND(IF(C560=\"\",0,SUM(C$8:C560)),2)","v":0},null,{"$f":"ROUND(IF(E560=\"\",0,SUM(E$8:E560)),2)","v":0}]
[null,null,null,{"$f":"ROUND(IF(C561=\"\",0,SUM(C$8:C561)),2)","v":0},null,{"$f":"ROUND(IF(E561=\"\",0,SUM(E$8:E561)),2)","v":0}]
[null,null,null,{"$f":"ROUND(IF(C562=\"\",0,SUM(C$8:C562)),2)","v":0},null,{"$f":"ROUND(IF(E562=\"\",0,SUM(E$8:E562)),2)","v":0}]
[null,null,null,{"$f":"ROUND(IF(C563=\"\",0,SUM(C$8:C563)),2)","v":0},null,{"$f":"ROUND(IF(E563=\"\",0,SUM(E$8:E563)),2)","v":0}]
[null,null,null,{"$f":"ROUND(IF(C564=\"\",0,SUM(C$8:C564)),2)","v":0},null,{"$f":"ROUND(IF(E564=\"\",0,SUM(E$8:E564)),2)","v":0}]
[null,null,null,{"$f":"ROUND(IF(C565=\"\",0,SUM(C$8:C565)),2)","v":0},null,{"$f":"ROUND(IF(E565=\"\",0,SUM(E$8:E565)),2)","v":0}]
[null,null,null,{"$f":"ROUND(IF(C566=\"\",0,SUM(C$8:C566)),2)","v":0},null,{"$f":"ROUND(IF(E566=\"\",0,SUM(E$8:E566)),2)","v":0}]
[null,null,null,{"$f":"ROUND(IF(C567=\"\",0,SUM(C$8:C567)),2)","v":0},null,{"$f":"ROUND(IF(E567=\"\",0,SUM(E$8:E567)),2)","v":0}]
[null,null,null,{"$f":"ROUND(IF(C568=\"\",0,SUM(C$8:C568)),2)","v":0},null,{"$f":"ROUND(IF(E568=\"\",0,SUM(E$8:E568)),2)","v":0}]
[null,null,null,{"$f":"ROUND(IF(C569=\"\",0,SUM(C$8:C569)),2)","v":0},null,{"$f":"ROUND(IF(E569=\"\",0,SUM(E$8:E569)),2)","v":0}]
[null,null,null,{"$f":"ROUND(IF(C570=\"\",0,SUM(C$8:C570)),2)","v":0},null,{"$f":"ROUND(IF(E570=\"\",0,SUM(E$8:E570)),2)","v":0}]
[null,null,null,{"$f":"ROUND(IF(C571=\"\",0,SUM(C$8:C571)),2)","v":0},null,{"$f":"ROUND(IF(E571=\"\",0,SUM(E$8:E571)),2)","v":0}]
[null,null,null,{"$f":"ROUND(IF(C572=\"\",0,SUM(C$8:C572)),2)","v":0},null,{"$f":"ROUND(IF(E572=\"\",0,SUM(E$8:E572)),2)","v":0}]
[null,null,null,{"$f":"ROUND(IF(C573=\"\",0,SUM(C$8:C573)),2)","v":0},null,{"$f":"ROUND(IF(E573=\"\",0,SUM(E$8:E573)),2)","v":0}]
[null,null,null,{"$f":"ROUND(IF(C574=\"\",0,SUM(C$8:C574)),2)","v":0},null,{"$f":"ROUND(IF(E574=\"\",0,SUM(E$8:E574)),2)","v":0}]
[null,null,null,{"$f":"ROUND(IF(C575=\"\",0,SUM(C$8:C575)),2)","v":0},null,{"$f":"ROUND(IF(E575=\"\",0,SUM(E$8:E575)),2)","v":0}]
[null,null,null,{"$f":"ROUND(IF(C576=\"\",0,SUM(C$8:C576)),2)","v":0},null,{"$f":"ROUND(IF(E576=\"\",0,SUM(E$8:E576)),2)","v":0}]
[null,null,null,{"$f":"ROUND(IF(C577=\"\",0,SUM(C$8:C577)),2)","v":0},null,{"$f":"ROUND(IF(E577=\"\",0,SUM(E$8:E577)),2)","v":0}]
[null,null,null,{"$f":"ROUND(IF(C578=\"\",0,SUM(C$8:C578)),2)","v":0},null,{"$f":"ROUND(IF(E578=\"\",0,SUM(E$8:E578)),2)","v":0}]
[null,null,null,{"$f":"ROUND(IF(C579=\"\",0,SUM(C$8:C579)),2)","v":0},null,{"$f":"ROUND(IF(E579=\"\",0,SUM(E$8:E579)),2)","v":0}]
[null,null,null,{"$f":"ROUND(IF(C580=\"\",0,SUM(C$8:C580)),2)","v":0},null,{"$f":"ROUND(IF(E580=\"\",0,SUM(E$8:E580)),2)","v":0}]
[null,null,null,{"$f":"ROUND(IF(C581=\"\",0,SUM(C$8:C581)),2)","v":0},null,{"$f":"ROUND(IF(E581=\"\",0,SUM(E$8:E581)),2)","v":0}]
[null,null,null,{"$f":"ROUND(IF(C582=\"\",0,SUM(C$8:C582)),2)","v":0},null,{"$f":"ROUND(IF(E582=\"\",0,SUM(E$8:E582)),2)","v":0}]
[null,null,null,{"$f":"ROUND(IF(C583=\"\",0,SUM(C$8:C583)),2)","v":0},null,{"$f":"ROUND(IF(E583=\"\",0,SUM(E$8:E583)),2)","v":0}]
[null,null,null,{"$f":"ROUND(IF(C584=\"\",0,SUM(C$8:C584)),2)","v":0},null,{"$f":"ROUND(IF(E584=\"\",0,SUM(E$8:E584)),2)","v":0}]
[null,null,null,{"$f":"ROUND(IF(C585=\"\",0,SUM(C$8:C585)),2)","v":0},null,{"$f":"ROUND(IF(E585=\"\",0,SUM(E$8:E585)),2)","v":0}]
[null,null,null,{"$f":"ROUND(IF(C586=\"\",0,SUM(C$8:C586)),2)","v":0},null,{"$f":"ROUND(IF(E586=\"\",0,SUM(E$8:E586)),2)","v":0}]
[null,null,null,{"$f":"ROUND(IF(C587=\"\",0,SUM(C$8:C587)),2)","v":0},null,{"$f":"ROUND(IF(E587=\"\",0,SUM(E$8:E587)),2)","v":0}]
[null,null,null,{"$f":"ROUND(IF(C588=\"\",0,SUM(C$8:C588)),2)","v":0},null,{"$f":"ROUND(IF(E588=\"\",0,SUM(E$8:E588)),2)","v":0}]
[null,null,null,{"$f":"ROUND(IF(C589=\"\",0,SUM(C$8:C589)),2)","v":0},null,{"$f":"ROUND(IF(E589=\"\",0,SUM(E$8:E589)),2)","v":0}]
[null,null,null,{"$f":"ROUND(IF(C590=\"\",0,SUM(C$8:C590)),2)","v":0},null,{"$f":"ROUND(IF(E590=\"\",0,SUM(E$8:E590)),2)","v":0}]
[null,null,null,{"$f":"ROUND(IF(C591=\"\",0,SUM(C$8:C591)),2)","v":0},null,{"$f":"ROUND(IF(E591=\"\",0,SUM(E$8:E591)),2)","v":0}]
[null,null,null,{"$f":"ROUND(IF(C592=\"\",0,SUM(C$8:C592)),2)","v":0},null,{"$f":"ROUND(IF(E592=\"\",0,SUM(E$8:E592)),2)","v":0}]
[null,null,null,{"$f":"ROUND(IF(C593=\"\",0,SUM(C$8:C593)),2)","v":0},null,{"$f":"ROUND(IF(E593=\"\",0,SUM(E$8:E593)),2)","v":0}]
[null,null,null,{"$f":"ROUND(IF(C594=\"\",0,SUM(C$8:C594)),2)","v":0},null,{"$f":"ROUND(IF(E594=\"\",0,SUM(E$8:E594)),2)","v":0}]
[null,null,null,{"$f":"ROUND(IF(C595=\"\",0,SUM(C$8:C595)),2)","v":0},null,{"$f":"ROUND(IF(E595=\"\",0,SUM(E$8:E595)),2)","v":0}]
[null,null,null,{"$f":"ROUND(IF(C596=\"\",0,SUM(C$8:C596)),2)","v":0},null,{"$f":"ROUND(IF(E596=\"\",0,SUM(E$8:E596)),2)","v":0}]
[null,null,null,{"$f":"ROUND(IF(C597=\"\",0,SUM(C$8:C597)),2)","v":0},null,{"$f":"ROUND(IF(E597=\"\",0,SUM(E$8:E597)),2)","v":0}]
[null,null,null,{"$f":"ROUND(IF(C598=\"\",0,SUM(C$8:C598)),2)","v":0},null,{"$f":"ROUND(IF(E598=\"\",0,SUM(E$8:E598)),2)","v":0}]
[null,null,null,{"$f":"ROUND(IF(C599=\"\",0,SUM(C$8:C599)),2)","v":0},null,{"$f":"ROUND(IF(E599=\"\",0,SUM(E$8:E599)),2)","v":0}]
[null,null,null,{"$f":"ROUND(IF(C600=\"\",0,SUM(C$8:C600)),2)","v":0},null,{"$f":"ROUND(IF(E600=\"\",0,SUM(E$8:E600)),2)","v":0}]
[null,null,null,{"$f":"ROUND(IF(C601=\"\",0,SUM(C$8:C601)),2)","v":0},null,{"$f":"ROUND(IF(E601=\"\",0,SUM(E$8:E601)),2)","v":0}]
[null,null,null,{"$f":"ROUND(IF(C602=\"\",0,SUM(C$8:C602)),2)","v":0},null,{"$f":"ROUND(IF(E602=\"\",0,SUM(E$8:E602)),2)","v":0}]
[null,null,null,{"$f":"ROUND(IF(C603=\"\",0,SUM(C$8:C603)),2)","v":0},null,{"$f":"ROUND(IF(E603=\"\",0,SUM(E$8:E603)),2)","v":0}]
[null,null,null,{"$f":"ROUND(IF(C604=\"\",0,SUM(C$8:C604)),2)","v":0},null,{"$f":"ROUND(IF(E604=\"\",0,SUM(E$8:E604)),2)","v":0}]
[null,null,null,{"$f":"ROUND(IF(C605=\"\",0,SUM(C$8:C605)),2)","v":0},null,{"$f":"ROUND(IF(E605=\"\",0,SUM(E$8:E605)),2)","v":0}]
[null,null,null,{"$f":"ROUND(IF(C606=\"\",0,SUM(C$8:C606)),2)","v":0},null,{"$f":"ROUND(IF(E606=\"\",0,SUM(E$8:E606)),2)","v":0}]
[null,null,null,{"$f":"ROUND(IF(C607=\"\",0,SUM(C$8:C607)),2)","v":0},null,{"$f":"ROUND(IF(E607=\"\",0,SUM(E$8:E607)),2)","v":0}]

{"sheet":"Cem 2","index":3,"n_rows":607,"n_cols":9,"rows_kept":607,"cut":false,"hidden":false,"merged":[]}
["Cement  Shipments  2",null,null,null,null,null,null,null,{"$f":"Info!B2","v":"E"}]
["Spec. Grav.: ",{"$f":"IF(AND(Info!B17=\"\", Info!C17=\"\"),\"\", IF(Info!B17<>\"\", Info!B17, Info!C17))","v":""},null,null,null,null,"Page No.: "]
["Source: ",{"$f":"IF(AND(Info!B15=\"\", Info!C15=\"\"),\"\", IF(Info!B15<>\"\", Info!B15, Info!C15))","v":""},null,null,null,null,"Type: ",{"$f":"IF(AND(Info!B16=\"\", Info!C16=\"\"),\"\", IF(Info!B16<>\"\", Info!B16, Info!C16))","v":""}]
["Project No.: ",{"$f":"IF(Info!B3=\"\",\"\",(Info!B3))","v":""},null,null,null,null,"Contract ID.: ",{"$f":"IF(Info!B4=\"\",\"\",(Info!B4))","v":""}]
[]
[null,"Ticket","Certified","To  Date","Used","To  Date",null,null," "]
["Date","No.",{"$f":"IF(Info!$B$2=\"M\",\"(Mg's)\",\"(Tons)\")","v":"(Tons)"},{"$f":"IF(Info!$B$2=\"M\",\"(Mg's)\",\"(Tons)\")","v":"(Tons)"},{"$f":"IF(Info!$B$2=\"M\",\"(Mg's)\",\"(Tons)\")","v":"(Tons)"},{"$f":"IF(Info!$B$2=\"M\",\"(Mg's)\",\"(Tons)\")","v":"(Tons)"},"Remarks",null,"By"]
[null,null,null,{"$f":"SUM(C8)","v":0},null,{"$f":"SUM(E8)","v":0}]
[null,null,null,{"$f":"ROUND(IF(C9=\"\",0,SUM(C$8:C9)),2)","v":0},null,{"$f":"ROUND(IF(E9=\"\",0,SUM(E$8:E9)),2)","v":0}]
[null,null,null,{"$f":"ROUND(IF(C10=\"\",0,SUM(C$8:C10)),2)","v":0},null,{"$f":"ROUND(IF(E10=\"\",0,SUM(E$8:E10)),2)","v":0}]
[null,null,null,{"$f":"ROUND(IF(C11=\"\",0,SUM(C$8:C11)),2)","v":0},null,{"$f":"ROUND(IF(E11=\"\",0,SUM(E$8:E11)),2)","v":0}]
[null,null,null,{"$f":"ROUND(IF(C12=\"\",0,SUM(C$8:C12)),2)","v":0},null,{"$f":"ROUND(IF(E12=\"\",0,SUM(E$8:E12)),2)","v":0}]
[null,null,null,{"$f":"ROUND(IF(C13=\"\",0,SUM(C$8:C13)),2)","v":0},null,{"$f":"ROUND(IF(E13=\"\",0,SUM(E$8:E13)),2)","v":0}]
[null,null,null,{"$f":"ROUND(IF(C14=\"\",0,SUM(C$8:C14)),2)","v":0},null,{"$f":"ROUND(IF(E14=\"\",0,SUM(E$8:E14)),2)","v":0}]
[null,null,null,{"$f":"ROUND(IF(C15=\"\",0,SUM(C$8:C15)),2)","v":0},null,{"$f":"ROUND(IF(E15=\"\",0,SUM(E$8:E15)),2)","v":0}]
[null,null,null,{"$f":"ROUND(IF(C16=\"\",0,SUM(C$8:C16)),2)","v":0},null,{"$f":"ROUND(IF(E16=\"\",0,SUM(E$8:E16)),2)","v":0}]
[null,null,null,{"$f":"ROUND(IF(C17=\"\",0,SUM(C$8:C17)),2)","v":0},null,{"$f":"ROUND(IF(E17=\"\",0,SUM(E$8:E17)),2)","v":0}]
[null,null,null,{"$f":"ROUND(IF(C18=\"\",0,SUM(C$8:C18)),2)","v":0},null,{"$f":"ROUND(IF(E18=\"\",0,SUM(E$8:E18)),2)","v":0}]
[null,null,null,{"$f":"ROUND(IF(C19=\"\",0,SUM(C$8:C19)),2)","v":0},null,{"$f":"ROUND(IF(E19=\"\",0,SUM(E$8:E19)),2)","v":0}]
[null,null,null,{"$f":"ROUND(IF(C20=\"\",0,SUM(C$8:C20)),2)","v":0},null,{"$f":"ROUND(IF(E20=\"\",0,SUM(E$8:E20)),2)","v":0}]
[null,null,null,{"$f":"ROUND(IF(C21=\"\",0,SUM(C$8:C21)),2)","v":0},null,{"$f":"ROUND(IF(E21=\"\",0,SUM(E$8:E21)),2)","v":0}]
[null,null,null,{"$f":"ROUND(IF(C22=\"\",0,SUM(C$8:C22)),2)","v":0},null,{"$f":"ROUND(IF(E22=\"\",0,SUM(E$8:E22)),2)","v":0}]
[null,null,null,{"$f":"ROUND(IF(C23=\"\",0,SUM(C$8:C23)),2)","v":0},null,{"$f":"ROUND(IF(E23=\"\",0,SUM(E$8:E23)),2)","v":0}]
[null,null,null,{"$f":"ROUND(IF(C24=\"\",0,SUM(C$8:C24)),2)","v":0},null,{"$f":"ROUND(IF(E24=\"\",0,SUM(E$8:E24)),2)","v":0}]
[null,null,null,{"$f":"ROUND(IF(C25=\"\",0,SUM(C$8:C25)),2)","v":0},null,{"$f":"ROUND(IF(E25=\"\",0,SUM(E$8:E25)),2)","v":0}]
[null,null,null,{"$f":"ROUND(IF(C26=\"\",0,SUM(C$8:C26)),2)","v":0},null,{"$f":"ROUND(IF(E26=\"\",0,SUM(E$8:E26)),2)","v":0}]
[null,null,null,{"$f":"ROUND(IF(C27=\"\",0,SUM(C$8:C27)),2)","v":0},null,{"$f":"ROUND(IF(E27=\"\",0,SUM(E$8:E27)),2)","v":0}]
[null,null,null,{"$f":"ROUND(IF(C28=\"\",0,SUM(C$8:C28)),2)","v":0},null,{"$f":"ROUND(IF(E28=\"\",0,SUM(E$8:E28)),2)","v":0}]
[null,null,null,{"$f":"ROUND(IF(C29=\"\",0,SUM(C$8:C29)),2)","v":0},null,{"$f":"ROUND(IF(E29=\"\",0,SUM(E$8:E29)),2)","v":0}]
[null,null,null,{"$f":"ROUND(IF(C30=\"\",0,SUM(C$8:C30)),2)","v":0},null,{"$f":"ROUND(IF(E30=\"\",0,SUM(E$8:E30)),2)","v":0}]
[null,null,null,{"$f":"ROUND(IF(C31=\"\",0,SUM(C$8:C31)),2)","v":0},null,{"$f":"ROUND(IF(E31=\"\",0,SUM(E$8:E31)),2)","v":0}]
[null,null,null,{"$f":"ROUND(IF(C32=\"\",0,SUM(C$8:C32)),2)","v":0},null,{"$f":"ROUND(IF(E32=\"\",0,SUM(E$8:E32)),2)","v":0}]
[null,null,null,{"$f":"ROUND(IF(C33=\"\",0,SUM(C$8:C33)),2)","v":0},null,{"$f":"ROUND(IF(E33=\"\",0,SUM(E$8:E33)),2)","v":0}]
[null,null,null,{"$f":"ROUND(IF(C34=\"\",0,SUM(C$8:C34)),2)","v":0},null,{"$f":"ROUND(IF(E34=\"\",0,SUM(E$8:E34)),2)","v":0}]
[null,null,null,{"$f":"ROUND(IF(C35=\"\",0,SUM(C$8:C35)),2)","v":0},null,{"$f":"ROUND(IF(E35=\"\",0,SUM(E$8:E35)),2)","v":0}]
[null,null,null,{"$f":"ROUND(IF(C36=\"\",0,SUM(C$8:C36)),2)","v":0},null,{"$f":"ROUND(IF(E36=\"\",0,SUM(E$8:E36)),2)","v":0}]
[null,null,null,{"$f":"ROUND(IF(C37=\"\",0,SUM(C$8:C37)),2)","v":0},null,{"$f":"ROUND(IF(E37=\"\",0,SUM(E$8:E37)),2)","v":0}]
[null,null,null,{"$f":"ROUND(IF(C38=\"\",0,SUM(C$8:C38)),2)","v":0},null,{"$f":"ROUND(IF(E38=\"\",0,SUM(E$8:E38)),2)","v":0}]
[null,null,null,{"$f":"ROUND(IF(C39=\"\",0,SUM(C$8:C39)),2)","v":0},null,{"$f":"ROUND(IF(E39=\"\",0,SUM(E$8:E39)),2)","v":0}]
[null,null,null,{"$f":"ROUND(IF(C40=\"\",0,SUM(C$8:C40)),2)","v":0},null,{"$f":"ROUND(IF(E40=\"\",0,SUM(E$8:E40)),2)","v":0}]
[null,null,null,{"$f":"ROUND(IF(C41=\"\",0,SUM(C$8:C41)),2)","v":0},null,{"$f":"ROUND(IF(E41=\"\",0,SUM(E$8:E41)),2)","v":0}]
[null,null,null,{"$f":"ROUND(IF(C42=\"\",0,SUM(C$8:C42)),2)","v":0},null,{"$f":"ROUND(IF(E42=\"\",0,SUM(E$8:E42)),2)","v":0}]
[null,null,null,{"$f":"ROUND(IF(C43=\"\",0,SUM(C$8:C43)),2)","v":0},null,{"$f":"ROUND(IF(E43=\"\",0,SUM(E$8:E43)),2)","v":0}]
[null,null,null,{"$f":"ROUND(IF(C44=\"\",0,SUM(C$8:C44)),2)","v":0},null,{"$f":"ROUND(IF(E44=\"\",0,SUM(E$8:E44)),2)","v":0}]
[null,null,null,{"$f":"ROUND(IF(C45=\"\",0,SUM(C$8:C45)),2)","v":0},null,{"$f":"ROUND(IF(E45=\"\",0,SUM(E$8:E45)),2)","v":0}]
[null,null,null,{"$f":"ROUND(IF(C46=\"\",0,SUM(C$8:C46)),2)","v":0},null,{"$f":"ROUND(IF(E46=\"\",0,SUM(E$8:E46)),2)","v":0}]
[null,null,null,{"$f":"ROUND(IF(C47=\"\",0,SUM(C$8:C47)),2)","v":0},null,{"$f":"ROUND(IF(E47=\"\",0,SUM(E$8:E47)),2)","v":0}]
[null,null,null,{"$f":"ROUND(IF(C48=\"\",0,SUM(C$8:C48)),2)","v":0},null,{"$f":"ROUND(IF(E48=\"\",0,SUM(E$8:E48)),2)","v":0}]
[null,null,null,{"$f":"ROUND(IF(C49=\"\",0,SUM(C$8:C49)),2)","v":0},null,{"$f":"ROUND(IF(E49=\"\",0,SUM(E$8:E49)),2)","v":0}]
[null,null,null,{"$f":"ROUND(IF(C50=\"\",0,SUM(C$8:C50)),2)","v":0},null,{"$f":"ROUND(IF(E50=\"\",0,SUM(E$8:E50)),2)","v":0}]
[null,null,null,{"$f":"ROUND(IF(C51=\"\",0,SUM(C$8:C51)),2)","v":0},null,{"$f":"ROUND(IF(E51=\"\",0,SUM(E$8:E51)),2)","v":0}]
[null,null,null,{"$f":"ROUND(IF(C52=\"\",0,SUM(C$8:C52)),2)","v":0},null,{"$f":"ROUND(IF(E52=\"\",0,SUM(E$8:E52)),2)","v":0}]
[null,null,null,{"$f":"ROUND(IF(C53=\"\",0,SUM(C$8:C53)),2)","v":0},null,{"$f":"ROUND(IF(E53=\"\",0,SUM(E$8:E53)),2)","v":0}]
[null,null,null,{"$f":"ROUND(IF(C54=\"\",0,SUM(C$8:C54)),2)","v":0},null,{"$f":"ROUND(IF(E54=\"\",0,SUM(E$8:E54)),2)","v":0}]
[null,null,null,{"$f":"ROUND(IF(C55=\"\",0,SUM(C$8:C55)),2)","v":0},null,{"$f":"ROUND(IF(E55=\"\",0,SUM(E$8:E55)),2)","v":0}]
[null,null,null,{"$f":"ROUND(IF(C56=\"\",0,SUM(C$8:C56)),2)","v":0},null,{"$f":"ROUND(IF(E56=\"\",0,SUM(E$8:E56)),2)","v":0}]
[null,null,null,{"$f":"ROUND(IF(C57=\"\",0,SUM(C$8:C57)),2)","v":0},null,{"$f":"ROUND(IF(E57=\"\",0,SUM(E$8:E57)),2)","v":0}]
[null,null,null,{"$f":"ROUND(IF(C58=\"\",0,SUM(C$8:C58)),2)","v":0},null,{"$f":"ROUND(IF(E58=\"\",0,SUM(E$8:E58)),2)","v":0}]
[null,null,null,{"$f":"ROUND(IF(C59=\"\",0,SUM(C$8:C59)),2)","v":0},null,{"$f":"ROUND(IF(E59=\"\",0,SUM(E$8:E59)),2)","v":0}]
[null,null,null,{"$f":"ROUND(IF(C60=\"\",0,SUM(C$8:C60)),2)","v":0},null,{"$f":"ROUND(IF(E60=\"\",0,SUM(E$8:E60)),2)","v":0}]
[null,null,null,{"$f":"ROUND(IF(C61=\"\",0,SUM(C$8:C61)),2)","v":0},null,{"$f":"ROUND(IF(E61=\"\",0,SUM(E$8:E61)),2)","v":0}]
[null,null,null,{"$f":"ROUND(IF(C62=\"\",0,SUM(C$8:C62)),2)","v":0},null,{"$f":"ROUND(IF(E62=\"\",0,SUM(E$8:E62)),2)","v":0}]
[null,null,null,{"$f":"ROUND(IF(C63=\"\",0,SUM(C$8:C63)),2)","v":0},null,{"$f":"ROUND(IF(E63=\"\",0,SUM(E$8:E63)),2)","v":0}]
[null,null,null,{"$f":"ROUND(IF(C64=\"\",0,SUM(C$8:C64)),2)","v":0},null,{"$f":"ROUND(IF(E64=\"\",0,SUM(E$8:E64)),2)","v":0}]
[null,null,null,{"$f":"ROUND(IF(C65=\"\",0,SUM(C$8:C65)),2)","v":0},null,{"$f":"ROUND(IF(E65=\"\",0,SUM(E$8:E65)),2)","v":0}]
[null,null,null,{"$f":"ROUND(IF(C66=\"\",0,SUM(C$8:C66)),2)","v":0},null,{"$f":"ROUND(IF(E66=\"\",0,SUM(E$8:E66)),2)","v":0}]
[null,null,null,{"$f":"ROUND(IF(C67=\"\",0,SUM(C$8:C67)),2)","v":0},null,{"$f":"ROUND(IF(E67=\"\",0,SUM(E$8:E67)),2)","v":0}]
[null,null,null,{"$f":"ROUND(IF(C68=\"\",0,SUM(C$8:C68)),2)","v":0},null,{"$f":"ROUND(IF(E68=\"\",0,SUM(E$8:E68)),2)","v":0}]
[null,null,null,{"$f":"ROUND(IF(C69=\"\",0,SUM(C$8:C69)),2)","v":0},null,{"$f":"ROUND(IF(E69=\"\",0,SUM(E$8:E69)),2)","v":0}]
[null,null,null,{"$f":"ROUND(IF(C70=\"\",0,SUM(C$8:C70)),2)","v":0},null,{"$f":"ROUND(IF(E70=\"\",0,SUM(E$8:E70)),2)","v":0}]
[null,null,null,{"$f":"ROUND(IF(C71=\"\",0,SUM(C$8:C71)),2)","v":0},null,{"$f":"ROUND(IF(E71=\"\",0,SUM(E$8:E71)),2)","v":0}]
[null,null,null,{"$f":"ROUND(IF(C72=\"\",0,SUM(C$8:C72)),2)","v":0},null,{"$f":"ROUND(IF(E72=\"\",0,SUM(E$8:E72)),2)","v":0}]
[null,null,null,{"$f":"ROUND(IF(C73=\"\",0,SUM(C$8:C73)),2)","v":0},null,{"$f":"ROUND(IF(E73=\"\",0,SUM(E$8:E73)),2)","v":0}]
[null,null,null,{"$f":"ROUND(IF(C74=\"\",0,SUM(C$8:C74)),2)","v":0},null,{"$f":"ROUND(IF(E74=\"\",0,SUM(E$8:E74)),2)","v":0}]
[null,null,null,{"$f":"ROUND(IF(C75=\"\",0,SUM(C$8:C75)),2)","v":0},null,{"$f":"ROUND(IF(E75=\"\",0,SUM(E$8:E75)),2)","v":0}]
[null,null,null,{"$f":"ROUND(IF(C76=\"\",0,SUM(C$8:C76)),2)","v":0},null,{"$f":"ROUND(IF(E76=\"\",0,SUM(E$8:E76)),2)","v":0}]
[null,null,null,{"$f":"ROUND(IF(C77=\"\",0,SUM(C$8:C77)),2)","v":0},null,{"$f":"ROUND(IF(E77=\"\",0,SUM(E$8:E77)),2)","v":0}]
[null,null,null,{"$f":"ROUND(IF(C78=\"\",0,SUM(C$8:C78)),2)","v":0},null,{"$f":"ROUND(IF(E78=\"\",0,SUM(E$8:E78)),2)","v":0}]
[null,null,null,{"$f":"ROUND(IF(C79=\"\",0,SUM(C$8:C79)),2)","v":0},null,{"$f":"ROUND(IF(E79=\"\",0,SUM(E$8:E79)),2)","v":0}]
[null,null,null,{"$f":"ROUND(IF(C80=\"\",0,SUM(C$8:C80)),2)","v":0},null,{"$f":"ROUND(IF(E80=\"\",0,SUM(E$8:E80)),2)","v":0}]
[null,null,null,{"$f":"ROUND(IF(C81=\"\",0,SUM(C$8:C81)),2)","v":0},null,{"$f":"ROUND(IF(E81=\"\",0,SUM(E$8:E81)),2)","v":0}]
[null,null,null,{"$f":"ROUND(IF(C82=\"\",0,SUM(C$8:C82)),2)","v":0},null,{"$f":"ROUND(IF(E82=\"\",0,SUM(E$8:E82)),2)","v":0}]
[null,null,null,{"$f":"ROUND(IF(C83=\"\",0,SUM(C$8:C83)),2)","v":0},null,{"$f":"ROUND(IF(E83=\"\",0,SUM(E$8:E83)),2)","v":0}]
[null,null,null,{"$f":"ROUND(IF(C84=\"\",0,SUM(C$8:C84)),2)","v":0},null,{"$f":"ROUND(IF(E84=\"\",0,SUM(E$8:E84)),2)","v":0}]
[null,null,null,{"$f":"ROUND(IF(C85=\"\",0,SUM(C$8:C85)),2)","v":0},null,{"$f":"ROUND(IF(E85=\"\",0,SUM(E$8:E85)),2)","v":0}]
[null,null,null,{"$f":"ROUND(IF(C86=\"\",0,SUM(C$8:C86)),2)","v":0},null,{"$f":"ROUND(IF(E86=\"\",0,SUM(E$8:E86)),2)","v":0}]
[null,null,null,{"$f":"ROUND(IF(C87=\"\",0,SUM(C$8:C87)),2)","v":0},null,{"$f":"ROUND(IF(E87=\"\",0,SUM(E$8:E87)),2)","v":0}]
[null,null,null,{"$f":"ROUND(IF(C88=\"\",0,SUM(C$8:C88)),2)","v":0},null,{"$f":"ROUND(IF(E88=\"\",0,SUM(E$8:E88)),2)","v":0}]
[null,null,null,{"$f":"ROUND(IF(C89=\"\",0,SUM(C$8:C89)),2)","v":0},null,{"$f":"ROUND(IF(E89=\"\",0,SUM(E$8:E89)),2)","v":0}]
[null,null,null,{"$f":"ROUND(IF(C90=\"\",0,SUM(C$8:C90)),2)","v":0},null,{"$f":"ROUND(IF(E90=\"\",0,SUM(E$8:E90)),2)","v":0}]
[null,null,null,{"$f":"ROUND(IF(C91=\"\",0,SUM(C$8:C91)),2)","v":0},null,{"$f":"ROUND(IF(E91=\"\",0,SUM(E$8:E91)),2)","v":0}]
[null,null,null,{"$f":"ROUND(IF(C92=\"\",0,SUM(C$8:C92)),2)","v":0},null,{"$f":"ROUND(IF(E92=\"\",0,SUM(E$8:E92)),2)","v":0}]
[null,null,null,{"$f":"ROUND(IF(C93=\"\",0,SUM(C$8:C93)),2)","v":0},null,{"$f":"ROUND(IF(E93=\"\",0,SUM(E$8:E93)),2)","v":0}]
[null,null,null,{"$f":"ROUND(IF(C94=\"\",0,SUM(C$8:C94)),2)","v":0},null,{"$f":"ROUND(IF(E94=\"\",0,SUM(E$8:E94)),2)","v":0}]
[null,null,null,{"$f":"ROUND(IF(C95=\"\",0,SUM(C$8:C95)),2)","v":0},null,{"$f":"ROUND(IF(E95=\"\",0,SUM(E$8:E95)),2)","v":0}]
[null,null,null,{"$f":"ROUND(IF(C96=\"\",0,SUM(C$8:C96)),2)","v":0},null,{"$f":"ROUND(IF(E96=\"\",0,SUM(E$8:E96)),2)","v":0}]
[null,null,null,{"$f":"ROUND(IF(C97=\"\",0,SUM(C$8:C97)),2)","v":0},null,{"$f":"ROUND(IF(E97=\"\",0,SUM(E$8:E97)),2)","v":0}]
[null,null,null,{"$f":"ROUND(IF(C98=\"\",0,SUM(C$8:C98)),2)","v":0},null,{"$f":"ROUND(IF(E98=\"\",0,SUM(E$8:E98)),2)","v":0}]
[null,null,null,{"$f":"ROUND(IF(C99=\"\",0,SUM(C$8:C99)),2)","v":0},null,{"$f":"ROUND(IF(E99=\"\",0,SUM(E$8:E99)),2)","v":0}]
[null,null,null,{"$f":"ROUND(IF(C100=\"\",0,SUM(C$8:C100)),2)","v":0},null,{"$f":"ROUND(IF(E100=\"\",0,SUM(E$8:E100)),2)","v":0}]
[null,null,null,{"$f":"ROUND(IF(C101=\"\",0,SUM(C$8:C101)),2)","v":0},null,{"$f":"ROUND(IF(E101=\"\",0,SUM(E$8:E101)),2)","v":0}]
[null,null,null,{"$f":"ROUND(IF(C102=\"\",0,SUM(C$8:C102)),2)","v":0},null,{"$f":"ROUND(IF(E102=\"\",0,SUM(E$8:E102)),2)","v":0}]
[null,null,null,{"$f":"ROUND(IF(C103=\"\",0,SUM(C$8:C103)),2)","v":0},null,{"$f":"ROUND(IF(E103=\"\",0,SUM(E$8:E103)),2)","v":0}]
[null,null,null,{"$f":"ROUND(IF(C104=\"\",0,SUM(C$8:C104)),2)","v":0},null,{"$f":"ROUND(IF(E104=\"\",0,SUM(E$8:E104)),2)","v":0}]
[null,null,null,{"$f":"ROUND(IF(C105=\"\",0,SUM(C$8:C105)),2)","v":0},null,{"$f":"ROUND(IF(E105=\"\",0,SUM(E$8:E105)),2)","v":0}]
[null,null,null,{"$f":"ROUND(IF(C106=\"\",0,SUM(C$8:C106)),2)","v":0},null,{"$f":"ROUND(IF(E106=\"\",0,SUM(E$8:E106)),2)","v":0}]
[null,null,null,{"$f":"ROUND(IF(C107=\"\",0,SUM(C$8:C107)),2)","v":0},null,{"$f":"ROUND(IF(E107=\"\",0,SUM(E$8:E107)),2)","v":0}]
[null,null,null,{"$f":"ROUND(IF(C108=\"\",0,SUM(C$8:C108)),2)","v":0},null,{"$f":"ROUND(IF(E108=\"\",0,SUM(E$8:E108)),2)","v":0}]
[null,null,null,{"$f":"ROUND(IF(C109=\"\",0,SUM(C$8:C109)),2)","v":0},null,{"$f":"ROUND(IF(E109=\"\",0,SUM(E$8:E109)),2)","v":0}]
[null,null,null,{"$f":"ROUND(IF(C110=\"\",0,SUM(C$8:C110)),2)","v":0},null,{"$f":"ROUND(IF(E110=\"\",0,SUM(E$8:E110)),2)","v":0}]
[null,null,null,{"$f":"ROUND(IF(C111=\"\",0,SUM(C$8:C111)),2)","v":0},null,{"$f":"ROUND(IF(E111=\"\",0,SUM(E$8:E111)),2)","v":0}]
[null,null,null,{"$f":"ROUND(IF(C112=\"\",0,SUM(C$8:C112)),2)","v":0},null,{"$f":"ROUND(IF(E112=\"\",0,SUM(E$8:E112)),2)","v":0}]
[null,null,null,{"$f":"ROUND(IF(C113=\"\",0,SUM(C$8:C113)),2)","v":0},null,{"$f":"ROUND(IF(E113=\"\",0,SUM(E$8:E113)),2)","v":0}]
[null,null,null,{"$f":"ROUND(IF(C114=\"\",0,SUM(C$8:C114)),2)","v":0},null,{"$f":"ROUND(IF(E114=\"\",0,SUM(E$8:E114)),2)","v":0}]
[null,null,null,{"$f":"ROUND(IF(C115=\"\",0,SUM(C$8:C115)),2)","v":0},null,{"$f":"ROUND(IF(E115=\"\",0,SUM(E$8:E115)),2)","v":0}]
[null,null,null,{"$f":"ROUND(IF(C116=\"\",0,SUM(C$8:C116)),2)","v":0},null,{"$f":"ROUND(IF(E116=\"\",0,SUM(E$8:E116)),2)","v":0}]
[null,null,null,{"$f":"ROUND(IF(C117=\"\",0,SUM(C$8:C117)),2)","v":0},null,{"$f":"ROUND(IF(E117=\"\",0,SUM(E$8:E117)),2)","v":0}]
[null,null,null,{"$f":"ROUND(IF(C118=\"\",0,SUM(C$8:C118)),2)","v":0},null,{"$f":"ROUND(IF(E118=\"\",0,SUM(E$8:E118)),2)","v":0}]
[null,null,null,{"$f":"ROUND(IF(C119=\"\",0,SUM(C$8:C119)),2)","v":0},null,{"$f":"ROUND(IF(E119=\"\",0,SUM(E$8:E119)),2)","v":0}]
[null,null,null,{"$f":"ROUND(IF(C120=\"\",0,SUM(C$8:C120)),2)","v":0},null,{"$f":"ROUND(IF(E120=\"\",0,SUM(E$8:E120)),2)","v":0}]
[null,null,null,{"$f":"ROUND(IF(C121=\"\",0,SUM(C$8:C121)),2)","v":0},null,{"$f":"ROUND(IF(E121=\"\",0,SUM(E$8:E121)),2)","v":0}]
[null,null,null,{"$f":"ROUND(IF(C122=\"\",0,SUM(C$8:C122)),2)","v":0},null,{"$f":"ROUND(IF(E122=\"\",0,SUM(E$8:E122)),2)","v":0}]
[null,null,null,{"$f":"ROUND(IF(C123=\"\",0,SUM(C$8:C123)),2)","v":0},null,{"$f":"ROUND(IF(E123=\"\",0,SUM(E$8:E123)),2)","v":0}]
[null,null,null,{"$f":"ROUND(IF(C124=\"\",0,SUM(C$8:C124)),2)","v":0},null,{"$f":"ROUND(IF(E124=\"\",0,SUM(E$8:E124)),2)","v":0}]
[null,null,null,{"$f":"ROUND(IF(C125=\"\",0,SUM(C$8:C125)),2)","v":0},null,{"$f":"ROUND(IF(E125=\"\",0,SUM(E$8:E125)),2)","v":0}]
[null,null,null,{"$f":"ROUND(IF(C126=\"\",0,SUM(C$8:C126)),2)","v":0},null,{"$f":"ROUND(IF(E126=\"\",0,SUM(E$8:E126)),2)","v":0}]
[null,null,null,{"$f":"ROUND(IF(C127=\"\",0,SUM(C$8:C127)),2)","v":0},null,{"$f":"ROUND(IF(E127=\"\",0,SUM(E$8:E127)),2)","v":0}]
[null,null,null,{"$f":"ROUND(IF(C128=\"\",0,SUM(C$8:C128)),2)","v":0},null,{"$f":"ROUND(IF(E128=\"\",0,SUM(E$8:E128)),2)","v":0}]
[null,null,null,{"$f":"ROUND(IF(C129=\"\",0,SUM(C$8:C129)),2)","v":0},null,{"$f":"ROUND(IF(E129=\"\",0,SUM(E$8:E129)),2)","v":0}]
[null,null,null,{"$f":"ROUND(IF(C130=\"\",0,SUM(C$8:C130)),2)","v":0},null,{"$f":"ROUND(IF(E130=\"\",0,SUM(E$8:E130)),2)","v":0}]
[null,null,null,{"$f":"ROUND(IF(C131=\"\",0,SUM(C$8:C131)),2)","v":0},null,{"$f":"ROUND(IF(E131=\"\",0,SUM(E$8:E131)),2)","v":0}]
[null,null,null,{"$f":"ROUND(IF(C132=\"\",0,SUM(C$8:C132)),2)","v":0},null,{"$f":"ROUND(IF(E132=\"\",0,SUM(E$8:E132)),2)","v":0}]
[null,null,null,{"$f":"ROUND(IF(C133=\"\",0,SUM(C$8:C133)),2)","v":0},null,{"$f":"ROUND(IF(E133=\"\",0,SUM(E$8:E133)),2)","v":0}]
[null,null,null,{"$f":"ROUND(IF(C134=\"\",0,SUM(C$8:C134)),2)","v":0},null,{"$f":"ROUND(IF(E134=\"\",0,SUM(E$8:E134)),2)","v":0}]
[null,null,null,{"$f":"ROUND(IF(C135=\"\",0,SUM(C$8:C135)),2)","v":0},null,{"$f":"ROUND(IF(E135=\"\",0,SUM(E$8:E135)),2)","v":0}]
[null,null,null,{"$f":"ROUND(IF(C136=\"\",0,SUM(C$8:C136)),2)","v":0},null,{"$f":"ROUND(IF(E136=\"\",0,SUM(E$8:E136)),2)","v":0}]
[null,null,null,{"$f":"ROUND(IF(C137=\"\",0,SUM(C$8:C137)),2)","v":0},null,{"$f":"ROUND(IF(E137=\"\",0,SUM(E$8:E137)),2)","v":0}]
[null,null,null,{"$f":"ROUND(IF(C138=\"\",0,SUM(C$8:C138)),2)","v":0},null,{"$f":"ROUND(IF(E138=\"\",0,SUM(E$8:E138)),2)","v":0}]
[null,null,null,{"$f":"ROUND(IF(C139=\"\",0,SUM(C$8:C139)),2)","v":0},null,{"$f":"ROUND(IF(E139=\"\",0,SUM(E$8:E139)),2)","v":0}]
[null,null,null,{"$f":"ROUND(IF(C140=\"\",0,SUM(C$8:C140)),2)","v":0},null,{"$f":"ROUND(IF(E140=\"\",0,SUM(E$8:E140)),2)","v":0}]
[null,null,null,{"$f":"ROUND(IF(C141=\"\",0,SUM(C$8:C141)),2)","v":0},null,{"$f":"ROUND(IF(E141=\"\",0,SUM(E$8:E141)),2)","v":0}]
[null,null,null,{"$f":"ROUND(IF(C142=\"\",0,SUM(C$8:C142)),2)","v":0},null,{"$f":"ROUND(IF(E142=\"\",0,SUM(E$8:E142)),2)","v":0}]
[null,null,null,{"$f":"ROUND(IF(C143=\"\",0,SUM(C$8:C143)),2)","v":0},null,{"$f":"ROUND(IF(E143=\"\",0,SUM(E$8:E143)),2)","v":0}]
[null,null,null,{"$f":"ROUND(IF(C144=\"\",0,SUM(C$8:C144)),2)","v":0},null,{"$f":"ROUND(IF(E144=\"\",0,SUM(E$8:E144)),2)","v":0}]
[null,null,null,{"$f":"ROUND(IF(C145=\"\",0,SUM(C$8:C145)),2)","v":0},null,{"$f":"ROUND(IF(E145=\"\",0,SUM(E$8:E145)),2)","v":0}]
[null,null,null,{"$f":"ROUND(IF(C146=\"\",0,SUM(C$8:C146)),2)","v":0},null,{"$f":"ROUND(IF(E146=\"\",0,SUM(E$8:E146)),2)","v":0}]
[null,null,null,{"$f":"ROUND(IF(C147=\"\",0,SUM(C$8:C147)),2)","v":0},null,{"$f":"ROUND(IF(E147=\"\",0,SUM(E$8:E147)),2)","v":0}]
[null,null,null,{"$f":"ROUND(IF(C148=\"\",0,SUM(C$8:C148)),2)","v":0},null,{"$f":"ROUND(IF(E148=\"\",0,SUM(E$8:E148)),2)","v":0}]
[null,null,null,{"$f":"ROUND(IF(C149=\"\",0,SUM(C$8:C149)),2)","v":0},null,{"$f":"ROUND(IF(E149=\"\",0,SUM(E$8:E149)),2)","v":0}]
[null,null,null,{"$f":"ROUND(IF(C150=\"\",0,SUM(C$8:C150)),2)","v":0},null,{"$f":"ROUND(IF(E150=\"\",0,SUM(E$8:E150)),2)","v":0}]
[null,null,null,{"$f":"ROUND(IF(C151=\"\",0,SUM(C$8:C151)),2)","v":0},null,{"$f":"ROUND(IF(E151=\"\",0,SUM(E$8:E151)),2)","v":0}]
[null,null,null,{"$f":"ROUND(IF(C152=\"\",0,SUM(C$8:C152)),2)","v":0},null,{"$f":"ROUND(IF(E152=\"\",0,SUM(E$8:E152)),2)","v":0}]
[null,null,null,{"$f":"ROUND(IF(C153=\"\",0,SUM(C$8:C153)),2)","v":0},null,{"$f":"ROUND(IF(E153=\"\",0,SUM(E$8:E153)),2)","v":0}]
[null,null,null,{"$f":"ROUND(IF(C154=\"\",0,SUM(C$8:C154)),2)","v":0},null,{"$f":"ROUND(IF(E154=\"\",0,SUM(E$8:E154)),2)","v":0}]
[null,null,null,{"$f":"ROUND(IF(C155=\"\",0,SUM(C$8:C155)),2)","v":0},null,{"$f":"ROUND(IF(E155=\"\",0,SUM(E$8:E155)),2)","v":0}]
[null,null,null,{"$f":"ROUND(IF(C156=\"\",0,SUM(C$8:C156)),2)","v":0},null,{"$f":"ROUND(IF(E156=\"\",0,SUM(E$8:E156)),2)","v":0}]
[null,null,null,{"$f":"ROUND(IF(C157=\"\",0,SUM(C$8:C157)),2)","v":0},null,{"$f":"ROUND(IF(E157=\"\",0,SUM(E$8:E157)),2)","v":0}]
[null,null,null,{"$f":"ROUND(IF(C158=\"\",0,SUM(C$8:C158)),2)","v":0},null,{"$f":"ROUND(IF(E158=\"\",0,SUM(E$8:E158)),2)","v":0}]
[null,null,null,{"$f":"ROUND(IF(C159=\"\",0,SUM(C$8:C159)),2)","v":0},null,{"$f":"ROUND(IF(E159=\"\",0,SUM(E$8:E159)),2)","v":0}]
[null,null,null,{"$f":"ROUND(IF(C160=\"\",0,SUM(C$8:C160)),2)","v":0},null,{"$f":"ROUND(IF(E160=\"\",0,SUM(E$8:E160)),2)","v":0}]
[null,null,null,{"$f":"ROUND(IF(C161=\"\",0,SUM(C$8:C161)),2)","v":0},null,{"$f":"ROUND(IF(E161=\"\",0,SUM(E$8:E161)),2)","v":0}]
[null,null,null,{"$f":"ROUND(IF(C162=\"\",0,SUM(C$8:C162)),2)","v":0},null,{"$f":"ROUND(IF(E162=\"\",0,SUM(E$8:E162)),2)","v":0}]
[null,null,null,{"$f":"ROUND(IF(C163=\"\",0,SUM(C$8:C163)),2)","v":0},null,{"$f":"ROUND(IF(E163=\"\",0,SUM(E$8:E163)),2)","v":0}]
[null,null,null,{"$f":"ROUND(IF(C164=\"\",0,SUM(C$8:C164)),2)","v":0},null,{"$f":"ROUND(IF(E164=\"\",0,SUM(E$8:E164)),2)","v":0}]
[null,null,null,{"$f":"ROUND(IF(C165=\"\",0,SUM(C$8:C165)),2)","v":0},null,{"$f":"ROUND(IF(E165=\"\",0,SUM(E$8:E165)),2)","v":0}]
[null,null,null,{"$f":"ROUND(IF(C166=\"\",0,SUM(C$8:C166)),2)","v":0},null,{"$f":"ROUND(IF(E166=\"\",0,SUM(E$8:E166)),2)","v":0}]
[null,null,null,{"$f":"ROUND(IF(C167=\"\",0,SUM(C$8:C167)),2)","v":0},null,{"$f":"ROUND(IF(E167=\"\",0,SUM(E$8:E167)),2)","v":0}]
[null,null,null,{"$f":"ROUND(IF(C168=\"\",0,SUM(C$8:C168)),2)","v":0},null,{"$f":"ROUND(IF(E168=\"\",0,SUM(E$8:E168)),2)","v":0}]
[null,null,null,{"$f":"ROUND(IF(C169=\"\",0,SUM(C$8:C169)),2)","v":0},null,{"$f":"ROUND(IF(E169=\"\",0,SUM(E$8:E169)),2)","v":0}]
[null,null,null,{"$f":"ROUND(IF(C170=\"\",0,SUM(C$8:C170)),2)","v":0},null,{"$f":"ROUND(IF(E170=\"\",0,SUM(E$8:E170)),2)","v":0}]
[null,null,null,{"$f":"ROUND(IF(C171=\"\",0,SUM(C$8:C171)),2)","v":0},null,{"$f":"ROUND(IF(E171=\"\",0,SUM(E$8:E171)),2)","v":0}]
[null,null,null,{"$f":"ROUND(IF(C172=\"\",0,SUM(C$8:C172)),2)","v":0},null,{"$f":"ROUND(IF(E172=\"\",0,SUM(E$8:E172)),2)","v":0}]
[null,null,null,{"$f":"ROUND(IF(C173=\"\",0,SUM(C$8:C173)),2)","v":0},null,{"$f":"ROUND(IF(E173=\"\",0,SUM(E$8:E173)),2)","v":0}]
[null,null,null,{"$f":"ROUND(IF(C174=\"\",0,SUM(C$8:C174)),2)","v":0},null,{"$f":"ROUND(IF(E174=\"\",0,SUM(E$8:E174)),2)","v":0}]
[null,null,null,{"$f":"ROUND(IF(C175=\"\",0,SUM(C$8:C175)),2)","v":0},null,{"$f":"ROUND(IF(E175=\"\",0,SUM(E$8:E175)),2)","v":0}]
[null,null,null,{"$f":"ROUND(IF(C176=\"\",0,SUM(C$8:C176)),2)","v":0},null,{"$f":"ROUND(IF(E176=\"\",0,SUM(E$8:E176)),2)","v":0}]
[null,null,null,{"$f":"ROUND(IF(C177=\"\",0,SUM(C$8:C177)),2)","v":0},null,{"$f":"ROUND(IF(E177=\"\",0,SUM(E$8:E177)),2)","v":0}]
[null,null,null,{"$f":"ROUND(IF(C178=\"\",0,SUM(C$8:C178)),2)","v":0},null,{"$f":"ROUND(IF(E178=\"\",0,SUM(E$8:E178)),2)","v":0}]
[null,null,null,{"$f":"ROUND(IF(C179=\"\",0,SUM(C$8:C179)),2)","v":0},null,{"$f":"ROUND(IF(E179=\"\",0,SUM(E$8:E179)),2)","v":0}]
[null,null,null,{"$f":"ROUND(IF(C180=\"\",0,SUM(C$8:C180)),2)","v":0},null,{"$f":"ROUND(IF(E180=\"\",0,SUM(E$8:E180)),2)","v":0}]
[null,null,null,{"$f":"ROUND(IF(C181=\"\",0,SUM(C$8:C181)),2)","v":0},null,{"$f":"ROUND(IF(E181=\"\",0,SUM(E$8:E181)),2)","v":0}]
[null,null,null,{"$f":"ROUND(IF(C182=\"\",0,SUM(C$8:C182)),2)","v":0},null,{"$f":"ROUND(IF(E182=\"\",0,SUM(E$8:E182)),2)","v":0}]
[null,null,null,{"$f":"ROUND(IF(C183=\"\",0,SUM(C$8:C183)),2)","v":0},null,{"$f":"ROUND(IF(E183=\"\",0,SUM(E$8:E183)),2)","v":0}]
[null,null,null,{"$f":"ROUND(IF(C184=\"\",0,SUM(C$8:C184)),2)","v":0},null,{"$f":"ROUND(IF(E184=\"\",0,SUM(E$8:E184)),2)","v":0}]
[null,null,null,{"$f":"ROUND(IF(C185=\"\",0,SUM(C$8:C185)),2)","v":0},null,{"$f":"ROUND(IF(E185=\"\",0,SUM(E$8:E185)),2)","v":0}]
[null,null,null,{"$f":"ROUND(IF(C186=\"\",0,SUM(C$8:C186)),2)","v":0},null,{"$f":"ROUND(IF(E186=\"\",0,SUM(E$8:E186)),2)","v":0}]
[null,null,null,{"$f":"ROUND(IF(C187=\"\",0,SUM(C$8:C187)),2)","v":0},null,{"$f":"ROUND(IF(E187=\"\",0,SUM(E$8:E187)),2)","v":0}]
[null,null,null,{"$f":"ROUND(IF(C188=\"\",0,SUM(C$8:C188)),2)","v":0},null,{"$f":"ROUND(IF(E188=\"\",0,SUM(E$8:E188)),2)","v":0}]
[null,null,null,{"$f":"ROUND(IF(C189=\"\",0,SUM(C$8:C189)),2)","v":0},null,{"$f":"ROUND(IF(E189=\"\",0,SUM(E$8:E189)),2)","v":0}]
[null,null,null,{"$f":"ROUND(IF(C190=\"\",0,SUM(C$8:C190)),2)","v":0},null,{"$f":"ROUND(IF(E190=\"\",0,SUM(E$8:E190)),2)","v":0}]
[null,null,null,{"$f":"ROUND(IF(C191=\"\",0,SUM(C$8:C191)),2)","v":0},null,{"$f":"ROUND(IF(E191=\"\",0,SUM(E$8:E191)),2)","v":0}]
[null,null,null,{"$f":"ROUND(IF(C192=\"\",0,SUM(C$8:C192)),2)","v":0},null,{"$f":"ROUND(IF(E192=\"\",0,SUM(E$8:E192)),2)","v":0}]
[null,null,null,{"$f":"ROUND(IF(C193=\"\",0,SUM(C$8:C193)),2)","v":0},null,{"$f":"ROUND(IF(E193=\"\",0,SUM(E$8:E193)),2)","v":0}]
[null,null,null,{"$f":"ROUND(IF(C194=\"\",0,SUM(C$8:C194)),2)","v":0},null,{"$f":"ROUND(IF(E194=\"\",0,SUM(E$8:E194)),2)","v":0}]
[null,null,null,{"$f":"ROUND(IF(C195=\"\",0,SUM(C$8:C195)),2)","v":0},null,{"$f":"ROUND(IF(E195=\"\",0,SUM(E$8:E195)),2)","v":0}]
[null,null,null,{"$f":"ROUND(IF(C196=\"\",0,SUM(C$8:C196)),2)","v":0},null,{"$f":"ROUND(IF(E196=\"\",0,SUM(E$8:E196)),2)","v":0}]
[null,null,null,{"$f":"ROUND(IF(C197=\"\",0,SUM(C$8:C197)),2)","v":0},null,{"$f":"ROUND(IF(E197=\"\",0,SUM(E$8:E197)),2)","v":0}]
[null,null,null,{"$f":"ROUND(IF(C198=\"\",0,SUM(C$8:C198)),2)","v":0},null,{"$f":"ROUND(IF(E198=\"\",0,SUM(E$8:E198)),2)","v":0}]
[null,null,null,{"$f":"ROUND(IF(C199=\"\",0,SUM(C$8:C199)),2)","v":0},null,{"$f":"ROUND(IF(E199=\"\",0,SUM(E$8:E199)),2)","v":0}]
[null,null,null,{"$f":"ROUND(IF(C200=\"\",0,SUM(C$8:C200)),2)","v":0},null,{"$f":"ROUND(IF(E200=\"\",0,SUM(E$8:E200)),2)","v":0}]
[null,null,null,{"$f":"ROUND(IF(C201=\"\",0,SUM(C$8:C201)),2)","v":0},null,{"$f":"ROUND(IF(E201=\"\",0,SUM(E$8:E201)),2)","v":0}]
[null,null,null,{"$f":"ROUND(IF(C202=\"\",0,SUM(C$8:C202)),2)","v":0},null,{"$f":"ROUND(IF(E202=\"\",0,SUM(E$8:E202)),2)","v":0}]
[null,null,null,{"$f":"ROUND(IF(C203=\"\",0,SUM(C$8:C203)),2)","v":0},null,{"$f":"ROUND(IF(E203=\"\",0,SUM(E$8:E203)),2)","v":0}]
[null,null,null,{"$f":"ROUND(IF(C204=\"\",0,SUM(C$8:C204)),2)","v":0},null,{"$f":"ROUND(IF(E204=\"\",0,SUM(E$8:E204)),2)","v":0}]
[null,null,null,{"$f":"ROUND(IF(C205=\"\",0,SUM(C$8:C205)),2)","v":0},null,{"$f":"ROUND(IF(E205=\"\",0,SUM(E$8:E205)),2)","v":0}]
[null,null,null,{"$f":"ROUND(IF(C206=\"\",0,SUM(C$8:C206)),2)","v":0},null,{"$f":"ROUND(IF(E206=\"\",0,SUM(E$8:E206)),2)","v":0}]
[null,null,null,{"$f":"ROUND(IF(C207=\"\",0,SUM(C$8:C207)),2)","v":0},null,{"$f":"ROUND(IF(E207=\"\",0,SUM(E$8:E207)),2)","v":0}]
[null,null,null,{"$f":"ROUND(IF(C208=\"\",0,SUM(C$8:C208)),2)","v":0},null,{"$f":"ROUND(IF(E208=\"\",0,SUM(E$8:E208)),2)","v":0}]
[null,null,null,{"$f":"ROUND(IF(C209=\"\",0,SUM(C$8:C209)),2)","v":0},null,{"$f":"ROUND(IF(E209=\"\",0,SUM(E$8:E209)),2)","v":0}]
[null,null,null,{"$f":"ROUND(IF(C210=\"\",0,SUM(C$8:C210)),2)","v":0},null,{"$f":"ROUND(IF(E210=\"\",0,SUM(E$8:E210)),2)","v":0}]
[null,null,null,{"$f":"ROUND(IF(C211=\"\",0,SUM(C$8:C211)),2)","v":0},null,{"$f":"ROUND(IF(E211=\"\",0,SUM(E$8:E211)),2)","v":0}]
[null,null,null,{"$f":"ROUND(IF(C212=\"\",0,SUM(C$8:C212)),2)","v":0},null,{"$f":"ROUND(IF(E212=\"\",0,SUM(E$8:E212)),2)","v":0}]
[null,null,null,{"$f":"ROUND(IF(C213=\"\",0,SUM(C$8:C213)),2)","v":0},null,{"$f":"ROUND(IF(E213=\"\",0,SUM(E$8:E213)),2)","v":0}]
[null,null,null,{"$f":"ROUND(IF(C214=\"\",0,SUM(C$8:C214)),2)","v":0},null,{"$f":"ROUND(IF(E214=\"\",0,SUM(E$8:E214)),2)","v":0}]
[null,null,null,{"$f":"ROUND(IF(C215=\"\",0,SUM(C$8:C215)),2)","v":0},null,{"$f":"ROUND(IF(E215=\"\",0,SUM(E$8:E215)),2)","v":0}]
[null,null,null,{"$f":"ROUND(IF(C216=\"\",0,SUM(C$8:C216)),2)","v":0},null,{"$f":"ROUND(IF(E216=\"\",0,SUM(E$8:E216)),2)","v":0}]
[null,null,null,{"$f":"ROUND(IF(C217=\"\",0,SUM(C$8:C217)),2)","v":0},null,{"$f":"ROUND(IF(E217=\"\",0,SUM(E$8:E217)),2)","v":0}]
[null,null,null,{"$f":"ROUND(IF(C218=\"\",0,SUM(C$8:C218)),2)","v":0},null,{"$f":"ROUND(IF(E218=\"\",0,SUM(E$8:E218)),2)","v":0}]
[null,null,null,{"$f":"ROUND(IF(C219=\"\",0,SUM(C$8:C219)),2)","v":0},null,{"$f":"ROUND(IF(E219=\"\",0,SUM(E$8:E219)),2)","v":0}]
[null,null,null,{"$f":"ROUND(IF(C220=\"\",0,SUM(C$8:C220)),2)","v":0},null,{"$f":"ROUND(IF(E220=\"\",0,SUM(E$8:E220)),2)","v":0}]
[null,null,null,{"$f":"ROUND(IF(C221=\"\",0,SUM(C$8:C221)),2)","v":0},null,{"$f":"ROUND(IF(E221=\"\",0,SUM(E$8:E221)),2)","v":0}]
[null,null,null,{"$f":"ROUND(IF(C222=\"\",0,SUM(C$8:C222)),2)","v":0},null,{"$f":"ROUND(IF(E222=\"\",0,SUM(E$8:E222)),2)","v":0}]
[null,null,null,{"$f":"ROUND(IF(C223=\"\",0,SUM(C$8:C223)),2)","v":0},null,{"$f":"ROUND(IF(E223=\"\",0,SUM(E$8:E223)),2)","v":0}]
[null,null,null,{"$f":"ROUND(IF(C224=\"\",0,SUM(C$8:C224)),2)","v":0},null,{"$f":"ROUND(IF(E224=\"\",0,SUM(E$8:E224)),2)","v":0}]
[null,null,null,{"$f":"ROUND(IF(C225=\"\",0,SUM(C$8:C225)),2)","v":0},null,{"$f":"ROUND(IF(E225=\"\",0,SUM(E$8:E225)),2)","v":0}]
[null,null,null,{"$f":"ROUND(IF(C226=\"\",0,SUM(C$8:C226)),2)","v":0},null,{"$f":"ROUND(IF(E226=\"\",0,SUM(E$8:E226)),2)","v":0}]
[null,null,null,{"$f":"ROUND(IF(C227=\"\",0,SUM(C$8:C227)),2)","v":0},null,{"$f":"ROUND(IF(E227=\"\",0,SUM(E$8:E227)),2)","v":0}]
[null,null,null,{"$f":"ROUND(IF(C228=\"\",0,SUM(C$8:C228)),2)","v":0},null,{"$f":"ROUND(IF(E228=\"\",0,SUM(E$8:E228)),2)","v":0}]
[null,null,null,{"$f":"ROUND(IF(C229=\"\",0,SUM(C$8:C229)),2)","v":0},null,{"$f":"ROUND(IF(E229=\"\",0,SUM(E$8:E229)),2)","v":0}]
[null,null,null,{"$f":"ROUND(IF(C230=\"\",0,SUM(C$8:C230)),2)","v":0},null,{"$f":"ROUND(IF(E230=\"\",0,SUM(E$8:E230)),2)","v":0}]
[null,null,null,{"$f":"ROUND(IF(C231=\"\",0,SUM(C$8:C231)),2)","v":0},null,{"$f":"ROUND(IF(E231=\"\",0,SUM(E$8:E231)),2)","v":0}]
[null,null,null,{"$f":"ROUND(IF(C232=\"\",0,SUM(C$8:C232)),2)","v":0},null,{"$f":"ROUND(IF(E232=\"\",0,SUM(E$8:E232)),2)","v":0}]
[null,null,null,{"$f":"ROUND(IF(C233=\"\",0,SUM(C$8:C233)),2)","v":0},null,{"$f":"ROUND(IF(E233=\"\",0,SUM(E$8:E233)),2)","v":0}]
[null,null,null,{"$f":"ROUND(IF(C234=\"\",0,SUM(C$8:C234)),2)","v":0},null,{"$f":"ROUND(IF(E234=\"\",0,SUM(E$8:E234)),2)","v":0}]
[null,null,null,{"$f":"ROUND(IF(C235=\"\",0,SUM(C$8:C235)),2)","v":0},null,{"$f":"ROUND(IF(E235=\"\",0,SUM(E$8:E235)),2)","v":0}]
[null,null,null,{"$f":"ROUND(IF(C236=\"\",0,SUM(C$8:C236)),2)","v":0},null,{"$f":"ROUND(IF(E236=\"\",0,SUM(E$8:E236)),2)","v":0}]
[null,null,null,{"$f":"ROUND(IF(C237=\"\",0,SUM(C$8:C237)),2)","v":0},null,{"$f":"ROUND(IF(E237=\"\",0,SUM(E$8:E237)),2)","v":0}]
[null,null,null,{"$f":"ROUND(IF(C238=\"\",0,SUM(C$8:C238)),2)","v":0},null,{"$f":"ROUND(IF(E238=\"\",0,SUM(E$8:E238)),2)","v":0}]
[null,null,null,{"$f":"ROUND(IF(C239=\"\",0,SUM(C$8:C239)),2)","v":0},null,{"$f":"ROUND(IF(E239=\"\",0,SUM(E$8:E239)),2)","v":0}]
[null,null,null,{"$f":"ROUND(IF(C240=\"\",0,SUM(C$8:C240)),2)","v":0},null,{"$f":"ROUND(IF(E240=\"\",0,SUM(E$8:E240)),2)","v":0}]
[null,null,null,{"$f":"ROUND(IF(C241=\"\",0,SUM(C$8:C241)),2)","v":0},null,{"$f":"ROUND(IF(E241=\"\",0,SUM(E$8:E241)),2)","v":0}]
[null,null,null,{"$f":"ROUND(IF(C242=\"\",0,SUM(C$8:C242)),2)","v":0},null,{"$f":"ROUND(IF(E242=\"\",0,SUM(E$8:E242)),2)","v":0}]
[null,null,null,{"$f":"ROUND(IF(C243=\"\",0,SUM(C$8:C243)),2)","v":0},null,{"$f":"ROUND(IF(E243=\"\",0,SUM(E$8:E243)),2)","v":0}]
[null,null,null,{"$f":"ROUND(IF(C244=\"\",0,SUM(C$8:C244)),2)","v":0},null,{"$f":"ROUND(IF(E244=\"\",0,SUM(E$8:E244)),2)","v":0}]
[null,null,null,{"$f":"ROUND(IF(C245=\"\",0,SUM(C$8:C245)),2)","v":0},null,{"$f":"ROUND(IF(E245=\"\",0,SUM(E$8:E245)),2)","v":0}]
[null,null,null,{"$f":"ROUND(IF(C246=\"\",0,SUM(C$8:C246)),2)","v":0},null,{"$f":"ROUND(IF(E246=\"\",0,SUM(E$8:E246)),2)","v":0}]
[null,null,null,{"$f":"ROUND(IF(C247=\"\",0,SUM(C$8:C247)),2)","v":0},null,{"$f":"ROUND(IF(E247=\"\",0,SUM(E$8:E247)),2)","v":0}]
[null,null,null,{"$f":"ROUND(IF(C248=\"\",0,SUM(C$8:C248)),2)","v":0},null,{"$f":"ROUND(IF(E248=\"\",0,SUM(E$8:E248)),2)","v":0}]
[null,null,null,{"$f":"ROUND(IF(C249=\"\",0,SUM(C$8:C249)),2)","v":0},null,{"$f":"ROUND(IF(E249=\"\",0,SUM(E$8:E249)),2)","v":0}]
[null,null,null,{"$f":"ROUND(IF(C250=\"\",0,SUM(C$8:C250)),2)","v":0},null,{"$f":"ROUND(IF(E250=\"\",0,SUM(E$8:E250)),2)","v":0}]
[null,null,null,{"$f":"ROUND(IF(C251=\"\",0,SUM(C$8:C251)),2)","v":0},null,{"$f":"ROUND(IF(E251=\"\",0,SUM(E$8:E251)),2)","v":0}]
[null,null,null,{"$f":"ROUND(IF(C252=\"\",0,SUM(C$8:C252)),2)","v":0},null,{"$f":"ROUND(IF(E252=\"\",0,SUM(E$8:E252)),2)","v":0}]
[null,null,null,{"$f":"ROUND(IF(C253=\"\",0,SUM(C$8:C253)),2)","v":0},null,{"$f":"ROUND(IF(E253=\"\",0,SUM(E$8:E253)),2)","v":0}]
[null,null,null,{"$f":"ROUND(IF(C254=\"\",0,SUM(C$8:C254)),2)","v":0},null,{"$f":"ROUND(IF(E254=\"\",0,SUM(E$8:E254)),2)","v":0}]
[null,null,null,{"$f":"ROUND(IF(C255=\"\",0,SUM(C$8:C255)),2)","v":0},null,{"$f":"ROUND(IF(E255=\"\",0,SUM(E$8:E255)),2)","v":0}]
[null,null,null,{"$f":"ROUND(IF(C256=\"\",0,SUM(C$8:C256)),2)","v":0},null,{"$f":"ROUND(IF(E256=\"\",0,SUM(E$8:E256)),2)","v":0}]
[null,null,null,{"$f":"ROUND(IF(C257=\"\",0,SUM(C$8:C257)),2)","v":0},null,{"$f":"ROUND(IF(E257=\"\",0,SUM(E$8:E257)),2)","v":0}]
[null,null,null,{"$f":"ROUND(IF(C258=\"\",0,SUM(C$8:C258)),2)","v":0},null,{"$f":"ROUND(IF(E258=\"\",0,SUM(E$8:E258)),2)","v":0}]
[null,null,null,{"$f":"ROUND(IF(C259=\"\",0,SUM(C$8:C259)),2)","v":0},null,{"$f":"ROUND(IF(E259=\"\",0,SUM(E$8:E259)),2)","v":0}]
[null,null,null,{"$f":"ROUND(IF(C260=\"\",0,SUM(C$8:C260)),2)","v":0},null,{"$f":"ROUND(IF(E260=\"\",0,SUM(E$8:E260)),2)","v":0}]
[null,null,null,{"$f":"ROUND(IF(C261=\"\",0,SUM(C$8:C261)),2)","v":0},null,{"$f":"ROUND(IF(E261=\"\",0,SUM(E$8:E261)),2)","v":0}]
[null,null,null,{"$f":"ROUND(IF(C262=\"\",0,SUM(C$8:C262)),2)","v":0},null,{"$f":"ROUND(IF(E262=\"\",0,SUM(E$8:E262)),2)","v":0}]
[null,null,null,{"$f":"ROUND(IF(C263=\"\",0,SUM(C$8:C263)),2)","v":0},null,{"$f":"ROUND(IF(E263=\"\",0,SUM(E$8:E263)),2)","v":0}]
[null,null,null,{"$f":"ROUND(IF(C264=\"\",0,SUM(C$8:C264)),2)","v":0},null,{"$f":"ROUND(IF(E264=\"\",0,SUM(E$8:E264)),2)","v":0}]
[null,null,null,{"$f":"ROUND(IF(C265=\"\",0,SUM(C$8:C265)),2)","v":0},null,{"$f":"ROUND(IF(E265=\"\",0,SUM(E$8:E265)),2)","v":0}]
[null,null,null,{"$f":"ROUND(IF(C266=\"\",0,SUM(C$8:C266)),2)","v":0},null,{"$f":"ROUND(IF(E266=\"\",0,SUM(E$8:E266)),2)","v":0}]
[null,null,null,{"$f":"ROUND(IF(C267=\"\",0,SUM(C$8:C267)),2)","v":0},null,{"$f":"ROUND(IF(E267=\"\",0,SUM(E$8:E267)),2)","v":0}]
[null,null,null,{"$f":"ROUND(IF(C268=\"\",0,SUM(C$8:C268)),2)","v":0},null,{"$f":"ROUND(IF(E268=\"\",0,SUM(E$8:E268)),2)","v":0}]
[null,null,null,{"$f":"ROUND(IF(C269=\"\",0,SUM(C$8:C269)),2)","v":0},null,{"$f":"ROUND(IF(E269=\"\",0,SUM(E$8:E269)),2)","v":0}]
[null,null,null,{"$f":"ROUND(IF(C270=\"\",0,SUM(C$8:C270)),2)","v":0},null,{"$f":"ROUND(IF(E270=\"\",0,SUM(E$8:E270)),2)","v":0}]
[null,null,null,{"$f":"ROUND(IF(C271=\"\",0,SUM(C$8:C271)),2)","v":0},null,{"$f":"ROUND(IF(E271=\"\",0,SUM(E$8:E271)),2)","v":0}]
[null,null,null,{"$f":"ROUND(IF(C272=\"\",0,SUM(C$8:C272)),2)","v":0},null,{"$f":"ROUND(IF(E272=\"\",0,SUM(E$8:E272)),2)","v":0}]
[null,null,null,{"$f":"ROUND(IF(C273=\"\",0,SUM(C$8:C273)),2)","v":0},null,{"$f":"ROUND(IF(E273=\"\",0,SUM(E$8:E273)),2)","v":0}]
[null,null,null,{"$f":"ROUND(IF(C274=\"\",0,SUM(C$8:C274)),2)","v":0},null,{"$f":"ROUND(IF(E274=\"\",0,SUM(E$8:E274)),2)","v":0}]
[null,null,null,{"$f":"ROUND(IF(C275=\"\",0,SUM(C$8:C275)),2)","v":0},null,{"$f":"ROUND(IF(E275=\"\",0,SUM(E$8:E275)),2)","v":0}]
[null,null,null,{"$f":"ROUND(IF(C276=\"\",0,SUM(C$8:C276)),2)","v":0},null,{"$f":"ROUND(IF(E276=\"\",0,SUM(E$8:E276)),2)","v":0}]
[null,null,null,{"$f":"ROUND(IF(C277=\"\",0,SUM(C$8:C277)),2)","v":0},null,{"$f":"ROUND(IF(E277=\"\",0,SUM(E$8:E277)),2)","v":0}]
[null,null,null,{"$f":"ROUND(IF(C278=\"\",0,SUM(C$8:C278)),2)","v":0},null,{"$f":"ROUND(IF(E278=\"\",0,SUM(E$8:E278)),2)","v":0}]
[null,null,null,{"$f":"ROUND(IF(C279=\"\",0,SUM(C$8:C279)),2)","v":0},null,{"$f":"ROUND(IF(E279=\"\",0,SUM(E$8:E279)),2)","v":0}]
[null,null,null,{"$f":"ROUND(IF(C280=\"\",0,SUM(C$8:C280)),2)","v":0},null,{"$f":"ROUND(IF(E280=\"\",0,SUM(E$8:E280)),2)","v":0}]
[null,null,null,{"$f":"ROUND(IF(C281=\"\",0,SUM(C$8:C281)),2)","v":0},null,{"$f":"ROUND(IF(E281=\"\",0,SUM(E$8:E281)),2)","v":0}]
[null,null,null,{"$f":"ROUND(IF(C282=\"\",0,SUM(C$8:C282)),2)","v":0},null,{"$f":"ROUND(IF(E282=\"\",0,SUM(E$8:E282)),2)","v":0}]
[null,null,null,{"$f":"ROUND(IF(C283=\"\",0,SUM(C$8:C283)),2)","v":0},null,{"$f":"ROUND(IF(E283=\"\",0,SUM(E$8:E283)),2)","v":0}]
[null,null,null,{"$f":"ROUND(IF(C284=\"\",0,SUM(C$8:C284)),2)","v":0},null,{"$f":"ROUND(IF(E284=\"\",0,SUM(E$8:E284)),2)","v":0}]
[null,null,null,{"$f":"ROUND(IF(C285=\"\",0,SUM(C$8:C285)),2)","v":0},null,{"$f":"ROUND(IF(E285=\"\",0,SUM(E$8:E285)),2)","v":0}]
[null,null,null,{"$f":"ROUND(IF(C286=\"\",0,SUM(C$8:C286)),2)","v":0},null,{"$f":"ROUND(IF(E286=\"\",0,SUM(E$8:E286)),2)","v":0}]
[null,null,null,{"$f":"ROUND(IF(C287=\"\",0,SUM(C$8:C287)),2)","v":0},null,{"$f":"ROUND(IF(E287=\"\",0,SUM(E$8:E287)),2)","v":0}]
[null,null,null,{"$f":"ROUND(IF(C288=\"\",0,SUM(C$8:C288)),2)","v":0},null,{"$f":"ROUND(IF(E288=\"\",0,SUM(E$8:E288)),2)","v":0}]
[null,null,null,{"$f":"ROUND(IF(C289=\"\",0,SUM(C$8:C289)),2)","v":0},null,{"$f":"ROUND(IF(E289=\"\",0,SUM(E$8:E289)),2)","v":0}]
[null,null,null,{"$f":"ROUND(IF(C290=\"\",0,SUM(C$8:C290)),2)","v":0},null,{"$f":"ROUND(IF(E290=\"\",0,SUM(E$8:E290)),2)","v":0}]
[null,null,null,{"$f":"ROUND(IF(C291=\"\",0,SUM(C$8:C291)),2)","v":0},null,{"$f":"ROUND(IF(E291=\"\",0,SUM(E$8:E291)),2)","v":0}]
[null,null,null,{"$f":"ROUND(IF(C292=\"\",0,SUM(C$8:C292)),2)","v":0},null,{"$f":"ROUND(IF(E292=\"\",0,SUM(E$8:E292)),2)","v":0}]
[null,null,null,{"$f":"ROUND(IF(C293=\"\",0,SUM(C$8:C293)),2)","v":0},null,{"$f":"ROUND(IF(E293=\"\",0,SUM(E$8:E293)),2)","v":0}]
[null,null,null,{"$f":"ROUND(IF(C294=\"\",0,SUM(C$8:C294)),2)","v":0},null,{"$f":"ROUND(IF(E294=\"\",0,SUM(E$8:E294)),2)","v":0}]
[null,null,null,{"$f":"ROUND(IF(C295=\"\",0,SUM(C$8:C295)),2)","v":0},null,{"$f":"ROUND(IF(E295=\"\",0,SUM(E$8:E295)),2)","v":0}]
[null,null,null,{"$f":"ROUND(IF(C296=\"\",0,SUM(C$8:C296)),2)","v":0},null,{"$f":"ROUND(IF(E296=\"\",0,SUM(E$8:E296)),2)","v":0}]
[null,null,null,{"$f":"ROUND(IF(C297=\"\",0,SUM(C$8:C297)),2)","v":0},null,{"$f":"ROUND(IF(E297=\"\",0,SUM(E$8:E297)),2)","v":0}]
[null,null,null,{"$f":"ROUND(IF(C298=\"\",0,SUM(C$8:C298)),2)","v":0},null,{"$f":"ROUND(IF(E298=\"\",0,SUM(E$8:E298)),2)","v":0}]
[null,null,null,{"$f":"ROUND(IF(C299=\"\",0,SUM(C$8:C299)),2)","v":0},null,{"$f":"ROUND(IF(E299=\"\",0,SUM(E$8:E299)),2)","v":0}]
[null,null,null,{"$f":"ROUND(IF(C300=\"\",0,SUM(C$8:C300)),2)","v":0},null,{"$f":"ROUND(IF(E300=\"\",0,SUM(E$8:E300)),2)","v":0}]
[null,null,null,{"$f":"ROUND(IF(C301=\"\",0,SUM(C$8:C301)),2)","v":0},null,{"$f":"ROUND(IF(E301=\"\",0,SUM(E$8:E301)),2)","v":0}]
[null,null,null,{"$f":"ROUND(IF(C302=\"\",0,SUM(C$8:C302)),2)","v":0},null,{"$f":"ROUND(IF(E302=\"\",0,SUM(E$8:E302)),2)","v":0}]
[null,null,null,{"$f":"ROUND(IF(C303=\"\",0,SUM(C$8:C303)),2)","v":0},null,{"$f":"ROUND(IF(E303=\"\",0,SUM(E$8:E303)),2)","v":0}]
[null,null,null,{"$f":"ROUND(IF(C304=\"\",0,SUM(C$8:C304)),2)","v":0},null,{"$f":"ROUND(IF(E304=\"\",0,SUM(E$8:E304)),2)","v":0}]
[null,null,null,{"$f":"ROUND(IF(C305=\"\",0,SUM(C$8:C305)),2)","v":0},null,{"$f":"ROUND(IF(E305=\"\",0,SUM(E$8:E305)),2)","v":0}]
[null,null,null,{"$f":"ROUND(IF(C306=\"\",0,SUM(C$8:C306)),2)","v":0},null,{"$f":"ROUND(IF(E306=\"\",0,SUM(E$8:E306)),2)","v":0}]
[null,null,null,{"$f":"ROUND(IF(C307=\"\",0,SUM(C$8:C307)),2)","v":0},null,{"$f":"ROUND(IF(E307=\"\",0,SUM(E$8:E307)),2)","v":0}]
[null,null,null,{"$f":"ROUND(IF(C308=\"\",0,SUM(C$8:C308)),2)","v":0},null,{"$f":"ROUND(IF(E308=\"\",0,SUM(E$8:E308)),2)","v":0}]
[null,null,null,{"$f":"ROUND(IF(C309=\"\",0,SUM(C$8:C309)),2)","v":0},null,{"$f":"ROUND(IF(E309=\"\",0,SUM(E$8:E309)),2)","v":0}]
[null,null,null,{"$f":"ROUND(IF(C310=\"\",0,SUM(C$8:C310)),2)","v":0},null,{"$f":"ROUND(IF(E310=\"\",0,SUM(E$8:E310)),2)","v":0}]
[null,null,null,{"$f":"ROUND(IF(C311=\"\",0,SUM(C$8:C311)),2)","v":0},null,{"$f":"ROUND(IF(E311=\"\",0,SUM(E$8:E311)),2)","v":0}]
[null,null,null,{"$f":"ROUND(IF(C312=\"\",0,SUM(C$8:C312)),2)","v":0},null,{"$f":"ROUND(IF(E312=\"\",0,SUM(E$8:E312)),2)","v":0}]
[null,null,null,{"$f":"ROUND(IF(C313=\"\",0,SUM(C$8:C313)),2)","v":0},null,{"$f":"ROUND(IF(E313=\"\",0,SUM(E$8:E313)),2)","v":0}]
[null,null,null,{"$f":"ROUND(IF(C314=\"\",0,SUM(C$8:C314)),2)","v":0},null,{"$f":"ROUND(IF(E314=\"\",0,SUM(E$8:E314)),2)","v":0}]
[null,null,null,{"$f":"ROUND(IF(C315=\"\",0,SUM(C$8:C315)),2)","v":0},null,{"$f":"ROUND(IF(E315=\"\",0,SUM(E$8:E315)),2)","v":0}]
[null,null,null,{"$f":"ROUND(IF(C316=\"\",0,SUM(C$8:C316)),2)","v":0},null,{"$f":"ROUND(IF(E316=\"\",0,SUM(E$8:E316)),2)","v":0}]
[null,null,null,{"$f":"ROUND(IF(C317=\"\",0,SUM(C$8:C317)),2)","v":0},null,{"$f":"ROUND(IF(E317=\"\",0,SUM(E$8:E317)),2)","v":0}]
[null,null,null,{"$f":"ROUND(IF(C318=\"\",0,SUM(C$8:C318)),2)","v":0},null,{"$f":"ROUND(IF(E318=\"\",0,SUM(E$8:E318)),2)","v":0}]
[null,null,null,{"$f":"ROUND(IF(C319=\"\",0,SUM(C$8:C319)),2)","v":0},null,{"$f":"ROUND(IF(E319=\"\",0,SUM(E$8:E319)),2)","v":0}]
[null,null,null,{"$f":"ROUND(IF(C320=\"\",0,SUM(C$8:C320)),2)","v":0},null,{"$f":"ROUND(IF(E320=\"\",0,SUM(E$8:E320)),2)","v":0}]
[null,null,null,{"$f":"ROUND(IF(C321=\"\",0,SUM(C$8:C321)),2)","v":0},null,{"$f":"ROUND(IF(E321=\"\",0,SUM(E$8:E321)),2)","v":0}]
[null,null,null,{"$f":"ROUND(IF(C322=\"\",0,SUM(C$8:C322)),2)","v":0},null,{"$f":"ROUND(IF(E322=\"\",0,SUM(E$8:E322)),2)","v":0}]
[null,null,null,{"$f":"ROUND(IF(C323=\"\",0,SUM(C$8:C323)),2)","v":0},null,{"$f":"ROUND(IF(E323=\"\",0,SUM(E$8:E323)),2)","v":0}]
[null,null,null,{"$f":"ROUND(IF(C324=\"\",0,SUM(C$8:C324)),2)","v":0},null,{"$f":"ROUND(IF(E324=\"\",0,SUM(E$8:E324)),2)","v":0}]
[null,null,null,{"$f":"ROUND(IF(C325=\"\",0,SUM(C$8:C325)),2)","v":0},null,{"$f":"ROUND(IF(E325=\"\",0,SUM(E$8:E325)),2)","v":0}]
[null,null,null,{"$f":"ROUND(IF(C326=\"\",0,SUM(C$8:C326)),2)","v":0},null,{"$f":"ROUND(IF(E326=\"\",0,SUM(E$8:E326)),2)","v":0}]
[null,null,null,{"$f":"ROUND(IF(C327=\"\",0,SUM(C$8:C327)),2)","v":0},null,{"$f":"ROUND(IF(E327=\"\",0,SUM(E$8:E327)),2)","v":0}]
[null,null,null,{"$f":"ROUND(IF(C328=\"\",0,SUM(C$8:C328)),2)","v":0},null,{"$f":"ROUND(IF(E328=\"\",0,SUM(E$8:E328)),2)","v":0}]
[null,null,null,{"$f":"ROUND(IF(C329=\"\",0,SUM(C$8:C329)),2)","v":0},null,{"$f":"ROUND(IF(E329=\"\",0,SUM(E$8:E329)),2)","v":0}]
[null,null,null,{"$f":"ROUND(IF(C330=\"\",0,SUM(C$8:C330)),2)","v":0},null,{"$f":"ROUND(IF(E330=\"\",0,SUM(E$8:E330)),2)","v":0}]
[null,null,null,{"$f":"ROUND(IF(C331=\"\",0,SUM(C$8:C331)),2)","v":0},null,{"$f":"ROUND(IF(E331=\"\",0,SUM(E$8:E331)),2)","v":0}]
[null,null,null,{"$f":"ROUND(IF(C332=\"\",0,SUM(C$8:C332)),2)","v":0},null,{"$f":"ROUND(IF(E332=\"\",0,SUM(E$8:E332)),2)","v":0}]
[null,null,null,{"$f":"ROUND(IF(C333=\"\",0,SUM(C$8:C333)),2)","v":0},null,{"$f":"ROUND(IF(E333=\"\",0,SUM(E$8:E333)),2)","v":0}]
[null,null,null,{"$f":"ROUND(IF(C334=\"\",0,SUM(C$8:C334)),2)","v":0},null,{"$f":"ROUND(IF(E334=\"\",0,SUM(E$8:E334)),2)","v":0}]
[null,null,null,{"$f":"ROUND(IF(C335=\"\",0,SUM(C$8:C335)),2)","v":0},null,{"$f":"ROUND(IF(E335=\"\",0,SUM(E$8:E335)),2)","v":0}]
[null,null,null,{"$f":"ROUND(IF(C336=\"\",0,SUM(C$8:C336)),2)","v":0},null,{"$f":"ROUND(IF(E336=\"\",0,SUM(E$8:E336)),2)","v":0}]
[null,null,null,{"$f":"ROUND(IF(C337=\"\",0,SUM(C$8:C337)),2)","v":0},null,{"$f":"ROUND(IF(E337=\"\",0,SUM(E$8:E337)),2)","v":0}]
[null,null,null,{"$f":"ROUND(IF(C338=\"\",0,SUM(C$8:C338)),2)","v":0},null,{"$f":"ROUND(IF(E338=\"\",0,SUM(E$8:E338)),2)","v":0}]
[null,null,null,{"$f":"ROUND(IF(C339=\"\",0,SUM(C$8:C339)),2)","v":0},null,{"$f":"ROUND(IF(E339=\"\",0,SUM(E$8:E339)),2)","v":0}]
[null,null,null,{"$f":"ROUND(IF(C340=\"\",0,SUM(C$8:C340)),2)","v":0},null,{"$f":"ROUND(IF(E340=\"\",0,SUM(E$8:E340)),2)","v":0}]
[null,null,null,{"$f":"ROUND(IF(C341=\"\",0,SUM(C$8:C341)),2)","v":0},null,{"$f":"ROUND(IF(E341=\"\",0,SUM(E$8:E341)),2)","v":0}]
[null,null,null,{"$f":"ROUND(IF(C342=\"\",0,SUM(C$8:C342)),2)","v":0},null,{"$f":"ROUND(IF(E342=\"\",0,SUM(E$8:E342)),2)","v":0}]
[null,null,null,{"$f":"ROUND(IF(C343=\"\",0,SUM(C$8:C343)),2)","v":0},null,{"$f":"ROUND(IF(E343=\"\",0,SUM(E$8:E343)),2)","v":0}]
[null,null,null,{"$f":"ROUND(IF(C344=\"\",0,SUM(C$8:C344)),2)","v":0},null,{"$f":"ROUND(IF(E344=\"\",0,SUM(E$8:E344)),2)","v":0}]
[null,null,null,{"$f":"ROUND(IF(C345=\"\",0,SUM(C$8:C345)),2)","v":0},null,{"$f":"ROUND(IF(E345=\"\",0,SUM(E$8:E345)),2)","v":0}]
[null,null,null,{"$f":"ROUND(IF(C346=\"\",0,SUM(C$8:C346)),2)","v":0},null,{"$f":"ROUND(IF(E346=\"\",0,SUM(E$8:E346)),2)","v":0}]
[null,null,null,{"$f":"ROUND(IF(C347=\"\",0,SUM(C$8:C347)),2)","v":0},null,{"$f":"ROUND(IF(E347=\"\",0,SUM(E$8:E347)),2)","v":0}]
[null,null,null,{"$f":"ROUND(IF(C348=\"\",0,SUM(C$8:C348)),2)","v":0},null,{"$f":"ROUND(IF(E348=\"\",0,SUM(E$8:E348)),2)","v":0}]
[null,null,null,{"$f":"ROUND(IF(C349=\"\",0,SUM(C$8:C349)),2)","v":0},null,{"$f":"ROUND(IF(E349=\"\",0,SUM(E$8:E349)),2)","v":0}]
[null,null,null,{"$f":"ROUND(IF(C350=\"\",0,SUM(C$8:C350)),2)","v":0},null,{"$f":"ROUND(IF(E350=\"\",0,SUM(E$8:E350)),2)","v":0}]
[null,null,null,{"$f":"ROUND(IF(C351=\"\",0,SUM(C$8:C351)),2)","v":0},null,{"$f":"ROUND(IF(E351=\"\",0,SUM(E$8:E351)),2)","v":0}]
[null,null,null,{"$f":"ROUND(IF(C352=\"\",0,SUM(C$8:C352)),2)","v":0},null,{"$f":"ROUND(IF(E352=\"\",0,SUM(E$8:E352)),2)","v":0}]
[null,null,null,{"$f":"ROUND(IF(C353=\"\",0,SUM(C$8:C353)),2)","v":0},null,{"$f":"ROUND(IF(E353=\"\",0,SUM(E$8:E353)),2)","v":0}]
[null,null,null,{"$f":"ROUND(IF(C354=\"\",0,SUM(C$8:C354)),2)","v":0},null,{"$f":"ROUND(IF(E354=\"\",0,SUM(E$8:E354)),2)","v":0}]
[null,null,null,{"$f":"ROUND(IF(C355=\"\",0,SUM(C$8:C355)),2)","v":0},null,{"$f":"ROUND(IF(E355=\"\",0,SUM(E$8:E355)),2)","v":0}]
[null,null,null,{"$f":"ROUND(IF(C356=\"\",0,SUM(C$8:C356)),2)","v":0},null,{"$f":"ROUND(IF(E356=\"\",0,SUM(E$8:E356)),2)","v":0}]
[null,null,null,{"$f":"ROUND(IF(C357=\"\",0,SUM(C$8:C357)),2)","v":0},null,{"$f":"ROUND(IF(E357=\"\",0,SUM(E$8:E357)),2)","v":0}]
[null,null,null,{"$f":"ROUND(IF(C358=\"\",0,SUM(C$8:C358)),2)","v":0},null,{"$f":"ROUND(IF(E358=\"\",0,SUM(E$8:E358)),2)","v":0}]
[null,null,null,{"$f":"ROUND(IF(C359=\"\",0,SUM(C$8:C359)),2)","v":0},null,{"$f":"ROUND(IF(E359=\"\",0,SUM(E$8:E359)),2)","v":0}]
[null,null,null,{"$f":"ROUND(IF(C360=\"\",0,SUM(C$8:C360)),2)","v":0},null,{"$f":"ROUND(IF(E360=\"\",0,SUM(E$8:E360)),2)","v":0}]
[null,null,null,{"$f":"ROUND(IF(C361=\"\",0,SUM(C$8:C361)),2)","v":0},null,{"$f":"ROUND(IF(E361=\"\",0,SUM(E$8:E361)),2)","v":0}]
[null,null,null,{"$f":"ROUND(IF(C362=\"\",0,SUM(C$8:C362)),2)","v":0},null,{"$f":"ROUND(IF(E362=\"\",0,SUM(E$8:E362)),2)","v":0}]
[null,null,null,{"$f":"ROUND(IF(C363=\"\",0,SUM(C$8:C363)),2)","v":0},null,{"$f":"ROUND(IF(E363=\"\",0,SUM(E$8:E363)),2)","v":0}]
[null,null,null,{"$f":"ROUND(IF(C364=\"\",0,SUM(C$8:C364)),2)","v":0},null,{"$f":"ROUND(IF(E364=\"\",0,SUM(E$8:E364)),2)","v":0}]
[null,null,null,{"$f":"ROUND(IF(C365=\"\",0,SUM(C$8:C365)),2)","v":0},null,{"$f":"ROUND(IF(E365=\"\",0,SUM(E$8:E365)),2)","v":0}]
[null,null,null,{"$f":"ROUND(IF(C366=\"\",0,SUM(C$8:C366)),2)","v":0},null,{"$f":"ROUND(IF(E366=\"\",0,SUM(E$8:E366)),2)","v":0}]
[null,null,null,{"$f":"ROUND(IF(C367=\"\",0,SUM(C$8:C367)),2)","v":0},null,{"$f":"ROUND(IF(E367=\"\",0,SUM(E$8:E367)),2)","v":0}]
[null,null,null,{"$f":"ROUND(IF(C368=\"\",0,SUM(C$8:C368)),2)","v":0},null,{"$f":"ROUND(IF(E368=\"\",0,SUM(E$8:E368)),2)","v":0}]
[null,null,null,{"$f":"ROUND(IF(C369=\"\",0,SUM(C$8:C369)),2)","v":0},null,{"$f":"ROUND(IF(E369=\"\",0,SUM(E$8:E369)),2)","v":0}]
[null,null,null,{"$f":"ROUND(IF(C370=\"\",0,SUM(C$8:C370)),2)","v":0},null,{"$f":"ROUND(IF(E370=\"\",0,SUM(E$8:E370)),2)","v":0}]
[null,null,null,{"$f":"ROUND(IF(C371=\"\",0,SUM(C$8:C371)),2)","v":0},null,{"$f":"ROUND(IF(E371=\"\",0,SUM(E$8:E371)),2)","v":0}]
[null,null,null,{"$f":"ROUND(IF(C372=\"\",0,SUM(C$8:C372)),2)","v":0},null,{"$f":"ROUND(IF(E372=\"\",0,SUM(E$8:E372)),2)","v":0}]
[null,null,null,{"$f":"ROUND(IF(C373=\"\",0,SUM(C$8:C373)),2)","v":0},null,{"$f":"ROUND(IF(E373=\"\",0,SUM(E$8:E373)),2)","v":0}]
[null,null,null,{"$f":"ROUND(IF(C374=\"\",0,SUM(C$8:C374)),2)","v":0},null,{"$f":"ROUND(IF(E374=\"\",0,SUM(E$8:E374)),2)","v":0}]
[null,null,null,{"$f":"ROUND(IF(C375=\"\",0,SUM(C$8:C375)),2)","v":0},null,{"$f":"ROUND(IF(E375=\"\",0,SUM(E$8:E375)),2)","v":0}]
[null,null,null,{"$f":"ROUND(IF(C376=\"\",0,SUM(C$8:C376)),2)","v":0},null,{"$f":"ROUND(IF(E376=\"\",0,SUM(E$8:E376)),2)","v":0}]
[null,null,null,{"$f":"ROUND(IF(C377=\"\",0,SUM(C$8:C377)),2)","v":0},null,{"$f":"ROUND(IF(E377=\"\",0,SUM(E$8:E377)),2)","v":0}]
[null,null,null,{"$f":"ROUND(IF(C378=\"\",0,SUM(C$8:C378)),2)","v":0},null,{"$f":"ROUND(IF(E378=\"\",0,SUM(E$8:E378)),2)","v":0}]
[null,null,null,{"$f":"ROUND(IF(C379=\"\",0,SUM(C$8:C379)),2)","v":0},null,{"$f":"ROUND(IF(E379=\"\",0,SUM(E$8:E379)),2)","v":0}]
[null,null,null,{"$f":"ROUND(IF(C380=\"\",0,SUM(C$8:C380)),2)","v":0},null,{"$f":"ROUND(IF(E380=\"\",0,SUM(E$8:E380)),2)","v":0}]
[null,null,null,{"$f":"ROUND(IF(C381=\"\",0,SUM(C$8:C381)),2)","v":0},null,{"$f":"ROUND(IF(E381=\"\",0,SUM(E$8:E381)),2)","v":0}]
[null,null,null,{"$f":"ROUND(IF(C382=\"\",0,SUM(C$8:C382)),2)","v":0},null,{"$f":"ROUND(IF(E382=\"\",0,SUM(E$8:E382)),2)","v":0}]
[null,null,null,{"$f":"ROUND(IF(C383=\"\",0,SUM(C$8:C383)),2)","v":0},null,{"$f":"ROUND(IF(E383=\"\",0,SUM(E$8:E383)),2)","v":0}]
[null,null,null,{"$f":"ROUND(IF(C384=\"\",0,SUM(C$8:C384)),2)","v":0},null,{"$f":"ROUND(IF(E384=\"\",0,SUM(E$8:E384)),2)","v":0}]
[null,null,null,{"$f":"ROUND(IF(C385=\"\",0,SUM(C$8:C385)),2)","v":0},null,{"$f":"ROUND(IF(E385=\"\",0,SUM(E$8:E385)),2)","v":0}]
[null,null,null,{"$f":"ROUND(IF(C386=\"\",0,SUM(C$8:C386)),2)","v":0},null,{"$f":"ROUND(IF(E386=\"\",0,SUM(E$8:E386)),2)","v":0}]
[null,null,null,{"$f":"ROUND(IF(C387=\"\",0,SUM(C$8:C387)),2)","v":0},null,{"$f":"ROUND(IF(E387=\"\",0,SUM(E$8:E387)),2)","v":0}]
[null,null,null,{"$f":"ROUND(IF(C388=\"\",0,SUM(C$8:C388)),2)","v":0},null,{"$f":"ROUND(IF(E388=\"\",0,SUM(E$8:E388)),2)","v":0}]
[null,null,null,{"$f":"ROUND(IF(C389=\"\",0,SUM(C$8:C389)),2)","v":0},null,{"$f":"ROUND(IF(E389=\"\",0,SUM(E$8:E389)),2)","v":0}]
[null,null,null,{"$f":"ROUND(IF(C390=\"\",0,SUM(C$8:C390)),2)","v":0},null,{"$f":"ROUND(IF(E390=\"\",0,SUM(E$8:E390)),2)","v":0}]
[null,null,null,{"$f":"ROUND(IF(C391=\"\",0,SUM(C$8:C391)),2)","v":0},null,{"$f":"ROUND(IF(E391=\"\",0,SUM(E$8:E391)),2)","v":0}]
[null,null,null,{"$f":"ROUND(IF(C392=\"\",0,SUM(C$8:C392)),2)","v":0},null,{"$f":"ROUND(IF(E392=\"\",0,SUM(E$8:E392)),2)","v":0}]
[null,null,null,{"$f":"ROUND(IF(C393=\"\",0,SUM(C$8:C393)),2)","v":0},null,{"$f":"ROUND(IF(E393=\"\",0,SUM(E$8:E393)),2)","v":0}]
[null,null,null,{"$f":"ROUND(IF(C394=\"\",0,SUM(C$8:C394)),2)","v":0},null,{"$f":"ROUND(IF(E394=\"\",0,SUM(E$8:E394)),2)","v":0}]
[null,null,null,{"$f":"ROUND(IF(C395=\"\",0,SUM(C$8:C395)),2)","v":0},null,{"$f":"ROUND(IF(E395=\"\",0,SUM(E$8:E395)),2)","v":0}]
[null,null,null,{"$f":"ROUND(IF(C396=\"\",0,SUM(C$8:C396)),2)","v":0},null,{"$f":"ROUND(IF(E396=\"\",0,SUM(E$8:E396)),2)","v":0}]
[null,null,null,{"$f":"ROUND(IF(C397=\"\",0,SUM(C$8:C397)),2)","v":0},null,{"$f":"ROUND(IF(E397=\"\",0,SUM(E$8:E397)),2)","v":0}]
[null,null,null,{"$f":"ROUND(IF(C398=\"\",0,SUM(C$8:C398)),2)","v":0},null,{"$f":"ROUND(IF(E398=\"\",0,SUM(E$8:E398)),2)","v":0}]
[null,null,null,{"$f":"ROUND(IF(C399=\"\",0,SUM(C$8:C399)),2)","v":0},null,{"$f":"ROUND(IF(E399=\"\",0,SUM(E$8:E399)),2)","v":0}]
[null,null,null,{"$f":"ROUND(IF(C400=\"\",0,SUM(C$8:C400)),2)","v":0},null,{"$f":"ROUND(IF(E400=\"\",0,SUM(E$8:E400)),2)","v":0}]
[null,null,null,{"$f":"ROUND(IF(C401=\"\",0,SUM(C$8:C401)),2)","v":0},null,{"$f":"ROUND(IF(E401=\"\",0,SUM(E$8:E401)),2)","v":0}]
[null,null,null,{"$f":"ROUND(IF(C402=\"\",0,SUM(C$8:C402)),2)","v":0},null,{"$f":"ROUND(IF(E402=\"\",0,SUM(E$8:E402)),2)","v":0}]
[null,null,null,{"$f":"ROUND(IF(C403=\"\",0,SUM(C$8:C403)),2)","v":0},null,{"$f":"ROUND(IF(E403=\"\",0,SUM(E$8:E403)),2)","v":0}]
[null,null,null,{"$f":"ROUND(IF(C404=\"\",0,SUM(C$8:C404)),2)","v":0},null,{"$f":"ROUND(IF(E404=\"\",0,SUM(E$8:E404)),2)","v":0}]
[null,null,null,{"$f":"ROUND(IF(C405=\"\",0,SUM(C$8:C405)),2)","v":0},null,{"$f":"ROUND(IF(E405=\"\",0,SUM(E$8:E405)),2)","v":0}]
[null,null,null,{"$f":"ROUND(IF(C406=\"\",0,SUM(C$8:C406)),2)","v":0},null,{"$f":"ROUND(IF(E406=\"\",0,SUM(E$8:E406)),2)","v":0}]
[null,null,null,{"$f":"ROUND(IF(C407=\"\",0,SUM(C$8:C407)),2)","v":0},null,{"$f":"ROUND(IF(E407=\"\",0,SUM(E$8:E407)),2)","v":0}]
[null,null,null,{"$f":"ROUND(IF(C408=\"\",0,SUM(C$8:C408)),2)","v":0},null,{"$f":"ROUND(IF(E408=\"\",0,SUM(E$8:E408)),2)","v":0}]
[null,null,null,{"$f":"ROUND(IF(C409=\"\",0,SUM(C$8:C409)),2)","v":0},null,{"$f":"ROUND(IF(E409=\"\",0,SUM(E$8:E409)),2)","v":0}]
[null,null,null,{"$f":"ROUND(IF(C410=\"\",0,SUM(C$8:C410)),2)","v":0},null,{"$f":"ROUND(IF(E410=\"\",0,SUM(E$8:E410)),2)","v":0}]
[null,null,null,{"$f":"ROUND(IF(C411=\"\",0,SUM(C$8:C411)),2)","v":0},null,{"$f":"ROUND(IF(E411=\"\",0,SUM(E$8:E411)),2)","v":0}]
[null,null,null,{"$f":"ROUND(IF(C412=\"\",0,SUM(C$8:C412)),2)","v":0},null,{"$f":"ROUND(IF(E412=\"\",0,SUM(E$8:E412)),2)","v":0}]
[null,null,null,{"$f":"ROUND(IF(C413=\"\",0,SUM(C$8:C413)),2)","v":0},null,{"$f":"ROUND(IF(E413=\"\",0,SUM(E$8:E413)),2)","v":0}]
[null,null,null,{"$f":"ROUND(IF(C414=\"\",0,SUM(C$8:C414)),2)","v":0},null,{"$f":"ROUND(IF(E414=\"\",0,SUM(E$8:E414)),2)","v":0}]
[null,null,null,{"$f":"ROUND(IF(C415=\"\",0,SUM(C$8:C415)),2)","v":0},null,{"$f":"ROUND(IF(E415=\"\",0,SUM(E$8:E415)),2)","v":0}]
[null,null,null,{"$f":"ROUND(IF(C416=\"\",0,SUM(C$8:C416)),2)","v":0},null,{"$f":"ROUND(IF(E416=\"\",0,SUM(E$8:E416)),2)","v":0}]
[null,null,null,{"$f":"ROUND(IF(C417=\"\",0,SUM(C$8:C417)),2)","v":0},null,{"$f":"ROUND(IF(E417=\"\",0,SUM(E$8:E417)),2)","v":0}]
[null,null,null,{"$f":"ROUND(IF(C418=\"\",0,SUM(C$8:C418)),2)","v":0},null,{"$f":"ROUND(IF(E418=\"\",0,SUM(E$8:E418)),2)","v":0}]
[null,null,null,{"$f":"ROUND(IF(C419=\"\",0,SUM(C$8:C419)),2)","v":0},null,{"$f":"ROUND(IF(E419=\"\",0,SUM(E$8:E419)),2)","v":0}]
[null,null,null,{"$f":"ROUND(IF(C420=\"\",0,SUM(C$8:C420)),2)","v":0},null,{"$f":"ROUND(IF(E420=\"\",0,SUM(E$8:E420)),2)","v":0}]
[null,null,null,{"$f":"ROUND(IF(C421=\"\",0,SUM(C$8:C421)),2)","v":0},null,{"$f":"ROUND(IF(E421=\"\",0,SUM(E$8:E421)),2)","v":0}]
[null,null,null,{"$f":"ROUND(IF(C422=\"\",0,SUM(C$8:C422)),2)","v":0},null,{"$f":"ROUND(IF(E422=\"\",0,SUM(E$8:E422)),2)","v":0}]
[null,null,null,{"$f":"ROUND(IF(C423=\"\",0,SUM(C$8:C423)),2)","v":0},null,{"$f":"ROUND(IF(E423=\"\",0,SUM(E$8:E423)),2)","v":0}]
[null,null,null,{"$f":"ROUND(IF(C424=\"\",0,SUM(C$8:C424)),2)","v":0},null,{"$f":"ROUND(IF(E424=\"\",0,SUM(E$8:E424)),2)","v":0}]
[null,null,null,{"$f":"ROUND(IF(C425=\"\",0,SUM(C$8:C425)),2)","v":0},null,{"$f":"ROUND(IF(E425=\"\",0,SUM(E$8:E425)),2)","v":0}]
[null,null,null,{"$f":"ROUND(IF(C426=\"\",0,SUM(C$8:C426)),2)","v":0},null,{"$f":"ROUND(IF(E426=\"\",0,SUM(E$8:E426)),2)","v":0}]
[null,null,null,{"$f":"ROUND(IF(C427=\"\",0,SUM(C$8:C427)),2)","v":0},null,{"$f":"ROUND(IF(E427=\"\",0,SUM(E$8:E427)),2)","v":0}]
[null,null,null,{"$f":"ROUND(IF(C428=\"\",0,SUM(C$8:C428)),2)","v":0},null,{"$f":"ROUND(IF(E428=\"\",0,SUM(E$8:E428)),2)","v":0}]
[null,null,null,{"$f":"ROUND(IF(C429=\"\",0,SUM(C$8:C429)),2)","v":0},null,{"$f":"ROUND(IF(E429=\"\",0,SUM(E$8:E429)),2)","v":0}]
[null,null,null,{"$f":"ROUND(IF(C430=\"\",0,SUM(C$8:C430)),2)","v":0},null,{"$f":"ROUND(IF(E430=\"\",0,SUM(E$8:E430)),2)","v":0}]
[null,null,null,{"$f":"ROUND(IF(C431=\"\",0,SUM(C$8:C431)),2)","v":0},null,{"$f":"ROUND(IF(E431=\"\",0,SUM(E$8:E431)),2)","v":0}]
[null,null,null,{"$f":"ROUND(IF(C432=\"\",0,SUM(C$8:C432)),2)","v":0},null,{"$f":"ROUND(IF(E432=\"\",0,SUM(E$8:E432)),2)","v":0}]
[null,null,null,{"$f":"ROUND(IF(C433=\"\",0,SUM(C$8:C433)),2)","v":0},null,{"$f":"ROUND(IF(E433=\"\",0,SUM(E$8:E433)),2)","v":0}]
[null,null,null,{"$f":"ROUND(IF(C434=\"\",0,SUM(C$8:C434)),2)","v":0},null,{"$f":"ROUND(IF(E434=\"\",0,SUM(E$8:E434)),2)","v":0}]
[null,null,null,{"$f":"ROUND(IF(C435=\"\",0,SUM(C$8:C435)),2)","v":0},null,{"$f":"ROUND(IF(E435=\"\",0,SUM(E$8:E435)),2)","v":0}]
[null,null,null,{"$f":"ROUND(IF(C436=\"\",0,SUM(C$8:C436)),2)","v":0},null,{"$f":"ROUND(IF(E436=\"\",0,SUM(E$8:E436)),2)","v":0}]
[null,null,null,{"$f":"ROUND(IF(C437=\"\",0,SUM(C$8:C437)),2)","v":0},null,{"$f":"ROUND(IF(E437=\"\",0,SUM(E$8:E437)),2)","v":0}]
[null,null,null,{"$f":"ROUND(IF(C438=\"\",0,SUM(C$8:C438)),2)","v":0},null,{"$f":"ROUND(IF(E438=\"\",0,SUM(E$8:E438)),2)","v":0}]
[null,null,null,{"$f":"ROUND(IF(C439=\"\",0,SUM(C$8:C439)),2)","v":0},null,{"$f":"ROUND(IF(E439=\"\",0,SUM(E$8:E439)),2)","v":0}]
[null,null,null,{"$f":"ROUND(IF(C440=\"\",0,SUM(C$8:C440)),2)","v":0},null,{"$f":"ROUND(IF(E440=\"\",0,SUM(E$8:E440)),2)","v":0}]
[null,null,null,{"$f":"ROUND(IF(C441=\"\",0,SUM(C$8:C441)),2)","v":0},null,{"$f":"ROUND(IF(E441=\"\",0,SUM(E$8:E441)),2)","v":0}]
[null,null,null,{"$f":"ROUND(IF(C442=\"\",0,SUM(C$8:C442)),2)","v":0},null,{"$f":"ROUND(IF(E442=\"\",0,SUM(E$8:E442)),2)","v":0}]
[null,null,null,{"$f":"ROUND(IF(C443=\"\",0,SUM(C$8:C443)),2)","v":0},null,{"$f":"ROUND(IF(E443=\"\",0,SUM(E$8:E443)),2)","v":0}]
[null,null,null,{"$f":"ROUND(IF(C444=\"\",0,SUM(C$8:C444)),2)","v":0},null,{"$f":"ROUND(IF(E444=\"\",0,SUM(E$8:E444)),2)","v":0}]
[null,null,null,{"$f":"ROUND(IF(C445=\"\",0,SUM(C$8:C445)),2)","v":0},null,{"$f":"ROUND(IF(E445=\"\",0,SUM(E$8:E445)),2)","v":0}]
[null,null,null,{"$f":"ROUND(IF(C446=\"\",0,SUM(C$8:C446)),2)","v":0},null,{"$f":"ROUND(IF(E446=\"\",0,SUM(E$8:E446)),2)","v":0}]
[null,null,null,{"$f":"ROUND(IF(C447=\"\",0,SUM(C$8:C447)),2)","v":0},null,{"$f":"ROUND(IF(E447=\"\",0,SUM(E$8:E447)),2)","v":0}]
[null,null,null,{"$f":"ROUND(IF(C448=\"\",0,SUM(C$8:C448)),2)","v":0},null,{"$f":"ROUND(IF(E448=\"\",0,SUM(E$8:E448)),2)","v":0}]
[null,null,null,{"$f":"ROUND(IF(C449=\"\",0,SUM(C$8:C449)),2)","v":0},null,{"$f":"ROUND(IF(E449=\"\",0,SUM(E$8:E449)),2)","v":0}]
[null,null,null,{"$f":"ROUND(IF(C450=\"\",0,SUM(C$8:C450)),2)","v":0},null,{"$f":"ROUND(IF(E450=\"\",0,SUM(E$8:E450)),2)","v":0}]
[null,null,null,{"$f":"ROUND(IF(C451=\"\",0,SUM(C$8:C451)),2)","v":0},null,{"$f":"ROUND(IF(E451=\"\",0,SUM(E$8:E451)),2)","v":0}]
[null,null,null,{"$f":"ROUND(IF(C452=\"\",0,SUM(C$8:C452)),2)","v":0},null,{"$f":"ROUND(IF(E452=\"\",0,SUM(E$8:E452)),2)","v":0}]
[null,null,null,{"$f":"ROUND(IF(C453=\"\",0,SUM(C$8:C453)),2)","v":0},null,{"$f":"ROUND(IF(E453=\"\",0,SUM(E$8:E453)),2)","v":0}]
[null,null,null,{"$f":"ROUND(IF(C454=\"\",0,SUM(C$8:C454)),2)","v":0},null,{"$f":"ROUND(IF(E454=\"\",0,SUM(E$8:E454)),2)","v":0}]
[null,null,null,{"$f":"ROUND(IF(C455=\"\",0,SUM(C$8:C455)),2)","v":0},null,{"$f":"ROUND(IF(E455=\"\",0,SUM(E$8:E455)),2)","v":0}]
[null,null,null,{"$f":"ROUND(IF(C456=\"\",0,SUM(C$8:C456)),2)","v":0},null,{"$f":"ROUND(IF(E456=\"\",0,SUM(E$8:E456)),2)","v":0}]
[null,null,null,{"$f":"ROUND(IF(C457=\"\",0,SUM(C$8:C457)),2)","v":0},null,{"$f":"ROUND(IF(E457=\"\",0,SUM(E$8:E457)),2)","v":0}]
[null,null,null,{"$f":"ROUND(IF(C458=\"\",0,SUM(C$8:C458)),2)","v":0},null,{"$f":"ROUND(IF(E458=\"\",0,SUM(E$8:E458)),2)","v":0}]
[null,null,null,{"$f":"ROUND(IF(C459=\"\",0,SUM(C$8:C459)),2)","v":0},null,{"$f":"ROUND(IF(E459=\"\",0,SUM(E$8:E459)),2)","v":0}]
[null,null,null,{"$f":"ROUND(IF(C460=\"\",0,SUM(C$8:C460)),2)","v":0},null,{"$f":"ROUND(IF(E460=\"\",0,SUM(E$8:E460)),2)","v":0}]
[null,null,null,{"$f":"ROUND(IF(C461=\"\",0,SUM(C$8:C461)),2)","v":0},null,{"$f":"ROUND(IF(E461=\"\",0,SUM(E$8:E461)),2)","v":0}]
[null,null,null,{"$f":"ROUND(IF(C462=\"\",0,SUM(C$8:C462)),2)","v":0},null,{"$f":"ROUND(IF(E462=\"\",0,SUM(E$8:E462)),2)","v":0}]
[null,null,null,{"$f":"ROUND(IF(C463=\"\",0,SUM(C$8:C463)),2)","v":0},null,{"$f":"ROUND(IF(E463=\"\",0,SUM(E$8:E463)),2)","v":0}]
[null,null,null,{"$f":"ROUND(IF(C464=\"\",0,SUM(C$8:C464)),2)","v":0},null,{"$f":"ROUND(IF(E464=\"\",0,SUM(E$8:E464)),2)","v":0}]
[null,null,null,{"$f":"ROUND(IF(C465=\"\",0,SUM(C$8:C465)),2)","v":0},null,{"$f":"ROUND(IF(E465=\"\",0,SUM(E$8:E465)),2)","v":0}]
[null,null,null,{"$f":"ROUND(IF(C466=\"\",0,SUM(C$8:C466)),2)","v":0},null,{"$f":"ROUND(IF(E466=\"\",0,SUM(E$8:E466)),2)","v":0}]
[null,null,null,{"$f":"ROUND(IF(C467=\"\",0,SUM(C$8:C467)),2)","v":0},null,{"$f":"ROUND(IF(E467=\"\",0,SUM(E$8:E467)),2)","v":0}]
[null,null,null,{"$f":"ROUND(IF(C468=\"\",0,SUM(C$8:C468)),2)","v":0},null,{"$f":"ROUND(IF(E468=\"\",0,SUM(E$8:E468)),2)","v":0}]
[null,null,null,{"$f":"ROUND(IF(C469=\"\",0,SUM(C$8:C469)),2)","v":0},null,{"$f":"ROUND(IF(E469=\"\",0,SUM(E$8:E469)),2)","v":0}]
[null,null,null,{"$f":"ROUND(IF(C470=\"\",0,SUM(C$8:C470)),2)","v":0},null,{"$f":"ROUND(IF(E470=\"\",0,SUM(E$8:E470)),2)","v":0}]
[null,null,null,{"$f":"ROUND(IF(C471=\"\",0,SUM(C$8:C471)),2)","v":0},null,{"$f":"ROUND(IF(E471=\"\",0,SUM(E$8:E471)),2)","v":0}]
[null,null,null,{"$f":"ROUND(IF(C472=\"\",0,SUM(C$8:C472)),2)","v":0},null,{"$f":"ROUND(IF(E472=\"\",0,SUM(E$8:E472)),2)","v":0}]
[null,null,null,{"$f":"ROUND(IF(C473=\"\",0,SUM(C$8:C473)),2)","v":0},null,{"$f":"ROUND(IF(E473=\"\",0,SUM(E$8:E473)),2)","v":0}]
[null,null,null,{"$f":"ROUND(IF(C474=\"\",0,SUM(C$8:C474)),2)","v":0},null,{"$f":"ROUND(IF(E474=\"\",0,SUM(E$8:E474)),2)","v":0}]
[null,null,null,{"$f":"ROUND(IF(C475=\"\",0,SUM(C$8:C475)),2)","v":0},null,{"$f":"ROUND(IF(E475=\"\",0,SUM(E$8:E475)),2)","v":0}]
[null,null,null,{"$f":"ROUND(IF(C476=\"\",0,SUM(C$8:C476)),2)","v":0},null,{"$f":"ROUND(IF(E476=\"\",0,SUM(E$8:E476)),2)","v":0}]
[null,null,null,{"$f":"ROUND(IF(C477=\"\",0,SUM(C$8:C477)),2)","v":0},null,{"$f":"ROUND(IF(E477=\"\",0,SUM(E$8:E477)),2)","v":0}]
[null,null,null,{"$f":"ROUND(IF(C478=\"\",0,SUM(C$8:C478)),2)","v":0},null,{"$f":"ROUND(IF(E478=\"\",0,SUM(E$8:E478)),2)","v":0}]
[null,null,null,{"$f":"ROUND(IF(C479=\"\",0,SUM(C$8:C479)),2)","v":0},null,{"$f":"ROUND(IF(E479=\"\",0,SUM(E$8:E479)),2)","v":0}]
[null,null,null,{"$f":"ROUND(IF(C480=\"\",0,SUM(C$8:C480)),2)","v":0},null,{"$f":"ROUND(IF(E480=\"\",0,SUM(E$8:E480)),2)","v":0}]
[null,null,null,{"$f":"ROUND(IF(C481=\"\",0,SUM(C$8:C481)),2)","v":0},null,{"$f":"ROUND(IF(E481=\"\",0,SUM(E$8:E481)),2)","v":0}]
[null,null,null,{"$f":"ROUND(IF(C482=\"\",0,SUM(C$8:C482)),2)","v":0},null,{"$f":"ROUND(IF(E482=\"\",0,SUM(E$8:E482)),2)","v":0}]
[null,null,null,{"$f":"ROUND(IF(C483=\"\",0,SUM(C$8:C483)),2)","v":0},null,{"$f":"ROUND(IF(E483=\"\",0,SUM(E$8:E483)),2)","v":0}]
[null,null,null,{"$f":"ROUND(IF(C484=\"\",0,SUM(C$8:C484)),2)","v":0},null,{"$f":"ROUND(IF(E484=\"\",0,SUM(E$8:E484)),2)","v":0}]
[null,null,null,{"$f":"ROUND(IF(C485=\"\",0,SUM(C$8:C485)),2)","v":0},null,{"$f":"ROUND(IF(E485=\"\",0,SUM(E$8:E485)),2)","v":0}]
[null,null,null,{"$f":"ROUND(IF(C486=\"\",0,SUM(C$8:C486)),2)","v":0},null,{"$f":"ROUND(IF(E486=\"\",0,SUM(E$8:E486)),2)","v":0}]
[null,null,null,{"$f":"ROUND(IF(C487=\"\",0,SUM(C$8:C487)),2)","v":0},null,{"$f":"ROUND(IF(E487=\"\",0,SUM(E$8:E487)),2)","v":0}]
[null,null,null,{"$f":"ROUND(IF(C488=\"\",0,SUM(C$8:C488)),2)","v":0},null,{"$f":"ROUND(IF(E488=\"\",0,SUM(E$8:E488)),2)","v":0}]
[null,null,null,{"$f":"ROUND(IF(C489=\"\",0,SUM(C$8:C489)),2)","v":0},null,{"$f":"ROUND(IF(E489=\"\",0,SUM(E$8:E489)),2)","v":0}]
[null,null,null,{"$f":"ROUND(IF(C490=\"\",0,SUM(C$8:C490)),2)","v":0},null,{"$f":"ROUND(IF(E490=\"\",0,SUM(E$8:E490)),2)","v":0}]
[null,null,null,{"$f":"ROUND(IF(C491=\"\",0,SUM(C$8:C491)),2)","v":0},null,{"$f":"ROUND(IF(E491=\"\",0,SUM(E$8:E491)),2)","v":0}]
[null,null,null,{"$f":"ROUND(IF(C492=\"\",0,SUM(C$8:C492)),2)","v":0},null,{"$f":"ROUND(IF(E492=\"\",0,SUM(E$8:E492)),2)","v":0}]
[null,null,null,{"$f":"ROUND(IF(C493=\"\",0,SUM(C$8:C493)),2)","v":0},null,{"$f":"ROUND(IF(E493=\"\",0,SUM(E$8:E493)),2)","v":0}]
[null,null,null,{"$f":"ROUND(IF(C494=\"\",0,SUM(C$8:C494)),2)","v":0},null,{"$f":"ROUND(IF(E494=\"\",0,SUM(E$8:E494)),2)","v":0}]
[null,null,null,{"$f":"ROUND(IF(C495=\"\",0,SUM(C$8:C495)),2)","v":0},null,{"$f":"ROUND(IF(E495=\"\",0,SUM(E$8:E495)),2)","v":0}]
[null,null,null,{"$f":"ROUND(IF(C496=\"\",0,SUM(C$8:C496)),2)","v":0},null,{"$f":"ROUND(IF(E496=\"\",0,SUM(E$8:E496)),2)","v":0}]
[null,null,null,{"$f":"ROUND(IF(C497=\"\",0,SUM(C$8:C497)),2)","v":0},null,{"$f":"ROUND(IF(E497=\"\",0,SUM(E$8:E497)),2)","v":0}]
[null,null,null,{"$f":"ROUND(IF(C498=\"\",0,SUM(C$8:C498)),2)","v":0},null,{"$f":"ROUND(IF(E498=\"\",0,SUM(E$8:E498)),2)","v":0}]
[null,null,null,{"$f":"ROUND(IF(C499=\"\",0,SUM(C$8:C499)),2)","v":0},null,{"$f":"ROUND(IF(E499=\"\",0,SUM(E$8:E499)),2)","v":0}]
[null,null,null,{"$f":"ROUND(IF(C500=\"\",0,SUM(C$8:C500)),2)","v":0},null,{"$f":"ROUND(IF(E500=\"\",0,SUM(E$8:E500)),2)","v":0}]
[null,null,null,{"$f":"ROUND(IF(C501=\"\",0,SUM(C$8:C501)),2)","v":0},null,{"$f":"ROUND(IF(E501=\"\",0,SUM(E$8:E501)),2)","v":0}]
[null,null,null,{"$f":"ROUND(IF(C502=\"\",0,SUM(C$8:C502)),2)","v":0},null,{"$f":"ROUND(IF(E502=\"\",0,SUM(E$8:E502)),2)","v":0}]
[null,null,null,{"$f":"ROUND(IF(C503=\"\",0,SUM(C$8:C503)),2)","v":0},null,{"$f":"ROUND(IF(E503=\"\",0,SUM(E$8:E503)),2)","v":0}]
[null,null,null,{"$f":"ROUND(IF(C504=\"\",0,SUM(C$8:C504)),2)","v":0},null,{"$f":"ROUND(IF(E504=\"\",0,SUM(E$8:E504)),2)","v":0}]
[null,null,null,{"$f":"ROUND(IF(C505=\"\",0,SUM(C$8:C505)),2)","v":0},null,{"$f":"ROUND(IF(E505=\"\",0,SUM(E$8:E505)),2)","v":0}]
[null,null,null,{"$f":"ROUND(IF(C506=\"\",0,SUM(C$8:C506)),2)","v":0},null,{"$f":"ROUND(IF(E506=\"\",0,SUM(E$8:E506)),2)","v":0}]
[null,null,null,{"$f":"ROUND(IF(C507=\"\",0,SUM(C$8:C507)),2)","v":0},null,{"$f":"ROUND(IF(E507=\"\",0,SUM(E$8:E507)),2)","v":0}]
[null,null,null,{"$f":"ROUND(IF(C508=\"\",0,SUM(C$8:C508)),2)","v":0},null,{"$f":"ROUND(IF(E508=\"\",0,SUM(E$8:E508)),2)","v":0}]
[null,null,null,{"$f":"ROUND(IF(C509=\"\",0,SUM(C$8:C509)),2)","v":0},null,{"$f":"ROUND(IF(E509=\"\",0,SUM(E$8:E509)),2)","v":0}]
[null,null,null,{"$f":"ROUND(IF(C510=\"\",0,SUM(C$8:C510)),2)","v":0},null,{"$f":"ROUND(IF(E510=\"\",0,SUM(E$8:E510)),2)","v":0}]
[null,null,null,{"$f":"ROUND(IF(C511=\"\",0,SUM(C$8:C511)),2)","v":0},null,{"$f":"ROUND(IF(E511=\"\",0,SUM(E$8:E511)),2)","v":0}]
[null,null,null,{"$f":"ROUND(IF(C512=\"\",0,SUM(C$8:C512)),2)","v":0},null,{"$f":"ROUND(IF(E512=\"\",0,SUM(E$8:E512)),2)","v":0}]
[null,null,null,{"$f":"ROUND(IF(C513=\"\",0,SUM(C$8:C513)),2)","v":0},null,{"$f":"ROUND(IF(E513=\"\",0,SUM(E$8:E513)),2)","v":0}]
[null,null,null,{"$f":"ROUND(IF(C514=\"\",0,SUM(C$8:C514)),2)","v":0},null,{"$f":"ROUND(IF(E514=\"\",0,SUM(E$8:E514)),2)","v":0}]
[null,null,null,{"$f":"ROUND(IF(C515=\"\",0,SUM(C$8:C515)),2)","v":0},null,{"$f":"ROUND(IF(E515=\"\",0,SUM(E$8:E515)),2)","v":0}]
[null,null,null,{"$f":"ROUND(IF(C516=\"\",0,SUM(C$8:C516)),2)","v":0},null,{"$f":"ROUND(IF(E516=\"\",0,SUM(E$8:E516)),2)","v":0}]
[null,null,null,{"$f":"ROUND(IF(C517=\"\",0,SUM(C$8:C517)),2)","v":0},null,{"$f":"ROUND(IF(E517=\"\",0,SUM(E$8:E517)),2)","v":0}]
[null,null,null,{"$f":"ROUND(IF(C518=\"\",0,SUM(C$8:C518)),2)","v":0},null,{"$f":"ROUND(IF(E518=\"\",0,SUM(E$8:E518)),2)","v":0}]
[null,null,null,{"$f":"ROUND(IF(C519=\"\",0,SUM(C$8:C519)),2)","v":0},null,{"$f":"ROUND(IF(E519=\"\",0,SUM(E$8:E519)),2)","v":0}]
[null,null,null,{"$f":"ROUND(IF(C520=\"\",0,SUM(C$8:C520)),2)","v":0},null,{"$f":"ROUND(IF(E520=\"\",0,SUM(E$8:E520)),2)","v":0}]
[null,null,null,{"$f":"ROUND(IF(C521=\"\",0,SUM(C$8:C521)),2)","v":0},null,{"$f":"ROUND(IF(E521=\"\",0,SUM(E$8:E521)),2)","v":0}]
[null,null,null,{"$f":"ROUND(IF(C522=\"\",0,SUM(C$8:C522)),2)","v":0},null,{"$f":"ROUND(IF(E522=\"\",0,SUM(E$8:E522)),2)","v":0}]
[null,null,null,{"$f":"ROUND(IF(C523=\"\",0,SUM(C$8:C523)),2)","v":0},null,{"$f":"ROUND(IF(E523=\"\",0,SUM(E$8:E523)),2)","v":0}]
[null,null,null,{"$f":"ROUND(IF(C524=\"\",0,SUM(C$8:C524)),2)","v":0},null,{"$f":"ROUND(IF(E524=\"\",0,SUM(E$8:E524)),2)","v":0}]
[null,null,null,{"$f":"ROUND(IF(C525=\"\",0,SUM(C$8:C525)),2)","v":0},null,{"$f":"ROUND(IF(E525=\"\",0,SUM(E$8:E525)),2)","v":0}]
[null,null,null,{"$f":"ROUND(IF(C526=\"\",0,SUM(C$8:C526)),2)","v":0},null,{"$f":"ROUND(IF(E526=\"\",0,SUM(E$8:E526)),2)","v":0}]
[null,null,null,{"$f":"ROUND(IF(C527=\"\",0,SUM(C$8:C527)),2)","v":0},null,{"$f":"ROUND(IF(E527=\"\",0,SUM(E$8:E527)),2)","v":0}]
[null,null,null,{"$f":"ROUND(IF(C528=\"\",0,SUM(C$8:C528)),2)","v":0},null,{"$f":"ROUND(IF(E528=\"\",0,SUM(E$8:E528)),2)","v":0}]
[null,null,null,{"$f":"ROUND(IF(C529=\"\",0,SUM(C$8:C529)),2)","v":0},null,{"$f":"ROUND(IF(E529=\"\",0,SUM(E$8:E529)),2)","v":0}]
[null,null,null,{"$f":"ROUND(IF(C530=\"\",0,SUM(C$8:C530)),2)","v":0},null,{"$f":"ROUND(IF(E530=\"\",0,SUM(E$8:E530)),2)","v":0}]
[null,null,null,{"$f":"ROUND(IF(C531=\"\",0,SUM(C$8:C531)),2)","v":0},null,{"$f":"ROUND(IF(E531=\"\",0,SUM(E$8:E531)),2)","v":0}]
[null,null,null,{"$f":"ROUND(IF(C532=\"\",0,SUM(C$8:C532)),2)","v":0},null,{"$f":"ROUND(IF(E532=\"\",0,SUM(E$8:E532)),2)","v":0}]
[null,null,null,{"$f":"ROUND(IF(C533=\"\",0,SUM(C$8:C533)),2)","v":0},null,{"$f":"ROUND(IF(E533=\"\",0,SUM(E$8:E533)),2)","v":0}]
[null,null,null,{"$f":"ROUND(IF(C534=\"\",0,SUM(C$8:C534)),2)","v":0},null,{"$f":"ROUND(IF(E534=\"\",0,SUM(E$8:E534)),2)","v":0}]
[null,null,null,{"$f":"ROUND(IF(C535=\"\",0,SUM(C$8:C535)),2)","v":0},null,{"$f":"ROUND(IF(E535=\"\",0,SUM(E$8:E535)),2)","v":0}]
[null,null,null,{"$f":"ROUND(IF(C536=\"\",0,SUM(C$8:C536)),2)","v":0},null,{"$f":"ROUND(IF(E536=\"\",0,SUM(E$8:E536)),2)","v":0}]
[null,null,null,{"$f":"ROUND(IF(C537=\"\",0,SUM(C$8:C537)),2)","v":0},null,{"$f":"ROUND(IF(E537=\"\",0,SUM(E$8:E537)),2)","v":0}]
[null,null,null,{"$f":"ROUND(IF(C538=\"\",0,SUM(C$8:C538)),2)","v":0},null,{"$f":"ROUND(IF(E538=\"\",0,SUM(E$8:E538)),2)","v":0}]
[null,null,null,{"$f":"ROUND(IF(C539=\"\",0,SUM(C$8:C539)),2)","v":0},null,{"$f":"ROUND(IF(E539=\"\",0,SUM(E$8:E539)),2)","v":0}]
[null,null,null,{"$f":"ROUND(IF(C540=\"\",0,SUM(C$8:C540)),2)","v":0},null,{"$f":"ROUND(IF(E540=\"\",0,SUM(E$8:E540)),2)","v":0}]
[null,null,null,{"$f":"ROUND(IF(C541=\"\",0,SUM(C$8:C541)),2)","v":0},null,{"$f":"ROUND(IF(E541=\"\",0,SUM(E$8:E541)),2)","v":0}]
[null,null,null,{"$f":"ROUND(IF(C542=\"\",0,SUM(C$8:C542)),2)","v":0},null,{"$f":"ROUND(IF(E542=\"\",0,SUM(E$8:E542)),2)","v":0}]
[null,null,null,{"$f":"ROUND(IF(C543=\"\",0,SUM(C$8:C543)),2)","v":0},null,{"$f":"ROUND(IF(E543=\"\",0,SUM(E$8:E543)),2)","v":0}]
[null,null,null,{"$f":"ROUND(IF(C544=\"\",0,SUM(C$8:C544)),2)","v":0},null,{"$f":"ROUND(IF(E544=\"\",0,SUM(E$8:E544)),2)","v":0}]
[null,null,null,{"$f":"ROUND(IF(C545=\"\",0,SUM(C$8:C545)),2)","v":0},null,{"$f":"ROUND(IF(E545=\"\",0,SUM(E$8:E545)),2)","v":0}]
[null,null,null,{"$f":"ROUND(IF(C546=\"\",0,SUM(C$8:C546)),2)","v":0},null,{"$f":"ROUND(IF(E546=\"\",0,SUM(E$8:E546)),2)","v":0}]
[null,null,null,{"$f":"ROUND(IF(C547=\"\",0,SUM(C$8:C547)),2)","v":0},null,{"$f":"ROUND(IF(E547=\"\",0,SUM(E$8:E547)),2)","v":0}]
[null,null,null,{"$f":"ROUND(IF(C548=\"\",0,SUM(C$8:C548)),2)","v":0},null,{"$f":"ROUND(IF(E548=\"\",0,SUM(E$8:E548)),2)","v":0}]
[null,null,null,{"$f":"ROUND(IF(C549=\"\",0,SUM(C$8:C549)),2)","v":0},null,{"$f":"ROUND(IF(E549=\"\",0,SUM(E$8:E549)),2)","v":0}]
[null,null,null,{"$f":"ROUND(IF(C550=\"\",0,SUM(C$8:C550)),2)","v":0},null,{"$f":"ROUND(IF(E550=\"\",0,SUM(E$8:E550)),2)","v":0}]
[null,null,null,{"$f":"ROUND(IF(C551=\"\",0,SUM(C$8:C551)),2)","v":0},null,{"$f":"ROUND(IF(E551=\"\",0,SUM(E$8:E551)),2)","v":0}]
[null,null,null,{"$f":"ROUND(IF(C552=\"\",0,SUM(C$8:C552)),2)","v":0},null,{"$f":"ROUND(IF(E552=\"\",0,SUM(E$8:E552)),2)","v":0}]
[null,null,null,{"$f":"ROUND(IF(C553=\"\",0,SUM(C$8:C553)),2)","v":0},null,{"$f":"ROUND(IF(E553=\"\",0,SUM(E$8:E553)),2)","v":0}]
[null,null,null,{"$f":"ROUND(IF(C554=\"\",0,SUM(C$8:C554)),2)","v":0},null,{"$f":"ROUND(IF(E554=\"\",0,SUM(E$8:E554)),2)","v":0}]
[null,null,null,{"$f":"ROUND(IF(C555=\"\",0,SUM(C$8:C555)),2)","v":0},null,{"$f":"ROUND(IF(E555=\"\",0,SUM(E$8:E555)),2)","v":0}]
[null,null,null,{"$f":"ROUND(IF(C556=\"\",0,SUM(C$8:C556)),2)","v":0},null,{"$f":"ROUND(IF(E556=\"\",0,SUM(E$8:E556)),2)","v":0}]
[null,null,null,{"$f":"ROUND(IF(C557=\"\",0,SUM(C$8:C557)),2)","v":0},null,{"$f":"ROUND(IF(E557=\"\",0,SUM(E$8:E557)),2)","v":0}]
[null,null,null,{"$f":"ROUND(IF(C558=\"\",0,SUM(C$8:C558)),2)","v":0},null,{"$f":"ROUND(IF(E558=\"\",0,SUM(E$8:E558)),2)","v":0}]
[null,null,null,{"$f":"ROUND(IF(C559=\"\",0,SUM(C$8:C559)),2)","v":0},null,{"$f":"ROUND(IF(E559=\"\",0,SUM(E$8:E559)),2)","v":0}]
[null,null,null,{"$f":"ROUND(IF(C560=\"\",0,SUM(C$8:C560)),2)","v":0},null,{"$f":"ROUND(IF(E560=\"\",0,SUM(E$8:E560)),2)","v":0}]
[null,null,null,{"$f":"ROUND(IF(C561=\"\",0,SUM(C$8:C561)),2)","v":0},null,{"$f":"ROUND(IF(E561=\"\",0,SUM(E$8:E561)),2)","v":0}]
[null,null,null,{"$f":"ROUND(IF(C562=\"\",0,SUM(C$8:C562)),2)","v":0},null,{"$f":"ROUND(IF(E562=\"\",0,SUM(E$8:E562)),2)","v":0}]
[null,null,null,{"$f":"ROUND(IF(C563=\"\",0,SUM(C$8:C563)),2)","v":0},null,{"$f":"ROUND(IF(E563=\"\",0,SUM(E$8:E563)),2)","v":0}]
[null,null,null,{"$f":"ROUND(IF(C564=\"\",0,SUM(C$8:C564)),2)","v":0},null,{"$f":"ROUND(IF(E564=\"\",0,SUM(E$8:E564)),2)","v":0}]
[null,null,null,{"$f":"ROUND(IF(C565=\"\",0,SUM(C$8:C565)),2)","v":0},null,{"$f":"ROUND(IF(E565=\"\",0,SUM(E$8:E565)),2)","v":0}]
[null,null,null,{"$f":"ROUND(IF(C566=\"\",0,SUM(C$8:C566)),2)","v":0},null,{"$f":"ROUND(IF(E566=\"\",0,SUM(E$8:E566)),2)","v":0}]
[null,null,null,{"$f":"ROUND(IF(C567=\"\",0,SUM(C$8:C567)),2)","v":0},null,{"$f":"ROUND(IF(E567=\"\",0,SUM(E$8:E567)),2)","v":0}]
[null,null,null,{"$f":"ROUND(IF(C568=\"\",0,SUM(C$8:C568)),2)","v":0},null,{"$f":"ROUND(IF(E568=\"\",0,SUM(E$8:E568)),2)","v":0}]
[null,null,null,{"$f":"ROUND(IF(C569=\"\",0,SUM(C$8:C569)),2)","v":0},null,{"$f":"ROUND(IF(E569=\"\",0,SUM(E$8:E569)),2)","v":0}]
[null,null,null,{"$f":"ROUND(IF(C570=\"\",0,SUM(C$8:C570)),2)","v":0},null,{"$f":"ROUND(IF(E570=\"\",0,SUM(E$8:E570)),2)","v":0}]
[null,null,null,{"$f":"ROUND(IF(C571=\"\",0,SUM(C$8:C571)),2)","v":0},null,{"$f":"ROUND(IF(E571=\"\",0,SUM(E$8:E571)),2)","v":0}]
[null,null,null,{"$f":"ROUND(IF(C572=\"\",0,SUM(C$8:C572)),2)","v":0},null,{"$f":"ROUND(IF(E572=\"\",0,SUM(E$8:E572)),2)","v":0}]
[null,null,null,{"$f":"ROUND(IF(C573=\"\",0,SUM(C$8:C573)),2)","v":0},null,{"$f":"ROUND(IF(E573=\"\",0,SUM(E$8:E573)),2)","v":0}]
[null,null,null,{"$f":"ROUND(IF(C574=\"\",0,SUM(C$8:C574)),2)","v":0},null,{"$f":"ROUND(IF(E574=\"\",0,SUM(E$8:E574)),2)","v":0}]
[null,null,null,{"$f":"ROUND(IF(C575=\"\",0,SUM(C$8:C575)),2)","v":0},null,{"$f":"ROUND(IF(E575=\"\",0,SUM(E$8:E575)),2)","v":0}]
[null,null,null,{"$f":"ROUND(IF(C576=\"\",0,SUM(C$8:C576)),2)","v":0},null,{"$f":"ROUND(IF(E576=\"\",0,SUM(E$8:E576)),2)","v":0}]
[null,null,null,{"$f":"ROUND(IF(C577=\"\",0,SUM(C$8:C577)),2)","v":0},null,{"$f":"ROUND(IF(E577=\"\",0,SUM(E$8:E577)),2)","v":0}]
[null,null,null,{"$f":"ROUND(IF(C578=\"\",0,SUM(C$8:C578)),2)","v":0},null,{"$f":"ROUND(IF(E578=\"\",0,SUM(E$8:E578)),2)","v":0}]
[null,null,null,{"$f":"ROUND(IF(C579=\"\",0,SUM(C$8:C579)),2)","v":0},null,{"$f":"ROUND(IF(E579=\"\",0,SUM(E$8:E579)),2)","v":0}]
[null,null,null,{"$f":"ROUND(IF(C580=\"\",0,SUM(C$8:C580)),2)","v":0},null,{"$f":"ROUND(IF(E580=\"\",0,SUM(E$8:E580)),2)","v":0}]
[null,null,null,{"$f":"ROUND(IF(C581=\"\",0,SUM(C$8:C581)),2)","v":0},null,{"$f":"ROUND(IF(E581=\"\",0,SUM(E$8:E581)),2)","v":0}]
[null,null,null,{"$f":"ROUND(IF(C582=\"\",0,SUM(C$8:C582)),2)","v":0},null,{"$f":"ROUND(IF(E582=\"\",0,SUM(E$8:E582)),2)","v":0}]
[null,null,null,{"$f":"ROUND(IF(C583=\"\",0,SUM(C$8:C583)),2)","v":0},null,{"$f":"ROUND(IF(E583=\"\",0,SUM(E$8:E583)),2)","v":0}]
[null,null,null,{"$f":"ROUND(IF(C584=\"\",0,SUM(C$8:C584)),2)","v":0},null,{"$f":"ROUND(IF(E584=\"\",0,SUM(E$8:E584)),2)","v":0}]
[null,null,null,{"$f":"ROUND(IF(C585=\"\",0,SUM(C$8:C585)),2)","v":0},null,{"$f":"ROUND(IF(E585=\"\",0,SUM(E$8:E585)),2)","v":0}]
[null,null,null,{"$f":"ROUND(IF(C586=\"\",0,SUM(C$8:C586)),2)","v":0},null,{"$f":"ROUND(IF(E586=\"\",0,SUM(E$8:E586)),2)","v":0}]
[null,null,null,{"$f":"ROUND(IF(C587=\"\",0,SUM(C$8:C587)),2)","v":0},null,{"$f":"ROUND(IF(E587=\"\",0,SUM(E$8:E587)),2)","v":0}]
[null,null,null,{"$f":"ROUND(IF(C588=\"\",0,SUM(C$8:C588)),2)","v":0},null,{"$f":"ROUND(IF(E588=\"\",0,SUM(E$8:E588)),2)","v":0}]
[null,null,null,{"$f":"ROUND(IF(C589=\"\",0,SUM(C$8:C589)),2)","v":0},null,{"$f":"ROUND(IF(E589=\"\",0,SUM(E$8:E589)),2)","v":0}]
[null,null,null,{"$f":"ROUND(IF(C590=\"\",0,SUM(C$8:C590)),2)","v":0},null,{"$f":"ROUND(IF(E590=\"\",0,SUM(E$8:E590)),2)","v":0}]
[null,null,null,{"$f":"ROUND(IF(C591=\"\",0,SUM(C$8:C591)),2)","v":0},null,{"$f":"ROUND(IF(E591=\"\",0,SUM(E$8:E591)),2)","v":0}]
[null,null,null,{"$f":"ROUND(IF(C592=\"\",0,SUM(C$8:C592)),2)","v":0},null,{"$f":"ROUND(IF(E592=\"\",0,SUM(E$8:E592)),2)","v":0}]
[null,null,null,{"$f":"ROUND(IF(C593=\"\",0,SUM(C$8:C593)),2)","v":0},null,{"$f":"ROUND(IF(E593=\"\",0,SUM(E$8:E593)),2)","v":0}]
[null,null,null,{"$f":"ROUND(IF(C594=\"\",0,SUM(C$8:C594)),2)","v":0},null,{"$f":"ROUND(IF(E594=\"\",0,SUM(E$8:E594)),2)","v":0}]
[null,null,null,{"$f":"ROUND(IF(C595=\"\",0,SUM(C$8:C595)),2)","v":0},null,{"$f":"ROUND(IF(E595=\"\",0,SUM(E$8:E595)),2)","v":0}]
[null,null,null,{"$f":"ROUND(IF(C596=\"\",0,SUM(C$8:C596)),2)","v":0},null,{"$f":"ROUND(IF(E596=\"\",0,SUM(E$8:E596)),2)","v":0}]
[null,null,null,{"$f":"ROUND(IF(C597=\"\",0,SUM(C$8:C597)),2)","v":0},null,{"$f":"ROUND(IF(E597=\"\",0,SUM(E$8:E597)),2)","v":0}]
[null,null,null,{"$f":"ROUND(IF(C598=\"\",0,SUM(C$8:C598)),2)","v":0},null,{"$f":"ROUND(IF(E598=\"\",0,SUM(E$8:E598)),2)","v":0}]
[null,null,null,{"$f":"ROUND(IF(C599=\"\",0,SUM(C$8:C599)),2)","v":0},null,{"$f":"ROUND(IF(E599=\"\",0,SUM(E$8:E599)),2)","v":0}]
[null,null,null,{"$f":"ROUND(IF(C600=\"\",0,SUM(C$8:C600)),2)","v":0},null,{"$f":"ROUND(IF(E600=\"\",0,SUM(E$8:E600)),2)","v":0}]
[null,null,null,{"$f":"ROUND(IF(C601=\"\",0,SUM(C$8:C601)),2)","v":0},null,{"$f":"ROUND(IF(E601=\"\",0,SUM(E$8:E601)),2)","v":0}]
[null,null,null,{"$f":"ROUND(IF(C602=\"\",0,SUM(C$8:C602)),2)","v":0},null,{"$f":"ROUND(IF(E602=\"\",0,SUM(E$8:E602)),2)","v":0}]
[null,null,null,{"$f":"ROUND(IF(C603=\"\",0,SUM(C$8:C603)),2)","v":0},null,{"$f":"ROUND(IF(E603=\"\",0,SUM(E$8:E603)),2)","v":0}]
[null,null,null,{"$f":"ROUND(IF(C604=\"\",0,SUM(C$8:C604)),2)","v":0},null,{"$f":"ROUND(IF(E604=\"\",0,SUM(E$8:E604)),2)","v":0}]
[null,null,null,{"$f":"ROUND(IF(C605=\"\",0,SUM(C$8:C605)),2)","v":0},null,{"$f":"ROUND(IF(E605=\"\",0,SUM(E$8:E605)),2)","v":0}]
[null,null,null,{"$f":"ROUND(IF(C606=\"\",0,SUM(C$8:C606)),2)","v":0},null,{"$f":"ROUND(IF(E606=\"\",0,SUM(E$8:E606)),2)","v":0}]
[null,null,null,{"$f":"ROUND(IF(C607=\"\",0,SUM(C$8:C607)),2)","v":0},null,{"$f":"ROUND(IF(E607=\"\",0,SUM(E$8:E607)),2)","v":0}]

{"sheet":"Cem 3","index":4,"n_rows":607,"n_cols":9,"rows_kept":607,"cut":false,"hidden":false,"merged":[]}
["Cement  Shipments  3",null,null,null,null,null,null,null,{"$f":"Info!B2","v":"E"}]
["Spec. Grav.: ",{"$f":"IF(AND(Info!B20=\"\", Info!C20=\"\"),\"\", IF(Info!B20<>\"\", Info!B20, Info!C20))","v":""},null,null,null,null,"Page No.: "]
["Source: ",{"$f":"IF(AND(Info!B18=\"\", Info!C18=\"\"),\"\", IF(Info!B18<>\"\", Info!B18, Info!C18))","v":""},null,null,null,null,"Type: ",{"$f":"IF(AND(Info!B19=\"\", Info!C19=\"\"),\"\", IF(Info!B19<>\"\", Info!B19, Info!C19))","v":""}]
["Project No.: ",{"$f":"IF(Info!B3=\"\",\"\",(Info!B3))","v":""},null,null,null,null,"Contract ID.: ",{"$f":"IF(Info!B4=\"\",\"\",(Info!B4))","v":""}]
[]
[null,"Ticket","Certified","To  Date","Used","To  Date",null,null," "]
["Date","No.",{"$f":"IF(Info!$B$2=\"M\",\"(Mg's)\",\"(Tons)\")","v":"(Tons)"},{"$f":"IF(Info!$B$2=\"M\",\"(Mg's)\",\"(Tons)\")","v":"(Tons)"},{"$f":"IF(Info!$B$2=\"M\",\"(Mg's)\",\"(Tons)\")","v":"(Tons)"},{"$f":"IF(Info!$B$2=\"M\",\"(Mg's)\",\"(Tons)\")","v":"(Tons)"},"Remarks",null,"By"]
[null,null,null,{"$f":"SUM(C8)","v":0},null,{"$f":"SUM(E8)","v":0}]
[null,null,null,{"$f":"ROUND(IF(C9=\"\",0,SUM(C$8:C9)),2)","v":0},null,{"$f":"ROUND(IF(E9=\"\",0,SUM(E$8:E9)),2)","v":0}]
[null,null,null,{"$f":"ROUND(IF(C10=\"\",0,SUM(C$8:C10)),2)","v":0},null,{"$f":"ROUND(IF(E10=\"\",0,SUM(E$8:E10)),2)","v":0}]
[null,null,null,{"$f":"ROUND(IF(C11=\"\",0,SUM(C$8:C11)),2)","v":0},null,{"$f":"ROUND(IF(E11=\"\",0,SUM(E$8:E11)),2)","v":0}]
[null,null,null,{"$f":"ROUND(IF(C12=\"\",0,SUM(C$8:C12)),2)","v":0},null,{"$f":"ROUND(IF(E12=\"\",0,SUM(E$8:E12)),2)","v":0}]
[null,null,null,{"$f":"ROUND(IF(C13=\"\",0,SUM(C$8:C13)),2)","v":0},null,{"$f":"ROUND(IF(E13=\"\",0,SUM(E$8:E13)),2)","v":0}]
[null,null,null,{"$f":"ROUND(IF(C14=\"\",0,SUM(C$8:C14)),2)","v":0},null,{"$f":"ROUND(IF(E14=\"\",0,SUM(E$8:E14)),2)","v":0}]
[null,null,null,{"$f":"ROUND(IF(C15=\"\",0,SUM(C$8:C15)),2)","v":0},null,{"$f":"ROUND(IF(E15=\"\",0,SUM(E$8:E15)),2)","v":0}]
[null,null,null,{"$f":"ROUND(IF(C16=\"\",0,SUM(C$8:C16)),2)","v":0},null,{"$f":"ROUND(IF(E16=\"\",0,SUM(E$8:E16)),2)","v":0}]
[null,null,null,{"$f":"ROUND(IF(C17=\"\",0,SUM(C$8:C17)),2)","v":0},null,{"$f":"ROUND(IF(E17=\"\",0,SUM(E$8:E17)),2)","v":0}]
[null,null,null,{"$f":"ROUND(IF(C18=\"\",0,SUM(C$8:C18)),2)","v":0},null,{"$f":"ROUND(IF(E18=\"\",0,SUM(E$8:E18)),2)","v":0}]
[null,null,null,{"$f":"ROUND(IF(C19=\"\",0,SUM(C$8:C19)),2)","v":0},null,{"$f":"ROUND(IF(E19=\"\",0,SUM(E$8:E19)),2)","v":0}]
[null,null,null,{"$f":"ROUND(IF(C20=\"\",0,SUM(C$8:C20)),2)","v":0},null,{"$f":"ROUND(IF(E20=\"\",0,SUM(E$8:E20)),2)","v":0}]
[null,null,null,{"$f":"ROUND(IF(C21=\"\",0,SUM(C$8:C21)),2)","v":0},null,{"$f":"ROUND(IF(E21=\"\",0,SUM(E$8:E21)),2)","v":0}]
[null,null,null,{"$f":"ROUND(IF(C22=\"\",0,SUM(C$8:C22)),2)","v":0},null,{"$f":"ROUND(IF(E22=\"\",0,SUM(E$8:E22)),2)","v":0}]
[null,null,null,{"$f":"ROUND(IF(C23=\"\",0,SUM(C$8:C23)),2)","v":0},null,{"$f":"ROUND(IF(E23=\"\",0,SUM(E$8:E23)),2)","v":0}]
[null,null,null,{"$f":"ROUND(IF(C24=\"\",0,SUM(C$8:C24)),2)","v":0},null,{"$f":"ROUND(IF(E24=\"\",0,SUM(E$8:E24)),2)","v":0}]
[null,null,null,{"$f":"ROUND(IF(C25=\"\",0,SUM(C$8:C25)),2)","v":0},null,{"$f":"ROUND(IF(E25=\"\",0,SUM(E$8:E25)),2)","v":0}]
[null,null,null,{"$f":"ROUND(IF(C26=\"\",0,SUM(C$8:C26)),2)","v":0},null,{"$f":"ROUND(IF(E26=\"\",0,SUM(E$8:E26)),2)","v":0}]
[null,null,null,{"$f":"ROUND(IF(C27=\"\",0,SUM(C$8:C27)),2)","v":0},null,{"$f":"ROUND(IF(E27=\"\",0,SUM(E$8:E27)),2)","v":0}]
[null,null,null,{"$f":"ROUND(IF(C28=\"\",0,SUM(C$8:C28)),2)","v":0},null,{"$f":"ROUND(IF(E28=\"\",0,SUM(E$8:E28)),2)","v":0}]
[null,null,null,{"$f":"ROUND(IF(C29=\"\",0,SUM(C$8:C29)),2)","v":0},null,{"$f":"ROUND(IF(E29=\"\",0,SUM(E$8:E29)),2)","v":0}]
[null,null,null,{"$f":"ROUND(IF(C30=\"\",0,SUM(C$8:C30)),2)","v":0},null,{"$f":"ROUND(IF(E30=\"\",0,SUM(E$8:E30)),2)","v":0}]
[null,null,null,{"$f":"ROUND(IF(C31=\"\",0,SUM(C$8:C31)),2)","v":0},null,{"$f":"ROUND(IF(E31=\"\",0,SUM(E$8:E31)),2)","v":0}]
[null,null,null,{"$f":"ROUND(IF(C32=\"\",0,SUM(C$8:C32)),2)","v":0},null,{"$f":"ROUND(IF(E32=\"\",0,SUM(E$8:E32)),2)","v":0}]
[null,null,null,{"$f":"ROUND(IF(C33=\"\",0,SUM(C$8:C33)),2)","v":0},null,{"$f":"ROUND(IF(E33=\"\",0,SUM(E$8:E33)),2)","v":0}]
[null,null,null,{"$f":"ROUND(IF(C34=\"\",0,SUM(C$8:C34)),2)","v":0},null,{"$f":"ROUND(IF(E34=\"\",0,SUM(E$8:E34)),2)","v":0}]
[null,null,null,{"$f":"ROUND(IF(C35=\"\",0,SUM(C$8:C35)),2)","v":0},null,{"$f":"ROUND(IF(E35=\"\",0,SUM(E$8:E35)),2)","v":0}]
[null,null,null,{"$f":"ROUND(IF(C36=\"\",0,SUM(C$8:C36)),2)","v":0},null,{"$f":"ROUND(IF(E36=\"\",0,SUM(E$8:E36)),2)","v":0}]
[null,null,null,{"$f":"ROUND(IF(C37=\"\",0,SUM(C$8:C37)),2)","v":0},null,{"$f":"ROUND(IF(E37=\"\",0,SUM(E$8:E37)),2)","v":0}]
[null,null,null,{"$f":"ROUND(IF(C38=\"\",0,SUM(C$8:C38)),2)","v":0},null,{"$f":"ROUND(IF(E38=\"\",0,SUM(E$8:E38)),2)","v":0}]
[null,null,null,{"$f":"ROUND(IF(C39=\"\",0,SUM(C$8:C39)),2)","v":0},null,{"$f":"ROUND(IF(E39=\"\",0,SUM(E$8:E39)),2)","v":0}]
[null,null,null,{"$f":"ROUND(IF(C40=\"\",0,SUM(C$8:C40)),2)","v":0},null,{"$f":"ROUND(IF(E40=\"\",0,SUM(E$8:E40)),2)","v":0}]
[null,null,null,{"$f":"ROUND(IF(C41=\"\",0,SUM(C$8:C41)),2)","v":0},null,{"$f":"ROUND(IF(E41=\"\",0,SUM(E$8:E41)),2)","v":0}]
[null,null,null,{"$f":"ROUND(IF(C42=\"\",0,SUM(C$8:C42)),2)","v":0},null,{"$f":"ROUND(IF(E42=\"\",0,SUM(E$8:E42)),2)","v":0}]
[null,null,null,{"$f":"ROUND(IF(C43=\"\",0,SUM(C$8:C43)),2)","v":0},null,{"$f":"ROUND(IF(E43=\"\",0,SUM(E$8:E43)),2)","v":0}]
[null,null,null,{"$f":"ROUND(IF(C44=\"\",0,SUM(C$8:C44)),2)","v":0},null,{"$f":"ROUND(IF(E44=\"\",0,SUM(E$8:E44)),2)","v":0}]
[null,null,null,{"$f":"ROUND(IF(C45=\"\",0,SUM(C$8:C45)),2)","v":0},null,{"$f":"ROUND(IF(E45=\"\",0,SUM(E$8:E45)),2)","v":0}]
[null,null,null,{"$f":"ROUND(IF(C46=\"\",0,SUM(C$8:C46)),2)","v":0},null,{"$f":"ROUND(IF(E46=\"\",0,SUM(E$8:E46)),2)","v":0}]
[null,null,null,{"$f":"ROUND(IF(C47=\"\",0,SUM(C$8:C47)),2)","v":0},null,{"$f":"ROUND(IF(E47=\"\",0,SUM(E$8:E47)),2)","v":0}]
[null,null,null,{"$f":"ROUND(IF(C48=\"\",0,SUM(C$8:C48)),2)","v":0},null,{"$f":"ROUND(IF(E48=\"\",0,SUM(E$8:E48)),2)","v":0}]
[null,null,null,{"$f":"ROUND(IF(C49=\"\",0,SUM(C$8:C49)),2)","v":0},null,{"$f":"ROUND(IF(E49=\"\",0,SUM(E$8:E49)),2)","v":0}]
[null,null,null,{"$f":"ROUND(IF(C50=\"\",0,SUM(C$8:C50)),2)","v":0},null,{"$f":"ROUND(IF(E50=\"\",0,SUM(E$8:E50)),2)","v":0}]
[null,null,null,{"$f":"ROUND(IF(C51=\"\",0,SUM(C$8:C51)),2)","v":0},null,{"$f":"ROUND(IF(E51=\"\",0,SUM(E$8:E51)),2)","v":0}]
[null,null,null,{"$f":"ROUND(IF(C52=\"\",0,SUM(C$8:C52)),2)","v":0},null,{"$f":"ROUND(IF(E52=\"\",0,SUM(E$8:E52)),2)","v":0}]
[null,null,null,{"$f":"ROUND(IF(C53=\"\",0,SUM(C$8:C53)),2)","v":0},null,{"$f":"ROUND(IF(E53=\"\",0,SUM(E$8:E53)),2)","v":0}]
[null,null,null,{"$f":"ROUND(IF(C54=\"\",0,SUM(C$8:C54)),2)","v":0},null,{"$f":"ROUND(IF(E54=\"\",0,SUM(E$8:E54)),2)","v":0}]
[null,null,null,{"$f":"ROUND(IF(C55=\"\",0,SUM(C$8:C55)),2)","v":0},null,{"$f":"ROUND(IF(E55=\"\",0,SUM(E$8:E55)),2)","v":0}]
[null,null,null,{"$f":"ROUND(IF(C56=\"\",0,SUM(C$8:C56)),2)","v":0},null,{"$f":"ROUND(IF(E56=\"\",0,SUM(E$8:E56)),2)","v":0}]
[null,null,null,{"$f":"ROUND(IF(C57=\"\",0,SUM(C$8:C57)),2)","v":0},null,{"$f":"ROUND(IF(E57=\"\",0,SUM(E$8:E57)),2)","v":0}]
[null,null,null,{"$f":"ROUND(IF(C58=\"\",0,SUM(C$8:C58)),2)","v":0},null,{"$f":"ROUND(IF(E58=\"\",0,SUM(E$8:E58)),2)","v":0}]
[null,null,null,{"$f":"ROUND(IF(C59=\"\",0,SUM(C$8:C59)),2)","v":0},null,{"$f":"ROUND(IF(E59=\"\",0,SUM(E$8:E59)),2)","v":0}]
[null,null,null,{"$f":"ROUND(IF(C60=\"\",0,SUM(C$8:C60)),2)","v":0},null,{"$f":"ROUND(IF(E60=\"\",0,SUM(E$8:E60)),2)","v":0}]
[null,null,null,{"$f":"ROUND(IF(C61=\"\",0,SUM(C$8:C61)),2)","v":0},null,{"$f":"ROUND(IF(E61=\"\",0,SUM(E$8:E61)),2)","v":0}]
[null,null,null,{"$f":"ROUND(IF(C62=\"\",0,SUM(C$8:C62)),2)","v":0},null,{"$f":"ROUND(IF(E62=\"\",0,SUM(E$8:E62)),2)","v":0}]
[null,null,null,{"$f":"ROUND(IF(C63=\"\",0,SUM(C$8:C63)),2)","v":0},null,{"$f":"ROUND(IF(E63=\"\",0,SUM(E$8:E63)),2)","v":0}]
[null,null,null,{"$f":"ROUND(IF(C64=\"\",0,SUM(C$8:C64)),2)","v":0},null,{"$f":"ROUND(IF(E64=\"\",0,SUM(E$8:E64)),2)","v":0}]
[null,null,null,{"$f":"ROUND(IF(C65=\"\",0,SUM(C$8:C65)),2)","v":0},null,{"$f":"ROUND(IF(E65=\"\",0,SUM(E$8:E65)),2)","v":0}]
[null,null,null,{"$f":"ROUND(IF(C66=\"\",0,SUM(C$8:C66)),2)","v":0},null,{"$f":"ROUND(IF(E66=\"\",0,SUM(E$8:E66)),2)","v":0}]
[null,null,null,{"$f":"ROUND(IF(C67=\"\",0,SUM(C$8:C67)),2)","v":0},null,{"$f":"ROUND(IF(E67=\"\",0,SUM(E$8:E67)),2)","v":0}]
[null,null,null,{"$f":"ROUND(IF(C68=\"\",0,SUM(C$8:C68)),2)","v":0},null,{"$f":"ROUND(IF(E68=\"\",0,SUM(E$8:E68)),2)","v":0}]
[null,null,null,{"$f":"ROUND(IF(C69=\"\",0,SUM(C$8:C69)),2)","v":0},null,{"$f":"ROUND(IF(E69=\"\",0,SUM(E$8:E69)),2)","v":0}]
[null,null,null,{"$f":"ROUND(IF(C70=\"\",0,SUM(C$8:C70)),2)","v":0},null,{"$f":"ROUND(IF(E70=\"\",0,SUM(E$8:E70)),2)","v":0}]
[null,null,null,{"$f":"ROUND(IF(C71=\"\",0,SUM(C$8:C71)),2)","v":0},null,{"$f":"ROUND(IF(E71=\"\",0,SUM(E$8:E71)),2)","v":0}]
[null,null,null,{"$f":"ROUND(IF(C72=\"\",0,SUM(C$8:C72)),2)","v":0},null,{"$f":"ROUND(IF(E72=\"\",0,SUM(E$8:E72)),2)","v":0}]
[null,null,null,{"$f":"ROUND(IF(C73=\"\",0,SUM(C$8:C73)),2)","v":0},null,{"$f":"ROUND(IF(E73=\"\",0,SUM(E$8:E73)),2)","v":0}]
[null,null,null,{"$f":"ROUND(IF(C74=\"\",0,SUM(C$8:C74)),2)","v":0},null,{"$f":"ROUND(IF(E74=\"\",0,SUM(E$8:E74)),2)","v":0}]
[null,null,null,{"$f":"ROUND(IF(C75=\"\",0,SUM(C$8:C75)),2)","v":0},null,{"$f":"ROUND(IF(E75=\"\",0,SUM(E$8:E75)),2)","v":0}]
[null,null,null,{"$f":"ROUND(IF(C76=\"\",0,SUM(C$8:C76)),2)","v":0},null,{"$f":"ROUND(IF(E76=\"\",0,SUM(E$8:E76)),2)","v":0}]
[null,null,null,{"$f":"ROUND(IF(C77=\"\",0,SUM(C$8:C77)),2)","v":0},null,{"$f":"ROUND(IF(E77=\"\",0,SUM(E$8:E77)),2)","v":0}]
[null,null,null,{"$f":"ROUND(IF(C78=\"\",0,SUM(C$8:C78)),2)","v":0},null,{"$f":"ROUND(IF(E78=\"\",0,SUM(E$8:E78)),2)","v":0}]
[null,null,null,{"$f":"ROUND(IF(C79=\"\",0,SUM(C$8:C79)),2)","v":0},null,{"$f":"ROUND(IF(E79=\"\",0,SUM(E$8:E79)),2)","v":0}]
[null,null,null,{"$f":"ROUND(IF(C80=\"\",0,SUM(C$8:C80)),2)","v":0},null,{"$f":"ROUND(IF(E80=\"\",0,SUM(E$8:E80)),2)","v":0}]
[null,null,null,{"$f":"ROUND(IF(C81=\"\",0,SUM(C$8:C81)),2)","v":0},null,{"$f":"ROUND(IF(E81=\"\",0,SUM(E$8:E81)),2)","v":0}]
[null,null,null,{"$f":"ROUND(IF(C82=\"\",0,SUM(C$8:C82)),2)","v":0},null,{"$f":"ROUND(IF(E82=\"\",0,SUM(E$8:E82)),2)","v":0}]
[null,null,null,{"$f":"ROUND(IF(C83=\"\",0,SUM(C$8:C83)),2)","v":0},null,{"$f":"ROUND(IF(E83=\"\",0,SUM(E$8:E83)),2)","v":0}]
[null,null,null,{"$f":"ROUND(IF(C84=\"\",0,SUM(C$8:C84)),2)","v":0},null,{"$f":"ROUND(IF(E84=\"\",0,SUM(E$8:E84)),2)","v":0}]
[null,null,null,{"$f":"ROUND(IF(C85=\"\",0,SUM(C$8:C85)),2)","v":0},null,{"$f":"ROUND(IF(E85=\"\",0,SUM(E$8:E85)),2)","v":0}]
[null,null,null,{"$f":"ROUND(IF(C86=\"\",0,SUM(C$8:C86)),2)","v":0},null,{"$f":"ROUND(IF(E86=\"\",0,SUM(E$8:E86)),2)","v":0}]
[null,null,null,{"$f":"ROUND(IF(C87=\"\",0,SUM(C$8:C87)),2)","v":0},null,{"$f":"ROUND(IF(E87=\"\",0,SUM(E$8:E87)),2)","v":0}]
[null,null,null,{"$f":"ROUND(IF(C88=\"\",0,SUM(C$8:C88)),2)","v":0},null,{"$f":"ROUND(IF(E88=\"\",0,SUM(E$8:E88)),2)","v":0}]
[null,null,null,{"$f":"ROUND(IF(C89=\"\",0,SUM(C$8:C89)),2)","v":0},null,{"$f":"ROUND(IF(E89=\"\",0,SUM(E$8:E89)),2)","v":0}]
[null,null,null,{"$f":"ROUND(IF(C90=\"\",0,SUM(C$8:C90)),2)","v":0},null,{"$f":"ROUND(IF(E90=\"\",0,SUM(E$8:E90)),2)","v":0}]
[null,null,null,{"$f":"ROUND(IF(C91=\"\",0,SUM(C$8:C91)),2)","v":0},null,{"$f":"ROUND(IF(E91=\"\",0,SUM(E$8:E91)),2)","v":0}]
[null,null,null,{"$f":"ROUND(IF(C92=\"\",0,SUM(C$8:C92)),2)","v":0},null,{"$f":"ROUND(IF(E92=\"\",0,SUM(E$8:E92)),2)","v":0}]
[null,null,null,{"$f":"ROUND(IF(C93=\"\",0,SUM(C$8:C93)),2)","v":0},null,{"$f":"ROUND(IF(E93=\"\",0,SUM(E$8:E93)),2)","v":0}]
[null,null,null,{"$f":"ROUND(IF(C94=\"\",0,SUM(C$8:C94)),2)","v":0},null,{"$f":"ROUND(IF(E94=\"\",0,SUM(E$8:E94)),2)","v":0}]
[null,null,null,{"$f":"ROUND(IF(C95=\"\",0,SUM(C$8:C95)),2)","v":0},null,{"$f":"ROUND(IF(E95=\"\",0,SUM(E$8:E95)),2)","v":0}]
[null,null,null,{"$f":"ROUND(IF(C96=\"\",0,SUM(C$8:C96)),2)","v":0},null,{"$f":"ROUND(IF(E96=\"\",0,SUM(E$8:E96)),2)","v":0}]
[null,null,null,{"$f":"ROUND(IF(C97=\"\",0,SUM(C$8:C97)),2)","v":0},null,{"$f":"ROUND(IF(E97=\"\",0,SUM(E$8:E97)),2)","v":0}]
[null,null,null,{"$f":"ROUND(IF(C98=\"\",0,SUM(C$8:C98)),2)","v":0},null,{"$f":"ROUND(IF(E98=\"\",0,SUM(E$8:E98)),2)","v":0}]
[null,null,null,{"$f":"ROUND(IF(C99=\"\",0,SUM(C$8:C99)),2)","v":0},null,{"$f":"ROUND(IF(E99=\"\",0,SUM(E$8:E99)),2)","v":0}]
[null,null,null,{"$f":"ROUND(IF(C100=\"\",0,SUM(C$8:C100)),2)","v":0},null,{"$f":"ROUND(IF(E100=\"\",0,SUM(E$8:E100)),2)","v":0}]
[null,null,null,{"$f":"ROUND(IF(C101=\"\",0,SUM(C$8:C101)),2)","v":0},null,{"$f":"ROUND(IF(E101=\"\",0,SUM(E$8:E101)),2)","v":0}]
[null,null,null,{"$f":"ROUND(IF(C102=\"\",0,SUM(C$8:C102)),2)","v":0},null,{"$f":"ROUND(IF(E102=\"\",0,SUM(E$8:E102)),2)","v":0}]
[null,null,null,{"$f":"ROUND(IF(C103=\"\",0,SUM(C$8:C103)),2)","v":0},null,{"$f":"ROUND(IF(E103=\"\",0,SUM(E$8:E103)),2)","v":0}]
[null,null,null,{"$f":"ROUND(IF(C104=\"\",0,SUM(C$8:C104)),2)","v":0},null,{"$f":"ROUND(IF(E104=\"\",0,SUM(E$8:E104)),2)","v":0}]
[null,null,null,{"$f":"ROUND(IF(C105=\"\",0,SUM(C$8:C105)),2)","v":0},null,{"$f":"ROUND(IF(E105=\"\",0,SUM(E$8:E105)),2)","v":0}]
[null,null,null,{"$f":"ROUND(IF(C106=\"\",0,SUM(C$8:C106)),2)","v":0},null,{"$f":"ROUND(IF(E106=\"\",0,SUM(E$8:E106)),2)","v":0}]
[null,null,null,{"$f":"ROUND(IF(C107=\"\",0,SUM(C$8:C107)),2)","v":0},null,{"$f":"ROUND(IF(E107=\"\",0,SUM(E$8:E107)),2)","v":0}]
[null,null,null,{"$f":"ROUND(IF(C108=\"\",0,SUM(C$8:C108)),2)","v":0},null,{"$f":"ROUND(IF(E108=\"\",0,SUM(E$8:E108)),2)","v":0}]
[null,null,null,{"$f":"ROUND(IF(C109=\"\",0,SUM(C$8:C109)),2)","v":0},null,{"$f":"ROUND(IF(E109=\"\",0,SUM(E$8:E109)),2)","v":0}]
[null,null,null,{"$f":"ROUND(IF(C110=\"\",0,SUM(C$8:C110)),2)","v":0},null,{"$f":"ROUND(IF(E110=\"\",0,SUM(E$8:E110)),2)","v":0}]
[null,null,null,{"$f":"ROUND(IF(C111=\"\",0,SUM(C$8:C111)),2)","v":0},null,{"$f":"ROUND(IF(E111=\"\",0,SUM(E$8:E111)),2)","v":0}]
[null,null,null,{"$f":"ROUND(IF(C112=\"\",0,SUM(C$8:C112)),2)","v":0},null,{"$f":"ROUND(IF(E112=\"\",0,SUM(E$8:E112)),2)","v":0}]
[null,null,null,{"$f":"ROUND(IF(C113=\"\",0,SUM(C$8:C113)),2)","v":0},null,{"$f":"ROUND(IF(E113=\"\",0,SUM(E$8:E113)),2)","v":0}]
[null,null,null,{"$f":"ROUND(IF(C114=\"\",0,SUM(C$8:C114)),2)","v":0},null,{"$f":"ROUND(IF(E114=\"\",0,SUM(E$8:E114)),2)","v":0}]
[null,null,null,{"$f":"ROUND(IF(C115=\"\",0,SUM(C$8:C115)),2)","v":0},null,{"$f":"ROUND(IF(E115=\"\",0,SUM(E$8:E115)),2)","v":0}]
[null,null,null,{"$f":"ROUND(IF(C116=\"\",0,SUM(C$8:C116)),2)","v":0},null,{"$f":"ROUND(IF(E116=\"\",0,SUM(E$8:E116)),2)","v":0}]
[null,null,null,{"$f":"ROUND(IF(C117=\"\",0,SUM(C$8:C117)),2)","v":0},null,{"$f":"ROUND(IF(E117=\"\",0,SUM(E$8:E117)),2)","v":0}]
[null,null,null,{"$f":"ROUND(IF(C118=\"\",0,SUM(C$8:C118)),2)","v":0},null,{"$f":"ROUND(IF(E118=\"\",0,SUM(E$8:E118)),2)","v":0}]
[null,null,null,{"$f":"ROUND(IF(C119=\"\",0,SUM(C$8:C119)),2)","v":0},null,{"$f":"ROUND(IF(E119=\"\",0,SUM(E$8:E119)),2)","v":0}]
[null,null,null,{"$f":"ROUND(IF(C120=\"\",0,SUM(C$8:C120)),2)","v":0},null,{"$f":"ROUND(IF(E120=\"\",0,SUM(E$8:E120)),2)","v":0}]
[null,null,null,{"$f":"ROUND(IF(C121=\"\",0,SUM(C$8:C121)),2)","v":0},null,{"$f":"ROUND(IF(E121=\"\",0,SUM(E$8:E121)),2)","v":0}]
[null,null,null,{"$f":"ROUND(IF(C122=\"\",0,SUM(C$8:C122)),2)","v":0},null,{"$f":"ROUND(IF(E122=\"\",0,SUM(E$8:E122)),2)","v":0}]
[null,null,null,{"$f":"ROUND(IF(C123=\"\",0,SUM(C$8:C123)),2)","v":0},null,{"$f":"ROUND(IF(E123=\"\",0,SUM(E$8:E123)),2)","v":0}]
[null,null,null,{"$f":"ROUND(IF(C124=\"\",0,SUM(C$8:C124)),2)","v":0},null,{"$f":"ROUND(IF(E124=\"\",0,SUM(E$8:E124)),2)","v":0}]
[null,null,null,{"$f":"ROUND(IF(C125=\"\",0,SUM(C$8:C125)),2)","v":0},null,{"$f":"ROUND(IF(E125=\"\",0,SUM(E$8:E125)),2)","v":0}]
[null,null,null,{"$f":"ROUND(IF(C126=\"\",0,SUM(C$8:C126)),2)","v":0},null,{"$f":"ROUND(IF(E126=\"\",0,SUM(E$8:E126)),2)","v":0}]
[null,null,null,{"$f":"ROUND(IF(C127=\"\",0,SUM(C$8:C127)),2)","v":0},null,{"$f":"ROUND(IF(E127=\"\",0,SUM(E$8:E127)),2)","v":0}]
[null,null,null,{"$f":"ROUND(IF(C128=\"\",0,SUM(C$8:C128)),2)","v":0},null,{"$f":"ROUND(IF(E128=\"\",0,SUM(E$8:E128)),2)","v":0}]
[null,null,null,{"$f":"ROUND(IF(C129=\"\",0,SUM(C$8:C129)),2)","v":0},null,{"$f":"ROUND(IF(E129=\"\",0,SUM(E$8:E129)),2)","v":0}]
[null,null,null,{"$f":"ROUND(IF(C130=\"\",0,SUM(C$8:C130)),2)","v":0},null,{"$f":"ROUND(IF(E130=\"\",0,SUM(E$8:E130)),2)","v":0}]
[null,null,null,{"$f":"ROUND(IF(C131=\"\",0,SUM(C$8:C131)),2)","v":0},null,{"$f":"ROUND(IF(E131=\"\",0,SUM(E$8:E131)),2)","v":0}]
[null,null,null,{"$f":"ROUND(IF(C132=\"\",0,SUM(C$8:C132)),2)","v":0},null,{"$f":"ROUND(IF(E132=\"\",0,SUM(E$8:E132)),2)","v":0}]
[null,null,null,{"$f":"ROUND(IF(C133=\"\",0,SUM(C$8:C133)),2)","v":0},null,{"$f":"ROUND(IF(E133=\"\",0,SUM(E$8:E133)),2)","v":0}]
[null,null,null,{"$f":"ROUND(IF(C134=\"\",0,SUM(C$8:C134)),2)","v":0},null,{"$f":"ROUND(IF(E134=\"\",0,SUM(E$8:E134)),2)","v":0}]
[null,null,null,{"$f":"ROUND(IF(C135=\"\",0,SUM(C$8:C135)),2)","v":0},null,{"$f":"ROUND(IF(E135=\"\",0,SUM(E$8:E135)),2)","v":0}]
[null,null,null,{"$f":"ROUND(IF(C136=\"\",0,SUM(C$8:C136)),2)","v":0},null,{"$f":"ROUND(IF(E136=\"\",0,SUM(E$8:E136)),2)","v":0}]
[null,null,null,{"$f":"ROUND(IF(C137=\"\",0,SUM(C$8:C137)),2)","v":0},null,{"$f":"ROUND(IF(E137=\"\",0,SUM(E$8:E137)),2)","v":0}]
[null,null,null,{"$f":"ROUND(IF(C138=\"\",0,SUM(C$8:C138)),2)","v":0},null,{"$f":"ROUND(IF(E138=\"\",0,SUM(E$8:E138)),2)","v":0}]
[null,null,null,{"$f":"ROUND(IF(C139=\"\",0,SUM(C$8:C139)),2)","v":0},null,{"$f":"ROUND(IF(E139=\"\",0,SUM(E$8:E139)),2)","v":0}]
[null,null,null,{"$f":"ROUND(IF(C140=\"\",0,SUM(C$8:C140)),2)","v":0},null,{"$f":"ROUND(IF(E140=\"\",0,SUM(E$8:E140)),2)","v":0}]
[null,null,null,{"$f":"ROUND(IF(C141=\"\",0,SUM(C$8:C141)),2)","v":0},null,{"$f":"ROUND(IF(E141=\"\",0,SUM(E$8:E141)),2)","v":0}]
[null,null,null,{"$f":"ROUND(IF(C142=\"\",0,SUM(C$8:C142)),2)","v":0},null,{"$f":"ROUND(IF(E142=\"\",0,SUM(E$8:E142)),2)","v":0}]
[null,null,null,{"$f":"ROUND(IF(C143=\"\",0,SUM(C$8:C143)),2)","v":0},null,{"$f":"ROUND(IF(E143=\"\",0,SUM(E$8:E143)),2)","v":0}]
[null,null,null,{"$f":"ROUND(IF(C144=\"\",0,SUM(C$8:C144)),2)","v":0},null,{"$f":"ROUND(IF(E144=\"\",0,SUM(E$8:E144)),2)","v":0}]
[null,null,null,{"$f":"ROUND(IF(C145=\"\",0,SUM(C$8:C145)),2)","v":0},null,{"$f":"ROUND(IF(E145=\"\",0,SUM(E$8:E145)),2)","v":0}]
[null,null,null,{"$f":"ROUND(IF(C146=\"\",0,SUM(C$8:C146)),2)","v":0},null,{"$f":"ROUND(IF(E146=\"\",0,SUM(E$8:E146)),2)","v":0}]
[null,null,null,{"$f":"ROUND(IF(C147=\"\",0,SUM(C$8:C147)),2)","v":0},null,{"$f":"ROUND(IF(E147=\"\",0,SUM(E$8:E147)),2)","v":0}]
[null,null,null,{"$f":"ROUND(IF(C148=\"\",0,SUM(C$8:C148)),2)","v":0},null,{"$f":"ROUND(IF(E148=\"\",0,SUM(E$8:E148)),2)","v":0}]
[null,null,null,{"$f":"ROUND(IF(C149=\"\",0,SUM(C$8:C149)),2)","v":0},null,{"$f":"ROUND(IF(E149=\"\",0,SUM(E$8:E149)),2)","v":0}]
[null,null,null,{"$f":"ROUND(IF(C150=\"\",0,SUM(C$8:C150)),2)","v":0},null,{"$f":"ROUND(IF(E150=\"\",0,SUM(E$8:E150)),2)","v":0}]
[null,null,null,{"$f":"ROUND(IF(C151=\"\",0,SUM(C$8:C151)),2)","v":0},null,{"$f":"ROUND(IF(E151=\"\",0,SUM(E$8:E151)),2)","v":0}]
[null,null,null,{"$f":"ROUND(IF(C152=\"\",0,SUM(C$8:C152)),2)","v":0},null,{"$f":"ROUND(IF(E152=\"\",0,SUM(E$8:E152)),2)","v":0}]
[null,null,null,{"$f":"ROUND(IF(C153=\"\",0,SUM(C$8:C153)),2)","v":0},null,{"$f":"ROUND(IF(E153=\"\",0,SUM(E$8:E153)),2)","v":0}]
[null,null,null,{"$f":"ROUND(IF(C154=\"\",0,SUM(C$8:C154)),2)","v":0},null,{"$f":"ROUND(IF(E154=\"\",0,SUM(E$8:E154)),2)","v":0}]
[null,null,null,{"$f":"ROUND(IF(C155=\"\",0,SUM(C$8:C155)),2)","v":0},null,{"$f":"ROUND(IF(E155=\"\",0,SUM(E$8:E155)),2)","v":0}]
[null,null,null,{"$f":"ROUND(IF(C156=\"\",0,SUM(C$8:C156)),2)","v":0},null,{"$f":"ROUND(IF(E156=\"\",0,SUM(E$8:E156)),2)","v":0}]
[null,null,null,{"$f":"ROUND(IF(C157=\"\",0,SUM(C$8:C157)),2)","v":0},null,{"$f":"ROUND(IF(E157=\"\",0,SUM(E$8:E157)),2)","v":0}]
[null,null,null,{"$f":"ROUND(IF(C158=\"\",0,SUM(C$8:C158)),2)","v":0},null,{"$f":"ROUND(IF(E158=\"\",0,SUM(E$8:E158)),2)","v":0}]
[null,null,null,{"$f":"ROUND(IF(C159=\"\",0,SUM(C$8:C159)),2)","v":0},null,{"$f":"ROUND(IF(E159=\"\",0,SUM(E$8:E159)),2)","v":0}]
[null,null,null,{"$f":"ROUND(IF(C160=\"\",0,SUM(C$8:C160)),2)","v":0},null,{"$f":"ROUND(IF(E160=\"\",0,SUM(E$8:E160)),2)","v":0}]
[null,null,null,{"$f":"ROUND(IF(C161=\"\",0,SUM(C$8:C161)),2)","v":0},null,{"$f":"ROUND(IF(E161=\"\",0,SUM(E$8:E161)),2)","v":0}]
[null,null,null,{"$f":"ROUND(IF(C162=\"\",0,SUM(C$8:C162)),2)","v":0},null,{"$f":"ROUND(IF(E162=\"\",0,SUM(E$8:E162)),2)","v":0}]
[null,null,null,{"$f":"ROUND(IF(C163=\"\",0,SUM(C$8:C163)),2)","v":0},null,{"$f":"ROUND(IF(E163=\"\",0,SUM(E$8:E163)),2)","v":0}]
[null,null,null,{"$f":"ROUND(IF(C164=\"\",0,SUM(C$8:C164)),2)","v":0},null,{"$f":"ROUND(IF(E164=\"\",0,SUM(E$8:E164)),2)","v":0}]
[null,null,null,{"$f":"ROUND(IF(C165=\"\",0,SUM(C$8:C165)),2)","v":0},null,{"$f":"ROUND(IF(E165=\"\",0,SUM(E$8:E165)),2)","v":0}]
[null,null,null,{"$f":"ROUND(IF(C166=\"\",0,SUM(C$8:C166)),2)","v":0},null,{"$f":"ROUND(IF(E166=\"\",0,SUM(E$8:E166)),2)","v":0}]
[null,null,null,{"$f":"ROUND(IF(C167=\"\",0,SUM(C$8:C167)),2)","v":0},null,{"$f":"ROUND(IF(E167=\"\",0,SUM(E$8:E167)),2)","v":0}]
[null,null,null,{"$f":"ROUND(IF(C168=\"\",0,SUM(C$8:C168)),2)","v":0},null,{"$f":"ROUND(IF(E168=\"\",0,SUM(E$8:E168)),2)","v":0}]
[null,null,null,{"$f":"ROUND(IF(C169=\"\",0,SUM(C$8:C169)),2)","v":0},null,{"$f":"ROUND(IF(E169=\"\",0,SUM(E$8:E169)),2)","v":0}]
[null,null,null,{"$f":"ROUND(IF(C170=\"\",0,SUM(C$8:C170)),2)","v":0},null,{"$f":"ROUND(IF(E170=\"\",0,SUM(E$8:E170)),2)","v":0}]
[null,null,null,{"$f":"ROUND(IF(C171=\"\",0,SUM(C$8:C171)),2)","v":0},null,{"$f":"ROUND(IF(E171=\"\",0,SUM(E$8:E171)),2)","v":0}]
[null,null,null,{"$f":"ROUND(IF(C172=\"\",0,SUM(C$8:C172)),2)","v":0},null,{"$f":"ROUND(IF(E172=\"\",0,SUM(E$8:E172)),2)","v":0}]
[null,null,null,{"$f":"ROUND(IF(C173=\"\",0,SUM(C$8:C173)),2)","v":0},null,{"$f":"ROUND(IF(E173=\"\",0,SUM(E$8:E173)),2)","v":0}]
[null,null,null,{"$f":"ROUND(IF(C174=\"\",0,SUM(C$8:C174)),2)","v":0},null,{"$f":"ROUND(IF(E174=\"\",0,SUM(E$8:E174)),2)","v":0}]
[null,null,null,{"$f":"ROUND(IF(C175=\"\",0,SUM(C$8:C175)),2)","v":0},null,{"$f":"ROUND(IF(E175=\"\",0,SUM(E$8:E175)),2)","v":0}]
[null,null,null,{"$f":"ROUND(IF(C176=\"\",0,SUM(C$8:C176)),2)","v":0},null,{"$f":"ROUND(IF(E176=\"\",0,SUM(E$8:E176)),2)","v":0}]
[null,null,null,{"$f":"ROUND(IF(C177=\"\",0,SUM(C$8:C177)),2)","v":0},null,{"$f":"ROUND(IF(E177=\"\",0,SUM(E$8:E177)),2)","v":0}]
[null,null,null,{"$f":"ROUND(IF(C178=\"\",0,SUM(C$8:C178)),2)","v":0},null,{"$f":"ROUND(IF(E178=\"\",0,SUM(E$8:E178)),2)","v":0}]
[null,null,null,{"$f":"ROUND(IF(C179=\"\",0,SUM(C$8:C179)),2)","v":0},null,{"$f":"ROUND(IF(E179=\"\",0,SUM(E$8:E179)),2)","v":0}]
[null,null,null,{"$f":"ROUND(IF(C180=\"\",0,SUM(C$8:C180)),2)","v":0},null,{"$f":"ROUND(IF(E180=\"\",0,SUM(E$8:E180)),2)","v":0}]
[null,null,null,{"$f":"ROUND(IF(C181=\"\",0,SUM(C$8:C181)),2)","v":0},null,{"$f":"ROUND(IF(E181=\"\",0,SUM(E$8:E181)),2)","v":0}]
[null,null,null,{"$f":"ROUND(IF(C182=\"\",0,SUM(C$8:C182)),2)","v":0},null,{"$f":"ROUND(IF(E182=\"\",0,SUM(E$8:E182)),2)","v":0}]
[null,null,null,{"$f":"ROUND(IF(C183=\"\",0,SUM(C$8:C183)),2)","v":0},null,{"$f":"ROUND(IF(E183=\"\",0,SUM(E$8:E183)),2)","v":0}]
[null,null,null,{"$f":"ROUND(IF(C184=\"\",0,SUM(C$8:C184)),2)","v":0},null,{"$f":"ROUND(IF(E184=\"\",0,SUM(E$8:E184)),2)","v":0}]
[null,null,null,{"$f":"ROUND(IF(C185=\"\",0,SUM(C$8:C185)),2)","v":0},null,{"$f":"ROUND(IF(E185=\"\",0,SUM(E$8:E185)),2)","v":0}]
[null,null,null,{"$f":"ROUND(IF(C186=\"\",0,SUM(C$8:C186)),2)","v":0},null,{"$f":"ROUND(IF(E186=\"\",0,SUM(E$8:E186)),2)","v":0}]
[null,null,null,{"$f":"ROUND(IF(C187=\"\",0,SUM(C$8:C187)),2)","v":0},null,{"$f":"ROUND(IF(E187=\"\",0,SUM(E$8:E187)),2)","v":0}]
[null,null,null,{"$f":"ROUND(IF(C188=\"\",0,SUM(C$8:C188)),2)","v":0},null,{"$f":"ROUND(IF(E188=\"\",0,SUM(E$8:E188)),2)","v":0}]
[null,null,null,{"$f":"ROUND(IF(C189=\"\",0,SUM(C$8:C189)),2)","v":0},null,{"$f":"ROUND(IF(E189=\"\",0,SUM(E$8:E189)),2)","v":0}]
[null,null,null,{"$f":"ROUND(IF(C190=\"\",0,SUM(C$8:C190)),2)","v":0},null,{"$f":"ROUND(IF(E190=\"\",0,SUM(E$8:E190)),2)","v":0}]
[null,null,null,{"$f":"ROUND(IF(C191=\"\",0,SUM(C$8:C191)),2)","v":0},null,{"$f":"ROUND(IF(E191=\"\",0,SUM(E$8:E191)),2)","v":0}]
[null,null,null,{"$f":"ROUND(IF(C192=\"\",0,SUM(C$8:C192)),2)","v":0},null,{"$f":"ROUND(IF(E192=\"\",0,SUM(E$8:E192)),2)","v":0}]
[null,null,null,{"$f":"ROUND(IF(C193=\"\",0,SUM(C$8:C193)),2)","v":0},null,{"$f":"ROUND(IF(E193=\"\",0,SUM(E$8:E193)),2)","v":0}]
[null,null,null,{"$f":"ROUND(IF(C194=\"\",0,SUM(C$8:C194)),2)","v":0},null,{"$f":"ROUND(IF(E194=\"\",0,SUM(E$8:E194)),2)","v":0}]
[null,null,null,{"$f":"ROUND(IF(C195=\"\",0,SUM(C$8:C195)),2)","v":0},null,{"$f":"ROUND(IF(E195=\"\",0,SUM(E$8:E195)),2)","v":0}]
[null,null,null,{"$f":"ROUND(IF(C196=\"\",0,SUM(C$8:C196)),2)","v":0},null,{"$f":"ROUND(IF(E196=\"\",0,SUM(E$8:E196)),2)","v":0}]
[null,null,null,{"$f":"ROUND(IF(C197=\"\",0,SUM(C$8:C197)),2)","v":0},null,{"$f":"ROUND(IF(E197=\"\",0,SUM(E$8:E197)),2)","v":0}]
[null,null,null,{"$f":"ROUND(IF(C198=\"\",0,SUM(C$8:C198)),2)","v":0},null,{"$f":"ROUND(IF(E198=\"\",0,SUM(E$8:E198)),2)","v":0}]
[null,null,null,{"$f":"ROUND(IF(C199=\"\",0,SUM(C$8:C199)),2)","v":0},null,{"$f":"ROUND(IF(E199=\"\",0,SUM(E$8:E199)),2)","v":0}]
[null,null,null,{"$f":"ROUND(IF(C200=\"\",0,SUM(C$8:C200)),2)","v":0},null,{"$f":"ROUND(IF(E200=\"\",0,SUM(E$8:E200)),2)","v":0}]
[null,null,null,{"$f":"ROUND(IF(C201=\"\",0,SUM(C$8:C201)),2)","v":0},null,{"$f":"ROUND(IF(E201=\"\",0,SUM(E$8:E201)),2)","v":0}]
[null,null,null,{"$f":"ROUND(IF(C202=\"\",0,SUM(C$8:C202)),2)","v":0},null,{"$f":"ROUND(IF(E202=\"\",0,SUM(E$8:E202)),2)","v":0}]
[null,null,null,{"$f":"ROUND(IF(C203=\"\",0,SUM(C$8:C203)),2)","v":0},null,{"$f":"ROUND(IF(E203=\"\",0,SUM(E$8:E203)),2)","v":0}]
[null,null,null,{"$f":"ROUND(IF(C204=\"\",0,SUM(C$8:C204)),2)","v":0},null,{"$f":"ROUND(IF(E204=\"\",0,SUM(E$8:E204)),2)","v":0}]
[null,null,null,{"$f":"ROUND(IF(C205=\"\",0,SUM(C$8:C205)),2)","v":0},null,{"$f":"ROUND(IF(E205=\"\",0,SUM(E$8:E205)),2)","v":0}]
[null,null,null,{"$f":"ROUND(IF(C206=\"\",0,SUM(C$8:C206)),2)","v":0},null,{"$f":"ROUND(IF(E206=\"\",0,SUM(E$8:E206)),2)","v":0}]
[null,null,null,{"$f":"ROUND(IF(C207=\"\",0,SUM(C$8:C207)),2)","v":0},null,{"$f":"ROUND(IF(E207=\"\",0,SUM(E$8:E207)),2)","v":0}]
[null,null,null,{"$f":"ROUND(IF(C208=\"\",0,SUM(C$8:C208)),2)","v":0},null,{"$f":"ROUND(IF(E208=\"\",0,SUM(E$8:E208)),2)","v":0}]
[null,null,null,{"$f":"ROUND(IF(C209=\"\",0,SUM(C$8:C209)),2)","v":0},null,{"$f":"ROUND(IF(E209=\"\",0,SUM(E$8:E209)),2)","v":0}]
[null,null,null,{"$f":"ROUND(IF(C210=\"\",0,SUM(C$8:C210)),2)","v":0},null,{"$f":"ROUND(IF(E210=\"\",0,SUM(E$8:E210)),2)","v":0}]
[null,null,null,{"$f":"ROUND(IF(C211=\"\",0,SUM(C$8:C211)),2)","v":0},null,{"$f":"ROUND(IF(E211=\"\",0,SUM(E$8:E211)),2)","v":0}]
[null,null,null,{"$f":"ROUND(IF(C212=\"\",0,SUM(C$8:C212)),2)","v":0},null,{"$f":"ROUND(IF(E212=\"\",0,SUM(E$8:E212)),2)","v":0}]
[null,null,null,{"$f":"ROUND(IF(C213=\"\",0,SUM(C$8:C213)),2)","v":0},null,{"$f":"ROUND(IF(E213=\"\",0,SUM(E$8:E213)),2)","v":0}]
[null,null,null,{"$f":"ROUND(IF(C214=\"\",0,SUM(C$8:C214)),2)","v":0},null,{"$f":"ROUND(IF(E214=\"\",0,SUM(E$8:E214)),2)","v":0}]
[null,null,null,{"$f":"ROUND(IF(C215=\"\",0,SUM(C$8:C215)),2)","v":0},null,{"$f":"ROUND(IF(E215=\"\",0,SUM(E$8:E215)),2)","v":0}]
[null,null,null,{"$f":"ROUND(IF(C216=\"\",0,SUM(C$8:C216)),2)","v":0},null,{"$f":"ROUND(IF(E216=\"\",0,SUM(E$8:E216)),2)","v":0}]
[null,null,null,{"$f":"ROUND(IF(C217=\"\",0,SUM(C$8:C217)),2)","v":0},null,{"$f":"ROUND(IF(E217=\"\",0,SUM(E$8:E217)),2)","v":0}]
[null,null,null,{"$f":"ROUND(IF(C218=\"\",0,SUM(C$8:C218)),2)","v":0},null,{"$f":"ROUND(IF(E218=\"\",0,SUM(E$8:E218)),2)","v":0}]
[null,null,null,{"$f":"ROUND(IF(C219=\"\",0,SUM(C$8:C219)),2)","v":0},null,{"$f":"ROUND(IF(E219=\"\",0,SUM(E$8:E219)),2)","v":0}]
[null,null,null,{"$f":"ROUND(IF(C220=\"\",0,SUM(C$8:C220)),2)","v":0},null,{"$f":"ROUND(IF(E220=\"\",0,SUM(E$8:E220)),2)","v":0}]
[null,null,null,{"$f":"ROUND(IF(C221=\"\",0,SUM(C$8:C221)),2)","v":0},null,{"$f":"ROUND(IF(E221=\"\",0,SUM(E$8:E221)),2)","v":0}]
[null,null,null,{"$f":"ROUND(IF(C222=\"\",0,SUM(C$8:C222)),2)","v":0},null,{"$f":"ROUND(IF(E222=\"\",0,SUM(E$8:E222)),2)","v":0}]
[null,null,null,{"$f":"ROUND(IF(C223=\"\",0,SUM(C$8:C223)),2)","v":0},null,{"$f":"ROUND(IF(E223=\"\",0,SUM(E$8:E223)),2)","v":0}]
[null,null,null,{"$f":"ROUND(IF(C224=\"\",0,SUM(C$8:C224)),2)","v":0},null,{"$f":"ROUND(IF(E224=\"\",0,SUM(E$8:E224)),2)","v":0}]
[null,null,null,{"$f":"ROUND(IF(C225=\"\",0,SUM(C$8:C225)),2)","v":0},null,{"$f":"ROUND(IF(E225=\"\",0,SUM(E$8:E225)),2)","v":0}]
[null,null,null,{"$f":"ROUND(IF(C226=\"\",0,SUM(C$8:C226)),2)","v":0},null,{"$f":"ROUND(IF(E226=\"\",0,SUM(E$8:E226)),2)","v":0}]
[null,null,null,{"$f":"ROUND(IF(C227=\"\",0,SUM(C$8:C227)),2)","v":0},null,{"$f":"ROUND(IF(E227=\"\",0,SUM(E$8:E227)),2)","v":0}]
[null,null,null,{"$f":"ROUND(IF(C228=\"\",0,SUM(C$8:C228)),2)","v":0},null,{"$f":"ROUND(IF(E228=\"\",0,SUM(E$8:E228)),2)","v":0}]
[null,null,null,{"$f":"ROUND(IF(C229=\"\",0,SUM(C$8:C229)),2)","v":0},null,{"$f":"ROUND(IF(E229=\"\",0,SUM(E$8:E229)),2)","v":0}]
[null,null,null,{"$f":"ROUND(IF(C230=\"\",0,SUM(C$8:C230)),2)","v":0},null,{"$f":"ROUND(IF(E230=\"\",0,SUM(E$8:E230)),2)","v":0}]
[null,null,null,{"$f":"ROUND(IF(C231=\"\",0,SUM(C$8:C231)),2)","v":0},null,{"$f":"ROUND(IF(E231=\"\",0,SUM(E$8:E231)),2)","v":0}]
[null,null,null,{"$f":"ROUND(IF(C232=\"\",0,SUM(C$8:C232)),2)","v":0},null,{"$f":"ROUND(IF(E232=\"\",0,SUM(E$8:E232)),2)","v":0}]
[null,null,null,{"$f":"ROUND(IF(C233=\"\",0,SUM(C$8:C233)),2)","v":0},null,{"$f":"ROUND(IF(E233=\"\",0,SUM(E$8:E233)),2)","v":0}]
[null,null,null,{"$f":"ROUND(IF(C234=\"\",0,SUM(C$8:C234)),2)","v":0},null,{"$f":"ROUND(IF(E234=\"\",0,SUM(E$8:E234)),2)","v":0}]
[null,null,null,{"$f":"ROUND(IF(C235=\"\",0,SUM(C$8:C235)),2)","v":0},null,{"$f":"ROUND(IF(E235=\"\",0,SUM(E$8:E235)),2)","v":0}]
[null,null,null,{"$f":"ROUND(IF(C236=\"\",0,SUM(C$8:C236)),2)","v":0},null,{"$f":"ROUND(IF(E236=\"\",0,SUM(E$8:E236)),2)","v":0}]
[null,null,null,{"$f":"ROUND(IF(C237=\"\",0,SUM(C$8:C237)),2)","v":0},null,{"$f":"ROUND(IF(E237=\"\",0,SUM(E$8:E237)),2)","v":0}]
[null,null,null,{"$f":"ROUND(IF(C238=\"\",0,SUM(C$8:C238)),2)","v":0},null,{"$f":"ROUND(IF(E238=\"\",0,SUM(E$8:E238)),2)","v":0}]
[null,null,null,{"$f":"ROUND(IF(C239=\"\",0,SUM(C$8:C239)),2)","v":0},null,{"$f":"ROUND(IF(E239=\"\",0,SUM(E$8:E239)),2)","v":0}]
[null,null,null,{"$f":"ROUND(IF(C240=\"\",0,SUM(C$8:C240)),2)","v":0},null,{"$f":"ROUND(IF(E240=\"\",0,SUM(E$8:E240)),2)","v":0}]
[null,null,null,{"$f":"ROUND(IF(C241=\"\",0,SUM(C$8:C241)),2)","v":0},null,{"$f":"ROUND(IF(E241=\"\",0,SUM(E$8:E241)),2)","v":0}]
[null,null,null,{"$f":"ROUND(IF(C242=\"\",0,SUM(C$8:C242)),2)","v":0},null,{"$f":"ROUND(IF(E242=\"\",0,SUM(E$8:E242)),2)","v":0}]
[null,null,null,{"$f":"ROUND(IF(C243=\"\",0,SUM(C$8:C243)),2)","v":0},null,{"$f":"ROUND(IF(E243=\"\",0,SUM(E$8:E243)),2)","v":0}]
[null,null,null,{"$f":"ROUND(IF(C244=\"\",0,SUM(C$8:C244)),2)","v":0},null,{"$f":"ROUND(IF(E244=\"\",0,SUM(E$8:E244)),2)","v":0}]
[null,null,null,{"$f":"ROUND(IF(C245=\"\",0,SUM(C$8:C245)),2)","v":0},null,{"$f":"ROUND(IF(E245=\"\",0,SUM(E$8:E245)),2)","v":0}]
[null,null,null,{"$f":"ROUND(IF(C246=\"\",0,SUM(C$8:C246)),2)","v":0},null,{"$f":"ROUND(IF(E246=\"\",0,SUM(E$8:E246)),2)","v":0}]
[null,null,null,{"$f":"ROUND(IF(C247=\"\",0,SUM(C$8:C247)),2)","v":0},null,{"$f":"ROUND(IF(E247=\"\",0,SUM(E$8:E247)),2)","v":0}]
[null,null,null,{"$f":"ROUND(IF(C248=\"\",0,SUM(C$8:C248)),2)","v":0},null,{"$f":"ROUND(IF(E248=\"\",0,SUM(E$8:E248)),2)","v":0}]
[null,null,null,{"$f":"ROUND(IF(C249=\"\",0,SUM(C$8:C249)),2)","v":0},null,{"$f":"ROUND(IF(E249=\"\",0,SUM(E$8:E249)),2)","v":0}]
[null,null,null,{"$f":"ROUND(IF(C250=\"\",0,SUM(C$8:C250)),2)","v":0},null,{"$f":"ROUND(IF(E250=\"\",0,SUM(E$8:E250)),2)","v":0}]
[null,null,null,{"$f":"ROUND(IF(C251=\"\",0,SUM(C$8:C251)),2)","v":0},null,{"$f":"ROUND(IF(E251=\"\",0,SUM(E$8:E251)),2)","v":0}]
[null,null,null,{"$f":"ROUND(IF(C252=\"\",0,SUM(C$8:C252)),2)","v":0},null,{"$f":"ROUND(IF(E252=\"\",0,SUM(E$8:E252)),2)","v":0}]
[null,null,null,{"$f":"ROUND(IF(C253=\"\",0,SUM(C$8:C253)),2)","v":0},null,{"$f":"ROUND(IF(E253=\"\",0,SUM(E$8:E253)),2)","v":0}]
[null,null,null,{"$f":"ROUND(IF(C254=\"\",0,SUM(C$8:C254)),2)","v":0},null,{"$f":"ROUND(IF(E254=\"\",0,SUM(E$8:E254)),2)","v":0}]
[null,null,null,{"$f":"ROUND(IF(C255=\"\",0,SUM(C$8:C255)),2)","v":0},null,{"$f":"ROUND(IF(E255=\"\",0,SUM(E$8:E255)),2)","v":0}]
[null,null,null,{"$f":"ROUND(IF(C256=\"\",0,SUM(C$8:C256)),2)","v":0},null,{"$f":"ROUND(IF(E256=\"\",0,SUM(E$8:E256)),2)","v":0}]
[null,null,null,{"$f":"ROUND(IF(C257=\"\",0,SUM(C$8:C257)),2)","v":0},null,{"$f":"ROUND(IF(E257=\"\",0,SUM(E$8:E257)),2)","v":0}]
[null,null,null,{"$f":"ROUND(IF(C258=\"\",0,SUM(C$8:C258)),2)","v":0},null,{"$f":"ROUND(IF(E258=\"\",0,SUM(E$8:E258)),2)","v":0}]
[null,null,null,{"$f":"ROUND(IF(C259=\"\",0,SUM(C$8:C259)),2)","v":0},null,{"$f":"ROUND(IF(E259=\"\",0,SUM(E$8:E259)),2)","v":0}]
[null,null,null,{"$f":"ROUND(IF(C260=\"\",0,SUM(C$8:C260)),2)","v":0},null,{"$f":"ROUND(IF(E260=\"\",0,SUM(E$8:E260)),2)","v":0}]
[null,null,null,{"$f":"ROUND(IF(C261=\"\",0,SUM(C$8:C261)),2)","v":0},null,{"$f":"ROUND(IF(E261=\"\",0,SUM(E$8:E261)),2)","v":0}]
[null,null,null,{"$f":"ROUND(IF(C262=\"\",0,SUM(C$8:C262)),2)","v":0},null,{"$f":"ROUND(IF(E262=\"\",0,SUM(E$8:E262)),2)","v":0}]
[null,null,null,{"$f":"ROUND(IF(C263=\"\",0,SUM(C$8:C263)),2)","v":0},null,{"$f":"ROUND(IF(E263=\"\",0,SUM(E$8:E263)),2)","v":0}]
[null,null,null,{"$f":"ROUND(IF(C264=\"\",0,SUM(C$8:C264)),2)","v":0},null,{"$f":"ROUND(IF(E264=\"\",0,SUM(E$8:E264)),2)","v":0}]
[null,null,null,{"$f":"ROUND(IF(C265=\"\",0,SUM(C$8:C265)),2)","v":0},null,{"$f":"ROUND(IF(E265=\"\",0,SUM(E$8:E265)),2)","v":0}]
[null,null,null,{"$f":"ROUND(IF(C266=\"\",0,SUM(C$8:C266)),2)","v":0},null,{"$f":"ROUND(IF(E266=\"\",0,SUM(E$8:E266)),2)","v":0}]
[null,null,null,{"$f":"ROUND(IF(C267=\"\",0,SUM(C$8:C267)),2)","v":0},null,{"$f":"ROUND(IF(E267=\"\",0,SUM(E$8:E267)),2)","v":0}]
[null,null,null,{"$f":"ROUND(IF(C268=\"\",0,SUM(C$8:C268)),2)","v":0},null,{"$f":"ROUND(IF(E268=\"\",0,SUM(E$8:E268)),2)","v":0}]
[null,null,null,{"$f":"ROUND(IF(C269=\"\",0,SUM(C$8:C269)),2)","v":0},null,{"$f":"ROUND(IF(E269=\"\",0,SUM(E$8:E269)),2)","v":0}]
[null,null,null,{"$f":"ROUND(IF(C270=\"\",0,SUM(C$8:C270)),2)","v":0},null,{"$f":"ROUND(IF(E270=\"\",0,SUM(E$8:E270)),2)","v":0}]
[null,null,null,{"$f":"ROUND(IF(C271=\"\",0,SUM(C$8:C271)),2)","v":0},null,{"$f":"ROUND(IF(E271=\"\",0,SUM(E$8:E271)),2)","v":0}]
[null,null,null,{"$f":"ROUND(IF(C272=\"\",0,SUM(C$8:C272)),2)","v":0},null,{"$f":"ROUND(IF(E272=\"\",0,SUM(E$8:E272)),2)","v":0}]
[null,null,null,{"$f":"ROUND(IF(C273=\"\",0,SUM(C$8:C273)),2)","v":0},null,{"$f":"ROUND(IF(E273=\"\",0,SUM(E$8:E273)),2)","v":0}]
[null,null,null,{"$f":"ROUND(IF(C274=\"\",0,SUM(C$8:C274)),2)","v":0},null,{"$f":"ROUND(IF(E274=\"\",0,SUM(E$8:E274)),2)","v":0}]
[null,null,null,{"$f":"ROUND(IF(C275=\"\",0,SUM(C$8:C275)),2)","v":0},null,{"$f":"ROUND(IF(E275=\"\",0,SUM(E$8:E275)),2)","v":0}]
[null,null,null,{"$f":"ROUND(IF(C276=\"\",0,SUM(C$8:C276)),2)","v":0},null,{"$f":"ROUND(IF(E276=\"\",0,SUM(E$8:E276)),2)","v":0}]
[null,null,null,{"$f":"ROUND(IF(C277=\"\",0,SUM(C$8:C277)),2)","v":0},null,{"$f":"ROUND(IF(E277=\"\",0,SUM(E$8:E277)),2)","v":0}]
[null,null,null,{"$f":"ROUND(IF(C278=\"\",0,SUM(C$8:C278)),2)","v":0},null,{"$f":"ROUND(IF(E278=\"\",0,SUM(E$8:E278)),2)","v":0}]
[null,null,null,{"$f":"ROUND(IF(C279=\"\",0,SUM(C$8:C279)),2)","v":0},null,{"$f":"ROUND(IF(E279=\"\",0,SUM(E$8:E279)),2)","v":0}]
[null,null,null,{"$f":"ROUND(IF(C280=\"\",0,SUM(C$8:C280)),2)","v":0},null,{"$f":"ROUND(IF(E280=\"\",0,SUM(E$8:E280)),2)","v":0}]
[null,null,null,{"$f":"ROUND(IF(C281=\"\",0,SUM(C$8:C281)),2)","v":0},null,{"$f":"ROUND(IF(E281=\"\",0,SUM(E$8:E281)),2)","v":0}]
[null,null,null,{"$f":"ROUND(IF(C282=\"\",0,SUM(C$8:C282)),2)","v":0},null,{"$f":"ROUND(IF(E282=\"\",0,SUM(E$8:E282)),2)","v":0}]
[null,null,null,{"$f":"ROUND(IF(C283=\"\",0,SUM(C$8:C283)),2)","v":0},null,{"$f":"ROUND(IF(E283=\"\",0,SUM(E$8:E283)),2)","v":0}]
[null,null,null,{"$f":"ROUND(IF(C284=\"\",0,SUM(C$8:C284)),2)","v":0},null,{"$f":"ROUND(IF(E284=\"\",0,SUM(E$8:E284)),2)","v":0}]
[null,null,null,{"$f":"ROUND(IF(C285=\"\",0,SUM(C$8:C285)),2)","v":0},null,{"$f":"ROUND(IF(E285=\"\",0,SUM(E$8:E285)),2)","v":0}]
[null,null,null,{"$f":"ROUND(IF(C286=\"\",0,SUM(C$8:C286)),2)","v":0},null,{"$f":"ROUND(IF(E286=\"\",0,SUM(E$8:E286)),2)","v":0}]
[null,null,null,{"$f":"ROUND(IF(C287=\"\",0,SUM(C$8:C287)),2)","v":0},null,{"$f":"ROUND(IF(E287=\"\",0,SUM(E$8:E287)),2)","v":0}]
[null,null,null,{"$f":"ROUND(IF(C288=\"\",0,SUM(C$8:C288)),2)","v":0},null,{"$f":"ROUND(IF(E288=\"\",0,SUM(E$8:E288)),2)","v":0}]
[null,null,null,{"$f":"ROUND(IF(C289=\"\",0,SUM(C$8:C289)),2)","v":0},null,{"$f":"ROUND(IF(E289=\"\",0,SUM(E$8:E289)),2)","v":0}]
[null,null,null,{"$f":"ROUND(IF(C290=\"\",0,SUM(C$8:C290)),2)","v":0},null,{"$f":"ROUND(IF(E290=\"\",0,SUM(E$8:E290)),2)","v":0}]
[null,null,null,{"$f":"ROUND(IF(C291=\"\",0,SUM(C$8:C291)),2)","v":0},null,{"$f":"ROUND(IF(E291=\"\",0,SUM(E$8:E291)),2)","v":0}]
[null,null,null,{"$f":"ROUND(IF(C292=\"\",0,SUM(C$8:C292)),2)","v":0},null,{"$f":"ROUND(IF(E292=\"\",0,SUM(E$8:E292)),2)","v":0}]
[null,null,null,{"$f":"ROUND(IF(C293=\"\",0,SUM(C$8:C293)),2)","v":0},null,{"$f":"ROUND(IF(E293=\"\",0,SUM(E$8:E293)),2)","v":0}]
[null,null,null,{"$f":"ROUND(IF(C294=\"\",0,SUM(C$8:C294)),2)","v":0},null,{"$f":"ROUND(IF(E294=\"\",0,SUM(E$8:E294)),2)","v":0}]
[null,null,null,{"$f":"ROUND(IF(C295=\"\",0,SUM(C$8:C295)),2)","v":0},null,{"$f":"ROUND(IF(E295=\"\",0,SUM(E$8:E295)),2)","v":0}]
[null,null,null,{"$f":"ROUND(IF(C296=\"\",0,SUM(C$8:C296)),2)","v":0},null,{"$f":"ROUND(IF(E296=\"\",0,SUM(E$8:E296)),2)","v":0}]
[null,null,null,{"$f":"ROUND(IF(C297=\"\",0,SUM(C$8:C297)),2)","v":0},null,{"$f":"ROUND(IF(E297=\"\",0,SUM(E$8:E297)),2)","v":0}]
[null,null,null,{"$f":"ROUND(IF(C298=\"\",0,SUM(C$8:C298)),2)","v":0},null,{"$f":"ROUND(IF(E298=\"\",0,SUM(E$8:E298)),2)","v":0}]
[null,null,null,{"$f":"ROUND(IF(C299=\"\",0,SUM(C$8:C299)),2)","v":0},null,{"$f":"ROUND(IF(E299=\"\",0,SUM(E$8:E299)),2)","v":0}]
[null,null,null,{"$f":"ROUND(IF(C300=\"\",0,SUM(C$8:C300)),2)","v":0},null,{"$f":"ROUND(IF(E300=\"\",0,SUM(E$8:E300)),2)","v":0}]
[null,null,null,{"$f":"ROUND(IF(C301=\"\",0,SUM(C$8:C301)),2)","v":0},null,{"$f":"ROUND(IF(E301=\"\",0,SUM(E$8:E301)),2)","v":0}]
[null,null,null,{"$f":"ROUND(IF(C302=\"\",0,SUM(C$8:C302)),2)","v":0},null,{"$f":"ROUND(IF(E302=\"\",0,SUM(E$8:E302)),2)","v":0}]
[null,null,null,{"$f":"ROUND(IF(C303=\"\",0,SUM(C$8:C303)),2)","v":0},null,{"$f":"ROUND(IF(E303=\"\",0,SUM(E$8:E303)),2)","v":0}]
[null,null,null,{"$f":"ROUND(IF(C304=\"\",0,SUM(C$8:C304)),2)","v":0},null,{"$f":"ROUND(IF(E304=\"\",0,SUM(E$8:E304)),2)","v":0}]
[null,null,null,{"$f":"ROUND(IF(C305=\"\",0,SUM(C$8:C305)),2)","v":0},null,{"$f":"ROUND(IF(E305=\"\",0,SUM(E$8:E305)),2)","v":0}]
[null,null,null,{"$f":"ROUND(IF(C306=\"\",0,SUM(C$8:C306)),2)","v":0},null,{"$f":"ROUND(IF(E306=\"\",0,SUM(E$8:E306)),2)","v":0}]
[null,null,null,{"$f":"ROUND(IF(C307=\"\",0,SUM(C$8:C307)),2)","v":0},null,{"$f":"ROUND(IF(E307=\"\",0,SUM(E$8:E307)),2)","v":0}]
[null,null,null,{"$f":"ROUND(IF(C308=\"\",0,SUM(C$8:C308)),2)","v":0},null,{"$f":"ROUND(IF(E308=\"\",0,SUM(E$8:E308)),2)","v":0}]
[null,null,null,{"$f":"ROUND(IF(C309=\"\",0,SUM(C$8:C309)),2)","v":0},null,{"$f":"ROUND(IF(E309=\"\",0,SUM(E$8:E309)),2)","v":0}]
[null,null,null,{"$f":"ROUND(IF(C310=\"\",0,SUM(C$8:C310)),2)","v":0},null,{"$f":"ROUND(IF(E310=\"\",0,SUM(E$8:E310)),2)","v":0}]
[null,null,null,{"$f":"ROUND(IF(C311=\"\",0,SUM(C$8:C311)),2)","v":0},null,{"$f":"ROUND(IF(E311=\"\",0,SUM(E$8:E311)),2)","v":0}]
[null,null,null,{"$f":"ROUND(IF(C312=\"\",0,SUM(C$8:C312)),2)","v":0},null,{"$f":"ROUND(IF(E312=\"\",0,SUM(E$8:E312)),2)","v":0}]
[null,null,null,{"$f":"ROUND(IF(C313=\"\",0,SUM(C$8:C313)),2)","v":0},null,{"$f":"ROUND(IF(E313=\"\",0,SUM(E$8:E313)),2)","v":0}]
[null,null,null,{"$f":"ROUND(IF(C314=\"\",0,SUM(C$8:C314)),2)","v":0},null,{"$f":"ROUND(IF(E314=\"\",0,SUM(E$8:E314)),2)","v":0}]
[null,null,null,{"$f":"ROUND(IF(C315=\"\",0,SUM(C$8:C315)),2)","v":0},null,{"$f":"ROUND(IF(E315=\"\",0,SUM(E$8:E315)),2)","v":0}]
[null,null,null,{"$f":"ROUND(IF(C316=\"\",0,SUM(C$8:C316)),2)","v":0},null,{"$f":"ROUND(IF(E316=\"\",0,SUM(E$8:E316)),2)","v":0}]
[null,null,null,{"$f":"ROUND(IF(C317=\"\",0,SUM(C$8:C317)),2)","v":0},null,{"$f":"ROUND(IF(E317=\"\",0,SUM(E$8:E317)),2)","v":0}]
[null,null,null,{"$f":"ROUND(IF(C318=\"\",0,SUM(C$8:C318)),2)","v":0},null,{"$f":"ROUND(IF(E318=\"\",0,SUM(E$8:E318)),2)","v":0}]
[null,null,null,{"$f":"ROUND(IF(C319=\"\",0,SUM(C$8:C319)),2)","v":0},null,{"$f":"ROUND(IF(E319=\"\",0,SUM(E$8:E319)),2)","v":0}]
[null,null,null,{"$f":"ROUND(IF(C320=\"\",0,SUM(C$8:C320)),2)","v":0},null,{"$f":"ROUND(IF(E320=\"\",0,SUM(E$8:E320)),2)","v":0}]
[null,null,null,{"$f":"ROUND(IF(C321=\"\",0,SUM(C$8:C321)),2)","v":0},null,{"$f":"ROUND(IF(E321=\"\",0,SUM(E$8:E321)),2)","v":0}]
[null,null,null,{"$f":"ROUND(IF(C322=\"\",0,SUM(C$8:C322)),2)","v":0},null,{"$f":"ROUND(IF(E322=\"\",0,SUM(E$8:E322)),2)","v":0}]
[null,null,null,{"$f":"ROUND(IF(C323=\"\",0,SUM(C$8:C323)),2)","v":0},null,{"$f":"ROUND(IF(E323=\"\",0,SUM(E$8:E323)),2)","v":0}]
[null,null,null,{"$f":"ROUND(IF(C324=\"\",0,SUM(C$8:C324)),2)","v":0},null,{"$f":"ROUND(IF(E324=\"\",0,SUM(E$8:E324)),2)","v":0}]
[null,null,null,{"$f":"ROUND(IF(C325=\"\",0,SUM(C$8:C325)),2)","v":0},null,{"$f":"ROUND(IF(E325=\"\",0,SUM(E$8:E325)),2)","v":0}]
[null,null,null,{"$f":"ROUND(IF(C326=\"\",0,SUM(C$8:C326)),2)","v":0},null,{"$f":"ROUND(IF(E326=\"\",0,SUM(E$8:E326)),2)","v":0}]
[null,null,null,{"$f":"ROUND(IF(C327=\"\",0,SUM(C$8:C327)),2)","v":0},null,{"$f":"ROUND(IF(E327=\"\",0,SUM(E$8:E327)),2)","v":0}]
[null,null,null,{"$f":"ROUND(IF(C328=\"\",0,SUM(C$8:C328)),2)","v":0},null,{"$f":"ROUND(IF(E328=\"\",0,SUM(E$8:E328)),2)","v":0}]
[null,null,null,{"$f":"ROUND(IF(C329=\"\",0,SUM(C$8:C329)),2)","v":0},null,{"$f":"ROUND(IF(E329=\"\",0,SUM(E$8:E329)),2)","v":0}]
[null,null,null,{"$f":"ROUND(IF(C330=\"\",0,SUM(C$8:C330)),2)","v":0},null,{"$f":"ROUND(IF(E330=\"\",0,SUM(E$8:E330)),2)","v":0}]
[null,null,null,{"$f":"ROUND(IF(C331=\"\",0,SUM(C$8:C331)),2)","v":0},null,{"$f":"ROUND(IF(E331=\"\",0,SUM(E$8:E331)),2)","v":0}]
[null,null,null,{"$f":"ROUND(IF(C332=\"\",0,SUM(C$8:C332)),2)","v":0},null,{"$f":"ROUND(IF(E332=\"\",0,SUM(E$8:E332)),2)","v":0}]
[null,null,null,{"$f":"ROUND(IF(C333=\"\",0,SUM(C$8:C333)),2)","v":0},null,{"$f":"ROUND(IF(E333=\"\",0,SUM(E$8:E333)),2)","v":0}]
[null,null,null,{"$f":"ROUND(IF(C334=\"\",0,SUM(C$8:C334)),2)","v":0},null,{"$f":"ROUND(IF(E334=\"\",0,SUM(E$8:E334)),2)","v":0}]
[null,null,null,{"$f":"ROUND(IF(C335=\"\",0,SUM(C$8:C335)),2)","v":0},null,{"$f":"ROUND(IF(E335=\"\",0,SUM(E$8:E335)),2)","v":0}]
[null,null,null,{"$f":"ROUND(IF(C336=\"\",0,SUM(C$8:C336)),2)","v":0},null,{"$f":"ROUND(IF(E336=\"\",0,SUM(E$8:E336)),2)","v":0}]
[null,null,null,{"$f":"ROUND(IF(C337=\"\",0,SUM(C$8:C337)),2)","v":0},null,{"$f":"ROUND(IF(E337=\"\",0,SUM(E$8:E337)),2)","v":0}]
[null,null,null,{"$f":"ROUND(IF(C338=\"\",0,SUM(C$8:C338)),2)","v":0},null,{"$f":"ROUND(IF(E338=\"\",0,SUM(E$8:E338)),2)","v":0}]
[null,null,null,{"$f":"ROUND(IF(C339=\"\",0,SUM(C$8:C339)),2)","v":0},null,{"$f":"ROUND(IF(E339=\"\",0,SUM(E$8:E339)),2)","v":0}]
[null,null,null,{"$f":"ROUND(IF(C340=\"\",0,SUM(C$8:C340)),2)","v":0},null,{"$f":"ROUND(IF(E340=\"\",0,SUM(E$8:E340)),2)","v":0}]
[null,null,null,{"$f":"ROUND(IF(C341=\"\",0,SUM(C$8:C341)),2)","v":0},null,{"$f":"ROUND(IF(E341=\"\",0,SUM(E$8:E341)),2)","v":0}]
[null,null,null,{"$f":"ROUND(IF(C342=\"\",0,SUM(C$8:C342)),2)","v":0},null,{"$f":"ROUND(IF(E342=\"\",0,SUM(E$8:E342)),2)","v":0}]
[null,null,null,{"$f":"ROUND(IF(C343=\"\",0,SUM(C$8:C343)),2)","v":0},null,{"$f":"ROUND(IF(E343=\"\",0,SUM(E$8:E343)),2)","v":0}]
[null,null,null,{"$f":"ROUND(IF(C344=\"\",0,SUM(C$8:C344)),2)","v":0},null,{"$f":"ROUND(IF(E344=\"\",0,SUM(E$8:E344)),2)","v":0}]
[null,null,null,{"$f":"ROUND(IF(C345=\"\",0,SUM(C$8:C345)),2)","v":0},null,{"$f":"ROUND(IF(E345=\"\",0,SUM(E$8:E345)),2)","v":0}]
[null,null,null,{"$f":"ROUND(IF(C346=\"\",0,SUM(C$8:C346)),2)","v":0},null,{"$f":"ROUND(IF(E346=\"\",0,SUM(E$8:E346)),2)","v":0}]
[null,null,null,{"$f":"ROUND(IF(C347=\"\",0,SUM(C$8:C347)),2)","v":0},null,{"$f":"ROUND(IF(E347=\"\",0,SUM(E$8:E347)),2)","v":0}]
[null,null,null,{"$f":"ROUND(IF(C348=\"\",0,SUM(C$8:C348)),2)","v":0},null,{"$f":"ROUND(IF(E348=\"\",0,SUM(E$8:E348)),2)","v":0}]
[null,null,null,{"$f":"ROUND(IF(C349=\"\",0,SUM(C$8:C349)),2)","v":0},null,{"$f":"ROUND(IF(E349=\"\",0,SUM(E$8:E349)),2)","v":0}]
[null,null,null,{"$f":"ROUND(IF(C350=\"\",0,SUM(C$8:C350)),2)","v":0},null,{"$f":"ROUND(IF(E350=\"\",0,SUM(E$8:E350)),2)","v":0}]
[null,null,null,{"$f":"ROUND(IF(C351=\"\",0,SUM(C$8:C351)),2)","v":0},null,{"$f":"ROUND(IF(E351=\"\",0,SUM(E$8:E351)),2)","v":0}]
[null,null,null,{"$f":"ROUND(IF(C352=\"\",0,SUM(C$8:C352)),2)","v":0},null,{"$f":"ROUND(IF(E352=\"\",0,SUM(E$8:E352)),2)","v":0}]
[null,null,null,{"$f":"ROUND(IF(C353=\"\",0,SUM(C$8:C353)),2)","v":0},null,{"$f":"ROUND(IF(E353=\"\",0,SUM(E$8:E353)),2)","v":0}]
[null,null,null,{"$f":"ROUND(IF(C354=\"\",0,SUM(C$8:C354)),2)","v":0},null,{"$f":"ROUND(IF(E354=\"\",0,SUM(E$8:E354)),2)","v":0}]
[null,null,null,{"$f":"ROUND(IF(C355=\"\",0,SUM(C$8:C355)),2)","v":0},null,{"$f":"ROUND(IF(E355=\"\",0,SUM(E$8:E355)),2)","v":0}]
[null,null,null,{"$f":"ROUND(IF(C356=\"\",0,SUM(C$8:C356)),2)","v":0},null,{"$f":"ROUND(IF(E356=\"\",0,SUM(E$8:E356)),2)","v":0}]
[null,null,null,{"$f":"ROUND(IF(C357=\"\",0,SUM(C$8:C357)),2)","v":0},null,{"$f":"ROUND(IF(E357=\"\",0,SUM(E$8:E357)),2)","v":0}]
[null,null,null,{"$f":"ROUND(IF(C358=\"\",0,SUM(C$8:C358)),2)","v":0},null,{"$f":"ROUND(IF(E358=\"\",0,SUM(E$8:E358)),2)","v":0}]
[null,null,null,{"$f":"ROUND(IF(C359=\"\",0,SUM(C$8:C359)),2)","v":0},null,{"$f":"ROUND(IF(E359=\"\",0,SUM(E$8:E359)),2)","v":0}]
[null,null,null,{"$f":"ROUND(IF(C360=\"\",0,SUM(C$8:C360)),2)","v":0},null,{"$f":"ROUND(IF(E360=\"\",0,SUM(E$8:E360)),2)","v":0}]
[null,null,null,{"$f":"ROUND(IF(C361=\"\",0,SUM(C$8:C361)),2)","v":0},null,{"$f":"ROUND(IF(E361=\"\",0,SUM(E$8:E361)),2)","v":0}]
[null,null,null,{"$f":"ROUND(IF(C362=\"\",0,SUM(C$8:C362)),2)","v":0},null,{"$f":"ROUND(IF(E362=\"\",0,SUM(E$8:E362)),2)","v":0}]
[null,null,null,{"$f":"ROUND(IF(C363=\"\",0,SUM(C$8:C363)),2)","v":0},null,{"$f":"ROUND(IF(E363=\"\",0,SUM(E$8:E363)),2)","v":0}]
[null,null,null,{"$f":"ROUND(IF(C364=\"\",0,SUM(C$8:C364)),2)","v":0},null,{"$f":"ROUND(IF(E364=\"\",0,SUM(E$8:E364)),2)","v":0}]
[null,null,null,{"$f":"ROUND(IF(C365=\"\",0,SUM(C$8:C365)),2)","v":0},null,{"$f":"ROUND(IF(E365=\"\",0,SUM(E$8:E365)),2)","v":0}]
[null,null,null,{"$f":"ROUND(IF(C366=\"\",0,SUM(C$8:C366)),2)","v":0},null,{"$f":"ROUND(IF(E366=\"\",0,SUM(E$8:E366)),2)","v":0}]
[null,null,null,{"$f":"ROUND(IF(C367=\"\",0,SUM(C$8:C367)),2)","v":0},null,{"$f":"ROUND(IF(E367=\"\",0,SUM(E$8:E367)),2)","v":0}]
[null,null,null,{"$f":"ROUND(IF(C368=\"\",0,SUM(C$8:C368)),2)","v":0},null,{"$f":"ROUND(IF(E368=\"\",0,SUM(E$8:E368)),2)","v":0}]
[null,null,null,{"$f":"ROUND(IF(C369=\"\",0,SUM(C$8:C369)),2)","v":0},null,{"$f":"ROUND(IF(E369=\"\",0,SUM(E$8:E369)),2)","v":0}]
[null,null,null,{"$f":"ROUND(IF(C370=\"\",0,SUM(C$8:C370)),2)","v":0},null,{"$f":"ROUND(IF(E370=\"\",0,SUM(E$8:E370)),2)","v":0}]
[null,null,null,{"$f":"ROUND(IF(C371=\"\",0,SUM(C$8:C371)),2)","v":0},null,{"$f":"ROUND(IF(E371=\"\",0,SUM(E$8:E371)),2)","v":0}]
[null,null,null,{"$f":"ROUND(IF(C372=\"\",0,SUM(C$8:C372)),2)","v":0},null,{"$f":"ROUND(IF(E372=\"\",0,SUM(E$8:E372)),2)","v":0}]
[null,null,null,{"$f":"ROUND(IF(C373=\"\",0,SUM(C$8:C373)),2)","v":0},null,{"$f":"ROUND(IF(E373=\"\",0,SUM(E$8:E373)),2)","v":0}]
[null,null,null,{"$f":"ROUND(IF(C374=\"\",0,SUM(C$8:C374)),2)","v":0},null,{"$f":"ROUND(IF(E374=\"\",0,SUM(E$8:E374)),2)","v":0}]
[null,null,null,{"$f":"ROUND(IF(C375=\"\",0,SUM(C$8:C375)),2)","v":0},null,{"$f":"ROUND(IF(E375=\"\",0,SUM(E$8:E375)),2)","v":0}]
[null,null,null,{"$f":"ROUND(IF(C376=\"\",0,SUM(C$8:C376)),2)","v":0},null,{"$f":"ROUND(IF(E376=\"\",0,SUM(E$8:E376)),2)","v":0}]
[null,null,null,{"$f":"ROUND(IF(C377=\"\",0,SUM(C$8:C377)),2)","v":0},null,{"$f":"ROUND(IF(E377=\"\",0,SUM(E$8:E377)),2)","v":0}]
[null,null,null,{"$f":"ROUND(IF(C378=\"\",0,SUM(C$8:C378)),2)","v":0},null,{"$f":"ROUND(IF(E378=\"\",0,SUM(E$8:E378)),2)","v":0}]
[null,null,null,{"$f":"ROUND(IF(C379=\"\",0,SUM(C$8:C379)),2)","v":0},null,{"$f":"ROUND(IF(E379=\"\",0,SUM(E$8:E379)),2)","v":0}]
[null,null,null,{"$f":"ROUND(IF(C380=\"\",0,SUM(C$8:C380)),2)","v":0},null,{"$f":"ROUND(IF(E380=\"\",0,SUM(E$8:E380)),2)","v":0}]
[null,null,null,{"$f":"ROUND(IF(C381=\"\",0,SUM(C$8:C381)),2)","v":0},null,{"$f":"ROUND(IF(E381=\"\",0,SUM(E$8:E381)),2)","v":0}]
[null,null,null,{"$f":"ROUND(IF(C382=\"\",0,SUM(C$8:C382)),2)","v":0},null,{"$f":"ROUND(IF(E382=\"\",0,SUM(E$8:E382)),2)","v":0}]
[null,null,null,{"$f":"ROUND(IF(C383=\"\",0,SUM(C$8:C383)),2)","v":0},null,{"$f":"ROUND(IF(E383=\"\",0,SUM(E$8:E383)),2)","v":0}]
[null,null,null,{"$f":"ROUND(IF(C384=\"\",0,SUM(C$8:C384)),2)","v":0},null,{"$f":"ROUND(IF(E384=\"\",0,SUM(E$8:E384)),2)","v":0}]
[null,null,null,{"$f":"ROUND(IF(C385=\"\",0,SUM(C$8:C385)),2)","v":0},null,{"$f":"ROUND(IF(E385=\"\",0,SUM(E$8:E385)),2)","v":0}]
[null,null,null,{"$f":"ROUND(IF(C386=\"\",0,SUM(C$8:C386)),2)","v":0},null,{"$f":"ROUND(IF(E386=\"\",0,SUM(E$8:E386)),2)","v":0}]
[null,null,null,{"$f":"ROUND(IF(C387=\"\",0,SUM(C$8:C387)),2)","v":0},null,{"$f":"ROUND(IF(E387=\"\",0,SUM(E$8:E387)),2)","v":0}]
[null,null,null,{"$f":"ROUND(IF(C388=\"\",0,SUM(C$8:C388)),2)","v":0},null,{"$f":"ROUND(IF(E388=\"\",0,SUM(E$8:E388)),2)","v":0}]
[null,null,null,{"$f":"ROUND(IF(C389=\"\",0,SUM(C$8:C389)),2)","v":0},null,{"$f":"ROUND(IF(E389=\"\",0,SUM(E$8:E389)),2)","v":0}]
[null,null,null,{"$f":"ROUND(IF(C390=\"\",0,SUM(C$8:C390)),2)","v":0},null,{"$f":"ROUND(IF(E390=\"\",0,SUM(E$8:E390)),2)","v":0}]
[null,null,null,{"$f":"ROUND(IF(C391=\"\",0,SUM(C$8:C391)),2)","v":0},null,{"$f":"ROUND(IF(E391=\"\",0,SUM(E$8:E391)),2)","v":0}]
[null,null,null,{"$f":"ROUND(IF(C392=\"\",0,SUM(C$8:C392)),2)","v":0},null,{"$f":"ROUND(IF(E392=\"\",0,SUM(E$8:E392)),2)","v":0}]
[null,null,null,{"$f":"ROUND(IF(C393=\"\",0,SUM(C$8:C393)),2)","v":0},null,{"$f":"ROUND(IF(E393=\"\",0,SUM(E$8:E393)),2)","v":0}]
[null,null,null,{"$f":"ROUND(IF(C394=\"\",0,SUM(C$8:C394)),2)","v":0},null,{"$f":"ROUND(IF(E394=\"\",0,SUM(E$8:E394)),2)","v":0}]
[null,null,null,{"$f":"ROUND(IF(C395=\"\",0,SUM(C$8:C395)),2)","v":0},null,{"$f":"ROUND(IF(E395=\"\",0,SUM(E$8:E395)),2)","v":0}]
[null,null,null,{"$f":"ROUND(IF(C396=\"\",0,SUM(C$8:C396)),2)","v":0},null,{"$f":"ROUND(IF(E396=\"\",0,SUM(E$8:E396)),2)","v":0}]
[null,null,null,{"$f":"ROUND(IF(C397=\"\",0,SUM(C$8:C397)),2)","v":0},null,{"$f":"ROUND(IF(E397=\"\",0,SUM(E$8:E397)),2)","v":0}]
[null,null,null,{"$f":"ROUND(IF(C398=\"\",0,SUM(C$8:C398)),2)","v":0},null,{"$f":"ROUND(IF(E398=\"\",0,SUM(E$8:E398)),2)","v":0}]
[null,null,null,{"$f":"ROUND(IF(C399=\"\",0,SUM(C$8:C399)),2)","v":0},null,{"$f":"ROUND(IF(E399=\"\",0,SUM(E$8:E399)),2)","v":0}]
[null,null,null,{"$f":"ROUND(IF(C400=\"\",0,SUM(C$8:C400)),2)","v":0},null,{"$f":"ROUND(IF(E400=\"\",0,SUM(E$8:E400)),2)","v":0}]
[null,null,null,{"$f":"ROUND(IF(C401=\"\",0,SUM(C$8:C401)),2)","v":0},null,{"$f":"ROUND(IF(E401=\"\",0,SUM(E$8:E401)),2)","v":0}]
[null,null,null,{"$f":"ROUND(IF(C402=\"\",0,SUM(C$8:C402)),2)","v":0},null,{"$f":"ROUND(IF(E402=\"\",0,SUM(E$8:E402)),2)","v":0}]
[null,null,null,{"$f":"ROUND(IF(C403=\"\",0,SUM(C$8:C403)),2)","v":0},null,{"$f":"ROUND(IF(E403=\"\",0,SUM(E$8:E403)),2)","v":0}]
[null,null,null,{"$f":"ROUND(IF(C404=\"\",0,SUM(C$8:C404)),2)","v":0},null,{"$f":"ROUND(IF(E404=\"\",0,SUM(E$8:E404)),2)","v":0}]
[null,null,null,{"$f":"ROUND(IF(C405=\"\",0,SUM(C$8:C405)),2)","v":0},null,{"$f":"ROUND(IF(E405=\"\",0,SUM(E$8:E405)),2)","v":0}]
[null,null,null,{"$f":"ROUND(IF(C406=\"\",0,SUM(C$8:C406)),2)","v":0},null,{"$f":"ROUND(IF(E406=\"\",0,SUM(E$8:E406)),2)","v":0}]
[null,null,null,{"$f":"ROUND(IF(C407=\"\",0,SUM(C$8:C407)),2)","v":0},null,{"$f":"ROUND(IF(E407=\"\",0,SUM(E$8:E407)),2)","v":0}]
[null,null,null,{"$f":"ROUND(IF(C408=\"\",0,SUM(C$8:C408)),2)","v":0},null,{"$f":"ROUND(IF(E408=\"\",0,SUM(E$8:E408)),2)","v":0}]
[null,null,null,{"$f":"ROUND(IF(C409=\"\",0,SUM(C$8:C409)),2)","v":0},null,{"$f":"ROUND(IF(E409=\"\",0,SUM(E$8:E409)),2)","v":0}]
[null,null,null,{"$f":"ROUND(IF(C410=\"\",0,SUM(C$8:C410)),2)","v":0},null,{"$f":"ROUND(IF(E410=\"\",0,SUM(E$8:E410)),2)","v":0}]
[null,null,null,{"$f":"ROUND(IF(C411=\"\",0,SUM(C$8:C411)),2)","v":0},null,{"$f":"ROUND(IF(E411=\"\",0,SUM(E$8:E411)),2)","v":0}]
[null,null,null,{"$f":"ROUND(IF(C412=\"\",0,SUM(C$8:C412)),2)","v":0},null,{"$f":"ROUND(IF(E412=\"\",0,SUM(E$8:E412)),2)","v":0}]
[null,null,null,{"$f":"ROUND(IF(C413=\"\",0,SUM(C$8:C413)),2)","v":0},null,{"$f":"ROUND(IF(E413=\"\",0,SUM(E$8:E413)),2)","v":0}]
[null,null,null,{"$f":"ROUND(IF(C414=\"\",0,SUM(C$8:C414)),2)","v":0},null,{"$f":"ROUND(IF(E414=\"\",0,SUM(E$8:E414)),2)","v":0}]
[null,null,null,{"$f":"ROUND(IF(C415=\"\",0,SUM(C$8:C415)),2)","v":0},null,{"$f":"ROUND(IF(E415=\"\",0,SUM(E$8:E415)),2)","v":0}]
[null,null,null,{"$f":"ROUND(IF(C416=\"\",0,SUM(C$8:C416)),2)","v":0},null,{"$f":"ROUND(IF(E416=\"\",0,SUM(E$8:E416)),2)","v":0}]
[null,null,null,{"$f":"ROUND(IF(C417=\"\",0,SUM(C$8:C417)),2)","v":0},null,{"$f":"ROUND(IF(E417=\"\",0,SUM(E$8:E417)),2)","v":0}]
[null,null,null,{"$f":"ROUND(IF(C418=\"\",0,SUM(C$8:C418)),2)","v":0},null,{"$f":"ROUND(IF(E418=\"\",0,SUM(E$8:E418)),2)","v":0}]
[null,null,null,{"$f":"ROUND(IF(C419=\"\",0,SUM(C$8:C419)),2)","v":0},null,{"$f":"ROUND(IF(E419=\"\",0,SUM(E$8:E419)),2)","v":0}]
[null,null,null,{"$f":"ROUND(IF(C420=\"\",0,SUM(C$8:C420)),2)","v":0},null,{"$f":"ROUND(IF(E420=\"\",0,SUM(E$8:E420)),2)","v":0}]
[null,null,null,{"$f":"ROUND(IF(C421=\"\",0,SUM(C$8:C421)),2)","v":0},null,{"$f":"ROUND(IF(E421=\"\",0,SUM(E$8:E421)),2)","v":0}]
[null,null,null,{"$f":"ROUND(IF(C422=\"\",0,SUM(C$8:C422)),2)","v":0},null,{"$f":"ROUND(IF(E422=\"\",0,SUM(E$8:E422)),2)","v":0}]
[null,null,null,{"$f":"ROUND(IF(C423=\"\",0,SUM(C$8:C423)),2)","v":0},null,{"$f":"ROUND(IF(E423=\"\",0,SUM(E$8:E423)),2)","v":0}]
[null,null,null,{"$f":"ROUND(IF(C424=\"\",0,SUM(C$8:C424)),2)","v":0},null,{"$f":"ROUND(IF(E424=\"\",0,SUM(E$8:E424)),2)","v":0}]
[null,null,null,{"$f":"ROUND(IF(C425=\"\",0,SUM(C$8:C425)),2)","v":0},null,{"$f":"ROUND(IF(E425=\"\",0,SUM(E$8:E425)),2)","v":0}]
[null,null,null,{"$f":"ROUND(IF(C426=\"\",0,SUM(C$8:C426)),2)","v":0},null,{"$f":"ROUND(IF(E426=\"\",0,SUM(E$8:E426)),2)","v":0}]
[null,null,null,{"$f":"ROUND(IF(C427=\"\",0,SUM(C$8:C427)),2)","v":0},null,{"$f":"ROUND(IF(E427=\"\",0,SUM(E$8:E427)),2)","v":0}]
[null,null,null,{"$f":"ROUND(IF(C428=\"\",0,SUM(C$8:C428)),2)","v":0},null,{"$f":"ROUND(IF(E428=\"\",0,SUM(E$8:E428)),2)","v":0}]
[null,null,null,{"$f":"ROUND(IF(C429=\"\",0,SUM(C$8:C429)),2)","v":0},null,{"$f":"ROUND(IF(E429=\"\",0,SUM(E$8:E429)),2)","v":0}]
[null,null,null,{"$f":"ROUND(IF(C430=\"\",0,SUM(C$8:C430)),2)","v":0},null,{"$f":"ROUND(IF(E430=\"\",0,SUM(E$8:E430)),2)","v":0}]
[null,null,null,{"$f":"ROUND(IF(C431=\"\",0,SUM(C$8:C431)),2)","v":0},null,{"$f":"ROUND(IF(E431=\"\",0,SUM(E$8:E431)),2)","v":0}]
[null,null,null,{"$f":"ROUND(IF(C432=\"\",0,SUM(C$8:C432)),2)","v":0},null,{"$f":"ROUND(IF(E432=\"\",0,SUM(E$8:E432)),2)","v":0}]
[null,null,null,{"$f":"ROUND(IF(C433=\"\",0,SUM(C$8:C433)),2)","v":0},null,{"$f":"ROUND(IF(E433=\"\",0,SUM(E$8:E433)),2)","v":0}]
[null,null,null,{"$f":"ROUND(IF(C434=\"\",0,SUM(C$8:C434)),2)","v":0},null,{"$f":"ROUND(IF(E434=\"\",0,SUM(E$8:E434)),2)","v":0}]
[null,null,null,{"$f":"ROUND(IF(C435=\"\",0,SUM(C$8:C435)),2)","v":0},null,{"$f":"ROUND(IF(E435=\"\",0,SUM(E$8:E435)),2)","v":0}]
[null,null,null,{"$f":"ROUND(IF(C436=\"\",0,SUM(C$8:C436)),2)","v":0},null,{"$f":"ROUND(IF(E436=\"\",0,SUM(E$8:E436)),2)","v":0}]
[null,null,null,{"$f":"ROUND(IF(C437=\"\",0,SUM(C$8:C437)),2)","v":0},null,{"$f":"ROUND(IF(E437=\"\",0,SUM(E$8:E437)),2)","v":0}]
[null,null,null,{"$f":"ROUND(IF(C438=\"\",0,SUM(C$8:C438)),2)","v":0},null,{"$f":"ROUND(IF(E438=\"\",0,SUM(E$8:E438)),2)","v":0}]
[null,null,null,{"$f":"ROUND(IF(C439=\"\",0,SUM(C$8:C439)),2)","v":0},null,{"$f":"ROUND(IF(E439=\"\",0,SUM(E$8:E439)),2)","v":0}]
[null,null,null,{"$f":"ROUND(IF(C440=\"\",0,SUM(C$8:C440)),2)","v":0},null,{"$f":"ROUND(IF(E440=\"\",0,SUM(E$8:E440)),2)","v":0}]
[null,null,null,{"$f":"ROUND(IF(C441=\"\",0,SUM(C$8:C441)),2)","v":0},null,{"$f":"ROUND(IF(E441=\"\",0,SUM(E$8:E441)),2)","v":0}]
[null,null,null,{"$f":"ROUND(IF(C442=\"\",0,SUM(C$8:C442)),2)","v":0},null,{"$f":"ROUND(IF(E442=\"\",0,SUM(E$8:E442)),2)","v":0}]
[null,null,null,{"$f":"ROUND(IF(C443=\"\",0,SUM(C$8:C443)),2)","v":0},null,{"$f":"ROUND(IF(E443=\"\",0,SUM(E$8:E443)),2)","v":0}]
[null,null,null,{"$f":"ROUND(IF(C444=\"\",0,SUM(C$8:C444)),2)","v":0},null,{"$f":"ROUND(IF(E444=\"\",0,SUM(E$8:E444)),2)","v":0}]
[null,null,null,{"$f":"ROUND(IF(C445=\"\",0,SUM(C$8:C445)),2)","v":0},null,{"$f":"ROUND(IF(E445=\"\",0,SUM(E$8:E445)),2)","v":0}]
[null,null,null,{"$f":"ROUND(IF(C446=\"\",0,SUM(C$8:C446)),2)","v":0},null,{"$f":"ROUND(IF(E446=\"\",0,SUM(E$8:E446)),2)","v":0}]
[null,null,null,{"$f":"ROUND(IF(C447=\"\",0,SUM(C$8:C447)),2)","v":0},null,{"$f":"ROUND(IF(E447=\"\",0,SUM(E$8:E447)),2)","v":0}]
[null,null,null,{"$f":"ROUND(IF(C448=\"\",0,SUM(C$8:C448)),2)","v":0},null,{"$f":"ROUND(IF(E448=\"\",0,SUM(E$8:E448)),2)","v":0}]
[null,null,null,{"$f":"ROUND(IF(C449=\"\",0,SUM(C$8:C449)),2)","v":0},null,{"$f":"ROUND(IF(E449=\"\",0,SUM(E$8:E449)),2)","v":0}]
[null,null,null,{"$f":"ROUND(IF(C450=\"\",0,SUM(C$8:C450)),2)","v":0},null,{"$f":"ROUND(IF(E450=\"\",0,SUM(E$8:E450)),2)","v":0}]
[null,null,null,{"$f":"ROUND(IF(C451=\"\",0,SUM(C$8:C451)),2)","v":0},null,{"$f":"ROUND(IF(E451=\"\",0,SUM(E$8:E451)),2)","v":0}]
[null,null,null,{"$f":"ROUND(IF(C452=\"\",0,SUM(C$8:C452)),2)","v":0},null,{"$f":"ROUND(IF(E452=\"\",0,SUM(E$8:E452)),2)","v":0}]
[null,null,null,{"$f":"ROUND(IF(C453=\"\",0,SUM(C$8:C453)),2)","v":0},null,{"$f":"ROUND(IF(E453=\"\",0,SUM(E$8:E453)),2)","v":0}]
[null,null,null,{"$f":"ROUND(IF(C454=\"\",0,SUM(C$8:C454)),2)","v":0},null,{"$f":"ROUND(IF(E454=\"\",0,SUM(E$8:E454)),2)","v":0}]
[null,null,null,{"$f":"ROUND(IF(C455=\"\",0,SUM(C$8:C455)),2)","v":0},null,{"$f":"ROUND(IF(E455=\"\",0,SUM(E$8:E455)),2)","v":0}]
[null,null,null,{"$f":"ROUND(IF(C456=\"\",0,SUM(C$8:C456)),2)","v":0},null,{"$f":"ROUND(IF(E456=\"\",0,SUM(E$8:E456)),2)","v":0}]
[null,null,null,{"$f":"ROUND(IF(C457=\"\",0,SUM(C$8:C457)),2)","v":0},null,{"$f":"ROUND(IF(E457=\"\",0,SUM(E$8:E457)),2)","v":0}]
[null,null,null,{"$f":"ROUND(IF(C458=\"\",0,SUM(C$8:C458)),2)","v":0},null,{"$f":"ROUND(IF(E458=\"\",0,SUM(E$8:E458)),2)","v":0}]
[null,null,null,{"$f":"ROUND(IF(C459=\"\",0,SUM(C$8:C459)),2)","v":0},null,{"$f":"ROUND(IF(E459=\"\",0,SUM(E$8:E459)),2)","v":0}]
[null,null,null,{"$f":"ROUND(IF(C460=\"\",0,SUM(C$8:C460)),2)","v":0},null,{"$f":"ROUND(IF(E460=\"\",0,SUM(E$8:E460)),2)","v":0}]
[null,null,null,{"$f":"ROUND(IF(C461=\"\",0,SUM(C$8:C461)),2)","v":0},null,{"$f":"ROUND(IF(E461=\"\",0,SUM(E$8:E461)),2)","v":0}]
[null,null,null,{"$f":"ROUND(IF(C462=\"\",0,SUM(C$8:C462)),2)","v":0},null,{"$f":"ROUND(IF(E462=\"\",0,SUM(E$8:E462)),2)","v":0}]
[null,null,null,{"$f":"ROUND(IF(C463=\"\",0,SUM(C$8:C463)),2)","v":0},null,{"$f":"ROUND(IF(E463=\"\",0,SUM(E$8:E463)),2)","v":0}]
[null,null,null,{"$f":"ROUND(IF(C464=\"\",0,SUM(C$8:C464)),2)","v":0},null,{"$f":"ROUND(IF(E464=\"\",0,SUM(E$8:E464)),2)","v":0}]
[null,null,null,{"$f":"ROUND(IF(C465=\"\",0,SUM(C$8:C465)),2)","v":0},null,{"$f":"ROUND(IF(E465=\"\",0,SUM(E$8:E465)),2)","v":0}]
[null,null,null,{"$f":"ROUND(IF(C466=\"\",0,SUM(C$8:C466)),2)","v":0},null,{"$f":"ROUND(IF(E466=\"\",0,SUM(E$8:E466)),2)","v":0}]
[null,null,null,{"$f":"ROUND(IF(C467=\"\",0,SUM(C$8:C467)),2)","v":0},null,{"$f":"ROUND(IF(E467=\"\",0,SUM(E$8:E467)),2)","v":0}]
[null,null,null,{"$f":"ROUND(IF(C468=\"\",0,SUM(C$8:C468)),2)","v":0},null,{"$f":"ROUND(IF(E468=\"\",0,SUM(E$8:E468)),2)","v":0}]
[null,null,null,{"$f":"ROUND(IF(C469=\"\",0,SUM(C$8:C469)),2)","v":0},null,{"$f":"ROUND(IF(E469=\"\",0,SUM(E$8:E469)),2)","v":0}]
[null,null,null,{"$f":"ROUND(IF(C470=\"\",0,SUM(C$8:C470)),2)","v":0},null,{"$f":"ROUND(IF(E470=\"\",0,SUM(E$8:E470)),2)","v":0}]
[null,null,null,{"$f":"ROUND(IF(C471=\"\",0,SUM(C$8:C471)),2)","v":0},null,{"$f":"ROUND(IF(E471=\"\",0,SUM(E$8:E471)),2)","v":0}]
[null,null,null,{"$f":"ROUND(IF(C472=\"\",0,SUM(C$8:C472)),2)","v":0},null,{"$f":"ROUND(IF(E472=\"\",0,SUM(E$8:E472)),2)","v":0}]
[null,null,null,{"$f":"ROUND(IF(C473=\"\",0,SUM(C$8:C473)),2)","v":0},null,{"$f":"ROUND(IF(E473=\"\",0,SUM(E$8:E473)),2)","v":0}]
[null,null,null,{"$f":"ROUND(IF(C474=\"\",0,SUM(C$8:C474)),2)","v":0},null,{"$f":"ROUND(IF(E474=\"\",0,SUM(E$8:E474)),2)","v":0}]
[null,null,null,{"$f":"ROUND(IF(C475=\"\",0,SUM(C$8:C475)),2)","v":0},null,{"$f":"ROUND(IF(E475=\"\",0,SUM(E$8:E475)),2)","v":0}]
[null,null,null,{"$f":"ROUND(IF(C476=\"\",0,SUM(C$8:C476)),2)","v":0},null,{"$f":"ROUND(IF(E476=\"\",0,SUM(E$8:E476)),2)","v":0}]
[null,null,null,{"$f":"ROUND(IF(C477=\"\",0,SUM(C$8:C477)),2)","v":0},null,{"$f":"ROUND(IF(E477=\"\",0,SUM(E$8:E477)),2)","v":0}]
[null,null,null,{"$f":"ROUND(IF(C478=\"\",0,SUM(C$8:C478)),2)","v":0},null,{"$f":"ROUND(IF(E478=\"\",0,SUM(E$8:E478)),2)","v":0}]
[null,null,null,{"$f":"ROUND(IF(C479=\"\",0,SUM(C$8:C479)),2)","v":0},null,{"$f":"ROUND(IF(E479=\"\",0,SUM(E$8:E479)),2)","v":0}]
[null,null,null,{"$f":"ROUND(IF(C480=\"\",0,SUM(C$8:C480)),2)","v":0},null,{"$f":"ROUND(IF(E480=\"\",0,SUM(E$8:E480)),2)","v":0}]
[null,null,null,{"$f":"ROUND(IF(C481=\"\",0,SUM(C$8:C481)),2)","v":0},null,{"$f":"ROUND(IF(E481=\"\",0,SUM(E$8:E481)),2)","v":0}]
[null,null,null,{"$f":"ROUND(IF(C482=\"\",0,SUM(C$8:C482)),2)","v":0},null,{"$f":"ROUND(IF(E482=\"\",0,SUM(E$8:E482)),2)","v":0}]
[null,null,null,{"$f":"ROUND(IF(C483=\"\",0,SUM(C$8:C483)),2)","v":0},null,{"$f":"ROUND(IF(E483=\"\",0,SUM(E$8:E483)),2)","v":0}]
[null,null,null,{"$f":"ROUND(IF(C484=\"\",0,SUM(C$8:C484)),2)","v":0},null,{"$f":"ROUND(IF(E484=\"\",0,SUM(E$8:E484)),2)","v":0}]
[null,null,null,{"$f":"ROUND(IF(C485=\"\",0,SUM(C$8:C485)),2)","v":0},null,{"$f":"ROUND(IF(E485=\"\",0,SUM(E$8:E485)),2)","v":0}]
[null,null,null,{"$f":"ROUND(IF(C486=\"\",0,SUM(C$8:C486)),2)","v":0},null,{"$f":"ROUND(IF(E486=\"\",0,SUM(E$8:E486)),2)","v":0}]
[null,null,null,{"$f":"ROUND(IF(C487=\"\",0,SUM(C$8:C487)),2)","v":0},null,{"$f":"ROUND(IF(E487=\"\",0,SUM(E$8:E487)),2)","v":0}]
[null,null,null,{"$f":"ROUND(IF(C488=\"\",0,SUM(C$8:C488)),2)","v":0},null,{"$f":"ROUND(IF(E488=\"\",0,SUM(E$8:E488)),2)","v":0}]
[null,null,null,{"$f":"ROUND(IF(C489=\"\",0,SUM(C$8:C489)),2)","v":0},null,{"$f":"ROUND(IF(E489=\"\",0,SUM(E$8:E489)),2)","v":0}]
[null,null,null,{"$f":"ROUND(IF(C490=\"\",0,SUM(C$8:C490)),2)","v":0},null,{"$f":"ROUND(IF(E490=\"\",0,SUM(E$8:E490)),2)","v":0}]
[null,null,null,{"$f":"ROUND(IF(C491=\"\",0,SUM(C$8:C491)),2)","v":0},null,{"$f":"ROUND(IF(E491=\"\",0,SUM(E$8:E491)),2)","v":0}]
[null,null,null,{"$f":"ROUND(IF(C492=\"\",0,SUM(C$8:C492)),2)","v":0},null,{"$f":"ROUND(IF(E492=\"\",0,SUM(E$8:E492)),2)","v":0}]
[null,null,null,{"$f":"ROUND(IF(C493=\"\",0,SUM(C$8:C493)),2)","v":0},null,{"$f":"ROUND(IF(E493=\"\",0,SUM(E$8:E493)),2)","v":0}]
[null,null,null,{"$f":"ROUND(IF(C494=\"\",0,SUM(C$8:C494)),2)","v":0},null,{"$f":"ROUND(IF(E494=\"\",0,SUM(E$8:E494)),2)","v":0}]
[null,null,null,{"$f":"ROUND(IF(C495=\"\",0,SUM(C$8:C495)),2)","v":0},null,{"$f":"ROUND(IF(E495=\"\",0,SUM(E$8:E495)),2)","v":0}]
[null,null,null,{"$f":"ROUND(IF(C496=\"\",0,SUM(C$8:C496)),2)","v":0},null,{"$f":"ROUND(IF(E496=\"\",0,SUM(E$8:E496)),2)","v":0}]
[null,null,null,{"$f":"ROUND(IF(C497=\"\",0,SUM(C$8:C497)),2)","v":0},null,{"$f":"ROUND(IF(E497=\"\",0,SUM(E$8:E497)),2)","v":0}]
[null,null,null,{"$f":"ROUND(IF(C498=\"\",0,SUM(C$8:C498)),2)","v":0},null,{"$f":"ROUND(IF(E498=\"\",0,SUM(E$8:E498)),2)","v":0}]
[null,null,null,{"$f":"ROUND(IF(C499=\"\",0,SUM(C$8:C499)),2)","v":0},null,{"$f":"ROUND(IF(E499=\"\",0,SUM(E$8:E499)),2)","v":0}]
[null,null,null,{"$f":"ROUND(IF(C500=\"\",0,SUM(C$8:C500)),2)","v":0},null,{"$f":"ROUND(IF(E500=\"\",0,SUM(E$8:E500)),2)","v":0}]
[null,null,null,{"$f":"ROUND(IF(C501=\"\",0,SUM(C$8:C501)),2)","v":0},null,{"$f":"ROUND(IF(E501=\"\",0,SUM(E$8:E501)),2)","v":0}]
[null,null,null,{"$f":"ROUND(IF(C502=\"\",0,SUM(C$8:C502)),2)","v":0},null,{"$f":"ROUND(IF(E502=\"\",0,SUM(E$8:E502)),2)","v":0}]
[null,null,null,{"$f":"ROUND(IF(C503=\"\",0,SUM(C$8:C503)),2)","v":0},null,{"$f":"ROUND(IF(E503=\"\",0,SUM(E$8:E503)),2)","v":0}]
[null,null,null,{"$f":"ROUND(IF(C504=\"\",0,SUM(C$8:C504)),2)","v":0},null,{"$f":"ROUND(IF(E504=\"\",0,SUM(E$8:E504)),2)","v":0}]
[null,null,null,{"$f":"ROUND(IF(C505=\"\",0,SUM(C$8:C505)),2)","v":0},null,{"$f":"ROUND(IF(E505=\"\",0,SUM(E$8:E505)),2)","v":0}]
[null,null,null,{"$f":"ROUND(IF(C506=\"\",0,SUM(C$8:C506)),2)","v":0},null,{"$f":"ROUND(IF(E506=\"\",0,SUM(E$8:E506)),2)","v":0}]
[null,null,null,{"$f":"ROUND(IF(C507=\"\",0,SUM(C$8:C507)),2)","v":0},null,{"$f":"ROUND(IF(E507=\"\",0,SUM(E$8:E507)),2)","v":0}]
[null,null,null,{"$f":"ROUND(IF(C508=\"\",0,SUM(C$8:C508)),2)","v":0},null,{"$f":"ROUND(IF(E508=\"\",0,SUM(E$8:E508)),2)","v":0}]
[null,null,null,{"$f":"ROUND(IF(C509=\"\",0,SUM(C$8:C509)),2)","v":0},null,{"$f":"ROUND(IF(E509=\"\",0,SUM(E$8:E509)),2)","v":0}]
[null,null,null,{"$f":"ROUND(IF(C510=\"\",0,SUM(C$8:C510)),2)","v":0},null,{"$f":"ROUND(IF(E510=\"\",0,SUM(E$8:E510)),2)","v":0}]
[null,null,null,{"$f":"ROUND(IF(C511=\"\",0,SUM(C$8:C511)),2)","v":0},null,{"$f":"ROUND(IF(E511=\"\",0,SUM(E$8:E511)),2)","v":0}]
[null,null,null,{"$f":"ROUND(IF(C512=\"\",0,SUM(C$8:C512)),2)","v":0},null,{"$f":"ROUND(IF(E512=\"\",0,SUM(E$8:E512)),2)","v":0}]
[null,null,null,{"$f":"ROUND(IF(C513=\"\",0,SUM(C$8:C513)),2)","v":0},null,{"$f":"ROUND(IF(E513=\"\",0,SUM(E$8:E513)),2)","v":0}]
[null,null,null,{"$f":"ROUND(IF(C514=\"\",0,SUM(C$8:C514)),2)","v":0},null,{"$f":"ROUND(IF(E514=\"\",0,SUM(E$8:E514)),2)","v":0}]
[null,null,null,{"$f":"ROUND(IF(C515=\"\",0,SUM(C$8:C515)),2)","v":0},null,{"$f":"ROUND(IF(E515=\"\",0,SUM(E$8:E515)),2)","v":0}]
[null,null,null,{"$f":"ROUND(IF(C516=\"\",0,SUM(C$8:C516)),2)","v":0},null,{"$f":"ROUND(IF(E516=\"\",0,SUM(E$8:E516)),2)","v":0}]
[null,null,null,{"$f":"ROUND(IF(C517=\"\",0,SUM(C$8:C517)),2)","v":0},null,{"$f":"ROUND(IF(E517=\"\",0,SUM(E$8:E517)),2)","v":0}]
[null,null,null,{"$f":"ROUND(IF(C518=\"\",0,SUM(C$8:C518)),2)","v":0},null,{"$f":"ROUND(IF(E518=\"\",0,SUM(E$8:E518)),2)","v":0}]
[null,null,null,{"$f":"ROUND(IF(C519=\"\",0,SUM(C$8:C519)),2)","v":0},null,{"$f":"ROUND(IF(E519=\"\",0,SUM(E$8:E519)),2)","v":0}]
[null,null,null,{"$f":"ROUND(IF(C520=\"\",0,SUM(C$8:C520)),2)","v":0},null,{"$f":"ROUND(IF(E520=\"\",0,SUM(E$8:E520)),2)","v":0}]
[null,null,null,{"$f":"ROUND(IF(C521=\"\",0,SUM(C$8:C521)),2)","v":0},null,{"$f":"ROUND(IF(E521=\"\",0,SUM(E$8:E521)),2)","v":0}]
[null,null,null,{"$f":"ROUND(IF(C522=\"\",0,SUM(C$8:C522)),2)","v":0},null,{"$f":"ROUND(IF(E522=\"\",0,SUM(E$8:E522)),2)","v":0}]
[null,null,null,{"$f":"ROUND(IF(C523=\"\",0,SUM(C$8:C523)),2)","v":0},null,{"$f":"ROUND(IF(E523=\"\",0,SUM(E$8:E523)),2)","v":0}]
[null,null,null,{"$f":"ROUND(IF(C524=\"\",0,SUM(C$8:C524)),2)","v":0},null,{"$f":"ROUND(IF(E524=\"\",0,SUM(E$8:E524)),2)","v":0}]
[null,null,null,{"$f":"ROUND(IF(C525=\"\",0,SUM(C$8:C525)),2)","v":0},null,{"$f":"ROUND(IF(E525=\"\",0,SUM(E$8:E525)),2)","v":0}]
[null,null,null,{"$f":"ROUND(IF(C526=\"\",0,SUM(C$8:C526)),2)","v":0},null,{"$f":"ROUND(IF(E526=\"\",0,SUM(E$8:E526)),2)","v":0}]
[null,null,null,{"$f":"ROUND(IF(C527=\"\",0,SUM(C$8:C527)),2)","v":0},null,{"$f":"ROUND(IF(E527=\"\",0,SUM(E$8:E527)),2)","v":0}]
[null,null,null,{"$f":"ROUND(IF(C528=\"\",0,SUM(C$8:C528)),2)","v":0},null,{"$f":"ROUND(IF(E528=\"\",0,SUM(E$8:E528)),2)","v":0}]
[null,null,null,{"$f":"ROUND(IF(C529=\"\",0,SUM(C$8:C529)),2)","v":0},null,{"$f":"ROUND(IF(E529=\"\",0,SUM(E$8:E529)),2)","v":0}]
[null,null,null,{"$f":"ROUND(IF(C530=\"\",0,SUM(C$8:C530)),2)","v":0},null,{"$f":"ROUND(IF(E530=\"\",0,SUM(E$8:E530)),2)","v":0}]
[null,null,null,{"$f":"ROUND(IF(C531=\"\",0,SUM(C$8:C531)),2)","v":0},null,{"$f":"ROUND(IF(E531=\"\",0,SUM(E$8:E531)),2)","v":0}]
[null,null,null,{"$f":"ROUND(IF(C532=\"\",0,SUM(C$8:C532)),2)","v":0},null,{"$f":"ROUND(IF(E532=\"\",0,SUM(E$8:E532)),2)","v":0}]
[null,null,null,{"$f":"ROUND(IF(C533=\"\",0,SUM(C$8:C533)),2)","v":0},null,{"$f":"ROUND(IF(E533=\"\",0,SUM(E$8:E533)),2)","v":0}]
[null,null,null,{"$f":"ROUND(IF(C534=\"\",0,SUM(C$8:C534)),2)","v":0},null,{"$f":"ROUND(IF(E534=\"\",0,SUM(E$8:E534)),2)","v":0}]
[null,null,null,{"$f":"ROUND(IF(C535=\"\",0,SUM(C$8:C535)),2)","v":0},null,{"$f":"ROUND(IF(E535=\"\",0,SUM(E$8:E535)),2)","v":0}]
[null,null,null,{"$f":"ROUND(IF(C536=\"\",0,SUM(C$8:C536)),2)","v":0},null,{"$f":"ROUND(IF(E536=\"\",0,SUM(E$8:E536)),2)","v":0}]
[null,null,null,{"$f":"ROUND(IF(C537=\"\",0,SUM(C$8:C537)),2)","v":0},null,{"$f":"ROUND(IF(E537=\"\",0,SUM(E$8:E537)),2)","v":0}]
[null,null,null,{"$f":"ROUND(IF(C538=\"\",0,SUM(C$8:C538)),2)","v":0},null,{"$f":"ROUND(IF(E538=\"\",0,SUM(E$8:E538)),2)","v":0}]
[null,null,null,{"$f":"ROUND(IF(C539=\"\",0,SUM(C$8:C539)),2)","v":0},null,{"$f":"ROUND(IF(E539=\"\",0,SUM(E$8:E539)),2)","v":0}]
[null,null,null,{"$f":"ROUND(IF(C540=\"\",0,SUM(C$8:C540)),2)","v":0},null,{"$f":"ROUND(IF(E540=\"\",0,SUM(E$8:E540)),2)","v":0}]
[null,null,null,{"$f":"ROUND(IF(C541=\"\",0,SUM(C$8:C541)),2)","v":0},null,{"$f":"ROUND(IF(E541=\"\",0,SUM(E$8:E541)),2)","v":0}]
[null,null,null,{"$f":"ROUND(IF(C542=\"\",0,SUM(C$8:C542)),2)","v":0},null,{"$f":"ROUND(IF(E542=\"\",0,SUM(E$8:E542)),2)","v":0}]
[null,null,null,{"$f":"ROUND(IF(C543=\"\",0,SUM(C$8:C543)),2)","v":0},null,{"$f":"ROUND(IF(E543=\"\",0,SUM(E$8:E543)),2)","v":0}]
[null,null,null,{"$f":"ROUND(IF(C544=\"\",0,SUM(C$8:C544)),2)","v":0},null,{"$f":"ROUND(IF(E544=\"\",0,SUM(E$8:E544)),2)","v":0}]
[null,null,null,{"$f":"ROUND(IF(C545=\"\",0,SUM(C$8:C545)),2)","v":0},null,{"$f":"ROUND(IF(E545=\"\",0,SUM(E$8:E545)),2)","v":0}]
[null,null,null,{"$f":"ROUND(IF(C546=\"\",0,SUM(C$8:C546)),2)","v":0},null,{"$f":"ROUND(IF(E546=\"\",0,SUM(E$8:E546)),2)","v":0}]
[null,null,null,{"$f":"ROUND(IF(C547=\"\",0,SUM(C$8:C547)),2)","v":0},null,{"$f":"ROUND(IF(E547=\"\",0,SUM(E$8:E547)),2)","v":0}]
[null,null,null,{"$f":"ROUND(IF(C548=\"\",0,SUM(C$8:C548)),2)","v":0},null,{"$f":"ROUND(IF(E548=\"\",0,SUM(E$8:E548)),2)","v":0}]
[null,null,null,{"$f":"ROUND(IF(C549=\"\",0,SUM(C$8:C549)),2)","v":0},null,{"$f":"ROUND(IF(E549=\"\",0,SUM(E$8:E549)),2)","v":0}]
[null,null,null,{"$f":"ROUND(IF(C550=\"\",0,SUM(C$8:C550)),2)","v":0},null,{"$f":"ROUND(IF(E550=\"\",0,SUM(E$8:E550)),2)","v":0}]
[null,null,null,{"$f":"ROUND(IF(C551=\"\",0,SUM(C$8:C551)),2)","v":0},null,{"$f":"ROUND(IF(E551=\"\",0,SUM(E$8:E551)),2)","v":0}]
[null,null,null,{"$f":"ROUND(IF(C552=\"\",0,SUM(C$8:C552)),2)","v":0},null,{"$f":"ROUND(IF(E552=\"\",0,SUM(E$8:E552)),2)","v":0}]
[null,null,null,{"$f":"ROUND(IF(C553=\"\",0,SUM(C$8:C553)),2)","v":0},null,{"$f":"ROUND(IF(E553=\"\",0,SUM(E$8:E553)),2)","v":0}]
[null,null,null,{"$f":"ROUND(IF(C554=\"\",0,SUM(C$8:C554)),2)","v":0},null,{"$f":"ROUND(IF(E554=\"\",0,SUM(E$8:E554)),2)","v":0}]
[null,null,null,{"$f":"ROUND(IF(C555=\"\",0,SUM(C$8:C555)),2)","v":0},null,{"$f":"ROUND(IF(E555=\"\",0,SUM(E$8:E555)),2)","v":0}]
[null,null,null,{"$f":"ROUND(IF(C556=\"\",0,SUM(C$8:C556)),2)","v":0},null,{"$f":"ROUND(IF(E556=\"\",0,SUM(E$8:E556)),2)","v":0}]
[null,null,null,{"$f":"ROUND(IF(C557=\"\",0,SUM(C$8:C557)),2)","v":0},null,{"$f":"ROUND(IF(E557=\"\",0,SUM(E$8:E557)),2)","v":0}]
[null,null,null,{"$f":"ROUND(IF(C558=\"\",0,SUM(C$8:C558)),2)","v":0},null,{"$f":"ROUND(IF(E558=\"\",0,SUM(E$8:E558)),2)","v":0}]
[null,null,null,{"$f":"ROUND(IF(C559=\"\",0,SUM(C$8:C559)),2)","v":0},null,{"$f":"ROUND(IF(E559=\"\",0,SUM(E$8:E559)),2)","v":0}]
[null,null,null,{"$f":"ROUND(IF(C560=\"\",0,SUM(C$8:C560)),2)","v":0},null,{"$f":"ROUND(IF(E560=\"\",0,SUM(E$8:E560)),2)","v":0}]
[null,null,null,{"$f":"ROUND(IF(C561=\"\",0,SUM(C$8:C561)),2)","v":0},null,{"$f":"ROUND(IF(E561=\"\",0,SUM(E$8:E561)),2)","v":0}]
[null,null,null,{"$f":"ROUND(IF(C562=\"\",0,SUM(C$8:C562)),2)","v":0},null,{"$f":"ROUND(IF(E562=\"\",0,SUM(E$8:E562)),2)","v":0}]
[null,null,null,{"$f":"ROUND(IF(C563=\"\",0,SUM(C$8:C563)),2)","v":0},null,{"$f":"ROUND(IF(E563=\"\",0,SUM(E$8:E563)),2)","v":0}]
[null,null,null,{"$f":"ROUND(IF(C564=\"\",0,SUM(C$8:C564)),2)","v":0},null,{"$f":"ROUND(IF(E564=\"\",0,SUM(E$8:E564)),2)","v":0}]
[null,null,null,{"$f":"ROUND(IF(C565=\"\",0,SUM(C$8:C565)),2)","v":0},null,{"$f":"ROUND(IF(E565=\"\",0,SUM(E$8:E565)),2)","v":0}]
[null,null,null,{"$f":"ROUND(IF(C566=\"\",0,SUM(C$8:C566)),2)","v":0},null,{"$f":"ROUND(IF(E566=\"\",0,SUM(E$8:E566)),2)","v":0}]
[null,null,null,{"$f":"ROUND(IF(C567=\"\",0,SUM(C$8:C567)),2)","v":0},null,{"$f":"ROUND(IF(E567=\"\",0,SUM(E$8:E567)),2)","v":0}]
[null,null,null,{"$f":"ROUND(IF(C568=\"\",0,SUM(C$8:C568)),2)","v":0},null,{"$f":"ROUND(IF(E568=\"\",0,SUM(E$8:E568)),2)","v":0}]
[null,null,null,{"$f":"ROUND(IF(C569=\"\",0,SUM(C$8:C569)),2)","v":0},null,{"$f":"ROUND(IF(E569=\"\",0,SUM(E$8:E569)),2)","v":0}]
[null,null,null,{"$f":"ROUND(IF(C570=\"\",0,SUM(C$8:C570)),2)","v":0},null,{"$f":"ROUND(IF(E570=\"\",0,SUM(E$8:E570)),2)","v":0}]
[null,null,null,{"$f":"ROUND(IF(C571=\"\",0,SUM(C$8:C571)),2)","v":0},null,{"$f":"ROUND(IF(E571=\"\",0,SUM(E$8:E571)),2)","v":0}]
[null,null,null,{"$f":"ROUND(IF(C572=\"\",0,SUM(C$8:C572)),2)","v":0},null,{"$f":"ROUND(IF(E572=\"\",0,SUM(E$8:E572)),2)","v":0}]
[null,null,null,{"$f":"ROUND(IF(C573=\"\",0,SUM(C$8:C573)),2)","v":0},null,{"$f":"ROUND(IF(E573=\"\",0,SUM(E$8:E573)),2)","v":0}]
[null,null,null,{"$f":"ROUND(IF(C574=\"\",0,SUM(C$8:C574)),2)","v":0},null,{"$f":"ROUND(IF(E574=\"\",0,SUM(E$8:E574)),2)","v":0}]
[null,null,null,{"$f":"ROUND(IF(C575=\"\",0,SUM(C$8:C575)),2)","v":0},null,{"$f":"ROUND(IF(E575=\"\",0,SUM(E$8:E575)),2)","v":0}]
[null,null,null,{"$f":"ROUND(IF(C576=\"\",0,SUM(C$8:C576)),2)","v":0},null,{"$f":"ROUND(IF(E576=\"\",0,SUM(E$8:E576)),2)","v":0}]
[null,null,null,{"$f":"ROUND(IF(C577=\"\",0,SUM(C$8:C577)),2)","v":0},null,{"$f":"ROUND(IF(E577=\"\",0,SUM(E$8:E577)),2)","v":0}]
[null,null,null,{"$f":"ROUND(IF(C578=\"\",0,SUM(C$8:C578)),2)","v":0},null,{"$f":"ROUND(IF(E578=\"\",0,SUM(E$8:E578)),2)","v":0}]
[null,null,null,{"$f":"ROUND(IF(C579=\"\",0,SUM(C$8:C579)),2)","v":0},null,{"$f":"ROUND(IF(E579=\"\",0,SUM(E$8:E579)),2)","v":0}]
[null,null,null,{"$f":"ROUND(IF(C580=\"\",0,SUM(C$8:C580)),2)","v":0},null,{"$f":"ROUND(IF(E580=\"\",0,SUM(E$8:E580)),2)","v":0}]
[null,null,null,{"$f":"ROUND(IF(C581=\"\",0,SUM(C$8:C581)),2)","v":0},null,{"$f":"ROUND(IF(E581=\"\",0,SUM(E$8:E581)),2)","v":0}]
[null,null,null,{"$f":"ROUND(IF(C582=\"\",0,SUM(C$8:C582)),2)","v":0},null,{"$f":"ROUND(IF(E582=\"\",0,SUM(E$8:E582)),2)","v":0}]
[null,null,null,{"$f":"ROUND(IF(C583=\"\",0,SUM(C$8:C583)),2)","v":0},null,{"$f":"ROUND(IF(E583=\"\",0,SUM(E$8:E583)),2)","v":0}]
[null,null,null,{"$f":"ROUND(IF(C584=\"\",0,SUM(C$8:C584)),2)","v":0},null,{"$f":"ROUND(IF(E584=\"\",0,SUM(E$8:E584)),2)","v":0}]
[null,null,null,{"$f":"ROUND(IF(C585=\"\",0,SUM(C$8:C585)),2)","v":0},null,{"$f":"ROUND(IF(E585=\"\",0,SUM(E$8:E585)),2)","v":0}]
[null,null,null,{"$f":"ROUND(IF(C586=\"\",0,SUM(C$8:C586)),2)","v":0},null,{"$f":"ROUND(IF(E586=\"\",0,SUM(E$8:E586)),2)","v":0}]
[null,null,null,{"$f":"ROUND(IF(C587=\"\",0,SUM(C$8:C587)),2)","v":0},null,{"$f":"ROUND(IF(E587=\"\",0,SUM(E$8:E587)),2)","v":0}]
[null,null,null,{"$f":"ROUND(IF(C588=\"\",0,SUM(C$8:C588)),2)","v":0},null,{"$f":"ROUND(IF(E588=\"\",0,SUM(E$8:E588)),2)","v":0}]
[null,null,null,{"$f":"ROUND(IF(C589=\"\",0,SUM(C$8:C589)),2)","v":0},null,{"$f":"ROUND(IF(E589=\"\",0,SUM(E$8:E589)),2)","v":0}]
[null,null,null,{"$f":"ROUND(IF(C590=\"\",0,SUM(C$8:C590)),2)","v":0},null,{"$f":"ROUND(IF(E590=\"\",0,SUM(E$8:E590)),2)","v":0}]
[null,null,null,{"$f":"ROUND(IF(C591=\"\",0,SUM(C$8:C591)),2)","v":0},null,{"$f":"ROUND(IF(E591=\"\",0,SUM(E$8:E591)),2)","v":0}]
[null,null,null,{"$f":"ROUND(IF(C592=\"\",0,SUM(C$8:C592)),2)","v":0},null,{"$f":"ROUND(IF(E592=\"\",0,SUM(E$8:E592)),2)","v":0}]
[null,null,null,{"$f":"ROUND(IF(C593=\"\",0,SUM(C$8:C593)),2)","v":0},null,{"$f":"ROUND(IF(E593=\"\",0,SUM(E$8:E593)),2)","v":0}]
[null,null,null,{"$f":"ROUND(IF(C594=\"\",0,SUM(C$8:C594)),2)","v":0},null,{"$f":"ROUND(IF(E594=\"\",0,SUM(E$8:E594)),2)","v":0}]
[null,null,null,{"$f":"ROUND(IF(C595=\"\",0,SUM(C$8:C595)),2)","v":0},null,{"$f":"ROUND(IF(E595=\"\",0,SUM(E$8:E595)),2)","v":0}]
[null,null,null,{"$f":"ROUND(IF(C596=\"\",0,SUM(C$8:C596)),2)","v":0},null,{"$f":"ROUND(IF(E596=\"\",0,SUM(E$8:E596)),2)","v":0}]
[null,null,null,{"$f":"ROUND(IF(C597=\"\",0,SUM(C$8:C597)),2)","v":0},null,{"$f":"ROUND(IF(E597=\"\",0,SUM(E$8:E597)),2)","v":0}]
[null,null,null,{"$f":"ROUND(IF(C598=\"\",0,SUM(C$8:C598)),2)","v":0},null,{"$f":"ROUND(IF(E598=\"\",0,SUM(E$8:E598)),2)","v":0}]
[null,null,null,{"$f":"ROUND(IF(C599=\"\",0,SUM(C$8:C599)),2)","v":0},null,{"$f":"ROUND(IF(E599=\"\",0,SUM(E$8:E599)),2)","v":0}]
[null,null,null,{"$f":"ROUND(IF(C600=\"\",0,SUM(C$8:C600)),2)","v":0},null,{"$f":"ROUND(IF(E600=\"\",0,SUM(E$8:E600)),2)","v":0}]
[null,null,null,{"$f":"ROUND(IF(C601=\"\",0,SUM(C$8:C601)),2)","v":0},null,{"$f":"ROUND(IF(E601=\"\",0,SUM(E$8:E601)),2)","v":0}]
[null,null,null,{"$f":"ROUND(IF(C602=\"\",0,SUM(C$8:C602)),2)","v":0},null,{"$f":"ROUND(IF(E602=\"\",0,SUM(E$8:E602)),2)","v":0}]
[null,null,null,{"$f":"ROUND(IF(C603=\"\",0,SUM(C$8:C603)),2)","v":0},null,{"$f":"ROUND(IF(E603=\"\",0,SUM(E$8:E603)),2)","v":0}]
[null,null,null,{"$f":"ROUND(IF(C604=\"\",0,SUM(C$8:C604)),2)","v":0},null,{"$f":"ROUND(IF(E604=\"\",0,SUM(E$8:E604)),2)","v":0}]
[null,null,null,{"$f":"ROUND(IF(C605=\"\",0,SUM(C$8:C605)),2)","v":0},null,{"$f":"ROUND(IF(E605=\"\",0,SUM(E$8:E605)),2)","v":0}]
[null,null,null,{"$f":"ROUND(IF(C606=\"\",0,SUM(C$8:C606)),2)","v":0},null,{"$f":"ROUND(IF(E606=\"\",0,SUM(E$8:E606)),2)","v":0}]
[null,null,null,{"$f":"ROUND(IF(C607=\"\",0,SUM(C$8:C607)),2)","v":0},null,{"$f":"ROUND(IF(E607=\"\",0,SUM(E$8:E607)),2)","v":0}]

{"sheet":"Cem 4","index":5,"n_rows":607,"n_cols":9,"rows_kept":607,"cut":false,"hidden":false,"merged":[]}
["Cement  Shipments  4",null,null,null,null,null,null,null,{"$f":"Info!B2","v":"E"}]
["Spec. Grav.: ",{"$f":"IF(AND(Info!B23=\"\", Info!C23=\"\"),\"\", IF(Info!B23<>\"\", Info!B23, Info!C23))","v":""},null,null,null,null,"Page No.: "]
["Source: ",{"$f":"IF(AND(Info!B21=\"\", Info!C21=\"\"),\"\", IF(Info!B21<>\"\", Info!B21, Info!C21))","v":""},null,null,null,null,"Type: ",{"$f":"IF(AND(Info!B22=\"\", Info!C22=\"\"),\"\", IF(Info!B22<>\"\", Info!B22, Info!C22))","v":""}]
["Project No.: ",{"$f":"IF(Info!B3=\"\",\"\",(Info!B3))","v":""},null,null,null,null,"Contract ID.: ",{"$f":"IF(Info!B4=\"\",\"\",(Info!B4))","v":""}]
[]
[null,"Ticket","Certified","To  Date","Used","To  Date",null,null," "]
["Date","No.",{"$f":"IF(Info!$B$2=\"M\",\"(Mg's)\",\"(Tons)\")","v":"(Tons)"},{"$f":"IF(Info!$B$2=\"M\",\"(Mg's)\",\"(Tons)\")","v":"(Tons)"},{"$f":"IF(Info!$B$2=\"M\",\"(Mg's)\",\"(Tons)\")","v":"(Tons)"},{"$f":"IF(Info!$B$2=\"M\",\"(Mg's)\",\"(Tons)\")","v":"(Tons)"},"Remarks",null,"By"]
[null,null,null,{"$f":"SUM(C8)","v":0},null,{"$f":"SUM(E8)","v":0}]
[null,null,null,{"$f":"ROUND(IF(C9=\"\",0,SUM(C$8:C9)),2)","v":0},null,{"$f":"ROUND(IF(E9=\"\",0,SUM(E$8:E9)),2)","v":0}]
[null,null,null,{"$f":"ROUND(IF(C10=\"\",0,SUM(C$8:C10)),2)","v":0},null,{"$f":"ROUND(IF(E10=\"\",0,SUM(E$8:E10)),2)","v":0}]
[null,null,null,{"$f":"ROUND(IF(C11=\"\",0,SUM(C$8:C11)),2)","v":0},null,{"$f":"ROUND(IF(E11=\"\",0,SUM(E$8:E11)),2)","v":0}]
[null,null,null,{"$f":"ROUND(IF(C12=\"\",0,SUM(C$8:C12)),2)","v":0},null,{"$f":"ROUND(IF(E12=\"\",0,SUM(E$8:E12)),2)","v":0}]
[null,null,null,{"$f":"ROUND(IF(C13=\"\",0,SUM(C$8:C13)),2)","v":0},null,{"$f":"ROUND(IF(E13=\"\",0,SUM(E$8:E13)),2)","v":0}]
[null,null,null,{"$f":"ROUND(IF(C14=\"\",0,SUM(C$8:C14)),2)","v":0},null,{"$f":"ROUND(IF(E14=\"\",0,SUM(E$8:E14)),2)","v":0}]
[null,null,null,{"$f":"ROUND(IF(C15=\"\",0,SUM(C$8:C15)),2)","v":0},null,{"$f":"ROUND(IF(E15=\"\",0,SUM(E$8:E15)),2)","v":0}]
[null,null,null,{"$f":"ROUND(IF(C16=\"\",0,SUM(C$8:C16)),2)","v":0},null,{"$f":"ROUND(IF(E16=\"\",0,SUM(E$8:E16)),2)","v":0}]
[null,null,null,{"$f":"ROUND(IF(C17=\"\",0,SUM(C$8:C17)),2)","v":0},null,{"$f":"ROUND(IF(E17=\"\",0,SUM(E$8:E17)),2)","v":0}]
[null,null,null,{"$f":"ROUND(IF(C18=\"\",0,SUM(C$8:C18)),2)","v":0},null,{"$f":"ROUND(IF(E18=\"\",0,SUM(E$8:E18)),2)","v":0}]
[null,null,null,{"$f":"ROUND(IF(C19=\"\",0,SUM(C$8:C19)),2)","v":0},null,{"$f":"ROUND(IF(E19=\"\",0,SUM(E$8:E19)),2)","v":0}]
[null,null,null,{"$f":"ROUND(IF(C20=\"\",0,SUM(C$8:C20)),2)","v":0},null,{"$f":"ROUND(IF(E20=\"\",0,SUM(E$8:E20)),2)","v":0}]
[null,null,null,{"$f":"ROUND(IF(C21=\"\",0,SUM(C$8:C21)),2)","v":0},null,{"$f":"ROUND(IF(E21=\"\",0,SUM(E$8:E21)),2)","v":0}]
[null,null,null,{"$f":"ROUND(IF(C22=\"\",0,SUM(C$8:C22)),2)","v":0},null,{"$f":"ROUND(IF(E22=\"\",0,SUM(E$8:E22)),2)","v":0}]
[null,null,null,{"$f":"ROUND(IF(C23=\"\",0,SUM(C$8:C23)),2)","v":0},null,{"$f":"ROUND(IF(E23=\"\",0,SUM(E$8:E23)),2)","v":0}]
[null,null,null,{"$f":"ROUND(IF(C24=\"\",0,SUM(C$8:C24)),2)","v":0},null,{"$f":"ROUND(IF(E24=\"\",0,SUM(E$8:E24)),2)","v":0}]
[null,null,null,{"$f":"ROUND(IF(C25=\"\",0,SUM(C$8:C25)),2)","v":0},null,{"$f":"ROUND(IF(E25=\"\",0,SUM(E$8:E25)),2)","v":0}]
[null,null,null,{"$f":"ROUND(IF(C26=\"\",0,SUM(C$8:C26)),2)","v":0},null,{"$f":"ROUND(IF(E26=\"\",0,SUM(E$8:E26)),2)","v":0}]
[null,null,null,{"$f":"ROUND(IF(C27=\"\",0,SUM(C$8:C27)),2)","v":0},null,{"$f":"ROUND(IF(E27=\"\",0,SUM(E$8:E27)),2)","v":0}]
[null,null,null,{"$f":"ROUND(IF(C28=\"\",0,SUM(C$8:C28)),2)","v":0},null,{"$f":"ROUND(IF(E28=\"\",0,SUM(E$8:E28)),2)","v":0}]
[null,null,null,{"$f":"ROUND(IF(C29=\"\",0,SUM(C$8:C29)),2)","v":0},null,{"$f":"ROUND(IF(E29=\"\",0,SUM(E$8:E29)),2)","v":0}]
[null,null,null,{"$f":"ROUND(IF(C30=\"\",0,SUM(C$8:C30)),2)","v":0},null,{"$f":"ROUND(IF(E30=\"\",0,SUM(E$8:E30)),2)","v":0}]
[null,null,null,{"$f":"ROUND(IF(C31=\"\",0,SUM(C$8:C31)),2)","v":0},null,{"$f":"ROUND(IF(E31=\"\",0,SUM(E$8:E31)),2)","v":0}]
[null,null,null,{"$f":"ROUND(IF(C32=\"\",0,SUM(C$8:C32)),2)","v":0},null,{"$f":"ROUND(IF(E32=\"\",0,SUM(E$8:E32)),2)","v":0}]
[null,null,null,{"$f":"ROUND(IF(C33=\"\",0,SUM(C$8:C33)),2)","v":0},null,{"$f":"ROUND(IF(E33=\"\",0,SUM(E$8:E33)),2)","v":0}]
[null,null,null,{"$f":"ROUND(IF(C34=\"\",0,SUM(C$8:C34)),2)","v":0},null,{"$f":"ROUND(IF(E34=\"\",0,SUM(E$8:E34)),2)","v":0}]
[null,null,null,{"$f":"ROUND(IF(C35=\"\",0,SUM(C$8:C35)),2)","v":0},null,{"$f":"ROUND(IF(E35=\"\",0,SUM(E$8:E35)),2)","v":0}]
[null,null,null,{"$f":"ROUND(IF(C36=\"\",0,SUM(C$8:C36)),2)","v":0},null,{"$f":"ROUND(IF(E36=\"\",0,SUM(E$8:E36)),2)","v":0}]
[null,null,null,{"$f":"ROUND(IF(C37=\"\",0,SUM(C$8:C37)),2)","v":0},null,{"$f":"ROUND(IF(E37=\"\",0,SUM(E$8:E37)),2)","v":0}]
[null,null,null,{"$f":"ROUND(IF(C38=\"\",0,SUM(C$8:C38)),2)","v":0},null,{"$f":"ROUND(IF(E38=\"\",0,SUM(E$8:E38)),2)","v":0}]
[null,null,null,{"$f":"ROUND(IF(C39=\"\",0,SUM(C$8:C39)),2)","v":0},null,{"$f":"ROUND(IF(E39=\"\",0,SUM(E$8:E39)),2)","v":0}]
[null,null,null,{"$f":"ROUND(IF(C40=\"\",0,SUM(C$8:C40)),2)","v":0},null,{"$f":"ROUND(IF(E40=\"\",0,SUM(E$8:E40)),2)","v":0}]
[null,null,null,{"$f":"ROUND(IF(C41=\"\",0,SUM(C$8:C41)),2)","v":0},null,{"$f":"ROUND(IF(E41=\"\",0,SUM(E$8:E41)),2)","v":0}]
[null,null,null,{"$f":"ROUND(IF(C42=\"\",0,SUM(C$8:C42)),2)","v":0},null,{"$f":"ROUND(IF(E42=\"\",0,SUM(E$8:E42)),2)","v":0}]
[null,null,null,{"$f":"ROUND(IF(C43=\"\",0,SUM(C$8:C43)),2)","v":0},null,{"$f":"ROUND(IF(E43=\"\",0,SUM(E$8:E43)),2)","v":0}]
[null,null,null,{"$f":"ROUND(IF(C44=\"\",0,SUM(C$8:C44)),2)","v":0},null,{"$f":"ROUND(IF(E44=\"\",0,SUM(E$8:E44)),2)","v":0}]
[null,null,null,{"$f":"ROUND(IF(C45=\"\",0,SUM(C$8:C45)),2)","v":0},null,{"$f":"ROUND(IF(E45=\"\",0,SUM(E$8:E45)),2)","v":0}]
[null,null,null,{"$f":"ROUND(IF(C46=\"\",0,SUM(C$8:C46)),2)","v":0},null,{"$f":"ROUND(IF(E46=\"\",0,SUM(E$8:E46)),2)","v":0}]
[null,null,null,{"$f":"ROUND(IF(C47=\"\",0,SUM(C$8:C47)),2)","v":0},null,{"$f":"ROUND(IF(E47=\"\",0,SUM(E$8:E47)),2)","v":0}]
[null,null,null,{"$f":"ROUND(IF(C48=\"\",0,SUM(C$8:C48)),2)","v":0},null,{"$f":"ROUND(IF(E48=\"\",0,SUM(E$8:E48)),2)","v":0}]
[null,null,null,{"$f":"ROUND(IF(C49=\"\",0,SUM(C$8:C49)),2)","v":0},null,{"$f":"ROUND(IF(E49=\"\",0,SUM(E$8:E49)),2)","v":0}]
[null,null,null,{"$f":"ROUND(IF(C50=\"\",0,SUM(C$8:C50)),2)","v":0},null,{"$f":"ROUND(IF(E50=\"\",0,SUM(E$8:E50)),2)","v":0}]
[null,null,null,{"$f":"ROUND(IF(C51=\"\",0,SUM(C$8:C51)),2)","v":0},null,{"$f":"ROUND(IF(E51=\"\",0,SUM(E$8:E51)),2)","v":0}]
[null,null,null,{"$f":"ROUND(IF(C52=\"\",0,SUM(C$8:C52)),2)","v":0},null,{"$f":"ROUND(IF(E52=\"\",0,SUM(E$8:E52)),2)","v":0}]
[null,null,null,{"$f":"ROUND(IF(C53=\"\",0,SUM(C$8:C53)),2)","v":0},null,{"$f":"ROUND(IF(E53=\"\",0,SUM(E$8:E53)),2)","v":0}]
[null,null,null,{"$f":"ROUND(IF(C54=\"\",0,SUM(C$8:C54)),2)","v":0},null,{"$f":"ROUND(IF(E54=\"\",0,SUM(E$8:E54)),2)","v":0}]
[null,null,null,{"$f":"ROUND(IF(C55=\"\",0,SUM(C$8:C55)),2)","v":0},null,{"$f":"ROUND(IF(E55=\"\",0,SUM(E$8:E55)),2)","v":0}]
[null,null,null,{"$f":"ROUND(IF(C56=\"\",0,SUM(C$8:C56)),2)","v":0},null,{"$f":"ROUND(IF(E56=\"\",0,SUM(E$8:E56)),2)","v":0}]
[null,null,null,{"$f":"ROUND(IF(C57=\"\",0,SUM(C$8:C57)),2)","v":0},null,{"$f":"ROUND(IF(E57=\"\",0,SUM(E$8:E57)),2)","v":0}]
[null,null,null,{"$f":"ROUND(IF(C58=\"\",0,SUM(C$8:C58)),2)","v":0},null,{"$f":"ROUND(IF(E58=\"\",0,SUM(E$8:E58)),2)","v":0}]
[null,null,null,{"$f":"ROUND(IF(C59=\"\",0,SUM(C$8:C59)),2)","v":0},null,{"$f":"ROUND(IF(E59=\"\",0,SUM(E$8:E59)),2)","v":0}]
[null,null,null,{"$f":"ROUND(IF(C60=\"\",0,SUM(C$8:C60)),2)","v":0},null,{"$f":"ROUND(IF(E60=\"\",0,SUM(E$8:E60)),2)","v":0}]
[null,null,null,{"$f":"ROUND(IF(C61=\"\",0,SUM(C$8:C61)),2)","v":0},null,{"$f":"ROUND(IF(E61=\"\",0,SUM(E$8:E61)),2)","v":0}]
[null,null,null,{"$f":"ROUND(IF(C62=\"\",0,SUM(C$8:C62)),2)","v":0},null,{"$f":"ROUND(IF(E62=\"\",0,SUM(E$8:E62)),2)","v":0}]
[null,null,null,{"$f":"ROUND(IF(C63=\"\",0,SUM(C$8:C63)),2)","v":0},null,{"$f":"ROUND(IF(E63=\"\",0,SUM(E$8:E63)),2)","v":0}]
[null,null,null,{"$f":"ROUND(IF(C64=\"\",0,SUM(C$8:C64)),2)","v":0},null,{"$f":"ROUND(IF(E64=\"\",0,SUM(E$8:E64)),2)","v":0}]
[null,null,null,{"$f":"ROUND(IF(C65=\"\",0,SUM(C$8:C65)),2)","v":0},null,{"$f":"ROUND(IF(E65=\"\",0,SUM(E$8:E65)),2)","v":0}]
[null,null,null,{"$f":"ROUND(IF(C66=\"\",0,SUM(C$8:C66)),2)","v":0},null,{"$f":"ROUND(IF(E66=\"\",0,SUM(E$8:E66)),2)","v":0}]
[null,null,null,{"$f":"ROUND(IF(C67=\"\",0,SUM(C$8:C67)),2)","v":0},null,{"$f":"ROUND(IF(E67=\"\",0,SUM(E$8:E67)),2)","v":0}]
[null,null,null,{"$f":"ROUND(IF(C68=\"\",0,SUM(C$8:C68)),2)","v":0},null,{"$f":"ROUND(IF(E68=\"\",0,SUM(E$8:E68)),2)","v":0}]
[null,null,null,{"$f":"ROUND(IF(C69=\"\",0,SUM(C$8:C69)),2)","v":0},null,{"$f":"ROUND(IF(E69=\"\",0,SUM(E$8:E69)),2)","v":0}]
[null,null,null,{"$f":"ROUND(IF(C70=\"\",0,SUM(C$8:C70)),2)","v":0},null,{"$f":"ROUND(IF(E70=\"\",0,SUM(E$8:E70)),2)","v":0}]
[null,null,null,{"$f":"ROUND(IF(C71=\"\",0,SUM(C$8:C71)),2)","v":0},null,{"$f":"ROUND(IF(E71=\"\",0,SUM(E$8:E71)),2)","v":0}]
[null,null,null,{"$f":"ROUND(IF(C72=\"\",0,SUM(C$8:C72)),2)","v":0},null,{"$f":"ROUND(IF(E72=\"\",0,SUM(E$8:E72)),2)","v":0}]
[null,null,null,{"$f":"ROUND(IF(C73=\"\",0,SUM(C$8:C73)),2)","v":0},null,{"$f":"ROUND(IF(E73=\"\",0,SUM(E$8:E73)),2)","v":0}]
[null,null,null,{"$f":"ROUND(IF(C74=\"\",0,SUM(C$8:C74)),2)","v":0},null,{"$f":"ROUND(IF(E74=\"\",0,SUM(E$8:E74)),2)","v":0}]
[null,null,null,{"$f":"ROUND(IF(C75=\"\",0,SUM(C$8:C75)),2)","v":0},null,{"$f":"ROUND(IF(E75=\"\",0,SUM(E$8:E75)),2)","v":0}]
[null,null,null,{"$f":"ROUND(IF(C76=\"\",0,SUM(C$8:C76)),2)","v":0},null,{"$f":"ROUND(IF(E76=\"\",0,SUM(E$8:E76)),2)","v":0}]
[null,null,null,{"$f":"ROUND(IF(C77=\"\",0,SUM(C$8:C77)),2)","v":0},null,{"$f":"ROUND(IF(E77=\"\",0,SUM(E$8:E77)),2)","v":0}]
[null,null,null,{"$f":"ROUND(IF(C78=\"\",0,SUM(C$8:C78)),2)","v":0},null,{"$f":"ROUND(IF(E78=\"\",0,SUM(E$8:E78)),2)","v":0}]
[null,null,null,{"$f":"ROUND(IF(C79=\"\",0,SUM(C$8:C79)),2)","v":0},null,{"$f":"ROUND(IF(E79=\"\",0,SUM(E$8:E79)),2)","v":0}]
[null,null,null,{"$f":"ROUND(IF(C80=\"\",0,SUM(C$8:C80)),2)","v":0},null,{"$f":"ROUND(IF(E80=\"\",0,SUM(E$8:E80)),2)","v":0}]
[null,null,null,{"$f":"ROUND(IF(C81=\"\",0,SUM(C$8:C81)),2)","v":0},null,{"$f":"ROUND(IF(E81=\"\",0,SUM(E$8:E81)),2)","v":0}]
[null,null,null,{"$f":"ROUND(IF(C82=\"\",0,SUM(C$8:C82)),2)","v":0},null,{"$f":"ROUND(IF(E82=\"\",0,SUM(E$8:E82)),2)","v":0}]
[null,null,null,{"$f":"ROUND(IF(C83=\"\",0,SUM(C$8:C83)),2)","v":0},null,{"$f":"ROUND(IF(E83=\"\",0,SUM(E$8:E83)),2)","v":0}]
[null,null,null,{"$f":"ROUND(IF(C84=\"\",0,SUM(C$8:C84)),2)","v":0},null,{"$f":"ROUND(IF(E84=\"\",0,SUM(E$8:E84)),2)","v":0}]
[null,null,null,{"$f":"ROUND(IF(C85=\"\",0,SUM(C$8:C85)),2)","v":0},null,{"$f":"ROUND(IF(E85=\"\",0,SUM(E$8:E85)),2)","v":0}]
[null,null,null,{"$f":"ROUND(IF(C86=\"\",0,SUM(C$8:C86)),2)","v":0},null,{"$f":"ROUND(IF(E86=\"\",0,SUM(E$8:E86)),2)","v":0}]
[null,null,null,{"$f":"ROUND(IF(C87=\"\",0,SUM(C$8:C87)),2)","v":0},null,{"$f":"ROUND(IF(E87=\"\",0,SUM(E$8:E87)),2)","v":0}]
[null,null,null,{"$f":"ROUND(IF(C88=\"\",0,SUM(C$8:C88)),2)","v":0},null,{"$f":"ROUND(IF(E88=\"\",0,SUM(E$8:E88)),2)","v":0}]
[null,null,null,{"$f":"ROUND(IF(C89=\"\",0,SUM(C$8:C89)),2)","v":0},null,{"$f":"ROUND(IF(E89=\"\",0,SUM(E$8:E89)),2)","v":0}]
[null,null,null,{"$f":"ROUND(IF(C90=\"\",0,SUM(C$8:C90)),2)","v":0},null,{"$f":"ROUND(IF(E90=\"\",0,SUM(E$8:E90)),2)","v":0}]
[null,null,null,{"$f":"ROUND(IF(C91=\"\",0,SUM(C$8:C91)),2)","v":0},null,{"$f":"ROUND(IF(E91=\"\",0,SUM(E$8:E91)),2)","v":0}]
[null,null,null,{"$f":"ROUND(IF(C92=\"\",0,SUM(C$8:C92)),2)","v":0},null,{"$f":"ROUND(IF(E92=\"\",0,SUM(E$8:E92)),2)","v":0}]
[null,null,null,{"$f":"ROUND(IF(C93=\"\",0,SUM(C$8:C93)),2)","v":0},null,{"$f":"ROUND(IF(E93=\"\",0,SUM(E$8:E93)),2)","v":0}]
[null,null,null,{"$f":"ROUND(IF(C94=\"\",0,SUM(C$8:C94)),2)","v":0},null,{"$f":"ROUND(IF(E94=\"\",0,SUM(E$8:E94)),2)","v":0}]
[null,null,null,{"$f":"ROUND(IF(C95=\"\",0,SUM(C$8:C95)),2)","v":0},null,{"$f":"ROUND(IF(E95=\"\",0,SUM(E$8:E95)),2)","v":0}]
[null,null,null,{"$f":"ROUND(IF(C96=\"\",0,SUM(C$8:C96)),2)","v":0},null,{"$f":"ROUND(IF(E96=\"\",0,SUM(E$8:E96)),2)","v":0}]
[null,null,null,{"$f":"ROUND(IF(C97=\"\",0,SUM(C$8:C97)),2)","v":0},null,{"$f":"ROUND(IF(E97=\"\",0,SUM(E$8:E97)),2)","v":0}]
[null,null,null,{"$f":"ROUND(IF(C98=\"\",0,SUM(C$8:C98)),2)","v":0},null,{"$f":"ROUND(IF(E98=\"\",0,SUM(E$8:E98)),2)","v":0}]
[null,null,null,{"$f":"ROUND(IF(C99=\"\",0,SUM(C$8:C99)),2)","v":0},null,{"$f":"ROUND(IF(E99=\"\",0,SUM(E$8:E99)),2)","v":0}]
[null,null,null,{"$f":"ROUND(IF(C100=\"\",0,SUM(C$8:C100)),2)","v":0},null,{"$f":"ROUND(IF(E100=\"\",0,SUM(E$8:E100)),2)","v":0}]
[null,null,null,{"$f":"ROUND(IF(C101=\"\",0,SUM(C$8:C101)),2)","v":0},null,{"$f":"ROUND(IF(E101=\"\",0,SUM(E$8:E101)),2)","v":0}]
[null,null,null,{"$f":"ROUND(IF(C102=\"\",0,SUM(C$8:C102)),2)","v":0},null,{"$f":"ROUND(IF(E102=\"\",0,SUM(E$8:E102)),2)","v":0}]
[null,null,null,{"$f":"ROUND(IF(C103=\"\",0,SUM(C$8:C103)),2)","v":0},null,{"$f":"ROUND(IF(E103=\"\",0,SUM(E$8:E103)),2)","v":0}]
[null,null,null,{"$f":"ROUND(IF(C104=\"\",0,SUM(C$8:C104)),2)","v":0},null,{"$f":"ROUND(IF(E104=\"\",0,SUM(E$8:E104)),2)","v":0}]
[null,null,null,{"$f":"ROUND(IF(C105=\"\",0,SUM(C$8:C105)),2)","v":0},null,{"$f":"ROUND(IF(E105=\"\",0,SUM(E$8:E105)),2)","v":0}]
[null,null,null,{"$f":"ROUND(IF(C106=\"\",0,SUM(C$8:C106)),2)","v":0},null,{"$f":"ROUND(IF(E106=\"\",0,SUM(E$8:E106)),2)","v":0}]
[null,null,null,{"$f":"ROUND(IF(C107=\"\",0,SUM(C$8:C107)),2)","v":0},null,{"$f":"ROUND(IF(E107=\"\",0,SUM(E$8:E107)),2)","v":0}]
[null,null,null,{"$f":"ROUND(IF(C108=\"\",0,SUM(C$8:C108)),2)","v":0},null,{"$f":"ROUND(IF(E108=\"\",0,SUM(E$8:E108)),2)","v":0}]
[null,null,null,{"$f":"ROUND(IF(C109=\"\",0,SUM(C$8:C109)),2)","v":0},null,{"$f":"ROUND(IF(E109=\"\",0,SUM(E$8:E109)),2)","v":0}]
[null,null,null,{"$f":"ROUND(IF(C110=\"\",0,SUM(C$8:C110)),2)","v":0},null,{"$f":"ROUND(IF(E110=\"\",0,SUM(E$8:E110)),2)","v":0}]
[null,null,null,{"$f":"ROUND(IF(C111=\"\",0,SUM(C$8:C111)),2)","v":0},null,{"$f":"ROUND(IF(E111=\"\",0,SUM(E$8:E111)),2)","v":0}]
[null,null,null,{"$f":"ROUND(IF(C112=\"\",0,SUM(C$8:C112)),2)","v":0},null,{"$f":"ROUND(IF(E112=\"\",0,SUM(E$8:E112)),2)","v":0}]
[null,null,null,{"$f":"ROUND(IF(C113=\"\",0,SUM(C$8:C113)),2)","v":0},null,{"$f":"ROUND(IF(E113=\"\",0,SUM(E$8:E113)),2)","v":0}]
[null,null,null,{"$f":"ROUND(IF(C114=\"\",0,SUM(C$8:C114)),2)","v":0},null,{"$f":"ROUND(IF(E114=\"\",0,SUM(E$8:E114)),2)","v":0}]
[null,null,null,{"$f":"ROUND(IF(C115=\"\",0,SUM(C$8:C115)),2)","v":0},null,{"$f":"ROUND(IF(E115=\"\",0,SUM(E$8:E115)),2)","v":0}]
[null,null,null,{"$f":"ROUND(IF(C116=\"\",0,SUM(C$8:C116)),2)","v":0},null,{"$f":"ROUND(IF(E116=\"\",0,SUM(E$8:E116)),2)","v":0}]
[null,null,null,{"$f":"ROUND(IF(C117=\"\",0,SUM(C$8:C117)),2)","v":0},null,{"$f":"ROUND(IF(E117=\"\",0,SUM(E$8:E117)),2)","v":0}]
[null,null,null,{"$f":"ROUND(IF(C118=\"\",0,SUM(C$8:C118)),2)","v":0},null,{"$f":"ROUND(IF(E118=\"\",0,SUM(E$8:E118)),2)","v":0}]
[null,null,null,{"$f":"ROUND(IF(C119=\"\",0,SUM(C$8:C119)),2)","v":0},null,{"$f":"ROUND(IF(E119=\"\",0,SUM(E$8:E119)),2)","v":0}]
[null,null,null,{"$f":"ROUND(IF(C120=\"\",0,SUM(C$8:C120)),2)","v":0},null,{"$f":"ROUND(IF(E120=\"\",0,SUM(E$8:E120)),2)","v":0}]
[null,null,null,{"$f":"ROUND(IF(C121=\"\",0,SUM(C$8:C121)),2)","v":0},null,{"$f":"ROUND(IF(E121=\"\",0,SUM(E$8:E121)),2)","v":0}]
[null,null,null,{"$f":"ROUND(IF(C122=\"\",0,SUM(C$8:C122)),2)","v":0},null,{"$f":"ROUND(IF(E122=\"\",0,SUM(E$8:E122)),2)","v":0}]
[null,null,null,{"$f":"ROUND(IF(C123=\"\",0,SUM(C$8:C123)),2)","v":0},null,{"$f":"ROUND(IF(E123=\"\",0,SUM(E$8:E123)),2)","v":0}]
[null,null,null,{"$f":"ROUND(IF(C124=\"\",0,SUM(C$8:C124)),2)","v":0},null,{"$f":"ROUND(IF(E124=\"\",0,SUM(E$8:E124)),2)","v":0}]
[null,null,null,{"$f":"ROUND(IF(C125=\"\",0,SUM(C$8:C125)),2)","v":0},null,{"$f":"ROUND(IF(E125=\"\",0,SUM(E$8:E125)),2)","v":0}]
[null,null,null,{"$f":"ROUND(IF(C126=\"\",0,SUM(C$8:C126)),2)","v":0},null,{"$f":"ROUND(IF(E126=\"\",0,SUM(E$8:E126)),2)","v":0}]
[null,null,null,{"$f":"ROUND(IF(C127=\"\",0,SUM(C$8:C127)),2)","v":0},null,{"$f":"ROUND(IF(E127=\"\",0,SUM(E$8:E127)),2)","v":0}]
[null,null,null,{"$f":"ROUND(IF(C128=\"\",0,SUM(C$8:C128)),2)","v":0},null,{"$f":"ROUND(IF(E128=\"\",0,SUM(E$8:E128)),2)","v":0}]
[null,null,null,{"$f":"ROUND(IF(C129=\"\",0,SUM(C$8:C129)),2)","v":0},null,{"$f":"ROUND(IF(E129=\"\",0,SUM(E$8:E129)),2)","v":0}]
[null,null,null,{"$f":"ROUND(IF(C130=\"\",0,SUM(C$8:C130)),2)","v":0},null,{"$f":"ROUND(IF(E130=\"\",0,SUM(E$8:E130)),2)","v":0}]
[null,null,null,{"$f":"ROUND(IF(C131=\"\",0,SUM(C$8:C131)),2)","v":0},null,{"$f":"ROUND(IF(E131=\"\",0,SUM(E$8:E131)),2)","v":0}]
[null,null,null,{"$f":"ROUND(IF(C132=\"\",0,SUM(C$8:C132)),2)","v":0},null,{"$f":"ROUND(IF(E132=\"\",0,SUM(E$8:E132)),2)","v":0}]
[null,null,null,{"$f":"ROUND(IF(C133=\"\",0,SUM(C$8:C133)),2)","v":0},null,{"$f":"ROUND(IF(E133=\"\",0,SUM(E$8:E133)),2)","v":0}]
[null,null,null,{"$f":"ROUND(IF(C134=\"\",0,SUM(C$8:C134)),2)","v":0},null,{"$f":"ROUND(IF(E134=\"\",0,SUM(E$8:E134)),2)","v":0}]
[null,null,null,{"$f":"ROUND(IF(C135=\"\",0,SUM(C$8:C135)),2)","v":0},null,{"$f":"ROUND(IF(E135=\"\",0,SUM(E$8:E135)),2)","v":0}]
[null,null,null,{"$f":"ROUND(IF(C136=\"\",0,SUM(C$8:C136)),2)","v":0},null,{"$f":"ROUND(IF(E136=\"\",0,SUM(E$8:E136)),2)","v":0}]
[null,null,null,{"$f":"ROUND(IF(C137=\"\",0,SUM(C$8:C137)),2)","v":0},null,{"$f":"ROUND(IF(E137=\"\",0,SUM(E$8:E137)),2)","v":0}]
[null,null,null,{"$f":"ROUND(IF(C138=\"\",0,SUM(C$8:C138)),2)","v":0},null,{"$f":"ROUND(IF(E138=\"\",0,SUM(E$8:E138)),2)","v":0}]
[null,null,null,{"$f":"ROUND(IF(C139=\"\",0,SUM(C$8:C139)),2)","v":0},null,{"$f":"ROUND(IF(E139=\"\",0,SUM(E$8:E139)),2)","v":0}]
[null,null,null,{"$f":"ROUND(IF(C140=\"\",0,SUM(C$8:C140)),2)","v":0},null,{"$f":"ROUND(IF(E140=\"\",0,SUM(E$8:E140)),2)","v":0}]
[null,null,null,{"$f":"ROUND(IF(C141=\"\",0,SUM(C$8:C141)),2)","v":0},null,{"$f":"ROUND(IF(E141=\"\",0,SUM(E$8:E141)),2)","v":0}]
[null,null,null,{"$f":"ROUND(IF(C142=\"\",0,SUM(C$8:C142)),2)","v":0},null,{"$f":"ROUND(IF(E142=\"\",0,SUM(E$8:E142)),2)","v":0}]
[null,null,null,{"$f":"ROUND(IF(C143=\"\",0,SUM(C$8:C143)),2)","v":0},null,{"$f":"ROUND(IF(E143=\"\",0,SUM(E$8:E143)),2)","v":0}]
[null,null,null,{"$f":"ROUND(IF(C144=\"\",0,SUM(C$8:C144)),2)","v":0},null,{"$f":"ROUND(IF(E144=\"\",0,SUM(E$8:E144)),2)","v":0}]
[null,null,null,{"$f":"ROUND(IF(C145=\"\",0,SUM(C$8:C145)),2)","v":0},null,{"$f":"ROUND(IF(E145=\"\",0,SUM(E$8:E145)),2)","v":0}]
[null,null,null,{"$f":"ROUND(IF(C146=\"\",0,SUM(C$8:C146)),2)","v":0},null,{"$f":"ROUND(IF(E146=\"\",0,SUM(E$8:E146)),2)","v":0}]
[null,null,null,{"$f":"ROUND(IF(C147=\"\",0,SUM(C$8:C147)),2)","v":0},null,{"$f":"ROUND(IF(E147=\"\",0,SUM(E$8:E147)),2)","v":0}]
[null,null,null,{"$f":"ROUND(IF(C148=\"\",0,SUM(C$8:C148)),2)","v":0},null,{"$f":"ROUND(IF(E148=\"\",0,SUM(E$8:E148)),2)","v":0}]
[null,null,null,{"$f":"ROUND(IF(C149=\"\",0,SUM(C$8:C149)),2)","v":0},null,{"$f":"ROUND(IF(E149=\"\",0,SUM(E$8:E149)),2)","v":0}]
[null,null,null,{"$f":"ROUND(IF(C150=\"\",0,SUM(C$8:C150)),2)","v":0},null,{"$f":"ROUND(IF(E150=\"\",0,SUM(E$8:E150)),2)","v":0}]
[null,null,null,{"$f":"ROUND(IF(C151=\"\",0,SUM(C$8:C151)),2)","v":0},null,{"$f":"ROUND(IF(E151=\"\",0,SUM(E$8:E151)),2)","v":0}]
[null,null,null,{"$f":"ROUND(IF(C152=\"\",0,SUM(C$8:C152)),2)","v":0},null,{"$f":"ROUND(IF(E152=\"\",0,SUM(E$8:E152)),2)","v":0}]
[null,null,null,{"$f":"ROUND(IF(C153=\"\",0,SUM(C$8:C153)),2)","v":0},null,{"$f":"ROUND(IF(E153=\"\",0,SUM(E$8:E153)),2)","v":0}]
[null,null,null,{"$f":"ROUND(IF(C154=\"\",0,SUM(C$8:C154)),2)","v":0},null,{"$f":"ROUND(IF(E154=\"\",0,SUM(E$8:E154)),2)","v":0}]
[null,null,null,{"$f":"ROUND(IF(C155=\"\",0,SUM(C$8:C155)),2)","v":0},null,{"$f":"ROUND(IF(E155=\"\",0,SUM(E$8:E155)),2)","v":0}]
[null,null,null,{"$f":"ROUND(IF(C156=\"\",0,SUM(C$8:C156)),2)","v":0},null,{"$f":"ROUND(IF(E156=\"\",0,SUM(E$8:E156)),2)","v":0}]
[null,null,null,{"$f":"ROUND(IF(C157=\"\",0,SUM(C$8:C157)),2)","v":0},null,{"$f":"ROUND(IF(E157=\"\",0,SUM(E$8:E157)),2)","v":0}]
[null,null,null,{"$f":"ROUND(IF(C158=\"\",0,SUM(C$8:C158)),2)","v":0},null,{"$f":"ROUND(IF(E158=\"\",0,SUM(E$8:E158)),2)","v":0}]
[null,null,null,{"$f":"ROUND(IF(C159=\"\",0,SUM(C$8:C159)),2)","v":0},null,{"$f":"ROUND(IF(E159=\"\",0,SUM(E$8:E159)),2)","v":0}]
[null,null,null,{"$f":"ROUND(IF(C160=\"\",0,SUM(C$8:C160)),2)","v":0},null,{"$f":"ROUND(IF(E160=\"\",0,SUM(E$8:E160)),2)","v":0}]
[null,null,null,{"$f":"ROUND(IF(C161=\"\",0,SUM(C$8:C161)),2)","v":0},null,{"$f":"ROUND(IF(E161=\"\",0,SUM(E$8:E161)),2)","v":0}]
[null,null,null,{"$f":"ROUND(IF(C162=\"\",0,SUM(C$8:C162)),2)","v":0},null,{"$f":"ROUND(IF(E162=\"\",0,SUM(E$8:E162)),2)","v":0}]
[null,null,null,{"$f":"ROUND(IF(C163=\"\",0,SUM(C$8:C163)),2)","v":0},null,{"$f":"ROUND(IF(E163=\"\",0,SUM(E$8:E163)),2)","v":0}]
[null,null,null,{"$f":"ROUND(IF(C164=\"\",0,SUM(C$8:C164)),2)","v":0},null,{"$f":"ROUND(IF(E164=\"\",0,SUM(E$8:E164)),2)","v":0}]
[null,null,null,{"$f":"ROUND(IF(C165=\"\",0,SUM(C$8:C165)),2)","v":0},null,{"$f":"ROUND(IF(E165=\"\",0,SUM(E$8:E165)),2)","v":0}]
[null,null,null,{"$f":"ROUND(IF(C166=\"\",0,SUM(C$8:C166)),2)","v":0},null,{"$f":"ROUND(IF(E166=\"\",0,SUM(E$8:E166)),2)","v":0}]
[null,null,null,{"$f":"ROUND(IF(C167=\"\",0,SUM(C$8:C167)),2)","v":0},null,{"$f":"ROUND(IF(E167=\"\",0,SUM(E$8:E167)),2)","v":0}]
[null,null,null,{"$f":"ROUND(IF(C168=\"\",0,SUM(C$8:C168)),2)","v":0},null,{"$f":"ROUND(IF(E168=\"\",0,SUM(E$8:E168)),2)","v":0}]
[null,null,null,{"$f":"ROUND(IF(C169=\"\",0,SUM(C$8:C169)),2)","v":0},null,{"$f":"ROUND(IF(E169=\"\",0,SUM(E$8:E169)),2)","v":0}]
[null,null,null,{"$f":"ROUND(IF(C170=\"\",0,SUM(C$8:C170)),2)","v":0},null,{"$f":"ROUND(IF(E170=\"\",0,SUM(E$8:E170)),2)","v":0}]
[null,null,null,{"$f":"ROUND(IF(C171=\"\",0,SUM(C$8:C171)),2)","v":0},null,{"$f":"ROUND(IF(E171=\"\",0,SUM(E$8:E171)),2)","v":0}]
[null,null,null,{"$f":"ROUND(IF(C172=\"\",0,SUM(C$8:C172)),2)","v":0},null,{"$f":"ROUND(IF(E172=\"\",0,SUM(E$8:E172)),2)","v":0}]
[null,null,null,{"$f":"ROUND(IF(C173=\"\",0,SUM(C$8:C173)),2)","v":0},null,{"$f":"ROUND(IF(E173=\"\",0,SUM(E$8:E173)),2)","v":0}]
[null,null,null,{"$f":"ROUND(IF(C174=\"\",0,SUM(C$8:C174)),2)","v":0},null,{"$f":"ROUND(IF(E174=\"\",0,SUM(E$8:E174)),2)","v":0}]
[null,null,null,{"$f":"ROUND(IF(C175=\"\",0,SUM(C$8:C175)),2)","v":0},null,{"$f":"ROUND(IF(E175=\"\",0,SUM(E$8:E175)),2)","v":0}]
[null,null,null,{"$f":"ROUND(IF(C176=\"\",0,SUM(C$8:C176)),2)","v":0},null,{"$f":"ROUND(IF(E176=\"\",0,SUM(E$8:E176)),2)","v":0}]
[null,null,null,{"$f":"ROUND(IF(C177=\"\",0,SUM(C$8:C177)),2)","v":0},null,{"$f":"ROUND(IF(E177=\"\",0,SUM(E$8:E177)),2)","v":0}]
[null,null,null,{"$f":"ROUND(IF(C178=\"\",0,SUM(C$8:C178)),2)","v":0},null,{"$f":"ROUND(IF(E178=\"\",0,SUM(E$8:E178)),2)","v":0}]
[null,null,null,{"$f":"ROUND(IF(C179=\"\",0,SUM(C$8:C179)),2)","v":0},null,{"$f":"ROUND(IF(E179=\"\",0,SUM(E$8:E179)),2)","v":0}]
[null,null,null,{"$f":"ROUND(IF(C180=\"\",0,SUM(C$8:C180)),2)","v":0},null,{"$f":"ROUND(IF(E180=\"\",0,SUM(E$8:E180)),2)","v":0}]
[null,null,null,{"$f":"ROUND(IF(C181=\"\",0,SUM(C$8:C181)),2)","v":0},null,{"$f":"ROUND(IF(E181=\"\",0,SUM(E$8:E181)),2)","v":0}]
[null,null,null,{"$f":"ROUND(IF(C182=\"\",0,SUM(C$8:C182)),2)","v":0},null,{"$f":"ROUND(IF(E182=\"\",0,SUM(E$8:E182)),2)","v":0}]
[null,null,null,{"$f":"ROUND(IF(C183=\"\",0,SUM(C$8:C183)),2)","v":0},null,{"$f":"ROUND(IF(E183=\"\",0,SUM(E$8:E183)),2)","v":0}]
[null,null,null,{"$f":"ROUND(IF(C184=\"\",0,SUM(C$8:C184)),2)","v":0},null,{"$f":"ROUND(IF(E184=\"\",0,SUM(E$8:E184)),2)","v":0}]
[null,null,null,{"$f":"ROUND(IF(C185=\"\",0,SUM(C$8:C185)),2)","v":0},null,{"$f":"ROUND(IF(E185=\"\",0,SUM(E$8:E185)),2)","v":0}]
[null,null,null,{"$f":"ROUND(IF(C186=\"\",0,SUM(C$8:C186)),2)","v":0},null,{"$f":"ROUND(IF(E186=\"\",0,SUM(E$8:E186)),2)","v":0}]
[null,null,null,{"$f":"ROUND(IF(C187=\"\",0,SUM(C$8:C187)),2)","v":0},null,{"$f":"ROUND(IF(E187=\"\",0,SUM(E$8:E187)),2)","v":0}]
[null,null,null,{"$f":"ROUND(IF(C188=\"\",0,SUM(C$8:C188)),2)","v":0},null,{"$f":"ROUND(IF(E188=\"\",0,SUM(E$8:E188)),2)","v":0}]
[null,null,null,{"$f":"ROUND(IF(C189=\"\",0,SUM(C$8:C189)),2)","v":0},null,{"$f":"ROUND(IF(E189=\"\",0,SUM(E$8:E189)),2)","v":0}]
[null,null,null,{"$f":"ROUND(IF(C190=\"\",0,SUM(C$8:C190)),2)","v":0},null,{"$f":"ROUND(IF(E190=\"\",0,SUM(E$8:E190)),2)","v":0}]
[null,null,null,{"$f":"ROUND(IF(C191=\"\",0,SUM(C$8:C191)),2)","v":0},null,{"$f":"ROUND(IF(E191=\"\",0,SUM(E$8:E191)),2)","v":0}]
[null,null,null,{"$f":"ROUND(IF(C192=\"\",0,SUM(C$8:C192)),2)","v":0},null,{"$f":"ROUND(IF(E192=\"\",0,SUM(E$8:E192)),2)","v":0}]
[null,null,null,{"$f":"ROUND(IF(C193=\"\",0,SUM(C$8:C193)),2)","v":0},null,{"$f":"ROUND(IF(E193=\"\",0,SUM(E$8:E193)),2)","v":0}]
[null,null,null,{"$f":"ROUND(IF(C194=\"\",0,SUM(C$8:C194)),2)","v":0},null,{"$f":"ROUND(IF(E194=\"\",0,SUM(E$8:E194)),2)","v":0}]
[null,null,null,{"$f":"ROUND(IF(C195=\"\",0,SUM(C$8:C195)),2)","v":0},null,{"$f":"ROUND(IF(E195=\"\",0,SUM(E$8:E195)),2)","v":0}]
[null,null,null,{"$f":"ROUND(IF(C196=\"\",0,SUM(C$8:C196)),2)","v":0},null,{"$f":"ROUND(IF(E196=\"\",0,SUM(E$8:E196)),2)","v":0}]
[null,null,null,{"$f":"ROUND(IF(C197=\"\",0,SUM(C$8:C197)),2)","v":0},null,{"$f":"ROUND(IF(E197=\"\",0,SUM(E$8:E197)),2)","v":0}]
[null,null,null,{"$f":"ROUND(IF(C198=\"\",0,SUM(C$8:C198)),2)","v":0},null,{"$f":"ROUND(IF(E198=\"\",0,SUM(E$8:E198)),2)","v":0}]
[null,null,null,{"$f":"ROUND(IF(C199=\"\",0,SUM(C$8:C199)),2)","v":0},null,{"$f":"ROUND(IF(E199=\"\",0,SUM(E$8:E199)),2)","v":0}]
[null,null,null,{"$f":"ROUND(IF(C200=\"\",0,SUM(C$8:C200)),2)","v":0},null,{"$f":"ROUND(IF(E200=\"\",0,SUM(E$8:E200)),2)","v":0}]
[null,null,null,{"$f":"ROUND(IF(C201=\"\",0,SUM(C$8:C201)),2)","v":0},null,{"$f":"ROUND(IF(E201=\"\",0,SUM(E$8:E201)),2)","v":0}]
[null,null,null,{"$f":"ROUND(IF(C202=\"\",0,SUM(C$8:C202)),2)","v":0},null,{"$f":"ROUND(IF(E202=\"\",0,SUM(E$8:E202)),2)","v":0}]
[null,null,null,{"$f":"ROUND(IF(C203=\"\",0,SUM(C$8:C203)),2)","v":0},null,{"$f":"ROUND(IF(E203=\"\",0,SUM(E$8:E203)),2)","v":0}]
[null,null,null,{"$f":"ROUND(IF(C204=\"\",0,SUM(C$8:C204)),2)","v":0},null,{"$f":"ROUND(IF(E204=\"\",0,SUM(E$8:E204)),2)","v":0}]
[null,null,null,{"$f":"ROUND(IF(C205=\"\",0,SUM(C$8:C205)),2)","v":0},null,{"$f":"ROUND(IF(E205=\"\",0,SUM(E$8:E205)),2)","v":0}]
[null,null,null,{"$f":"ROUND(IF(C206=\"\",0,SUM(C$8:C206)),2)","v":0},null,{"$f":"ROUND(IF(E206=\"\",0,SUM(E$8:E206)),2)","v":0}]
[null,null,null,{"$f":"ROUND(IF(C207=\"\",0,SUM(C$8:C207)),2)","v":0},null,{"$f":"ROUND(IF(E207=\"\",0,SUM(E$8:E207)),2)","v":0}]
[null,null,null,{"$f":"ROUND(IF(C208=\"\",0,SUM(C$8:C208)),2)","v":0},null,{"$f":"ROUND(IF(E208=\"\",0,SUM(E$8:E208)),2)","v":0}]
[null,null,null,{"$f":"ROUND(IF(C209=\"\",0,SUM(C$8:C209)),2)","v":0},null,{"$f":"ROUND(IF(E209=\"\",0,SUM(E$8:E209)),2)","v":0}]
[null,null,null,{"$f":"ROUND(IF(C210=\"\",0,SUM(C$8:C210)),2)","v":0},null,{"$f":"ROUND(IF(E210=\"\",0,SUM(E$8:E210)),2)","v":0}]
[null,null,null,{"$f":"ROUND(IF(C211=\"\",0,SUM(C$8:C211)),2)","v":0},null,{"$f":"ROUND(IF(E211=\"\",0,SUM(E$8:E211)),2)","v":0}]
[null,null,null,{"$f":"ROUND(IF(C212=\"\",0,SUM(C$8:C212)),2)","v":0},null,{"$f":"ROUND(IF(E212=\"\",0,SUM(E$8:E212)),2)","v":0}]
[null,null,null,{"$f":"ROUND(IF(C213=\"\",0,SUM(C$8:C213)),2)","v":0},null,{"$f":"ROUND(IF(E213=\"\",0,SUM(E$8:E213)),2)","v":0}]
[null,null,null,{"$f":"ROUND(IF(C214=\"\",0,SUM(C$8:C214)),2)","v":0},null,{"$f":"ROUND(IF(E214=\"\",0,SUM(E$8:E214)),2)","v":0}]
[null,null,null,{"$f":"ROUND(IF(C215=\"\",0,SUM(C$8:C215)),2)","v":0},null,{"$f":"ROUND(IF(E215=\"\",0,SUM(E$8:E215)),2)","v":0}]
[null,null,null,{"$f":"ROUND(IF(C216=\"\",0,SUM(C$8:C216)),2)","v":0},null,{"$f":"ROUND(IF(E216=\"\",0,SUM(E$8:E216)),2)","v":0}]
[null,null,null,{"$f":"ROUND(IF(C217=\"\",0,SUM(C$8:C217)),2)","v":0},null,{"$f":"ROUND(IF(E217=\"\",0,SUM(E$8:E217)),2)","v":0}]
[null,null,null,{"$f":"ROUND(IF(C218=\"\",0,SUM(C$8:C218)),2)","v":0},null,{"$f":"ROUND(IF(E218=\"\",0,SUM(E$8:E218)),2)","v":0}]
[null,null,null,{"$f":"ROUND(IF(C219=\"\",0,SUM(C$8:C219)),2)","v":0},null,{"$f":"ROUND(IF(E219=\"\",0,SUM(E$8:E219)),2)","v":0}]
[null,null,null,{"$f":"ROUND(IF(C220=\"\",0,SUM(C$8:C220)),2)","v":0},null,{"$f":"ROUND(IF(E220=\"\",0,SUM(E$8:E220)),2)","v":0}]
[null,null,null,{"$f":"ROUND(IF(C221=\"\",0,SUM(C$8:C221)),2)","v":0},null,{"$f":"ROUND(IF(E221=\"\",0,SUM(E$8:E221)),2)","v":0}]
[null,null,null,{"$f":"ROUND(IF(C222=\"\",0,SUM(C$8:C222)),2)","v":0},null,{"$f":"ROUND(IF(E222=\"\",0,SUM(E$8:E222)),2)","v":0}]
[null,null,null,{"$f":"ROUND(IF(C223=\"\",0,SUM(C$8:C223)),2)","v":0},null,{"$f":"ROUND(IF(E223=\"\",0,SUM(E$8:E223)),2)","v":0}]
[null,null,null,{"$f":"ROUND(IF(C224=\"\",0,SUM(C$8:C224)),2)","v":0},null,{"$f":"ROUND(IF(E224=\"\",0,SUM(E$8:E224)),2)","v":0}]
[null,null,null,{"$f":"ROUND(IF(C225=\"\",0,SUM(C$8:C225)),2)","v":0},null,{"$f":"ROUND(IF(E225=\"\",0,SUM(E$8:E225)),2)","v":0}]
[null,null,null,{"$f":"ROUND(IF(C226=\"\",0,SUM(C$8:C226)),2)","v":0},null,{"$f":"ROUND(IF(E226=\"\",0,SUM(E$8:E226)),2)","v":0}]
[null,null,null,{"$f":"ROUND(IF(C227=\"\",0,SUM(C$8:C227)),2)","v":0},null,{"$f":"ROUND(IF(E227=\"\",0,SUM(E$8:E227)),2)","v":0}]
[null,null,null,{"$f":"ROUND(IF(C228=\"\",0,SUM(C$8:C228)),2)","v":0},null,{"$f":"ROUND(IF(E228=\"\",0,SUM(E$8:E228)),2)","v":0}]
[null,null,null,{"$f":"ROUND(IF(C229=\"\",0,SUM(C$8:C229)),2)","v":0},null,{"$f":"ROUND(IF(E229=\"\",0,SUM(E$8:E229)),2)","v":0}]
[null,null,null,{"$f":"ROUND(IF(C230=\"\",0,SUM(C$8:C230)),2)","v":0},null,{"$f":"ROUND(IF(E230=\"\",0,SUM(E$8:E230)),2)","v":0}]
[null,null,null,{"$f":"ROUND(IF(C231=\"\",0,SUM(C$8:C231)),2)","v":0},null,{"$f":"ROUND(IF(E231=\"\",0,SUM(E$8:E231)),2)","v":0}]
[null,null,null,{"$f":"ROUND(IF(C232=\"\",0,SUM(C$8:C232)),2)","v":0},null,{"$f":"ROUND(IF(E232=\"\",0,SUM(E$8:E232)),2)","v":0}]
[null,null,null,{"$f":"ROUND(IF(C233=\"\",0,SUM(C$8:C233)),2)","v":0},null,{"$f":"ROUND(IF(E233=\"\",0,SUM(E$8:E233)),2)","v":0}]
[null,null,null,{"$f":"ROUND(IF(C234=\"\",0,SUM(C$8:C234)),2)","v":0},null,{"$f":"ROUND(IF(E234=\"\",0,SUM(E$8:E234)),2)","v":0}]
[null,null,null,{"$f":"ROUND(IF(C235=\"\",0,SUM(C$8:C235)),2)","v":0},null,{"$f":"ROUND(IF(E235=\"\",0,SUM(E$8:E235)),2)","v":0}]
[null,null,null,{"$f":"ROUND(IF(C236=\"\",0,SUM(C$8:C236)),2)","v":0},null,{"$f":"ROUND(IF(E236=\"\",0,SUM(E$8:E236)),2)","v":0}]
[null,null,null,{"$f":"ROUND(IF(C237=\"\",0,SUM(C$8:C237)),2)","v":0},null,{"$f":"ROUND(IF(E237=\"\",0,SUM(E$8:E237)),2)","v":0}]
[null,null,null,{"$f":"ROUND(IF(C238=\"\",0,SUM(C$8:C238)),2)","v":0},null,{"$f":"ROUND(IF(E238=\"\",0,SUM(E$8:E238)),2)","v":0}]
[null,null,null,{"$f":"ROUND(IF(C239=\"\",0,SUM(C$8:C239)),2)","v":0},null,{"$f":"ROUND(IF(E239=\"\",0,SUM(E$8:E239)),2)","v":0}]
[null,null,null,{"$f":"ROUND(IF(C240=\"\",0,SUM(C$8:C240)),2)","v":0},null,{"$f":"ROUND(IF(E240=\"\",0,SUM(E$8:E240)),2)","v":0}]
[null,null,null,{"$f":"ROUND(IF(C241=\"\",0,SUM(C$8:C241)),2)","v":0},null,{"$f":"ROUND(IF(E241=\"\",0,SUM(E$8:E241)),2)","v":0}]
[null,null,null,{"$f":"ROUND(IF(C242=\"\",0,SUM(C$8:C242)),2)","v":0},null,{"$f":"ROUND(IF(E242=\"\",0,SUM(E$8:E242)),2)","v":0}]
[null,null,null,{"$f":"ROUND(IF(C243=\"\",0,SUM(C$8:C243)),2)","v":0},null,{"$f":"ROUND(IF(E243=\"\",0,SUM(E$8:E243)),2)","v":0}]
[null,null,null,{"$f":"ROUND(IF(C244=\"\",0,SUM(C$8:C244)),2)","v":0},null,{"$f":"ROUND(IF(E244=\"\",0,SUM(E$8:E244)),2)","v":0}]
[null,null,null,{"$f":"ROUND(IF(C245=\"\",0,SUM(C$8:C245)),2)","v":0},null,{"$f":"ROUND(IF(E245=\"\",0,SUM(E$8:E245)),2)","v":0}]
[null,null,null,{"$f":"ROUND(IF(C246=\"\",0,SUM(C$8:C246)),2)","v":0},null,{"$f":"ROUND(IF(E246=\"\",0,SUM(E$8:E246)),2)","v":0}]
[null,null,null,{"$f":"ROUND(IF(C247=\"\",0,SUM(C$8:C247)),2)","v":0},null,{"$f":"ROUND(IF(E247=\"\",0,SUM(E$8:E247)),2)","v":0}]
[null,null,null,{"$f":"ROUND(IF(C248=\"\",0,SUM(C$8:C248)),2)","v":0},null,{"$f":"ROUND(IF(E248=\"\",0,SUM(E$8:E248)),2)","v":0}]
[null,null,null,{"$f":"ROUND(IF(C249=\"\",0,SUM(C$8:C249)),2)","v":0},null,{"$f":"ROUND(IF(E249=\"\",0,SUM(E$8:E249)),2)","v":0}]
[null,null,null,{"$f":"ROUND(IF(C250=\"\",0,SUM(C$8:C250)),2)","v":0},null,{"$f":"ROUND(IF(E250=\"\",0,SUM(E$8:E250)),2)","v":0}]
[null,null,null,{"$f":"ROUND(IF(C251=\"\",0,SUM(C$8:C251)),2)","v":0},null,{"$f":"ROUND(IF(E251=\"\",0,SUM(E$8:E251)),2)","v":0}]
[null,null,null,{"$f":"ROUND(IF(C252=\"\",0,SUM(C$8:C252)),2)","v":0},null,{"$f":"ROUND(IF(E252=\"\",0,SUM(E$8:E252)),2)","v":0}]
[null,null,null,{"$f":"ROUND(IF(C253=\"\",0,SUM(C$8:C253)),2)","v":0},null,{"$f":"ROUND(IF(E253=\"\",0,SUM(E$8:E253)),2)","v":0}]
[null,null,null,{"$f":"ROUND(IF(C254=\"\",0,SUM(C$8:C254)),2)","v":0},null,{"$f":"ROUND(IF(E254=\"\",0,SUM(E$8:E254)),2)","v":0}]
[null,null,null,{"$f":"ROUND(IF(C255=\"\",0,SUM(C$8:C255)),2)","v":0},null,{"$f":"ROUND(IF(E255=\"\",0,SUM(E$8:E255)),2)","v":0}]
[null,null,null,{"$f":"ROUND(IF(C256=\"\",0,SUM(C$8:C256)),2)","v":0},null,{"$f":"ROUND(IF(E256=\"\",0,SUM(E$8:E256)),2)","v":0}]
[null,null,null,{"$f":"ROUND(IF(C257=\"\",0,SUM(C$8:C257)),2)","v":0},null,{"$f":"ROUND(IF(E257=\"\",0,SUM(E$8:E257)),2)","v":0}]
[null,null,null,{"$f":"ROUND(IF(C258=\"\",0,SUM(C$8:C258)),2)","v":0},null,{"$f":"ROUND(IF(E258=\"\",0,SUM(E$8:E258)),2)","v":0}]
[null,null,null,{"$f":"ROUND(IF(C259=\"\",0,SUM(C$8:C259)),2)","v":0},null,{"$f":"ROUND(IF(E259=\"\",0,SUM(E$8:E259)),2)","v":0}]
[null,null,null,{"$f":"ROUND(IF(C260=\"\",0,SUM(C$8:C260)),2)","v":0},null,{"$f":"ROUND(IF(E260=\"\",0,SUM(E$8:E260)),2)","v":0}]
[null,null,null,{"$f":"ROUND(IF(C261=\"\",0,SUM(C$8:C261)),2)","v":0},null,{"$f":"ROUND(IF(E261=\"\",0,SUM(E$8:E261)),2)","v":0}]
[null,null,null,{"$f":"ROUND(IF(C262=\"\",0,SUM(C$8:C262)),2)","v":0},null,{"$f":"ROUND(IF(E262=\"\",0,SUM(E$8:E262)),2)","v":0}]
[null,null,null,{"$f":"ROUND(IF(C263=\"\",0,SUM(C$8:C263)),2)","v":0},null,{"$f":"ROUND(IF(E263=\"\",0,SUM(E$8:E263)),2)","v":0}]
[null,null,null,{"$f":"ROUND(IF(C264=\"\",0,SUM(C$8:C264)),2)","v":0},null,{"$f":"ROUND(IF(E264=\"\",0,SUM(E$8:E264)),2)","v":0}]
[null,null,null,{"$f":"ROUND(IF(C265=\"\",0,SUM(C$8:C265)),2)","v":0},null,{"$f":"ROUND(IF(E265=\"\",0,SUM(E$8:E265)),2)","v":0}]
[null,null,null,{"$f":"ROUND(IF(C266=\"\",0,SUM(C$8:C266)),2)","v":0},null,{"$f":"ROUND(IF(E266=\"\",0,SUM(E$8:E266)),2)","v":0}]
[null,null,null,{"$f":"ROUND(IF(C267=\"\",0,SUM(C$8:C267)),2)","v":0},null,{"$f":"ROUND(IF(E267=\"\",0,SUM(E$8:E267)),2)","v":0}]
[null,null,null,{"$f":"ROUND(IF(C268=\"\",0,SUM(C$8:C268)),2)","v":0},null,{"$f":"ROUND(IF(E268=\"\",0,SUM(E$8:E268)),2)","v":0}]
[null,null,null,{"$f":"ROUND(IF(C269=\"\",0,SUM(C$8:C269)),2)","v":0},null,{"$f":"ROUND(IF(E269=\"\",0,SUM(E$8:E269)),2)","v":0}]
[null,null,null,{"$f":"ROUND(IF(C270=\"\",0,SUM(C$8:C270)),2)","v":0},null,{"$f":"ROUND(IF(E270=\"\",0,SUM(E$8:E270)),2)","v":0}]
[null,null,null,{"$f":"ROUND(IF(C271=\"\",0,SUM(C$8:C271)),2)","v":0},null,{"$f":"ROUND(IF(E271=\"\",0,SUM(E$8:E271)),2)","v":0}]
[null,null,null,{"$f":"ROUND(IF(C272=\"\",0,SUM(C$8:C272)),2)","v":0},null,{"$f":"ROUND(IF(E272=\"\",0,SUM(E$8:E272)),2)","v":0}]
[null,null,null,{"$f":"ROUND(IF(C273=\"\",0,SUM(C$8:C273)),2)","v":0},null,{"$f":"ROUND(IF(E273=\"\",0,SUM(E$8:E273)),2)","v":0}]
[null,null,null,{"$f":"ROUND(IF(C274=\"\",0,SUM(C$8:C274)),2)","v":0},null,{"$f":"ROUND(IF(E274=\"\",0,SUM(E$8:E274)),2)","v":0}]
[null,null,null,{"$f":"ROUND(IF(C275=\"\",0,SUM(C$8:C275)),2)","v":0},null,{"$f":"ROUND(IF(E275=\"\",0,SUM(E$8:E275)),2)","v":0}]
[null,null,null,{"$f":"ROUND(IF(C276=\"\",0,SUM(C$8:C276)),2)","v":0},null,{"$f":"ROUND(IF(E276=\"\",0,SUM(E$8:E276)),2)","v":0}]
[null,null,null,{"$f":"ROUND(IF(C277=\"\",0,SUM(C$8:C277)),2)","v":0},null,{"$f":"ROUND(IF(E277=\"\",0,SUM(E$8:E277)),2)","v":0}]
[null,null,null,{"$f":"ROUND(IF(C278=\"\",0,SUM(C$8:C278)),2)","v":0},null,{"$f":"ROUND(IF(E278=\"\",0,SUM(E$8:E278)),2)","v":0}]
[null,null,null,{"$f":"ROUND(IF(C279=\"\",0,SUM(C$8:C279)),2)","v":0},null,{"$f":"ROUND(IF(E279=\"\",0,SUM(E$8:E279)),2)","v":0}]
[null,null,null,{"$f":"ROUND(IF(C280=\"\",0,SUM(C$8:C280)),2)","v":0},null,{"$f":"ROUND(IF(E280=\"\",0,SUM(E$8:E280)),2)","v":0}]
[null,null,null,{"$f":"ROUND(IF(C281=\"\",0,SUM(C$8:C281)),2)","v":0},null,{"$f":"ROUND(IF(E281=\"\",0,SUM(E$8:E281)),2)","v":0}]
[null,null,null,{"$f":"ROUND(IF(C282=\"\",0,SUM(C$8:C282)),2)","v":0},null,{"$f":"ROUND(IF(E282=\"\",0,SUM(E$8:E282)),2)","v":0}]
[null,null,null,{"$f":"ROUND(IF(C283=\"\",0,SUM(C$8:C283)),2)","v":0},null,{"$f":"ROUND(IF(E283=\"\",0,SUM(E$8:E283)),2)","v":0}]
[null,null,null,{"$f":"ROUND(IF(C284=\"\",0,SUM(C$8:C284)),2)","v":0},null,{"$f":"ROUND(IF(E284=\"\",0,SUM(E$8:E284)),2)","v":0}]
[null,null,null,{"$f":"ROUND(IF(C285=\"\",0,SUM(C$8:C285)),2)","v":0},null,{"$f":"ROUND(IF(E285=\"\",0,SUM(E$8:E285)),2)","v":0}]
[null,null,null,{"$f":"ROUND(IF(C286=\"\",0,SUM(C$8:C286)),2)","v":0},null,{"$f":"ROUND(IF(E286=\"\",0,SUM(E$8:E286)),2)","v":0}]
[null,null,null,{"$f":"ROUND(IF(C287=\"\",0,SUM(C$8:C287)),2)","v":0},null,{"$f":"ROUND(IF(E287=\"\",0,SUM(E$8:E287)),2)","v":0}]
[null,null,null,{"$f":"ROUND(IF(C288=\"\",0,SUM(C$8:C288)),2)","v":0},null,{"$f":"ROUND(IF(E288=\"\",0,SUM(E$8:E288)),2)","v":0}]
[null,null,null,{"$f":"ROUND(IF(C289=\"\",0,SUM(C$8:C289)),2)","v":0},null,{"$f":"ROUND(IF(E289=\"\",0,SUM(E$8:E289)),2)","v":0}]
[null,null,null,{"$f":"ROUND(IF(C290=\"\",0,SUM(C$8:C290)),2)","v":0},null,{"$f":"ROUND(IF(E290=\"\",0,SUM(E$8:E290)),2)","v":0}]
[null,null,null,{"$f":"ROUND(IF(C291=\"\",0,SUM(C$8:C291)),2)","v":0},null,{"$f":"ROUND(IF(E291=\"\",0,SUM(E$8:E291)),2)","v":0}]
[null,null,null,{"$f":"ROUND(IF(C292=\"\",0,SUM(C$8:C292)),2)","v":0},null,{"$f":"ROUND(IF(E292=\"\",0,SUM(E$8:E292)),2)","v":0}]
[null,null,null,{"$f":"ROUND(IF(C293=\"\",0,SUM(C$8:C293)),2)","v":0},null,{"$f":"ROUND(IF(E293=\"\",0,SUM(E$8:E293)),2)","v":0}]
[null,null,null,{"$f":"ROUND(IF(C294=\"\",0,SUM(C$8:C294)),2)","v":0},null,{"$f":"ROUND(IF(E294=\"\",0,SUM(E$8:E294)),2)","v":0}]
[null,null,null,{"$f":"ROUND(IF(C295=\"\",0,SUM(C$8:C295)),2)","v":0},null,{"$f":"ROUND(IF(E295=\"\",0,SUM(E$8:E295)),2)","v":0}]
[null,null,null,{"$f":"ROUND(IF(C296=\"\",0,SUM(C$8:C296)),2)","v":0},null,{"$f":"ROUND(IF(E296=\"\",0,SUM(E$8:E296)),2)","v":0}]
[null,null,null,{"$f":"ROUND(IF(C297=\"\",0,SUM(C$8:C297)),2)","v":0},null,{"$f":"ROUND(IF(E297=\"\",0,SUM(E$8:E297)),2)","v":0}]
[null,null,null,{"$f":"ROUND(IF(C298=\"\",0,SUM(C$8:C298)),2)","v":0},null,{"$f":"ROUND(IF(E298=\"\",0,SUM(E$8:E298)),2)","v":0}]
[null,null,null,{"$f":"ROUND(IF(C299=\"\",0,SUM(C$8:C299)),2)","v":0},null,{"$f":"ROUND(IF(E299=\"\",0,SUM(E$8:E299)),2)","v":0}]
[null,null,null,{"$f":"ROUND(IF(C300=\"\",0,SUM(C$8:C300)),2)","v":0},null,{"$f":"ROUND(IF(E300=\"\",0,SUM(E$8:E300)),2)","v":0}]
[null,null,null,{"$f":"ROUND(IF(C301=\"\",0,SUM(C$8:C301)),2)","v":0},null,{"$f":"ROUND(IF(E301=\"\",0,SUM(E$8:E301)),2)","v":0}]
[null,null,null,{"$f":"ROUND(IF(C302=\"\",0,SUM(C$8:C302)),2)","v":0},null,{"$f":"ROUND(IF(E302=\"\",0,SUM(E$8:E302)),2)","v":0}]
[null,null,null,{"$f":"ROUND(IF(C303=\"\",0,SUM(C$8:C303)),2)","v":0},null,{"$f":"ROUND(IF(E303=\"\",0,SUM(E$8:E303)),2)","v":0}]
[null,null,null,{"$f":"ROUND(IF(C304=\"\",0,SUM(C$8:C304)),2)","v":0},null,{"$f":"ROUND(IF(E304=\"\",0,SUM(E$8:E304)),2)","v":0}]
[null,null,null,{"$f":"ROUND(IF(C305=\"\",0,SUM(C$8:C305)),2)","v":0},null,{"$f":"ROUND(IF(E305=\"\",0,SUM(E$8:E305)),2)","v":0}]
[null,null,null,{"$f":"ROUND(IF(C306=\"\",0,SUM(C$8:C306)),2)","v":0},null,{"$f":"ROUND(IF(E306=\"\",0,SUM(E$8:E306)),2)","v":0}]
[null,null,null,{"$f":"ROUND(IF(C307=\"\",0,SUM(C$8:C307)),2)","v":0},null,{"$f":"ROUND(IF(E307=\"\",0,SUM(E$8:E307)),2)","v":0}]
[null,null,null,{"$f":"ROUND(IF(C308=\"\",0,SUM(C$8:C308)),2)","v":0},null,{"$f":"ROUND(IF(E308=\"\",0,SUM(E$8:E308)),2)","v":0}]
[null,null,null,{"$f":"ROUND(IF(C309=\"\",0,SUM(C$8:C309)),2)","v":0},null,{"$f":"ROUND(IF(E309=\"\",0,SUM(E$8:E309)),2)","v":0}]
[null,null,null,{"$f":"ROUND(IF(C310=\"\",0,SUM(C$8:C310)),2)","v":0},null,{"$f":"ROUND(IF(E310=\"\",0,SUM(E$8:E310)),2)","v":0}]
[null,null,null,{"$f":"ROUND(IF(C311=\"\",0,SUM(C$8:C311)),2)","v":0},null,{"$f":"ROUND(IF(E311=\"\",0,SUM(E$8:E311)),2)","v":0}]
[null,null,null,{"$f":"ROUND(IF(C312=\"\",0,SUM(C$8:C312)),2)","v":0},null,{"$f":"ROUND(IF(E312=\"\",0,SUM(E$8:E312)),2)","v":0}]
[null,null,null,{"$f":"ROUND(IF(C313=\"\",0,SUM(C$8:C313)),2)","v":0},null,{"$f":"ROUND(IF(E313=\"\",0,SUM(E$8:E313)),2)","v":0}]
[null,null,null,{"$f":"ROUND(IF(C314=\"\",0,SUM(C$8:C314)),2)","v":0},null,{"$f":"ROUND(IF(E314=\"\",0,SUM(E$8:E314)),2)","v":0}]
[null,null,null,{"$f":"ROUND(IF(C315=\"\",0,SUM(C$8:C315)),2)","v":0},null,{"$f":"ROUND(IF(E315=\"\",0,SUM(E$8:E315)),2)","v":0}]
[null,null,null,{"$f":"ROUND(IF(C316=\"\",0,SUM(C$8:C316)),2)","v":0},null,{"$f":"ROUND(IF(E316=\"\",0,SUM(E$8:E316)),2)","v":0}]
[null,null,null,{"$f":"ROUND(IF(C317=\"\",0,SUM(C$8:C317)),2)","v":0},null,{"$f":"ROUND(IF(E317=\"\",0,SUM(E$8:E317)),2)","v":0}]
[null,null,null,{"$f":"ROUND(IF(C318=\"\",0,SUM(C$8:C318)),2)","v":0},null,{"$f":"ROUND(IF(E318=\"\",0,SUM(E$8:E318)),2)","v":0}]
[null,null,null,{"$f":"ROUND(IF(C319=\"\",0,SUM(C$8:C319)),2)","v":0},null,{"$f":"ROUND(IF(E319=\"\",0,SUM(E$8:E319)),2)","v":0}]
[null,null,null,{"$f":"ROUND(IF(C320=\"\",0,SUM(C$8:C320)),2)","v":0},null,{"$f":"ROUND(IF(E320=\"\",0,SUM(E$8:E320)),2)","v":0}]
[null,null,null,{"$f":"ROUND(IF(C321=\"\",0,SUM(C$8:C321)),2)","v":0},null,{"$f":"ROUND(IF(E321=\"\",0,SUM(E$8:E321)),2)","v":0}]
[null,null,null,{"$f":"ROUND(IF(C322=\"\",0,SUM(C$8:C322)),2)","v":0},null,{"$f":"ROUND(IF(E322=\"\",0,SUM(E$8:E322)),2)","v":0}]
[null,null,null,{"$f":"ROUND(IF(C323=\"\",0,SUM(C$8:C323)),2)","v":0},null,{"$f":"ROUND(IF(E323=\"\",0,SUM(E$8:E323)),2)","v":0}]
[null,null,null,{"$f":"ROUND(IF(C324=\"\",0,SUM(C$8:C324)),2)","v":0},null,{"$f":"ROUND(IF(E324=\"\",0,SUM(E$8:E324)),2)","v":0}]
[null,null,null,{"$f":"ROUND(IF(C325=\"\",0,SUM(C$8:C325)),2)","v":0},null,{"$f":"ROUND(IF(E325=\"\",0,SUM(E$8:E325)),2)","v":0}]
[null,null,null,{"$f":"ROUND(IF(C326=\"\",0,SUM(C$8:C326)),2)","v":0},null,{"$f":"ROUND(IF(E326=\"\",0,SUM(E$8:E326)),2)","v":0}]
[null,null,null,{"$f":"ROUND(IF(C327=\"\",0,SUM(C$8:C327)),2)","v":0},null,{"$f":"ROUND(IF(E327=\"\",0,SUM(E$8:E327)),2)","v":0}]
[null,null,null,{"$f":"ROUND(IF(C328=\"\",0,SUM(C$8:C328)),2)","v":0},null,{"$f":"ROUND(IF(E328=\"\",0,SUM(E$8:E328)),2)","v":0}]
[null,null,null,{"$f":"ROUND(IF(C329=\"\",0,SUM(C$8:C329)),2)","v":0},null,{"$f":"ROUND(IF(E329=\"\",0,SUM(E$8:E329)),2)","v":0}]
[null,null,null,{"$f":"ROUND(IF(C330=\"\",0,SUM(C$8:C330)),2)","v":0},null,{"$f":"ROUND(IF(E330=\"\",0,SUM(E$8:E330)),2)","v":0}]
[null,null,null,{"$f":"ROUND(IF(C331=\"\",0,SUM(C$8:C331)),2)","v":0},null,{"$f":"ROUND(IF(E331=\"\",0,SUM(E$8:E331)),2)","v":0}]
[null,null,null,{"$f":"ROUND(IF(C332=\"\",0,SUM(C$8:C332)),2)","v":0},null,{"$f":"ROUND(IF(E332=\"\",0,SUM(E$8:E332)),2)","v":0}]
[null,null,null,{"$f":"ROUND(IF(C333=\"\",0,SUM(C$8:C333)),2)","v":0},null,{"$f":"ROUND(IF(E333=\"\",0,SUM(E$8:E333)),2)","v":0}]
[null,null,null,{"$f":"ROUND(IF(C334=\"\",0,SUM(C$8:C334)),2)","v":0},null,{"$f":"ROUND(IF(E334=\"\",0,SUM(E$8:E334)),2)","v":0}]
[null,null,null,{"$f":"ROUND(IF(C335=\"\",0,SUM(C$8:C335)),2)","v":0},null,{"$f":"ROUND(IF(E335=\"\",0,SUM(E$8:E335)),2)","v":0}]
[null,null,null,{"$f":"ROUND(IF(C336=\"\",0,SUM(C$8:C336)),2)","v":0},null,{"$f":"ROUND(IF(E336=\"\",0,SUM(E$8:E336)),2)","v":0}]
[null,null,null,{"$f":"ROUND(IF(C337=\"\",0,SUM(C$8:C337)),2)","v":0},null,{"$f":"ROUND(IF(E337=\"\",0,SUM(E$8:E337)),2)","v":0}]
[null,null,null,{"$f":"ROUND(IF(C338=\"\",0,SUM(C$8:C338)),2)","v":0},null,{"$f":"ROUND(IF(E338=\"\",0,SUM(E$8:E338)),2)","v":0}]
[null,null,null,{"$f":"ROUND(IF(C339=\"\",0,SUM(C$8:C339)),2)","v":0},null,{"$f":"ROUND(IF(E339=\"\",0,SUM(E$8:E339)),2)","v":0}]
[null,null,null,{"$f":"ROUND(IF(C340=\"\",0,SUM(C$8:C340)),2)","v":0},null,{"$f":"ROUND(IF(E340=\"\",0,SUM(E$8:E340)),2)","v":0}]
[null,null,null,{"$f":"ROUND(IF(C341=\"\",0,SUM(C$8:C341)),2)","v":0},null,{"$f":"ROUND(IF(E341=\"\",0,SUM(E$8:E341)),2)","v":0}]
[null,null,null,{"$f":"ROUND(IF(C342=\"\",0,SUM(C$8:C342)),2)","v":0},null,{"$f":"ROUND(IF(E342=\"\",0,SUM(E$8:E342)),2)","v":0}]
[null,null,null,{"$f":"ROUND(IF(C343=\"\",0,SUM(C$8:C343)),2)","v":0},null,{"$f":"ROUND(IF(E343=\"\",0,SUM(E$8:E343)),2)","v":0}]
[null,null,null,{"$f":"ROUND(IF(C344=\"\",0,SUM(C$8:C344)),2)","v":0},null,{"$f":"ROUND(IF(E344=\"\",0,SUM(E$8:E344)),2)","v":0}]
[null,null,null,{"$f":"ROUND(IF(C345=\"\",0,SUM(C$8:C345)),2)","v":0},null,{"$f":"ROUND(IF(E345=\"\",0,SUM(E$8:E345)),2)","v":0}]
[null,null,null,{"$f":"ROUND(IF(C346=\"\",0,SUM(C$8:C346)),2)","v":0},null,{"$f":"ROUND(IF(E346=\"\",0,SUM(E$8:E346)),2)","v":0}]
[null,null,null,{"$f":"ROUND(IF(C347=\"\",0,SUM(C$8:C347)),2)","v":0},null,{"$f":"ROUND(IF(E347=\"\",0,SUM(E$8:E347)),2)","v":0}]
[null,null,null,{"$f":"ROUND(IF(C348=\"\",0,SUM(C$8:C348)),2)","v":0},null,{"$f":"ROUND(IF(E348=\"\",0,SUM(E$8:E348)),2)","v":0}]
[null,null,null,{"$f":"ROUND(IF(C349=\"\",0,SUM(C$8:C349)),2)","v":0},null,{"$f":"ROUND(IF(E349=\"\",0,SUM(E$8:E349)),2)","v":0}]
[null,null,null,{"$f":"ROUND(IF(C350=\"\",0,SUM(C$8:C350)),2)","v":0},null,{"$f":"ROUND(IF(E350=\"\",0,SUM(E$8:E350)),2)","v":0}]
[null,null,null,{"$f":"ROUND(IF(C351=\"\",0,SUM(C$8:C351)),2)","v":0},null,{"$f":"ROUND(IF(E351=\"\",0,SUM(E$8:E351)),2)","v":0}]
[null,null,null,{"$f":"ROUND(IF(C352=\"\",0,SUM(C$8:C352)),2)","v":0},null,{"$f":"ROUND(IF(E352=\"\",0,SUM(E$8:E352)),2)","v":0}]
[null,null,null,{"$f":"ROUND(IF(C353=\"\",0,SUM(C$8:C353)),2)","v":0},null,{"$f":"ROUND(IF(E353=\"\",0,SUM(E$8:E353)),2)","v":0}]
[null,null,null,{"$f":"ROUND(IF(C354=\"\",0,SUM(C$8:C354)),2)","v":0},null,{"$f":"ROUND(IF(E354=\"\",0,SUM(E$8:E354)),2)","v":0}]
[null,null,null,{"$f":"ROUND(IF(C355=\"\",0,SUM(C$8:C355)),2)","v":0},null,{"$f":"ROUND(IF(E355=\"\",0,SUM(E$8:E355)),2)","v":0}]
[null,null,null,{"$f":"ROUND(IF(C356=\"\",0,SUM(C$8:C356)),2)","v":0},null,{"$f":"ROUND(IF(E356=\"\",0,SUM(E$8:E356)),2)","v":0}]
[null,null,null,{"$f":"ROUND(IF(C357=\"\",0,SUM(C$8:C357)),2)","v":0},null,{"$f":"ROUND(IF(E357=\"\",0,SUM(E$8:E357)),2)","v":0}]
[null,null,null,{"$f":"ROUND(IF(C358=\"\",0,SUM(C$8:C358)),2)","v":0},null,{"$f":"ROUND(IF(E358=\"\",0,SUM(E$8:E358)),2)","v":0}]
[null,null,null,{"$f":"ROUND(IF(C359=\"\",0,SUM(C$8:C359)),2)","v":0},null,{"$f":"ROUND(IF(E359=\"\",0,SUM(E$8:E359)),2)","v":0}]
[null,null,null,{"$f":"ROUND(IF(C360=\"\",0,SUM(C$8:C360)),2)","v":0},null,{"$f":"ROUND(IF(E360=\"\",0,SUM(E$8:E360)),2)","v":0}]
[null,null,null,{"$f":"ROUND(IF(C361=\"\",0,SUM(C$8:C361)),2)","v":0},null,{"$f":"ROUND(IF(E361=\"\",0,SUM(E$8:E361)),2)","v":0}]
[null,null,null,{"$f":"ROUND(IF(C362=\"\",0,SUM(C$8:C362)),2)","v":0},null,{"$f":"ROUND(IF(E362=\"\",0,SUM(E$8:E362)),2)","v":0}]
[null,null,null,{"$f":"ROUND(IF(C363=\"\",0,SUM(C$8:C363)),2)","v":0},null,{"$f":"ROUND(IF(E363=\"\",0,SUM(E$8:E363)),2)","v":0}]
[null,null,null,{"$f":"ROUND(IF(C364=\"\",0,SUM(C$8:C364)),2)","v":0},null,{"$f":"ROUND(IF(E364=\"\",0,SUM(E$8:E364)),2)","v":0}]
[null,null,null,{"$f":"ROUND(IF(C365=\"\",0,SUM(C$8:C365)),2)","v":0},null,{"$f":"ROUND(IF(E365=\"\",0,SUM(E$8:E365)),2)","v":0}]
[null,null,null,{"$f":"ROUND(IF(C366=\"\",0,SUM(C$8:C366)),2)","v":0},null,{"$f":"ROUND(IF(E366=\"\",0,SUM(E$8:E366)),2)","v":0}]
[null,null,null,{"$f":"ROUND(IF(C367=\"\",0,SUM(C$8:C367)),2)","v":0},null,{"$f":"ROUND(IF(E367=\"\",0,SUM(E$8:E367)),2)","v":0}]
[null,null,null,{"$f":"ROUND(IF(C368=\"\",0,SUM(C$8:C368)),2)","v":0},null,{"$f":"ROUND(IF(E368=\"\",0,SUM(E$8:E368)),2)","v":0}]
[null,null,null,{"$f":"ROUND(IF(C369=\"\",0,SUM(C$8:C369)),2)","v":0},null,{"$f":"ROUND(IF(E369=\"\",0,SUM(E$8:E369)),2)","v":0}]
[null,null,null,{"$f":"ROUND(IF(C370=\"\",0,SUM(C$8:C370)),2)","v":0},null,{"$f":"ROUND(IF(E370=\"\",0,SUM(E$8:E370)),2)","v":0}]
[null,null,null,{"$f":"ROUND(IF(C371=\"\",0,SUM(C$8:C371)),2)","v":0},null,{"$f":"ROUND(IF(E371=\"\",0,SUM(E$8:E371)),2)","v":0}]
[null,null,null,{"$f":"ROUND(IF(C372=\"\",0,SUM(C$8:C372)),2)","v":0},null,{"$f":"ROUND(IF(E372=\"\",0,SUM(E$8:E372)),2)","v":0}]
[null,null,null,{"$f":"ROUND(IF(C373=\"\",0,SUM(C$8:C373)),2)","v":0},null,{"$f":"ROUND(IF(E373=\"\",0,SUM(E$8:E373)),2)","v":0}]
[null,null,null,{"$f":"ROUND(IF(C374=\"\",0,SUM(C$8:C374)),2)","v":0},null,{"$f":"ROUND(IF(E374=\"\",0,SUM(E$8:E374)),2)","v":0}]
[null,null,null,{"$f":"ROUND(IF(C375=\"\",0,SUM(C$8:C375)),2)","v":0},null,{"$f":"ROUND(IF(E375=\"\",0,SUM(E$8:E375)),2)","v":0}]
[null,null,null,{"$f":"ROUND(IF(C376=\"\",0,SUM(C$8:C376)),2)","v":0},null,{"$f":"ROUND(IF(E376=\"\",0,SUM(E$8:E376)),2)","v":0}]
[null,null,null,{"$f":"ROUND(IF(C377=\"\",0,SUM(C$8:C377)),2)","v":0},null,{"$f":"ROUND(IF(E377=\"\",0,SUM(E$8:E377)),2)","v":0}]
[null,null,null,{"$f":"ROUND(IF(C378=\"\",0,SUM(C$8:C378)),2)","v":0},null,{"$f":"ROUND(IF(E378=\"\",0,SUM(E$8:E378)),2)","v":0}]
[null,null,null,{"$f":"ROUND(IF(C379=\"\",0,SUM(C$8:C379)),2)","v":0},null,{"$f":"ROUND(IF(E379=\"\",0,SUM(E$8:E379)),2)","v":0}]
[null,null,null,{"$f":"ROUND(IF(C380=\"\",0,SUM(C$8:C380)),2)","v":0},null,{"$f":"ROUND(IF(E380=\"\",0,SUM(E$8:E380)),2)","v":0}]
[null,null,null,{"$f":"ROUND(IF(C381=\"\",0,SUM(C$8:C381)),2)","v":0},null,{"$f":"ROUND(IF(E381=\"\",0,SUM(E$8:E381)),2)","v":0}]
[null,null,null,{"$f":"ROUND(IF(C382=\"\",0,SUM(C$8:C382)),2)","v":0},null,{"$f":"ROUND(IF(E382=\"\",0,SUM(E$8:E382)),2)","v":0}]
[null,null,null,{"$f":"ROUND(IF(C383=\"\",0,SUM(C$8:C383)),2)","v":0},null,{"$f":"ROUND(IF(E383=\"\",0,SUM(E$8:E383)),2)","v":0}]
[null,null,null,{"$f":"ROUND(IF(C384=\"\",0,SUM(C$8:C384)),2)","v":0},null,{"$f":"ROUND(IF(E384=\"\",0,SUM(E$8:E384)),2)","v":0}]
[null,null,null,{"$f":"ROUND(IF(C385=\"\",0,SUM(C$8:C385)),2)","v":0},null,{"$f":"ROUND(IF(E385=\"\",0,SUM(E$8:E385)),2)","v":0}]
[null,null,null,{"$f":"ROUND(IF(C386=\"\",0,SUM(C$8:C386)),2)","v":0},null,{"$f":"ROUND(IF(E386=\"\",0,SUM(E$8:E386)),2)","v":0}]
[null,null,null,{"$f":"ROUND(IF(C387=\"\",0,SUM(C$8:C387)),2)","v":0},null,{"$f":"ROUND(IF(E387=\"\",0,SUM(E$8:E387)),2)","v":0}]
[null,null,null,{"$f":"ROUND(IF(C388=\"\",0,SUM(C$8:C388)),2)","v":0},null,{"$f":"ROUND(IF(E388=\"\",0,SUM(E$8:E388)),2)","v":0}]
[null,null,null,{"$f":"ROUND(IF(C389=\"\",0,SUM(C$8:C389)),2)","v":0},null,{"$f":"ROUND(IF(E389=\"\",0,SUM(E$8:E389)),2)","v":0}]
[null,null,null,{"$f":"ROUND(IF(C390=\"\",0,SUM(C$8:C390)),2)","v":0},null,{"$f":"ROUND(IF(E390=\"\",0,SUM(E$8:E390)),2)","v":0}]
[null,null,null,{"$f":"ROUND(IF(C391=\"\",0,SUM(C$8:C391)),2)","v":0},null,{"$f":"ROUND(IF(E391=\"\",0,SUM(E$8:E391)),2)","v":0}]
[null,null,null,{"$f":"ROUND(IF(C392=\"\",0,SUM(C$8:C392)),2)","v":0},null,{"$f":"ROUND(IF(E392=\"\",0,SUM(E$8:E392)),2)","v":0}]
[null,null,null,{"$f":"ROUND(IF(C393=\"\",0,SUM(C$8:C393)),2)","v":0},null,{"$f":"ROUND(IF(E393=\"\",0,SUM(E$8:E393)),2)","v":0}]
[null,null,null,{"$f":"ROUND(IF(C394=\"\",0,SUM(C$8:C394)),2)","v":0},null,{"$f":"ROUND(IF(E394=\"\",0,SUM(E$8:E394)),2)","v":0}]
[null,null,null,{"$f":"ROUND(IF(C395=\"\",0,SUM(C$8:C395)),2)","v":0},null,{"$f":"ROUND(IF(E395=\"\",0,SUM(E$8:E395)),2)","v":0}]
[null,null,null,{"$f":"ROUND(IF(C396=\"\",0,SUM(C$8:C396)),2)","v":0},null,{"$f":"ROUND(IF(E396=\"\",0,SUM(E$8:E396)),2)","v":0}]
[null,null,null,{"$f":"ROUND(IF(C397=\"\",0,SUM(C$8:C397)),2)","v":0},null,{"$f":"ROUND(IF(E397=\"\",0,SUM(E$8:E397)),2)","v":0}]
[null,null,null,{"$f":"ROUND(IF(C398=\"\",0,SUM(C$8:C398)),2)","v":0},null,{"$f":"ROUND(IF(E398=\"\",0,SUM(E$8:E398)),2)","v":0}]
[null,null,null,{"$f":"ROUND(IF(C399=\"\",0,SUM(C$8:C399)),2)","v":0},null,{"$f":"ROUND(IF(E399=\"\",0,SUM(E$8:E399)),2)","v":0}]
[null,null,null,{"$f":"ROUND(IF(C400=\"\",0,SUM(C$8:C400)),2)","v":0},null,{"$f":"ROUND(IF(E400=\"\",0,SUM(E$8:E400)),2)","v":0}]
[null,null,null,{"$f":"ROUND(IF(C401=\"\",0,SUM(C$8:C401)),2)","v":0},null,{"$f":"ROUND(IF(E401=\"\",0,SUM(E$8:E401)),2)","v":0}]
[null,null,null,{"$f":"ROUND(IF(C402=\"\",0,SUM(C$8:C402)),2)","v":0},null,{"$f":"ROUND(IF(E402=\"\",0,SUM(E$8:E402)),2)","v":0}]
[null,null,null,{"$f":"ROUND(IF(C403=\"\",0,SUM(C$8:C403)),2)","v":0},null,{"$f":"ROUND(IF(E403=\"\",0,SUM(E$8:E403)),2)","v":0}]
[null,null,null,{"$f":"ROUND(IF(C404=\"\",0,SUM(C$8:C404)),2)","v":0},null,{"$f":"ROUND(IF(E404=\"\",0,SUM(E$8:E404)),2)","v":0}]
[null,null,null,{"$f":"ROUND(IF(C405=\"\",0,SUM(C$8:C405)),2)","v":0},null,{"$f":"ROUND(IF(E405=\"\",0,SUM(E$8:E405)),2)","v":0}]
[null,null,null,{"$f":"ROUND(IF(C406=\"\",0,SUM(C$8:C406)),2)","v":0},null,{"$f":"ROUND(IF(E406=\"\",0,SUM(E$8:E406)),2)","v":0}]
[null,null,null,{"$f":"ROUND(IF(C407=\"\",0,SUM(C$8:C407)),2)","v":0},null,{"$f":"ROUND(IF(E407=\"\",0,SUM(E$8:E407)),2)","v":0}]
[null,null,null,{"$f":"ROUND(IF(C408=\"\",0,SUM(C$8:C408)),2)","v":0},null,{"$f":"ROUND(IF(E408=\"\",0,SUM(E$8:E408)),2)","v":0}]
[null,null,null,{"$f":"ROUND(IF(C409=\"\",0,SUM(C$8:C409)),2)","v":0},null,{"$f":"ROUND(IF(E409=\"\",0,SUM(E$8:E409)),2)","v":0}]
[null,null,null,{"$f":"ROUND(IF(C410=\"\",0,SUM(C$8:C410)),2)","v":0},null,{"$f":"ROUND(IF(E410=\"\",0,SUM(E$8:E410)),2)","v":0}]
[null,null,null,{"$f":"ROUND(IF(C411=\"\",0,SUM(C$8:C411)),2)","v":0},null,{"$f":"ROUND(IF(E411=\"\",0,SUM(E$8:E411)),2)","v":0}]
[null,null,null,{"$f":"ROUND(IF(C412=\"\",0,SUM(C$8:C412)),2)","v":0},null,{"$f":"ROUND(IF(E412=\"\",0,SUM(E$8:E412)),2)","v":0}]
[null,null,null,{"$f":"ROUND(IF(C413=\"\",0,SUM(C$8:C413)),2)","v":0},null,{"$f":"ROUND(IF(E413=\"\",0,SUM(E$8:E413)),2)","v":0}]
[null,null,null,{"$f":"ROUND(IF(C414=\"\",0,SUM(C$8:C414)),2)","v":0},null,{"$f":"ROUND(IF(E414=\"\",0,SUM(E$8:E414)),2)","v":0}]
[null,null,null,{"$f":"ROUND(IF(C415=\"\",0,SUM(C$8:C415)),2)","v":0},null,{"$f":"ROUND(IF(E415=\"\",0,SUM(E$8:E415)),2)","v":0}]
[null,null,null,{"$f":"ROUND(IF(C416=\"\",0,SUM(C$8:C416)),2)","v":0},null,{"$f":"ROUND(IF(E416=\"\",0,SUM(E$8:E416)),2)","v":0}]
[null,null,null,{"$f":"ROUND(IF(C417=\"\",0,SUM(C$8:C417)),2)","v":0},null,{"$f":"ROUND(IF(E417=\"\",0,SUM(E$8:E417)),2)","v":0}]
[null,null,null,{"$f":"ROUND(IF(C418=\"\",0,SUM(C$8:C418)),2)","v":0},null,{"$f":"ROUND(IF(E418=\"\",0,SUM(E$8:E418)),2)","v":0}]
[null,null,null,{"$f":"ROUND(IF(C419=\"\",0,SUM(C$8:C419)),2)","v":0},null,{"$f":"ROUND(IF(E419=\"\",0,SUM(E$8:E419)),2)","v":0}]
[null,null,null,{"$f":"ROUND(IF(C420=\"\",0,SUM(C$8:C420)),2)","v":0},null,{"$f":"ROUND(IF(E420=\"\",0,SUM(E$8:E420)),2)","v":0}]
[null,null,null,{"$f":"ROUND(IF(C421=\"\",0,SUM(C$8:C421)),2)","v":0},null,{"$f":"ROUND(IF(E421=\"\",0,SUM(E$8:E421)),2)","v":0}]
[null,null,null,{"$f":"ROUND(IF(C422=\"\",0,SUM(C$8:C422)),2)","v":0},null,{"$f":"ROUND(IF(E422=\"\",0,SUM(E$8:E422)),2)","v":0}]
[null,null,null,{"$f":"ROUND(IF(C423=\"\",0,SUM(C$8:C423)),2)","v":0},null,{"$f":"ROUND(IF(E423=\"\",0,SUM(E$8:E423)),2)","v":0}]
[null,null,null,{"$f":"ROUND(IF(C424=\"\",0,SUM(C$8:C424)),2)","v":0},null,{"$f":"ROUND(IF(E424=\"\",0,SUM(E$8:E424)),2)","v":0}]
[null,null,null,{"$f":"ROUND(IF(C425=\"\",0,SUM(C$8:C425)),2)","v":0},null,{"$f":"ROUND(IF(E425=\"\",0,SUM(E$8:E425)),2)","v":0}]
[null,null,null,{"$f":"ROUND(IF(C426=\"\",0,SUM(C$8:C426)),2)","v":0},null,{"$f":"ROUND(IF(E426=\"\",0,SUM(E$8:E426)),2)","v":0}]
[null,null,null,{"$f":"ROUND(IF(C427=\"\",0,SUM(C$8:C427)),2)","v":0},null,{"$f":"ROUND(IF(E427=\"\",0,SUM(E$8:E427)),2)","v":0}]
[null,null,null,{"$f":"ROUND(IF(C428=\"\",0,SUM(C$8:C428)),2)","v":0},null,{"$f":"ROUND(IF(E428=\"\",0,SUM(E$8:E428)),2)","v":0}]
[null,null,null,{"$f":"ROUND(IF(C429=\"\",0,SUM(C$8:C429)),2)","v":0},null,{"$f":"ROUND(IF(E429=\"\",0,SUM(E$8:E429)),2)","v":0}]
[null,null,null,{"$f":"ROUND(IF(C430=\"\",0,SUM(C$8:C430)),2)","v":0},null,{"$f":"ROUND(IF(E430=\"\",0,SUM(E$8:E430)),2)","v":0}]
[null,null,null,{"$f":"ROUND(IF(C431=\"\",0,SUM(C$8:C431)),2)","v":0},null,{"$f":"ROUND(IF(E431=\"\",0,SUM(E$8:E431)),2)","v":0}]
[null,null,null,{"$f":"ROUND(IF(C432=\"\",0,SUM(C$8:C432)),2)","v":0},null,{"$f":"ROUND(IF(E432=\"\",0,SUM(E$8:E432)),2)","v":0}]
[null,null,null,{"$f":"ROUND(IF(C433=\"\",0,SUM(C$8:C433)),2)","v":0},null,{"$f":"ROUND(IF(E433=\"\",0,SUM(E$8:E433)),2)","v":0}]
[null,null,null,{"$f":"ROUND(IF(C434=\"\",0,SUM(C$8:C434)),2)","v":0},null,{"$f":"ROUND(IF(E434=\"\",0,SUM(E$8:E434)),2)","v":0}]
[null,null,null,{"$f":"ROUND(IF(C435=\"\",0,SUM(C$8:C435)),2)","v":0},null,{"$f":"ROUND(IF(E435=\"\",0,SUM(E$8:E435)),2)","v":0}]
[null,null,null,{"$f":"ROUND(IF(C436=\"\",0,SUM(C$8:C436)),2)","v":0},null,{"$f":"ROUND(IF(E436=\"\",0,SUM(E$8:E436)),2)","v":0}]
[null,null,null,{"$f":"ROUND(IF(C437=\"\",0,SUM(C$8:C437)),2)","v":0},null,{"$f":"ROUND(IF(E437=\"\",0,SUM(E$8:E437)),2)","v":0}]
[null,null,null,{"$f":"ROUND(IF(C438=\"\",0,SUM(C$8:C438)),2)","v":0},null,{"$f":"ROUND(IF(E438=\"\",0,SUM(E$8:E438)),2)","v":0}]
[null,null,null,{"$f":"ROUND(IF(C439=\"\",0,SUM(C$8:C439)),2)","v":0},null,{"$f":"ROUND(IF(E439=\"\",0,SUM(E$8:E439)),2)","v":0}]
[null,null,null,{"$f":"ROUND(IF(C440=\"\",0,SUM(C$8:C440)),2)","v":0},null,{"$f":"ROUND(IF(E440=\"\",0,SUM(E$8:E440)),2)","v":0}]
[null,null,null,{"$f":"ROUND(IF(C441=\"\",0,SUM(C$8:C441)),2)","v":0},null,{"$f":"ROUND(IF(E441=\"\",0,SUM(E$8:E441)),2)","v":0}]
[null,null,null,{"$f":"ROUND(IF(C442=\"\",0,SUM(C$8:C442)),2)","v":0},null,{"$f":"ROUND(IF(E442=\"\",0,SUM(E$8:E442)),2)","v":0}]
[null,null,null,{"$f":"ROUND(IF(C443=\"\",0,SUM(C$8:C443)),2)","v":0},null,{"$f":"ROUND(IF(E443=\"\",0,SUM(E$8:E443)),2)","v":0}]
[null,null,null,{"$f":"ROUND(IF(C444=\"\",0,SUM(C$8:C444)),2)","v":0},null,{"$f":"ROUND(IF(E444=\"\",0,SUM(E$8:E444)),2)","v":0}]
[null,null,null,{"$f":"ROUND(IF(C445=\"\",0,SUM(C$8:C445)),2)","v":0},null,{"$f":"ROUND(IF(E445=\"\",0,SUM(E$8:E445)),2)","v":0}]
[null,null,null,{"$f":"ROUND(IF(C446=\"\",0,SUM(C$8:C446)),2)","v":0},null,{"$f":"ROUND(IF(E446=\"\",0,SUM(E$8:E446)),2)","v":0}]
[null,null,null,{"$f":"ROUND(IF(C447=\"\",0,SUM(C$8:C447)),2)","v":0},null,{"$f":"ROUND(IF(E447=\"\",0,SUM(E$8:E447)),2)","v":0}]
[null,null,null,{"$f":"ROUND(IF(C448=\"\",0,SUM(C$8:C448)),2)","v":0},null,{"$f":"ROUND(IF(E448=\"\",0,SUM(E$8:E448)),2)","v":0}]
[null,null,null,{"$f":"ROUND(IF(C449=\"\",0,SUM(C$8:C449)),2)","v":0},null,{"$f":"ROUND(IF(E449=\"\",0,SUM(E$8:E449)),2)","v":0}]
[null,null,null,{"$f":"ROUND(IF(C450=\"\",0,SUM(C$8:C450)),2)","v":0},null,{"$f":"ROUND(IF(E450=\"\",0,SUM(E$8:E450)),2)","v":0}]
[null,null,null,{"$f":"ROUND(IF(C451=\"\",0,SUM(C$8:C451)),2)","v":0},null,{"$f":"ROUND(IF(E451=\"\",0,SUM(E$8:E451)),2)","v":0}]
[null,null,null,{"$f":"ROUND(IF(C452=\"\",0,SUM(C$8:C452)),2)","v":0},null,{"$f":"ROUND(IF(E452=\"\",0,SUM(E$8:E452)),2)","v":0}]
[null,null,null,{"$f":"ROUND(IF(C453=\"\",0,SUM(C$8:C453)),2)","v":0},null,{"$f":"ROUND(IF(E453=\"\",0,SUM(E$8:E453)),2)","v":0}]
[null,null,null,{"$f":"ROUND(IF(C454=\"\",0,SUM(C$8:C454)),2)","v":0},null,{"$f":"ROUND(IF(E454=\"\",0,SUM(E$8:E454)),2)","v":0}]
[null,null,null,{"$f":"ROUND(IF(C455=\"\",0,SUM(C$8:C455)),2)","v":0},null,{"$f":"ROUND(IF(E455=\"\",0,SUM(E$8:E455)),2)","v":0}]
[null,null,null,{"$f":"ROUND(IF(C456=\"\",0,SUM(C$8:C456)),2)","v":0},null,{"$f":"ROUND(IF(E456=\"\",0,SUM(E$8:E456)),2)","v":0}]
[null,null,null,{"$f":"ROUND(IF(C457=\"\",0,SUM(C$8:C457)),2)","v":0},null,{"$f":"ROUND(IF(E457=\"\",0,SUM(E$8:E457)),2)","v":0}]
[null,null,null,{"$f":"ROUND(IF(C458=\"\",0,SUM(C$8:C458)),2)","v":0},null,{"$f":"ROUND(IF(E458=\"\",0,SUM(E$8:E458)),2)","v":0}]
[null,null,null,{"$f":"ROUND(IF(C459=\"\",0,SUM(C$8:C459)),2)","v":0},null,{"$f":"ROUND(IF(E459=\"\",0,SUM(E$8:E459)),2)","v":0}]
[null,null,null,{"$f":"ROUND(IF(C460=\"\",0,SUM(C$8:C460)),2)","v":0},null,{"$f":"ROUND(IF(E460=\"\",0,SUM(E$8:E460)),2)","v":0}]
[null,null,null,{"$f":"ROUND(IF(C461=\"\",0,SUM(C$8:C461)),2)","v":0},null,{"$f":"ROUND(IF(E461=\"\",0,SUM(E$8:E461)),2)","v":0}]
[null,null,null,{"$f":"ROUND(IF(C462=\"\",0,SUM(C$8:C462)),2)","v":0},null,{"$f":"ROUND(IF(E462=\"\",0,SUM(E$8:E462)),2)","v":0}]
[null,null,null,{"$f":"ROUND(IF(C463=\"\",0,SUM(C$8:C463)),2)","v":0},null,{"$f":"ROUND(IF(E463=\"\",0,SUM(E$8:E463)),2)","v":0}]
[null,null,null,{"$f":"ROUND(IF(C464=\"\",0,SUM(C$8:C464)),2)","v":0},null,{"$f":"ROUND(IF(E464=\"\",0,SUM(E$8:E464)),2)","v":0}]
[null,null,null,{"$f":"ROUND(IF(C465=\"\",0,SUM(C$8:C465)),2)","v":0},null,{"$f":"ROUND(IF(E465=\"\",0,SUM(E$8:E465)),2)","v":0}]
[null,null,null,{"$f":"ROUND(IF(C466=\"\",0,SUM(C$8:C466)),2)","v":0},null,{"$f":"ROUND(IF(E466=\"\",0,SUM(E$8:E466)),2)","v":0}]
[null,null,null,{"$f":"ROUND(IF(C467=\"\",0,SUM(C$8:C467)),2)","v":0},null,{"$f":"ROUND(IF(E467=\"\",0,SUM(E$8:E467)),2)","v":0}]
[null,null,null,{"$f":"ROUND(IF(C468=\"\",0,SUM(C$8:C468)),2)","v":0},null,{"$f":"ROUND(IF(E468=\"\",0,SUM(E$8:E468)),2)","v":0}]
[null,null,null,{"$f":"ROUND(IF(C469=\"\",0,SUM(C$8:C469)),2)","v":0},null,{"$f":"ROUND(IF(E469=\"\",0,SUM(E$8:E469)),2)","v":0}]
[null,null,null,{"$f":"ROUND(IF(C470=\"\",0,SUM(C$8:C470)),2)","v":0},null,{"$f":"ROUND(IF(E470=\"\",0,SUM(E$8:E470)),2)","v":0}]
[null,null,null,{"$f":"ROUND(IF(C471=\"\",0,SUM(C$8:C471)),2)","v":0},null,{"$f":"ROUND(IF(E471=\"\",0,SUM(E$8:E471)),2)","v":0}]
[null,null,null,{"$f":"ROUND(IF(C472=\"\",0,SUM(C$8:C472)),2)","v":0},null,{"$f":"ROUND(IF(E472=\"\",0,SUM(E$8:E472)),2)","v":0}]
[null,null,null,{"$f":"ROUND(IF(C473=\"\",0,SUM(C$8:C473)),2)","v":0},null,{"$f":"ROUND(IF(E473=\"\",0,SUM(E$8:E473)),2)","v":0}]
[null,null,null,{"$f":"ROUND(IF(C474=\"\",0,SUM(C$8:C474)),2)","v":0},null,{"$f":"ROUND(IF(E474=\"\",0,SUM(E$8:E474)),2)","v":0}]
[null,null,null,{"$f":"ROUND(IF(C475=\"\",0,SUM(C$8:C475)),2)","v":0},null,{"$f":"ROUND(IF(E475=\"\",0,SUM(E$8:E475)),2)","v":0}]
[null,null,null,{"$f":"ROUND(IF(C476=\"\",0,SUM(C$8:C476)),2)","v":0},null,{"$f":"ROUND(IF(E476=\"\",0,SUM(E$8:E476)),2)","v":0}]
[null,null,null,{"$f":"ROUND(IF(C477=\"\",0,SUM(C$8:C477)),2)","v":0},null,{"$f":"ROUND(IF(E477=\"\",0,SUM(E$8:E477)),2)","v":0}]
[null,null,null,{"$f":"ROUND(IF(C478=\"\",0,SUM(C$8:C478)),2)","v":0},null,{"$f":"ROUND(IF(E478=\"\",0,SUM(E$8:E478)),2)","v":0}]
[null,null,null,{"$f":"ROUND(IF(C479=\"\",0,SUM(C$8:C479)),2)","v":0},null,{"$f":"ROUND(IF(E479=\"\",0,SUM(E$8:E479)),2)","v":0}]
[null,null,null,{"$f":"ROUND(IF(C480=\"\",0,SUM(C$8:C480)),2)","v":0},null,{"$f":"ROUND(IF(E480=\"\",0,SUM(E$8:E480)),2)","v":0}]
[null,null,null,{"$f":"ROUND(IF(C481=\"\",0,SUM(C$8:C481)),2)","v":0},null,{"$f":"ROUND(IF(E481=\"\",0,SUM(E$8:E481)),2)","v":0}]
[null,null,null,{"$f":"ROUND(IF(C482=\"\",0,SUM(C$8:C482)),2)","v":0},null,{"$f":"ROUND(IF(E482=\"\",0,SUM(E$8:E482)),2)","v":0}]
[null,null,null,{"$f":"ROUND(IF(C483=\"\",0,SUM(C$8:C483)),2)","v":0},null,{"$f":"ROUND(IF(E483=\"\",0,SUM(E$8:E483)),2)","v":0}]
[null,null,null,{"$f":"ROUND(IF(C484=\"\",0,SUM(C$8:C484)),2)","v":0},null,{"$f":"ROUND(IF(E484=\"\",0,SUM(E$8:E484)),2)","v":0}]
[null,null,null,{"$f":"ROUND(IF(C485=\"\",0,SUM(C$8:C485)),2)","v":0},null,{"$f":"ROUND(IF(E485=\"\",0,SUM(E$8:E485)),2)","v":0}]
[null,null,null,{"$f":"ROUND(IF(C486=\"\",0,SUM(C$8:C486)),2)","v":0},null,{"$f":"ROUND(IF(E486=\"\",0,SUM(E$8:E486)),2)","v":0}]
[null,null,null,{"$f":"ROUND(IF(C487=\"\",0,SUM(C$8:C487)),2)","v":0},null,{"$f":"ROUND(IF(E487=\"\",0,SUM(E$8:E487)),2)","v":0}]
[null,null,null,{"$f":"ROUND(IF(C488=\"\",0,SUM(C$8:C488)),2)","v":0},null,{"$f":"ROUND(IF(E488=\"\",0,SUM(E$8:E488)),2)","v":0}]
[null,null,null,{"$f":"ROUND(IF(C489=\"\",0,SUM(C$8:C489)),2)","v":0},null,{"$f":"ROUND(IF(E489=\"\",0,SUM(E$8:E489)),2)","v":0}]
[null,null,null,{"$f":"ROUND(IF(C490=\"\",0,SUM(C$8:C490)),2)","v":0},null,{"$f":"ROUND(IF(E490=\"\",0,SUM(E$8:E490)),2)","v":0}]
[null,null,null,{"$f":"ROUND(IF(C491=\"\",0,SUM(C$8:C491)),2)","v":0},null,{"$f":"ROUND(IF(E491=\"\",0,SUM(E$8:E491)),2)","v":0}]
[null,null,null,{"$f":"ROUND(IF(C492=\"\",0,SUM(C$8:C492)),2)","v":0},null,{"$f":"ROUND(IF(E492=\"\",0,SUM(E$8:E492)),2)","v":0}]
[null,null,null,{"$f":"ROUND(IF(C493=\"\",0,SUM(C$8:C493)),2)","v":0},null,{"$f":"ROUND(IF(E493=\"\",0,SUM(E$8:E493)),2)","v":0}]
[null,null,null,{"$f":"ROUND(IF(C494=\"\",0,SUM(C$8:C494)),2)","v":0},null,{"$f":"ROUND(IF(E494=\"\",0,SUM(E$8:E494)),2)","v":0}]
[null,null,null,{"$f":"ROUND(IF(C495=\"\",0,SUM(C$8:C495)),2)","v":0},null,{"$f":"ROUND(IF(E495=\"\",0,SUM(E$8:E495)),2)","v":0}]
[null,null,null,{"$f":"ROUND(IF(C496=\"\",0,SUM(C$8:C496)),2)","v":0},null,{"$f":"ROUND(IF(E496=\"\",0,SUM(E$8:E496)),2)","v":0}]
[null,null,null,{"$f":"ROUND(IF(C497=\"\",0,SUM(C$8:C497)),2)","v":0},null,{"$f":"ROUND(IF(E497=\"\",0,SUM(E$8:E497)),2)","v":0}]
[null,null,null,{"$f":"ROUND(IF(C498=\"\",0,SUM(C$8:C498)),2)","v":0},null,{"$f":"ROUND(IF(E498=\"\",0,SUM(E$8:E498)),2)","v":0}]
[null,null,null,{"$f":"ROUND(IF(C499=\"\",0,SUM(C$8:C499)),2)","v":0},null,{"$f":"ROUND(IF(E499=\"\",0,SUM(E$8:E499)),2)","v":0}]
[null,null,null,{"$f":"ROUND(IF(C500=\"\",0,SUM(C$8:C500)),2)","v":0},null,{"$f":"ROUND(IF(E500=\"\",0,SUM(E$8:E500)),2)","v":0}]
[null,null,null,{"$f":"ROUND(IF(C501=\"\",0,SUM(C$8:C501)),2)","v":0},null,{"$f":"ROUND(IF(E501=\"\",0,SUM(E$8:E501)),2)","v":0}]
[null,null,null,{"$f":"ROUND(IF(C502=\"\",0,SUM(C$8:C502)),2)","v":0},null,{"$f":"ROUND(IF(E502=\"\",0,SUM(E$8:E502)),2)","v":0}]
[null,null,null,{"$f":"ROUND(IF(C503=\"\",0,SUM(C$8:C503)),2)","v":0},null,{"$f":"ROUND(IF(E503=\"\",0,SUM(E$8:E503)),2)","v":0}]
[null,null,null,{"$f":"ROUND(IF(C504=\"\",0,SUM(C$8:C504)),2)","v":0},null,{"$f":"ROUND(IF(E504=\"\",0,SUM(E$8:E504)),2)","v":0}]
[null,null,null,{"$f":"ROUND(IF(C505=\"\",0,SUM(C$8:C505)),2)","v":0},null,{"$f":"ROUND(IF(E505=\"\",0,SUM(E$8:E505)),2)","v":0}]
[null,null,null,{"$f":"ROUND(IF(C506=\"\",0,SUM(C$8:C506)),2)","v":0},null,{"$f":"ROUND(IF(E506=\"\",0,SUM(E$8:E506)),2)","v":0}]
[null,null,null,{"$f":"ROUND(IF(C507=\"\",0,SUM(C$8:C507)),2)","v":0},null,{"$f":"ROUND(IF(E507=\"\",0,SUM(E$8:E507)),2)","v":0}]
[null,null,null,{"$f":"ROUND(IF(C508=\"\",0,SUM(C$8:C508)),2)","v":0},null,{"$f":"ROUND(IF(E508=\"\",0,SUM(E$8:E508)),2)","v":0}]
[null,null,null,{"$f":"ROUND(IF(C509=\"\",0,SUM(C$8:C509)),2)","v":0},null,{"$f":"ROUND(IF(E509=\"\",0,SUM(E$8:E509)),2)","v":0}]
[null,null,null,{"$f":"ROUND(IF(C510=\"\",0,SUM(C$8:C510)),2)","v":0},null,{"$f":"ROUND(IF(E510=\"\",0,SUM(E$8:E510)),2)","v":0}]
[null,null,null,{"$f":"ROUND(IF(C511=\"\",0,SUM(C$8:C511)),2)","v":0},null,{"$f":"ROUND(IF(E511=\"\",0,SUM(E$8:E511)),2)","v":0}]
[null,null,null,{"$f":"ROUND(IF(C512=\"\",0,SUM(C$8:C512)),2)","v":0},null,{"$f":"ROUND(IF(E512=\"\",0,SUM(E$8:E512)),2)","v":0}]
[null,null,null,{"$f":"ROUND(IF(C513=\"\",0,SUM(C$8:C513)),2)","v":0},null,{"$f":"ROUND(IF(E513=\"\",0,SUM(E$8:E513)),2)","v":0}]
[null,null,null,{"$f":"ROUND(IF(C514=\"\",0,SUM(C$8:C514)),2)","v":0},null,{"$f":"ROUND(IF(E514=\"\",0,SUM(E$8:E514)),2)","v":0}]
[null,null,null,{"$f":"ROUND(IF(C515=\"\",0,SUM(C$8:C515)),2)","v":0},null,{"$f":"ROUND(IF(E515=\"\",0,SUM(E$8:E515)),2)","v":0}]
[null,null,null,{"$f":"ROUND(IF(C516=\"\",0,SUM(C$8:C516)),2)","v":0},null,{"$f":"ROUND(IF(E516=\"\",0,SUM(E$8:E516)),2)","v":0}]
[null,null,null,{"$f":"ROUND(IF(C517=\"\",0,SUM(C$8:C517)),2)","v":0},null,{"$f":"ROUND(IF(E517=\"\",0,SUM(E$8:E517)),2)","v":0}]
[null,null,null,{"$f":"ROUND(IF(C518=\"\",0,SUM(C$8:C518)),2)","v":0},null,{"$f":"ROUND(IF(E518=\"\",0,SUM(E$8:E518)),2)","v":0}]
[null,null,null,{"$f":"ROUND(IF(C519=\"\",0,SUM(C$8:C519)),2)","v":0},null,{"$f":"ROUND(IF(E519=\"\",0,SUM(E$8:E519)),2)","v":0}]
[null,null,null,{"$f":"ROUND(IF(C520=\"\",0,SUM(C$8:C520)),2)","v":0},null,{"$f":"ROUND(IF(E520=\"\",0,SUM(E$8:E520)),2)","v":0}]
[null,null,null,{"$f":"ROUND(IF(C521=\"\",0,SUM(C$8:C521)),2)","v":0},null,{"$f":"ROUND(IF(E521=\"\",0,SUM(E$8:E521)),2)","v":0}]
[null,null,null,{"$f":"ROUND(IF(C522=\"\",0,SUM(C$8:C522)),2)","v":0},null,{"$f":"ROUND(IF(E522=\"\",0,SUM(E$8:E522)),2)","v":0}]
[null,null,null,{"$f":"ROUND(IF(C523=\"\",0,SUM(C$8:C523)),2)","v":0},null,{"$f":"ROUND(IF(E523=\"\",0,SUM(E$8:E523)),2)","v":0}]
[null,null,null,{"$f":"ROUND(IF(C524=\"\",0,SUM(C$8:C524)),2)","v":0},null,{"$f":"ROUND(IF(E524=\"\",0,SUM(E$8:E524)),2)","v":0}]
[null,null,null,{"$f":"ROUND(IF(C525=\"\",0,SUM(C$8:C525)),2)","v":0},null,{"$f":"ROUND(IF(E525=\"\",0,SUM(E$8:E525)),2)","v":0}]
[null,null,null,{"$f":"ROUND(IF(C526=\"\",0,SUM(C$8:C526)),2)","v":0},null,{"$f":"ROUND(IF(E526=\"\",0,SUM(E$8:E526)),2)","v":0}]
[null,null,null,{"$f":"ROUND(IF(C527=\"\",0,SUM(C$8:C527)),2)","v":0},null,{"$f":"ROUND(IF(E527=\"\",0,SUM(E$8:E527)),2)","v":0}]
[null,null,null,{"$f":"ROUND(IF(C528=\"\",0,SUM(C$8:C528)),2)","v":0},null,{"$f":"ROUND(IF(E528=\"\",0,SUM(E$8:E528)),2)","v":0}]
[null,null,null,{"$f":"ROUND(IF(C529=\"\",0,SUM(C$8:C529)),2)","v":0},null,{"$f":"ROUND(IF(E529=\"\",0,SUM(E$8:E529)),2)","v":0}]
[null,null,null,{"$f":"ROUND(IF(C530=\"\",0,SUM(C$8:C530)),2)","v":0},null,{"$f":"ROUND(IF(E530=\"\",0,SUM(E$8:E530)),2)","v":0}]
[null,null,null,{"$f":"ROUND(IF(C531=\"\",0,SUM(C$8:C531)),2)","v":0},null,{"$f":"ROUND(IF(E531=\"\",0,SUM(E$8:E531)),2)","v":0}]
[null,null,null,{"$f":"ROUND(IF(C532=\"\",0,SUM(C$8:C532)),2)","v":0},null,{"$f":"ROUND(IF(E532=\"\",0,SUM(E$8:E532)),2)","v":0}]
[null,null,null,{"$f":"ROUND(IF(C533=\"\",0,SUM(C$8:C533)),2)","v":0},null,{"$f":"ROUND(IF(E533=\"\",0,SUM(E$8:E533)),2)","v":0}]
[null,null,null,{"$f":"ROUND(IF(C534=\"\",0,SUM(C$8:C534)),2)","v":0},null,{"$f":"ROUND(IF(E534=\"\",0,SUM(E$8:E534)),2)","v":0}]
[null,null,null,{"$f":"ROUND(IF(C535=\"\",0,SUM(C$8:C535)),2)","v":0},null,{"$f":"ROUND(IF(E535=\"\",0,SUM(E$8:E535)),2)","v":0}]
[null,null,null,{"$f":"ROUND(IF(C536=\"\",0,SUM(C$8:C536)),2)","v":0},null,{"$f":"ROUND(IF(E536=\"\",0,SUM(E$8:E536)),2)","v":0}]
[null,null,null,{"$f":"ROUND(IF(C537=\"\",0,SUM(C$8:C537)),2)","v":0},null,{"$f":"ROUND(IF(E537=\"\",0,SUM(E$8:E537)),2)","v":0}]
[null,null,null,{"$f":"ROUND(IF(C538=\"\",0,SUM(C$8:C538)),2)","v":0},null,{"$f":"ROUND(IF(E538=\"\",0,SUM(E$8:E538)),2)","v":0}]
[null,null,null,{"$f":"ROUND(IF(C539=\"\",0,SUM(C$8:C539)),2)","v":0},null,{"$f":"ROUND(IF(E539=\"\",0,SUM(E$8:E539)),2)","v":0}]
[null,null,null,{"$f":"ROUND(IF(C540=\"\",0,SUM(C$8:C540)),2)","v":0},null,{"$f":"ROUND(IF(E540=\"\",0,SUM(E$8:E540)),2)","v":0}]
[null,null,null,{"$f":"ROUND(IF(C541=\"\",0,SUM(C$8:C541)),2)","v":0},null,{"$f":"ROUND(IF(E541=\"\",0,SUM(E$8:E541)),2)","v":0}]
[null,null,null,{"$f":"ROUND(IF(C542=\"\",0,SUM(C$8:C542)),2)","v":0},null,{"$f":"ROUND(IF(E542=\"\",0,SUM(E$8:E542)),2)","v":0}]
[null,null,null,{"$f":"ROUND(IF(C543=\"\",0,SUM(C$8:C543)),2)","v":0},null,{"$f":"ROUND(IF(E543=\"\",0,SUM(E$8:E543)),2)","v":0}]
[null,null,null,{"$f":"ROUND(IF(C544=\"\",0,SUM(C$8:C544)),2)","v":0},null,{"$f":"ROUND(IF(E544=\"\",0,SUM(E$8:E544)),2)","v":0}]
[null,null,null,{"$f":"ROUND(IF(C545=\"\",0,SUM(C$8:C545)),2)","v":0},null,{"$f":"ROUND(IF(E545=\"\",0,SUM(E$8:E545)),2)","v":0}]
[null,null,null,{"$f":"ROUND(IF(C546=\"\",0,SUM(C$8:C546)),2)","v":0},null,{"$f":"ROUND(IF(E546=\"\",0,SUM(E$8:E546)),2)","v":0}]
[null,null,null,{"$f":"ROUND(IF(C547=\"\",0,SUM(C$8:C547)),2)","v":0},null,{"$f":"ROUND(IF(E547=\"\",0,SUM(E$8:E547)),2)","v":0}]
[null,null,null,{"$f":"ROUND(IF(C548=\"\",0,SUM(C$8:C548)),2)","v":0},null,{"$f":"ROUND(IF(E548=\"\",0,SUM(E$8:E548)),2)","v":0}]
[null,null,null,{"$f":"ROUND(IF(C549=\"\",0,SUM(C$8:C549)),2)","v":0},null,{"$f":"ROUND(IF(E549=\"\",0,SUM(E$8:E549)),2)","v":0}]
[null,null,null,{"$f":"ROUND(IF(C550=\"\",0,SUM(C$8:C550)),2)","v":0},null,{"$f":"ROUND(IF(E550=\"\",0,SUM(E$8:E550)),2)","v":0}]
[null,null,null,{"$f":"ROUND(IF(C551=\"\",0,SUM(C$8:C551)),2)","v":0},null,{"$f":"ROUND(IF(E551=\"\",0,SUM(E$8:E551)),2)","v":0}]
[null,null,null,{"$f":"ROUND(IF(C552=\"\",0,SUM(C$8:C552)),2)","v":0},null,{"$f":"ROUND(IF(E552=\"\",0,SUM(E$8:E552)),2)","v":0}]
[null,null,null,{"$f":"ROUND(IF(C553=\"\",0,SUM(C$8:C553)),2)","v":0},null,{"$f":"ROUND(IF(E553=\"\",0,SUM(E$8:E553)),2)","v":0}]
[null,null,null,{"$f":"ROUND(IF(C554=\"\",0,SUM(C$8:C554)),2)","v":0},null,{"$f":"ROUND(IF(E554=\"\",0,SUM(E$8:E554)),2)","v":0}]
[null,null,null,{"$f":"ROUND(IF(C555=\"\",0,SUM(C$8:C555)),2)","v":0},null,{"$f":"ROUND(IF(E555=\"\",0,SUM(E$8:E555)),2)","v":0}]
[null,null,null,{"$f":"ROUND(IF(C556=\"\",0,SUM(C$8:C556)),2)","v":0},null,{"$f":"ROUND(IF(E556=\"\",0,SUM(E$8:E556)),2)","v":0}]
[null,null,null,{"$f":"ROUND(IF(C557=\"\",0,SUM(C$8:C557)),2)","v":0},null,{"$f":"ROUND(IF(E557=\"\",0,SUM(E$8:E557)),2)","v":0}]
[null,null,null,{"$f":"ROUND(IF(C558=\"\",0,SUM(C$8:C558)),2)","v":0},null,{"$f":"ROUND(IF(E558=\"\",0,SUM(E$8:E558)),2)","v":0}]
[null,null,null,{"$f":"ROUND(IF(C559=\"\",0,SUM(C$8:C559)),2)","v":0},null,{"$f":"ROUND(IF(E559=\"\",0,SUM(E$8:E559)),2)","v":0}]
[null,null,null,{"$f":"ROUND(IF(C560=\"\",0,SUM(C$8:C560)),2)","v":0},null,{"$f":"ROUND(IF(E560=\"\",0,SUM(E$8:E560)),2)","v":0}]
[null,null,null,{"$f":"ROUND(IF(C561=\"\",0,SUM(C$8:C561)),2)","v":0},null,{"$f":"ROUND(IF(E561=\"\",0,SUM(E$8:E561)),2)","v":0}]
[null,null,null,{"$f":"ROUND(IF(C562=\"\",0,SUM(C$8:C562)),2)","v":0},null,{"$f":"ROUND(IF(E562=\"\",0,SUM(E$8:E562)),2)","v":0}]
[null,null,null,{"$f":"ROUND(IF(C563=\"\",0,SUM(C$8:C563)),2)","v":0},null,{"$f":"ROUND(IF(E563=\"\",0,SUM(E$8:E563)),2)","v":0}]
[null,null,null,{"$f":"ROUND(IF(C564=\"\",0,SUM(C$8:C564)),2)","v":0},null,{"$f":"ROUND(IF(E564=\"\",0,SUM(E$8:E564)),2)","v":0}]
[null,null,null,{"$f":"ROUND(IF(C565=\"\",0,SUM(C$8:C565)),2)","v":0},null,{"$f":"ROUND(IF(E565=\"\",0,SUM(E$8:E565)),2)","v":0}]
[null,null,null,{"$f":"ROUND(IF(C566=\"\",0,SUM(C$8:C566)),2)","v":0},null,{"$f":"ROUND(IF(E566=\"\",0,SUM(E$8:E566)),2)","v":0}]
[null,null,null,{"$f":"ROUND(IF(C567=\"\",0,SUM(C$8:C567)),2)","v":0},null,{"$f":"ROUND(IF(E567=\"\",0,SUM(E$8:E567)),2)","v":0}]
[null,null,null,{"$f":"ROUND(IF(C568=\"\",0,SUM(C$8:C568)),2)","v":0},null,{"$f":"ROUND(IF(E568=\"\",0,SUM(E$8:E568)),2)","v":0}]
[null,null,null,{"$f":"ROUND(IF(C569=\"\",0,SUM(C$8:C569)),2)","v":0},null,{"$f":"ROUND(IF(E569=\"\",0,SUM(E$8:E569)),2)","v":0}]
[null,null,null,{"$f":"ROUND(IF(C570=\"\",0,SUM(C$8:C570)),2)","v":0},null,{"$f":"ROUND(IF(E570=\"\",0,SUM(E$8:E570)),2)","v":0}]
[null,null,null,{"$f":"ROUND(IF(C571=\"\",0,SUM(C$8:C571)),2)","v":0},null,{"$f":"ROUND(IF(E571=\"\",0,SUM(E$8:E571)),2)","v":0}]
[null,null,null,{"$f":"ROUND(IF(C572=\"\",0,SUM(C$8:C572)),2)","v":0},null,{"$f":"ROUND(IF(E572=\"\",0,SUM(E$8:E572)),2)","v":0}]
[null,null,null,{"$f":"ROUND(IF(C573=\"\",0,SUM(C$8:C573)),2)","v":0},null,{"$f":"ROUND(IF(E573=\"\",0,SUM(E$8:E573)),2)","v":0}]
[null,null,null,{"$f":"ROUND(IF(C574=\"\",0,SUM(C$8:C574)),2)","v":0},null,{"$f":"ROUND(IF(E574=\"\",0,SUM(E$8:E574)),2)","v":0}]
[null,null,null,{"$f":"ROUND(IF(C575=\"\",0,SUM(C$8:C575)),2)","v":0},null,{"$f":"ROUND(IF(E575=\"\",0,SUM(E$8:E575)),2)","v":0}]
[null,null,null,{"$f":"ROUND(IF(C576=\"\",0,SUM(C$8:C576)),2)","v":0},null,{"$f":"ROUND(IF(E576=\"\",0,SUM(E$8:E576)),2)","v":0}]
[null,null,null,{"$f":"ROUND(IF(C577=\"\",0,SUM(C$8:C577)),2)","v":0},null,{"$f":"ROUND(IF(E577=\"\",0,SUM(E$8:E577)),2)","v":0}]
[null,null,null,{"$f":"ROUND(IF(C578=\"\",0,SUM(C$8:C578)),2)","v":0},null,{"$f":"ROUND(IF(E578=\"\",0,SUM(E$8:E578)),2)","v":0}]
[null,null,null,{"$f":"ROUND(IF(C579=\"\",0,SUM(C$8:C579)),2)","v":0},null,{"$f":"ROUND(IF(E579=\"\",0,SUM(E$8:E579)),2)","v":0}]
[null,null,null,{"$f":"ROUND(IF(C580=\"\",0,SUM(C$8:C580)),2)","v":0},null,{"$f":"ROUND(IF(E580=\"\",0,SUM(E$8:E580)),2)","v":0}]
[null,null,null,{"$f":"ROUND(IF(C581=\"\",0,SUM(C$8:C581)),2)","v":0},null,{"$f":"ROUND(IF(E581=\"\",0,SUM(E$8:E581)),2)","v":0}]
[null,null,null,{"$f":"ROUND(IF(C582=\"\",0,SUM(C$8:C582)),2)","v":0},null,{"$f":"ROUND(IF(E582=\"\",0,SUM(E$8:E582)),2)","v":0}]
[null,null,null,{"$f":"ROUND(IF(C583=\"\",0,SUM(C$8:C583)),2)","v":0},null,{"$f":"ROUND(IF(E583=\"\",0,SUM(E$8:E583)),2)","v":0}]
[null,null,null,{"$f":"ROUND(IF(C584=\"\",0,SUM(C$8:C584)),2)","v":0},null,{"$f":"ROUND(IF(E584=\"\",0,SUM(E$8:E584)),2)","v":0}]
[null,null,null,{"$f":"ROUND(IF(C585=\"\",0,SUM(C$8:C585)),2)","v":0},null,{"$f":"ROUND(IF(E585=\"\",0,SUM(E$8:E585)),2)","v":0}]
[null,null,null,{"$f":"ROUND(IF(C586=\"\",0,SUM(C$8:C586)),2)","v":0},null,{"$f":"ROUND(IF(E586=\"\",0,SUM(E$8:E586)),2)","v":0}]
[null,null,null,{"$f":"ROUND(IF(C587=\"\",0,SUM(C$8:C587)),2)","v":0},null,{"$f":"ROUND(IF(E587=\"\",0,SUM(E$8:E587)),2)","v":0}]
[null,null,null,{"$f":"ROUND(IF(C588=\"\",0,SUM(C$8:C588)),2)","v":0},null,{"$f":"ROUND(IF(E588=\"\",0,SUM(E$8:E588)),2)","v":0}]
[null,null,null,{"$f":"ROUND(IF(C589=\"\",0,SUM(C$8:C589)),2)","v":0},null,{"$f":"ROUND(IF(E589=\"\",0,SUM(E$8:E589)),2)","v":0}]
[null,null,null,{"$f":"ROUND(IF(C590=\"\",0,SUM(C$8:C590)),2)","v":0},null,{"$f":"ROUND(IF(E590=\"\",0,SUM(E$8:E590)),2)","v":0}]
[null,null,null,{"$f":"ROUND(IF(C591=\"\",0,SUM(C$8:C591)),2)","v":0},null,{"$f":"ROUND(IF(E591=\"\",0,SUM(E$8:E591)),2)","v":0}]
[null,null,null,{"$f":"ROUND(IF(C592=\"\",0,SUM(C$8:C592)),2)","v":0},null,{"$f":"ROUND(IF(E592=\"\",0,SUM(E$8:E592)),2)","v":0}]
[null,null,null,{"$f":"ROUND(IF(C593=\"\",0,SUM(C$8:C593)),2)","v":0},null,{"$f":"ROUND(IF(E593=\"\",0,SUM(E$8:E593)),2)","v":0}]
[null,null,null,{"$f":"ROUND(IF(C594=\"\",0,SUM(C$8:C594)),2)","v":0},null,{"$f":"ROUND(IF(E594=\"\",0,SUM(E$8:E594)),2)","v":0}]
[null,null,null,{"$f":"ROUND(IF(C595=\"\",0,SUM(C$8:C595)),2)","v":0},null,{"$f":"ROUND(IF(E595=\"\",0,SUM(E$8:E595)),2)","v":0}]
[null,null,null,{"$f":"ROUND(IF(C596=\"\",0,SUM(C$8:C596)),2)","v":0},null,{"$f":"ROUND(IF(E596=\"\",0,SUM(E$8:E596)),2)","v":0}]
[null,null,null,{"$f":"ROUND(IF(C597=\"\",0,SUM(C$8:C597)),2)","v":0},null,{"$f":"ROUND(IF(E597=\"\",0,SUM(E$8:E597)),2)","v":0}]
[null,null,null,{"$f":"ROUND(IF(C598=\"\",0,SUM(C$8:C598)),2)","v":0},null,{"$f":"ROUND(IF(E598=\"\",0,SUM(E$8:E598)),2)","v":0}]
[null,null,null,{"$f":"ROUND(IF(C599=\"\",0,SUM(C$8:C599)),2)","v":0},null,{"$f":"ROUND(IF(E599=\"\",0,SUM(E$8:E599)),2)","v":0}]
[null,null,null,{"$f":"ROUND(IF(C600=\"\",0,SUM(C$8:C600)),2)","v":0},null,{"$f":"ROUND(IF(E600=\"\",0,SUM(E$8:E600)),2)","v":0}]
[null,null,null,{"$f":"ROUND(IF(C601=\"\",0,SUM(C$8:C601)),2)","v":0},null,{"$f":"ROUND(IF(E601=\"\",0,SUM(E$8:E601)),2)","v":0}]
[null,null,null,{"$f":"ROUND(IF(C602=\"\",0,SUM(C$8:C602)),2)","v":0},null,{"$f":"ROUND(IF(E602=\"\",0,SUM(E$8:E602)),2)","v":0}]
[null,null,null,{"$f":"ROUND(IF(C603=\"\",0,SUM(C$8:C603)),2)","v":0},null,{"$f":"ROUND(IF(E603=\"\",0,SUM(E$8:E603)),2)","v":0}]
[null,null,null,{"$f":"ROUND(IF(C604=\"\",0,SUM(C$8:C604)),2)","v":0},null,{"$f":"ROUND(IF(E604=\"\",0,SUM(E$8:E604)),2)","v":0}]
[null,null,null,{"$f":"ROUND(IF(C605=\"\",0,SUM(C$8:C605)),2)","v":0},null,{"$f":"ROUND(IF(E605=\"\",0,SUM(E$8:E605)),2)","v":0}]
[null,null,null,{"$f":"ROUND(IF(C606=\"\",0,SUM(C$8:C606)),2)","v":0},null,{"$f":"ROUND(IF(E606=\"\",0,SUM(E$8:E606)),2)","v":0}]
[null,null,null,{"$f":"ROUND(IF(C607=\"\",0,SUM(C$8:C607)),2)","v":0},null,{"$f":"ROUND(IF(E607=\"\",0,SUM(E$8:E607)),2)","v":0}]

{"sheet":"Fly Ash 1","index":6,"n_rows":607,"n_cols":9,"rows_kept":607,"cut":false,"hidden":false,"merged":[]}
["Fly  Ash  1 Shipments",null,null,null,null,null,null,null,{"$f":"Info!B2","v":"E"}]
["Spec. Grav.: ",{"$f":"IF(AND(Info!B26=\"\", Info!C26=\"\"),\"\", IF(Info!B26<>\"\", Info!B26, Info!C26))","v":""},null,null,null,null,"Page No.: "]
["Source: ",{"$f":"IF(AND(Info!B24=\"\", Info!C24=\"\"),\"\", IF(Info!B24<>\"\", Info!B24, Info!C24))","v":""},null,null,null,null,"Type: ",{"$f":"IF(AND(Info!B25=\"\", Info!C25=\"\"),\"\", IF(Info!B25<>\"\", Info!B25, Info!C25))","v":""}]
["Project No.: ",{"$f":"IF(Info!B3=\"\",\"\",(Info!B3))","v":""},null,null,null,null,"Contract ID.: ",{"$f":"IF(Info!B4=\"\",\"\",(Info!B4))","v":""}]
[]
[null,"Ticket","Certified","To  Date","Used","To  Date",null,null," "]
["Date","No.",{"$f":"IF(Info!$B$2=\"M\",\"(Mg's)\",\"(Tons)\")","v":"(Tons)"},{"$f":"IF(Info!$B$2=\"M\",\"(Mg's)\",\"(Tons)\")","v":"(Tons)"},{"$f":"IF(Info!$B$2=\"M\",\"(Mg's)\",\"(Tons)\")","v":"(Tons)"},{"$f":"IF(Info!$B$2=\"M\",\"(Mg's)\",\"(Tons)\")","v":"(Tons)"},"Remarks",null,"By"]
[null,null,null,{"$f":"SUM(C8)","v":0},null,{"$f":"SUM(E8)","v":0}]
[null,null,null,{"$f":"ROUND(IF(C9=\"\",0,SUM(C$8:C9)),2)","v":0},null,{"$f":"ROUND(IF(E9=\"\",0,SUM(E$8:E9)),2)","v":0}]
[null,null,null,{"$f":"ROUND(IF(C10=\"\",0,SUM(C$8:C10)),2)","v":0},null,{"$f":"ROUND(IF(E10=\"\",0,SUM(E$8:E10)),2)","v":0}]
[null,null,null,{"$f":"ROUND(IF(C11=\"\",0,SUM(C$8:C11)),2)","v":0},null,{"$f":"ROUND(IF(E11=\"\",0,SUM(E$8:E11)),2)","v":0}]
[null,null,null,{"$f":"ROUND(IF(C12=\"\",0,SUM(C$8:C12)),2)","v":0},null,{"$f":"ROUND(IF(E12=\"\",0,SUM(E$8:E12)),2)","v":0}]
[null,null,null,{"$f":"ROUND(IF(C13=\"\",0,SUM(C$8:C13)),2)","v":0},null,{"$f":"ROUND(IF(E13=\"\",0,SUM(E$8:E13)),2)","v":0}]
[null,null,null,{"$f":"ROUND(IF(C14=\"\",0,SUM(C$8:C14)),2)","v":0},null,{"$f":"ROUND(IF(E14=\"\",0,SUM(E$8:E14)),2)","v":0}]
[null,null,null,{"$f":"ROUND(IF(C15=\"\",0,SUM(C$8:C15)),2)","v":0},null,{"$f":"ROUND(IF(E15=\"\",0,SUM(E$8:E15)),2)","v":0}]
[null,null,null,{"$f":"ROUND(IF(C16=\"\",0,SUM(C$8:C16)),2)","v":0},null,{"$f":"ROUND(IF(E16=\"\",0,SUM(E$8:E16)),2)","v":0}]
[null,null,null,{"$f":"ROUND(IF(C17=\"\",0,SUM(C$8:C17)),2)","v":0},null,{"$f":"ROUND(IF(E17=\"\",0,SUM(E$8:E17)),2)","v":0}]
[null,null,null,{"$f":"ROUND(IF(C18=\"\",0,SUM(C$8:C18)),2)","v":0},null,{"$f":"ROUND(IF(E18=\"\",0,SUM(E$8:E18)),2)","v":0}]
[null,null,null,{"$f":"ROUND(IF(C19=\"\",0,SUM(C$8:C19)),2)","v":0},null,{"$f":"ROUND(IF(E19=\"\",0,SUM(E$8:E19)),2)","v":0}]
[null,null,null,{"$f":"ROUND(IF(C20=\"\",0,SUM(C$8:C20)),2)","v":0},null,{"$f":"ROUND(IF(E20=\"\",0,SUM(E$8:E20)),2)","v":0}]
[null,null,null,{"$f":"ROUND(IF(C21=\"\",0,SUM(C$8:C21)),2)","v":0},null,{"$f":"ROUND(IF(E21=\"\",0,SUM(E$8:E21)),2)","v":0}]
[null,null,null,{"$f":"ROUND(IF(C22=\"\",0,SUM(C$8:C22)),2)","v":0},null,{"$f":"ROUND(IF(E22=\"\",0,SUM(E$8:E22)),2)","v":0}]
[null,null,null,{"$f":"ROUND(IF(C23=\"\",0,SUM(C$8:C23)),2)","v":0},null,{"$f":"ROUND(IF(E23=\"\",0,SUM(E$8:E23)),2)","v":0}]
[null,null,null,{"$f":"ROUND(IF(C24=\"\",0,SUM(C$8:C24)),2)","v":0},null,{"$f":"ROUND(IF(E24=\"\",0,SUM(E$8:E24)),2)","v":0}]
[null,null,null,{"$f":"ROUND(IF(C25=\"\",0,SUM(C$8:C25)),2)","v":0},null,{"$f":"ROUND(IF(E25=\"\",0,SUM(E$8:E25)),2)","v":0}]
[null,null,null,{"$f":"ROUND(IF(C26=\"\",0,SUM(C$8:C26)),2)","v":0},null,{"$f":"ROUND(IF(E26=\"\",0,SUM(E$8:E26)),2)","v":0}]
[null,null,null,{"$f":"ROUND(IF(C27=\"\",0,SUM(C$8:C27)),2)","v":0},null,{"$f":"ROUND(IF(E27=\"\",0,SUM(E$8:E27)),2)","v":0}]
[null,null,null,{"$f":"ROUND(IF(C28=\"\",0,SUM(C$8:C28)),2)","v":0},null,{"$f":"ROUND(IF(E28=\"\",0,SUM(E$8:E28)),2)","v":0}]
[null,null,null,{"$f":"ROUND(IF(C29=\"\",0,SUM(C$8:C29)),2)","v":0},null,{"$f":"ROUND(IF(E29=\"\",0,SUM(E$8:E29)),2)","v":0}]
[null,null,null,{"$f":"ROUND(IF(C30=\"\",0,SUM(C$8:C30)),2)","v":0},null,{"$f":"ROUND(IF(E30=\"\",0,SUM(E$8:E30)),2)","v":0}]
[null,null,null,{"$f":"ROUND(IF(C31=\"\",0,SUM(C$8:C31)),2)","v":0},null,{"$f":"ROUND(IF(E31=\"\",0,SUM(E$8:E31)),2)","v":0}]
[null,null,null,{"$f":"ROUND(IF(C32=\"\",0,SUM(C$8:C32)),2)","v":0},null,{"$f":"ROUND(IF(E32=\"\",0,SUM(E$8:E32)),2)","v":0}]
[null,null,null,{"$f":"ROUND(IF(C33=\"\",0,SUM(C$8:C33)),2)","v":0},null,{"$f":"ROUND(IF(E33=\"\",0,SUM(E$8:E33)),2)","v":0}]
[null,null,null,{"$f":"ROUND(IF(C34=\"\",0,SUM(C$8:C34)),2)","v":0},null,{"$f":"ROUND(IF(E34=\"\",0,SUM(E$8:E34)),2)","v":0}]
[null,null,null,{"$f":"ROUND(IF(C35=\"\",0,SUM(C$8:C35)),2)","v":0},null,{"$f":"ROUND(IF(E35=\"\",0,SUM(E$8:E35)),2)","v":0}]
[null,null,null,{"$f":"ROUND(IF(C36=\"\",0,SUM(C$8:C36)),2)","v":0},null,{"$f":"ROUND(IF(E36=\"\",0,SUM(E$8:E36)),2)","v":0}]
[null,null,null,{"$f":"ROUND(IF(C37=\"\",0,SUM(C$8:C37)),2)","v":0},null,{"$f":"ROUND(IF(E37=\"\",0,SUM(E$8:E37)),2)","v":0}]
[null,null,null,{"$f":"ROUND(IF(C38=\"\",0,SUM(C$8:C38)),2)","v":0},null,{"$f":"ROUND(IF(E38=\"\",0,SUM(E$8:E38)),2)","v":0}]
[null,null,null,{"$f":"ROUND(IF(C39=\"\",0,SUM(C$8:C39)),2)","v":0},null,{"$f":"ROUND(IF(E39=\"\",0,SUM(E$8:E39)),2)","v":0}]
[null,null,null,{"$f":"ROUND(IF(C40=\"\",0,SUM(C$8:C40)),2)","v":0},null,{"$f":"ROUND(IF(E40=\"\",0,SUM(E$8:E40)),2)","v":0}]
[null,null,null,{"$f":"ROUND(IF(C41=\"\",0,SUM(C$8:C41)),2)","v":0},null,{"$f":"ROUND(IF(E41=\"\",0,SUM(E$8:E41)),2)","v":0}]
[null,null,null,{"$f":"ROUND(IF(C42=\"\",0,SUM(C$8:C42)),2)","v":0},null,{"$f":"ROUND(IF(E42=\"\",0,SUM(E$8:E42)),2)","v":0}]
[null,null,null,{"$f":"ROUND(IF(C43=\"\",0,SUM(C$8:C43)),2)","v":0},null,{"$f":"ROUND(IF(E43=\"\",0,SUM(E$8:E43)),2)","v":0}]
[null,null,null,{"$f":"ROUND(IF(C44=\"\",0,SUM(C$8:C44)),2)","v":0},null,{"$f":"ROUND(IF(E44=\"\",0,SUM(E$8:E44)),2)","v":0}]
[null,null,null,{"$f":"ROUND(IF(C45=\"\",0,SUM(C$8:C45)),2)","v":0},null,{"$f":"ROUND(IF(E45=\"\",0,SUM(E$8:E45)),2)","v":0}]
[null,null,null,{"$f":"ROUND(IF(C46=\"\",0,SUM(C$8:C46)),2)","v":0},null,{"$f":"ROUND(IF(E46=\"\",0,SUM(E$8:E46)),2)","v":0}]
[null,null,null,{"$f":"ROUND(IF(C47=\"\",0,SUM(C$8:C47)),2)","v":0},null,{"$f":"ROUND(IF(E47=\"\",0,SUM(E$8:E47)),2)","v":0}]
[null,null,null,{"$f":"ROUND(IF(C48=\"\",0,SUM(C$8:C48)),2)","v":0},null,{"$f":"ROUND(IF(E48=\"\",0,SUM(E$8:E48)),2)","v":0}]
[null,null,null,{"$f":"ROUND(IF(C49=\"\",0,SUM(C$8:C49)),2)","v":0},null,{"$f":"ROUND(IF(E49=\"\",0,SUM(E$8:E49)),2)","v":0}]
[null,null,null,{"$f":"ROUND(IF(C50=\"\",0,SUM(C$8:C50)),2)","v":0},null,{"$f":"ROUND(IF(E50=\"\",0,SUM(E$8:E50)),2)","v":0}]
[null,null,null,{"$f":"ROUND(IF(C51=\"\",0,SUM(C$8:C51)),2)","v":0},null,{"$f":"ROUND(IF(E51=\"\",0,SUM(E$8:E51)),2)","v":0}]
[null,null,null,{"$f":"ROUND(IF(C52=\"\",0,SUM(C$8:C52)),2)","v":0},null,{"$f":"ROUND(IF(E52=\"\",0,SUM(E$8:E52)),2)","v":0}]
[null,null,null,{"$f":"ROUND(IF(C53=\"\",0,SUM(C$8:C53)),2)","v":0},null,{"$f":"ROUND(IF(E53=\"\",0,SUM(E$8:E53)),2)","v":0}]
[null,null,null,{"$f":"ROUND(IF(C54=\"\",0,SUM(C$8:C54)),2)","v":0},null,{"$f":"ROUND(IF(E54=\"\",0,SUM(E$8:E54)),2)","v":0}]
[null,null,null,{"$f":"ROUND(IF(C55=\"\",0,SUM(C$8:C55)),2)","v":0},null,{"$f":"ROUND(IF(E55=\"\",0,SUM(E$8:E55)),2)","v":0}]
[null,null,null,{"$f":"ROUND(IF(C56=\"\",0,SUM(C$8:C56)),2)","v":0},null,{"$f":"ROUND(IF(E56=\"\",0,SUM(E$8:E56)),2)","v":0}]
[null,null,null,{"$f":"ROUND(IF(C57=\"\",0,SUM(C$8:C57)),2)","v":0},null,{"$f":"ROUND(IF(E57=\"\",0,SUM(E$8:E57)),2)","v":0}]
[null,null,null,{"$f":"ROUND(IF(C58=\"\",0,SUM(C$8:C58)),2)","v":0},null,{"$f":"ROUND(IF(E58=\"\",0,SUM(E$8:E58)),2)","v":0}]
[null,null,null,{"$f":"ROUND(IF(C59=\"\",0,SUM(C$8:C59)),2)","v":0},null,{"$f":"ROUND(IF(E59=\"\",0,SUM(E$8:E59)),2)","v":0}]
[null,null,null,{"$f":"ROUND(IF(C60=\"\",0,SUM(C$8:C60)),2)","v":0},null,{"$f":"ROUND(IF(E60=\"\",0,SUM(E$8:E60)),2)","v":0}]
[null,null,null,{"$f":"ROUND(IF(C61=\"\",0,SUM(C$8:C61)),2)","v":0},null,{"$f":"ROUND(IF(E61=\"\",0,SUM(E$8:E61)),2)","v":0}]
[null,null,null,{"$f":"ROUND(IF(C62=\"\",0,SUM(C$8:C62)),2)","v":0},null,{"$f":"ROUND(IF(E62=\"\",0,SUM(E$8:E62)),2)","v":0}]
[null,null,null,{"$f":"ROUND(IF(C63=\"\",0,SUM(C$8:C63)),2)","v":0},null,{"$f":"ROUND(IF(E63=\"\",0,SUM(E$8:E63)),2)","v":0}]
[null,null,null,{"$f":"ROUND(IF(C64=\"\",0,SUM(C$8:C64)),2)","v":0},null,{"$f":"ROUND(IF(E64=\"\",0,SUM(E$8:E64)),2)","v":0}]
[null,null,null,{"$f":"ROUND(IF(C65=\"\",0,SUM(C$8:C65)),2)","v":0},null,{"$f":"ROUND(IF(E65=\"\",0,SUM(E$8:E65)),2)","v":0}]
[null,null,null,{"$f":"ROUND(IF(C66=\"\",0,SUM(C$8:C66)),2)","v":0},null,{"$f":"ROUND(IF(E66=\"\",0,SUM(E$8:E66)),2)","v":0}]
[null,null,null,{"$f":"ROUND(IF(C67=\"\",0,SUM(C$8:C67)),2)","v":0},null,{"$f":"ROUND(IF(E67=\"\",0,SUM(E$8:E67)),2)","v":0}]
[null,null,null,{"$f":"ROUND(IF(C68=\"\",0,SUM(C$8:C68)),2)","v":0},null,{"$f":"ROUND(IF(E68=\"\",0,SUM(E$8:E68)),2)","v":0}]
[null,null,null,{"$f":"ROUND(IF(C69=\"\",0,SUM(C$8:C69)),2)","v":0},null,{"$f":"ROUND(IF(E69=\"\",0,SUM(E$8:E69)),2)","v":0}]
[null,null,null,{"$f":"ROUND(IF(C70=\"\",0,SUM(C$8:C70)),2)","v":0},null,{"$f":"ROUND(IF(E70=\"\",0,SUM(E$8:E70)),2)","v":0}]
[null,null,null,{"$f":"ROUND(IF(C71=\"\",0,SUM(C$8:C71)),2)","v":0},null,{"$f":"ROUND(IF(E71=\"\",0,SUM(E$8:E71)),2)","v":0}]
[null,null,null,{"$f":"ROUND(IF(C72=\"\",0,SUM(C$8:C72)),2)","v":0},null,{"$f":"ROUND(IF(E72=\"\",0,SUM(E$8:E72)),2)","v":0}]
[null,null,null,{"$f":"ROUND(IF(C73=\"\",0,SUM(C$8:C73)),2)","v":0},null,{"$f":"ROUND(IF(E73=\"\",0,SUM(E$8:E73)),2)","v":0}]
[null,null,null,{"$f":"ROUND(IF(C74=\"\",0,SUM(C$8:C74)),2)","v":0},null,{"$f":"ROUND(IF(E74=\"\",0,SUM(E$8:E74)),2)","v":0}]
[null,null,null,{"$f":"ROUND(IF(C75=\"\",0,SUM(C$8:C75)),2)","v":0},null,{"$f":"ROUND(IF(E75=\"\",0,SUM(E$8:E75)),2)","v":0}]
[null,null,null,{"$f":"ROUND(IF(C76=\"\",0,SUM(C$8:C76)),2)","v":0},null,{"$f":"ROUND(IF(E76=\"\",0,SUM(E$8:E76)),2)","v":0}]
[null,null,null,{"$f":"ROUND(IF(C77=\"\",0,SUM(C$8:C77)),2)","v":0},null,{"$f":"ROUND(IF(E77=\"\",0,SUM(E$8:E77)),2)","v":0}]
[null,null,null,{"$f":"ROUND(IF(C78=\"\",0,SUM(C$8:C78)),2)","v":0},null,{"$f":"ROUND(IF(E78=\"\",0,SUM(E$8:E78)),2)","v":0}]
[null,null,null,{"$f":"ROUND(IF(C79=\"\",0,SUM(C$8:C79)),2)","v":0},null,{"$f":"ROUND(IF(E79=\"\",0,SUM(E$8:E79)),2)","v":0}]
[null,null,null,{"$f":"ROUND(IF(C80=\"\",0,SUM(C$8:C80)),2)","v":0},null,{"$f":"ROUND(IF(E80=\"\",0,SUM(E$8:E80)),2)","v":0}]
[null,null,null,{"$f":"ROUND(IF(C81=\"\",0,SUM(C$8:C81)),2)","v":0},null,{"$f":"ROUND(IF(E81=\"\",0,SUM(E$8:E81)),2)","v":0}]
[null,null,null,{"$f":"ROUND(IF(C82=\"\",0,SUM(C$8:C82)),2)","v":0},null,{"$f":"ROUND(IF(E82=\"\",0,SUM(E$8:E82)),2)","v":0}]
[null,null,null,{"$f":"ROUND(IF(C83=\"\",0,SUM(C$8:C83)),2)","v":0},null,{"$f":"ROUND(IF(E83=\"\",0,SUM(E$8:E83)),2)","v":0}]
[null,null,null,{"$f":"ROUND(IF(C84=\"\",0,SUM(C$8:C84)),2)","v":0},null,{"$f":"ROUND(IF(E84=\"\",0,SUM(E$8:E84)),2)","v":0}]
[null,null,null,{"$f":"ROUND(IF(C85=\"\",0,SUM(C$8:C85)),2)","v":0},null,{"$f":"ROUND(IF(E85=\"\",0,SUM(E$8:E85)),2)","v":0}]
[null,null,null,{"$f":"ROUND(IF(C86=\"\",0,SUM(C$8:C86)),2)","v":0},null,{"$f":"ROUND(IF(E86=\"\",0,SUM(E$8:E86)),2)","v":0}]
[null,null,null,{"$f":"ROUND(IF(C87=\"\",0,SUM(C$8:C87)),2)","v":0},null,{"$f":"ROUND(IF(E87=\"\",0,SUM(E$8:E87)),2)","v":0}]
[null,null,null,{"$f":"ROUND(IF(C88=\"\",0,SUM(C$8:C88)),2)","v":0},null,{"$f":"ROUND(IF(E88=\"\",0,SUM(E$8:E88)),2)","v":0}]
[null,null,null,{"$f":"ROUND(IF(C89=\"\",0,SUM(C$8:C89)),2)","v":0},null,{"$f":"ROUND(IF(E89=\"\",0,SUM(E$8:E89)),2)","v":0}]
[null,null,null,{"$f":"ROUND(IF(C90=\"\",0,SUM(C$8:C90)),2)","v":0},null,{"$f":"ROUND(IF(E90=\"\",0,SUM(E$8:E90)),2)","v":0}]
[null,null,null,{"$f":"ROUND(IF(C91=\"\",0,SUM(C$8:C91)),2)","v":0},null,{"$f":"ROUND(IF(E91=\"\",0,SUM(E$8:E91)),2)","v":0}]
[null,null,null,{"$f":"ROUND(IF(C92=\"\",0,SUM(C$8:C92)),2)","v":0},null,{"$f":"ROUND(IF(E92=\"\",0,SUM(E$8:E92)),2)","v":0}]
[null,null,null,{"$f":"ROUND(IF(C93=\"\",0,SUM(C$8:C93)),2)","v":0},null,{"$f":"ROUND(IF(E93=\"\",0,SUM(E$8:E93)),2)","v":0}]
[null,null,null,{"$f":"ROUND(IF(C94=\"\",0,SUM(C$8:C94)),2)","v":0},null,{"$f":"ROUND(IF(E94=\"\",0,SUM(E$8:E94)),2)","v":0}]
[null,null,null,{"$f":"ROUND(IF(C95=\"\",0,SUM(C$8:C95)),2)","v":0},null,{"$f":"ROUND(IF(E95=\"\",0,SUM(E$8:E95)),2)","v":0}]
[null,null,null,{"$f":"ROUND(IF(C96=\"\",0,SUM(C$8:C96)),2)","v":0},null,{"$f":"ROUND(IF(E96=\"\",0,SUM(E$8:E96)),2)","v":0}]
[null,null,null,{"$f":"ROUND(IF(C97=\"\",0,SUM(C$8:C97)),2)","v":0},null,{"$f":"ROUND(IF(E97=\"\",0,SUM(E$8:E97)),2)","v":0}]
[null,null,null,{"$f":"ROUND(IF(C98=\"\",0,SUM(C$8:C98)),2)","v":0},null,{"$f":"ROUND(IF(E98=\"\",0,SUM(E$8:E98)),2)","v":0}]
[null,null,null,{"$f":"ROUND(IF(C99=\"\",0,SUM(C$8:C99)),2)","v":0},null,{"$f":"ROUND(IF(E99=\"\",0,SUM(E$8:E99)),2)","v":0}]
[null,null,null,{"$f":"ROUND(IF(C100=\"\",0,SUM(C$8:C100)),2)","v":0},null,{"$f":"ROUND(IF(E100=\"\",0,SUM(E$8:E100)),2)","v":0}]
[null,null,null,{"$f":"ROUND(IF(C101=\"\",0,SUM(C$8:C101)),2)","v":0},null,{"$f":"ROUND(IF(E101=\"\",0,SUM(E$8:E101)),2)","v":0}]
[null,null,null,{"$f":"ROUND(IF(C102=\"\",0,SUM(C$8:C102)),2)","v":0},null,{"$f":"ROUND(IF(E102=\"\",0,SUM(E$8:E102)),2)","v":0}]
[null,null,null,{"$f":"ROUND(IF(C103=\"\",0,SUM(C$8:C103)),2)","v":0},null,{"$f":"ROUND(IF(E103=\"\",0,SUM(E$8:E103)),2)","v":0}]
[null,null,null,{"$f":"ROUND(IF(C104=\"\",0,SUM(C$8:C104)),2)","v":0},null,{"$f":"ROUND(IF(E104=\"\",0,SUM(E$8:E104)),2)","v":0}]
[null,null,null,{"$f":"ROUND(IF(C105=\"\",0,SUM(C$8:C105)),2)","v":0},null,{"$f":"ROUND(IF(E105=\"\",0,SUM(E$8:E105)),2)","v":0}]
[null,null,null,{"$f":"ROUND(IF(C106=\"\",0,SUM(C$8:C106)),2)","v":0},null,{"$f":"ROUND(IF(E106=\"\",0,SUM(E$8:E106)),2)","v":0}]
[null,null,null,{"$f":"ROUND(IF(C107=\"\",0,SUM(C$8:C107)),2)","v":0},null,{"$f":"ROUND(IF(E107=\"\",0,SUM(E$8:E107)),2)","v":0}]
[null,null,null,{"$f":"ROUND(IF(C108=\"\",0,SUM(C$8:C108)),2)","v":0},null,{"$f":"ROUND(IF(E108=\"\",0,SUM(E$8:E108)),2)","v":0}]
[null,null,null,{"$f":"ROUND(IF(C109=\"\",0,SUM(C$8:C109)),2)","v":0},null,{"$f":"ROUND(IF(E109=\"\",0,SUM(E$8:E109)),2)","v":0}]
[null,null,null,{"$f":"ROUND(IF(C110=\"\",0,SUM(C$8:C110)),2)","v":0},null,{"$f":"ROUND(IF(E110=\"\",0,SUM(E$8:E110)),2)","v":0}]
[null,null,null,{"$f":"ROUND(IF(C111=\"\",0,SUM(C$8:C111)),2)","v":0},null,{"$f":"ROUND(IF(E111=\"\",0,SUM(E$8:E111)),2)","v":0}]
[null,null,null,{"$f":"ROUND(IF(C112=\"\",0,SUM(C$8:C112)),2)","v":0},null,{"$f":"ROUND(IF(E112=\"\",0,SUM(E$8:E112)),2)","v":0}]
[null,null,null,{"$f":"ROUND(IF(C113=\"\",0,SUM(C$8:C113)),2)","v":0},null,{"$f":"ROUND(IF(E113=\"\",0,SUM(E$8:E113)),2)","v":0}]
[null,null,null,{"$f":"ROUND(IF(C114=\"\",0,SUM(C$8:C114)),2)","v":0},null,{"$f":"ROUND(IF(E114=\"\",0,SUM(E$8:E114)),2)","v":0}]
[null,null,null,{"$f":"ROUND(IF(C115=\"\",0,SUM(C$8:C115)),2)","v":0},null,{"$f":"ROUND(IF(E115=\"\",0,SUM(E$8:E115)),2)","v":0}]
[null,null,null,{"$f":"ROUND(IF(C116=\"\",0,SUM(C$8:C116)),2)","v":0},null,{"$f":"ROUND(IF(E116=\"\",0,SUM(E$8:E116)),2)","v":0}]
[null,null,null,{"$f":"ROUND(IF(C117=\"\",0,SUM(C$8:C117)),2)","v":0},null,{"$f":"ROUND(IF(E117=\"\",0,SUM(E$8:E117)),2)","v":0}]
[null,null,null,{"$f":"ROUND(IF(C118=\"\",0,SUM(C$8:C118)),2)","v":0},null,{"$f":"ROUND(IF(E118=\"\",0,SUM(E$8:E118)),2)","v":0}]
[null,null,null,{"$f":"ROUND(IF(C119=\"\",0,SUM(C$8:C119)),2)","v":0},null,{"$f":"ROUND(IF(E119=\"\",0,SUM(E$8:E119)),2)","v":0}]
[null,null,null,{"$f":"ROUND(IF(C120=\"\",0,SUM(C$8:C120)),2)","v":0},null,{"$f":"ROUND(IF(E120=\"\",0,SUM(E$8:E120)),2)","v":0}]
[null,null,null,{"$f":"ROUND(IF(C121=\"\",0,SUM(C$8:C121)),2)","v":0},null,{"$f":"ROUND(IF(E121=\"\",0,SUM(E$8:E121)),2)","v":0}]
[null,null,null,{"$f":"ROUND(IF(C122=\"\",0,SUM(C$8:C122)),2)","v":0},null,{"$f":"ROUND(IF(E122=\"\",0,SUM(E$8:E122)),2)","v":0}]
[null,null,null,{"$f":"ROUND(IF(C123=\"\",0,SUM(C$8:C123)),2)","v":0},null,{"$f":"ROUND(IF(E123=\"\",0,SUM(E$8:E123)),2)","v":0}]
[null,null,null,{"$f":"ROUND(IF(C124=\"\",0,SUM(C$8:C124)),2)","v":0},null,{"$f":"ROUND(IF(E124=\"\",0,SUM(E$8:E124)),2)","v":0}]
[null,null,null,{"$f":"ROUND(IF(C125=\"\",0,SUM(C$8:C125)),2)","v":0},null,{"$f":"ROUND(IF(E125=\"\",0,SUM(E$8:E125)),2)","v":0}]
[null,null,null,{"$f":"ROUND(IF(C126=\"\",0,SUM(C$8:C126)),2)","v":0},null,{"$f":"ROUND(IF(E126=\"\",0,SUM(E$8:E126)),2)","v":0}]
[null,null,null,{"$f":"ROUND(IF(C127=\"\",0,SUM(C$8:C127)),2)","v":0},null,{"$f":"ROUND(IF(E127=\"\",0,SUM(E$8:E127)),2)","v":0}]
[null,null,null,{"$f":"ROUND(IF(C128=\"\",0,SUM(C$8:C128)),2)","v":0},null,{"$f":"ROUND(IF(E128=\"\",0,SUM(E$8:E128)),2)","v":0}]
[null,null,null,{"$f":"ROUND(IF(C129=\"\",0,SUM(C$8:C129)),2)","v":0},null,{"$f":"ROUND(IF(E129=\"\",0,SUM(E$8:E129)),2)","v":0}]
[null,null,null,{"$f":"ROUND(IF(C130=\"\",0,SUM(C$8:C130)),2)","v":0},null,{"$f":"ROUND(IF(E130=\"\",0,SUM(E$8:E130)),2)","v":0}]
[null,null,null,{"$f":"ROUND(IF(C131=\"\",0,SUM(C$8:C131)),2)","v":0},null,{"$f":"ROUND(IF(E131=\"\",0,SUM(E$8:E131)),2)","v":0}]
[null,null,null,{"$f":"ROUND(IF(C132=\"\",0,SUM(C$8:C132)),2)","v":0},null,{"$f":"ROUND(IF(E132=\"\",0,SUM(E$8:E132)),2)","v":0}]
[null,null,null,{"$f":"ROUND(IF(C133=\"\",0,SUM(C$8:C133)),2)","v":0},null,{"$f":"ROUND(IF(E133=\"\",0,SUM(E$8:E133)),2)","v":0}]
[null,null,null,{"$f":"ROUND(IF(C134=\"\",0,SUM(C$8:C134)),2)","v":0},null,{"$f":"ROUND(IF(E134=\"\",0,SUM(E$8:E134)),2)","v":0}]
[null,null,null,{"$f":"ROUND(IF(C135=\"\",0,SUM(C$8:C135)),2)","v":0},null,{"$f":"ROUND(IF(E135=\"\",0,SUM(E$8:E135)),2)","v":0}]
[null,null,null,{"$f":"ROUND(IF(C136=\"\",0,SUM(C$8:C136)),2)","v":0},null,{"$f":"ROUND(IF(E136=\"\",0,SUM(E$8:E136)),2)","v":0}]
[null,null,null,{"$f":"ROUND(IF(C137=\"\",0,SUM(C$8:C137)),2)","v":0},null,{"$f":"ROUND(IF(E137=\"\",0,SUM(E$8:E137)),2)","v":0}]
[null,null,null,{"$f":"ROUND(IF(C138=\"\",0,SUM(C$8:C138)),2)","v":0},null,{"$f":"ROUND(IF(E138=\"\",0,SUM(E$8:E138)),2)","v":0}]
[null,null,null,{"$f":"ROUND(IF(C139=\"\",0,SUM(C$8:C139)),2)","v":0},null,{"$f":"ROUND(IF(E139=\"\",0,SUM(E$8:E139)),2)","v":0}]
[null,null,null,{"$f":"ROUND(IF(C140=\"\",0,SUM(C$8:C140)),2)","v":0},null,{"$f":"ROUND(IF(E140=\"\",0,SUM(E$8:E140)),2)","v":0}]
[null,null,null,{"$f":"ROUND(IF(C141=\"\",0,SUM(C$8:C141)),2)","v":0},null,{"$f":"ROUND(IF(E141=\"\",0,SUM(E$8:E141)),2)","v":0}]
[null,null,null,{"$f":"ROUND(IF(C142=\"\",0,SUM(C$8:C142)),2)","v":0},null,{"$f":"ROUND(IF(E142=\"\",0,SUM(E$8:E142)),2)","v":0}]
[null,null,null,{"$f":"ROUND(IF(C143=\"\",0,SUM(C$8:C143)),2)","v":0},null,{"$f":"ROUND(IF(E143=\"\",0,SUM(E$8:E143)),2)","v":0}]
[null,null,null,{"$f":"ROUND(IF(C144=\"\",0,SUM(C$8:C144)),2)","v":0},null,{"$f":"ROUND(IF(E144=\"\",0,SUM(E$8:E144)),2)","v":0}]
[null,null,null,{"$f":"ROUND(IF(C145=\"\",0,SUM(C$8:C145)),2)","v":0},null,{"$f":"ROUND(IF(E145=\"\",0,SUM(E$8:E145)),2)","v":0}]
[null,null,null,{"$f":"ROUND(IF(C146=\"\",0,SUM(C$8:C146)),2)","v":0},null,{"$f":"ROUND(IF(E146=\"\",0,SUM(E$8:E146)),2)","v":0}]
[null,null,null,{"$f":"ROUND(IF(C147=\"\",0,SUM(C$8:C147)),2)","v":0},null,{"$f":"ROUND(IF(E147=\"\",0,SUM(E$8:E147)),2)","v":0}]
[null,null,null,{"$f":"ROUND(IF(C148=\"\",0,SUM(C$8:C148)),2)","v":0},null,{"$f":"ROUND(IF(E148=\"\",0,SUM(E$8:E148)),2)","v":0}]
[null,null,null,{"$f":"ROUND(IF(C149=\"\",0,SUM(C$8:C149)),2)","v":0},null,{"$f":"ROUND(IF(E149=\"\",0,SUM(E$8:E149)),2)","v":0}]
[null,null,null,{"$f":"ROUND(IF(C150=\"\",0,SUM(C$8:C150)),2)","v":0},null,{"$f":"ROUND(IF(E150=\"\",0,SUM(E$8:E150)),2)","v":0}]
[null,null,null,{"$f":"ROUND(IF(C151=\"\",0,SUM(C$8:C151)),2)","v":0},null,{"$f":"ROUND(IF(E151=\"\",0,SUM(E$8:E151)),2)","v":0}]
[null,null,null,{"$f":"ROUND(IF(C152=\"\",0,SUM(C$8:C152)),2)","v":0},null,{"$f":"ROUND(IF(E152=\"\",0,SUM(E$8:E152)),2)","v":0}]
[null,null,null,{"$f":"ROUND(IF(C153=\"\",0,SUM(C$8:C153)),2)","v":0},null,{"$f":"ROUND(IF(E153=\"\",0,SUM(E$8:E153)),2)","v":0}]
[null,null,null,{"$f":"ROUND(IF(C154=\"\",0,SUM(C$8:C154)),2)","v":0},null,{"$f":"ROUND(IF(E154=\"\",0,SUM(E$8:E154)),2)","v":0}]
[null,null,null,{"$f":"ROUND(IF(C155=\"\",0,SUM(C$8:C155)),2)","v":0},null,{"$f":"ROUND(IF(E155=\"\",0,SUM(E$8:E155)),2)","v":0}]
[null,null,null,{"$f":"ROUND(IF(C156=\"\",0,SUM(C$8:C156)),2)","v":0},null,{"$f":"ROUND(IF(E156=\"\",0,SUM(E$8:E156)),2)","v":0}]
[null,null,null,{"$f":"ROUND(IF(C157=\"\",0,SUM(C$8:C157)),2)","v":0},null,{"$f":"ROUND(IF(E157=\"\",0,SUM(E$8:E157)),2)","v":0}]
[null,null,null,{"$f":"ROUND(IF(C158=\"\",0,SUM(C$8:C158)),2)","v":0},null,{"$f":"ROUND(IF(E158=\"\",0,SUM(E$8:E158)),2)","v":0}]
[null,null,null,{"$f":"ROUND(IF(C159=\"\",0,SUM(C$8:C159)),2)","v":0},null,{"$f":"ROUND(IF(E159=\"\",0,SUM(E$8:E159)),2)","v":0}]
[null,null,null,{"$f":"ROUND(IF(C160=\"\",0,SUM(C$8:C160)),2)","v":0},null,{"$f":"ROUND(IF(E160=\"\",0,SUM(E$8:E160)),2)","v":0}]
[null,null,null,{"$f":"ROUND(IF(C161=\"\",0,SUM(C$8:C161)),2)","v":0},null,{"$f":"ROUND(IF(E161=\"\",0,SUM(E$8:E161)),2)","v":0}]
[null,null,null,{"$f":"ROUND(IF(C162=\"\",0,SUM(C$8:C162)),2)","v":0},null,{"$f":"ROUND(IF(E162=\"\",0,SUM(E$8:E162)),2)","v":0}]
[null,null,null,{"$f":"ROUND(IF(C163=\"\",0,SUM(C$8:C163)),2)","v":0},null,{"$f":"ROUND(IF(E163=\"\",0,SUM(E$8:E163)),2)","v":0}]
[null,null,null,{"$f":"ROUND(IF(C164=\"\",0,SUM(C$8:C164)),2)","v":0},null,{"$f":"ROUND(IF(E164=\"\",0,SUM(E$8:E164)),2)","v":0}]
[null,null,null,{"$f":"ROUND(IF(C165=\"\",0,SUM(C$8:C165)),2)","v":0},null,{"$f":"ROUND(IF(E165=\"\",0,SUM(E$8:E165)),2)","v":0}]
[null,null,null,{"$f":"ROUND(IF(C166=\"\",0,SUM(C$8:C166)),2)","v":0},null,{"$f":"ROUND(IF(E166=\"\",0,SUM(E$8:E166)),2)","v":0}]
[null,null,null,{"$f":"ROUND(IF(C167=\"\",0,SUM(C$8:C167)),2)","v":0},null,{"$f":"ROUND(IF(E167=\"\",0,SUM(E$8:E167)),2)","v":0}]
[null,null,null,{"$f":"ROUND(IF(C168=\"\",0,SUM(C$8:C168)),2)","v":0},null,{"$f":"ROUND(IF(E168=\"\",0,SUM(E$8:E168)),2)","v":0}]
[null,null,null,{"$f":"ROUND(IF(C169=\"\",0,SUM(C$8:C169)),2)","v":0},null,{"$f":"ROUND(IF(E169=\"\",0,SUM(E$8:E169)),2)","v":0}]
[null,null,null,{"$f":"ROUND(IF(C170=\"\",0,SUM(C$8:C170)),2)","v":0},null,{"$f":"ROUND(IF(E170=\"\",0,SUM(E$8:E170)),2)","v":0}]
[null,null,null,{"$f":"ROUND(IF(C171=\"\",0,SUM(C$8:C171)),2)","v":0},null,{"$f":"ROUND(IF(E171=\"\",0,SUM(E$8:E171)),2)","v":0}]
[null,null,null,{"$f":"ROUND(IF(C172=\"\",0,SUM(C$8:C172)),2)","v":0},null,{"$f":"ROUND(IF(E172=\"\",0,SUM(E$8:E172)),2)","v":0}]
[null,null,null,{"$f":"ROUND(IF(C173=\"\",0,SUM(C$8:C173)),2)","v":0},null,{"$f":"ROUND(IF(E173=\"\",0,SUM(E$8:E173)),2)","v":0}]
[null,null,null,{"$f":"ROUND(IF(C174=\"\",0,SUM(C$8:C174)),2)","v":0},null,{"$f":"ROUND(IF(E174=\"\",0,SUM(E$8:E174)),2)","v":0}]
[null,null,null,{"$f":"ROUND(IF(C175=\"\",0,SUM(C$8:C175)),2)","v":0},null,{"$f":"ROUND(IF(E175=\"\",0,SUM(E$8:E175)),2)","v":0}]
[null,null,null,{"$f":"ROUND(IF(C176=\"\",0,SUM(C$8:C176)),2)","v":0},null,{"$f":"ROUND(IF(E176=\"\",0,SUM(E$8:E176)),2)","v":0}]
[null,null,null,{"$f":"ROUND(IF(C177=\"\",0,SUM(C$8:C177)),2)","v":0},null,{"$f":"ROUND(IF(E177=\"\",0,SUM(E$8:E177)),2)","v":0}]
[null,null,null,{"$f":"ROUND(IF(C178=\"\",0,SUM(C$8:C178)),2)","v":0},null,{"$f":"ROUND(IF(E178=\"\",0,SUM(E$8:E178)),2)","v":0}]
[null,null,null,{"$f":"ROUND(IF(C179=\"\",0,SUM(C$8:C179)),2)","v":0},null,{"$f":"ROUND(IF(E179=\"\",0,SUM(E$8:E179)),2)","v":0}]
[null,null,null,{"$f":"ROUND(IF(C180=\"\",0,SUM(C$8:C180)),2)","v":0},null,{"$f":"ROUND(IF(E180=\"\",0,SUM(E$8:E180)),2)","v":0}]
[null,null,null,{"$f":"ROUND(IF(C181=\"\",0,SUM(C$8:C181)),2)","v":0},null,{"$f":"ROUND(IF(E181=\"\",0,SUM(E$8:E181)),2)","v":0}]
[null,null,null,{"$f":"ROUND(IF(C182=\"\",0,SUM(C$8:C182)),2)","v":0},null,{"$f":"ROUND(IF(E182=\"\",0,SUM(E$8:E182)),2)","v":0}]
[null,null,null,{"$f":"ROUND(IF(C183=\"\",0,SUM(C$8:C183)),2)","v":0},null,{"$f":"ROUND(IF(E183=\"\",0,SUM(E$8:E183)),2)","v":0}]
[null,null,null,{"$f":"ROUND(IF(C184=\"\",0,SUM(C$8:C184)),2)","v":0},null,{"$f":"ROUND(IF(E184=\"\",0,SUM(E$8:E184)),2)","v":0}]
[null,null,null,{"$f":"ROUND(IF(C185=\"\",0,SUM(C$8:C185)),2)","v":0},null,{"$f":"ROUND(IF(E185=\"\",0,SUM(E$8:E185)),2)","v":0}]
[null,null,null,{"$f":"ROUND(IF(C186=\"\",0,SUM(C$8:C186)),2)","v":0},null,{"$f":"ROUND(IF(E186=\"\",0,SUM(E$8:E186)),2)","v":0}]
[null,null,null,{"$f":"ROUND(IF(C187=\"\",0,SUM(C$8:C187)),2)","v":0},null,{"$f":"ROUND(IF(E187=\"\",0,SUM(E$8:E187)),2)","v":0}]
[null,null,null,{"$f":"ROUND(IF(C188=\"\",0,SUM(C$8:C188)),2)","v":0},null,{"$f":"ROUND(IF(E188=\"\",0,SUM(E$8:E188)),2)","v":0}]
[null,null,null,{"$f":"ROUND(IF(C189=\"\",0,SUM(C$8:C189)),2)","v":0},null,{"$f":"ROUND(IF(E189=\"\",0,SUM(E$8:E189)),2)","v":0}]
[null,null,null,{"$f":"ROUND(IF(C190=\"\",0,SUM(C$8:C190)),2)","v":0},null,{"$f":"ROUND(IF(E190=\"\",0,SUM(E$8:E190)),2)","v":0}]
[null,null,null,{"$f":"ROUND(IF(C191=\"\",0,SUM(C$8:C191)),2)","v":0},null,{"$f":"ROUND(IF(E191=\"\",0,SUM(E$8:E191)),2)","v":0}]
[null,null,null,{"$f":"ROUND(IF(C192=\"\",0,SUM(C$8:C192)),2)","v":0},null,{"$f":"ROUND(IF(E192=\"\",0,SUM(E$8:E192)),2)","v":0}]
[null,null,null,{"$f":"ROUND(IF(C193=\"\",0,SUM(C$8:C193)),2)","v":0},null,{"$f":"ROUND(IF(E193=\"\",0,SUM(E$8:E193)),2)","v":0}]
[null,null,null,{"$f":"ROUND(IF(C194=\"\",0,SUM(C$8:C194)),2)","v":0},null,{"$f":"ROUND(IF(E194=\"\",0,SUM(E$8:E194)),2)","v":0}]
[null,null,null,{"$f":"ROUND(IF(C195=\"\",0,SUM(C$8:C195)),2)","v":0},null,{"$f":"ROUND(IF(E195=\"\",0,SUM(E$8:E195)),2)","v":0}]
[null,null,null,{"$f":"ROUND(IF(C196=\"\",0,SUM(C$8:C196)),2)","v":0},null,{"$f":"ROUND(IF(E196=\"\",0,SUM(E$8:E196)),2)","v":0}]
[null,null,null,{"$f":"ROUND(IF(C197=\"\",0,SUM(C$8:C197)),2)","v":0},null,{"$f":"ROUND(IF(E197=\"\",0,SUM(E$8:E197)),2)","v":0}]
[null,null,null,{"$f":"ROUND(IF(C198=\"\",0,SUM(C$8:C198)),2)","v":0},null,{"$f":"ROUND(IF(E198=\"\",0,SUM(E$8:E198)),2)","v":0}]
[null,null,null,{"$f":"ROUND(IF(C199=\"\",0,SUM(C$8:C199)),2)","v":0},null,{"$f":"ROUND(IF(E199=\"\",0,SUM(E$8:E199)),2)","v":0}]
[null,null,null,{"$f":"ROUND(IF(C200=\"\",0,SUM(C$8:C200)),2)","v":0},null,{"$f":"ROUND(IF(E200=\"\",0,SUM(E$8:E200)),2)","v":0}]
[null,null,null,{"$f":"ROUND(IF(C201=\"\",0,SUM(C$8:C201)),2)","v":0},null,{"$f":"ROUND(IF(E201=\"\",0,SUM(E$8:E201)),2)","v":0}]
[null,null,null,{"$f":"ROUND(IF(C202=\"\",0,SUM(C$8:C202)),2)","v":0},null,{"$f":"ROUND(IF(E202=\"\",0,SUM(E$8:E202)),2)","v":0}]
[null,null,null,{"$f":"ROUND(IF(C203=\"\",0,SUM(C$8:C203)),2)","v":0},null,{"$f":"ROUND(IF(E203=\"\",0,SUM(E$8:E203)),2)","v":0}]
[null,null,null,{"$f":"ROUND(IF(C204=\"\",0,SUM(C$8:C204)),2)","v":0},null,{"$f":"ROUND(IF(E204=\"\",0,SUM(E$8:E204)),2)","v":0}]
[null,null,null,{"$f":"ROUND(IF(C205=\"\",0,SUM(C$8:C205)),2)","v":0},null,{"$f":"ROUND(IF(E205=\"\",0,SUM(E$8:E205)),2)","v":0}]
[null,null,null,{"$f":"ROUND(IF(C206=\"\",0,SUM(C$8:C206)),2)","v":0},null,{"$f":"ROUND(IF(E206=\"\",0,SUM(E$8:E206)),2)","v":0}]
[null,null,null,{"$f":"ROUND(IF(C207=\"\",0,SUM(C$8:C207)),2)","v":0},null,{"$f":"ROUND(IF(E207=\"\",0,SUM(E$8:E207)),2)","v":0}]
[null,null,null,{"$f":"ROUND(IF(C208=\"\",0,SUM(C$8:C208)),2)","v":0},null,{"$f":"ROUND(IF(E208=\"\",0,SUM(E$8:E208)),2)","v":0}]
[null,null,null,{"$f":"ROUND(IF(C209=\"\",0,SUM(C$8:C209)),2)","v":0},null,{"$f":"ROUND(IF(E209=\"\",0,SUM(E$8:E209)),2)","v":0}]
[null,null,null,{"$f":"ROUND(IF(C210=\"\",0,SUM(C$8:C210)),2)","v":0},null,{"$f":"ROUND(IF(E210=\"\",0,SUM(E$8:E210)),2)","v":0}]
[null,null,null,{"$f":"ROUND(IF(C211=\"\",0,SUM(C$8:C211)),2)","v":0},null,{"$f":"ROUND(IF(E211=\"\",0,SUM(E$8:E211)),2)","v":0}]
[null,null,null,{"$f":"ROUND(IF(C212=\"\",0,SUM(C$8:C212)),2)","v":0},null,{"$f":"ROUND(IF(E212=\"\",0,SUM(E$8:E212)),2)","v":0}]
[null,null,null,{"$f":"ROUND(IF(C213=\"\",0,SUM(C$8:C213)),2)","v":0},null,{"$f":"ROUND(IF(E213=\"\",0,SUM(E$8:E213)),2)","v":0}]
[null,null,null,{"$f":"ROUND(IF(C214=\"\",0,SUM(C$8:C214)),2)","v":0},null,{"$f":"ROUND(IF(E214=\"\",0,SUM(E$8:E214)),2)","v":0}]
[null,null,null,{"$f":"ROUND(IF(C215=\"\",0,SUM(C$8:C215)),2)","v":0},null,{"$f":"ROUND(IF(E215=\"\",0,SUM(E$8:E215)),2)","v":0}]
[null,null,null,{"$f":"ROUND(IF(C216=\"\",0,SUM(C$8:C216)),2)","v":0},null,{"$f":"ROUND(IF(E216=\"\",0,SUM(E$8:E216)),2)","v":0}]
[null,null,null,{"$f":"ROUND(IF(C217=\"\",0,SUM(C$8:C217)),2)","v":0},null,{"$f":"ROUND(IF(E217=\"\",0,SUM(E$8:E217)),2)","v":0}]
[null,null,null,{"$f":"ROUND(IF(C218=\"\",0,SUM(C$8:C218)),2)","v":0},null,{"$f":"ROUND(IF(E218=\"\",0,SUM(E$8:E218)),2)","v":0}]
[null,null,null,{"$f":"ROUND(IF(C219=\"\",0,SUM(C$8:C219)),2)","v":0},null,{"$f":"ROUND(IF(E219=\"\",0,SUM(E$8:E219)),2)","v":0}]
[null,null,null,{"$f":"ROUND(IF(C220=\"\",0,SUM(C$8:C220)),2)","v":0},null,{"$f":"ROUND(IF(E220=\"\",0,SUM(E$8:E220)),2)","v":0}]
[null,null,null,{"$f":"ROUND(IF(C221=\"\",0,SUM(C$8:C221)),2)","v":0},null,{"$f":"ROUND(IF(E221=\"\",0,SUM(E$8:E221)),2)","v":0}]
[null,null,null,{"$f":"ROUND(IF(C222=\"\",0,SUM(C$8:C222)),2)","v":0},null,{"$f":"ROUND(IF(E222=\"\",0,SUM(E$8:E222)),2)","v":0}]
[null,null,null,{"$f":"ROUND(IF(C223=\"\",0,SUM(C$8:C223)),2)","v":0},null,{"$f":"ROUND(IF(E223=\"\",0,SUM(E$8:E223)),2)","v":0}]
[null,null,null,{"$f":"ROUND(IF(C224=\"\",0,SUM(C$8:C224)),2)","v":0},null,{"$f":"ROUND(IF(E224=\"\",0,SUM(E$8:E224)),2)","v":0}]
[null,null,null,{"$f":"ROUND(IF(C225=\"\",0,SUM(C$8:C225)),2)","v":0},null,{"$f":"ROUND(IF(E225=\"\",0,SUM(E$8:E225)),2)","v":0}]
[null,null,null,{"$f":"ROUND(IF(C226=\"\",0,SUM(C$8:C226)),2)","v":0},null,{"$f":"ROUND(IF(E226=\"\",0,SUM(E$8:E226)),2)","v":0}]
[null,null,null,{"$f":"ROUND(IF(C227=\"\",0,SUM(C$8:C227)),2)","v":0},null,{"$f":"ROUND(IF(E227=\"\",0,SUM(E$8:E227)),2)","v":0}]
[null,null,null,{"$f":"ROUND(IF(C228=\"\",0,SUM(C$8:C228)),2)","v":0},null,{"$f":"ROUND(IF(E228=\"\",0,SUM(E$8:E228)),2)","v":0}]
[null,null,null,{"$f":"ROUND(IF(C229=\"\",0,SUM(C$8:C229)),2)","v":0},null,{"$f":"ROUND(IF(E229=\"\",0,SUM(E$8:E229)),2)","v":0}]
[null,null,null,{"$f":"ROUND(IF(C230=\"\",0,SUM(C$8:C230)),2)","v":0},null,{"$f":"ROUND(IF(E230=\"\",0,SUM(E$8:E230)),2)","v":0}]
[null,null,null,{"$f":"ROUND(IF(C231=\"\",0,SUM(C$8:C231)),2)","v":0},null,{"$f":"ROUND(IF(E231=\"\",0,SUM(E$8:E231)),2)","v":0}]
[null,null,null,{"$f":"ROUND(IF(C232=\"\",0,SUM(C$8:C232)),2)","v":0},null,{"$f":"ROUND(IF(E232=\"\",0,SUM(E$8:E232)),2)","v":0}]
[null,null,null,{"$f":"ROUND(IF(C233=\"\",0,SUM(C$8:C233)),2)","v":0},null,{"$f":"ROUND(IF(E233=\"\",0,SUM(E$8:E233)),2)","v":0}]
[null,null,null,{"$f":"ROUND(IF(C234=\"\",0,SUM(C$8:C234)),2)","v":0},null,{"$f":"ROUND(IF(E234=\"\",0,SUM(E$8:E234)),2)","v":0}]
[null,null,null,{"$f":"ROUND(IF(C235=\"\",0,SUM(C$8:C235)),2)","v":0},null,{"$f":"ROUND(IF(E235=\"\",0,SUM(E$8:E235)),2)","v":0}]
[null,null,null,{"$f":"ROUND(IF(C236=\"\",0,SUM(C$8:C236)),2)","v":0},null,{"$f":"ROUND(IF(E236=\"\",0,SUM(E$8:E236)),2)","v":0}]
[null,null,null,{"$f":"ROUND(IF(C237=\"\",0,SUM(C$8:C237)),2)","v":0},null,{"$f":"ROUND(IF(E237=\"\",0,SUM(E$8:E237)),2)","v":0}]
[null,null,null,{"$f":"ROUND(IF(C238=\"\",0,SUM(C$8:C238)),2)","v":0},null,{"$f":"ROUND(IF(E238=\"\",0,SUM(E$8:E238)),2)","v":0}]
[null,null,null,{"$f":"ROUND(IF(C239=\"\",0,SUM(C$8:C239)),2)","v":0},null,{"$f":"ROUND(IF(E239=\"\",0,SUM(E$8:E239)),2)","v":0}]
[null,null,null,{"$f":"ROUND(IF(C240=\"\",0,SUM(C$8:C240)),2)","v":0},null,{"$f":"ROUND(IF(E240=\"\",0,SUM(E$8:E240)),2)","v":0}]
[null,null,null,{"$f":"ROUND(IF(C241=\"\",0,SUM(C$8:C241)),2)","v":0},null,{"$f":"ROUND(IF(E241=\"\",0,SUM(E$8:E241)),2)","v":0}]
[null,null,null,{"$f":"ROUND(IF(C242=\"\",0,SUM(C$8:C242)),2)","v":0},null,{"$f":"ROUND(IF(E242=\"\",0,SUM(E$8:E242)),2)","v":0}]
[null,null,null,{"$f":"ROUND(IF(C243=\"\",0,SUM(C$8:C243)),2)","v":0},null,{"$f":"ROUND(IF(E243=\"\",0,SUM(E$8:E243)),2)","v":0}]
[null,null,null,{"$f":"ROUND(IF(C244=\"\",0,SUM(C$8:C244)),2)","v":0},null,{"$f":"ROUND(IF(E244=\"\",0,SUM(E$8:E244)),2)","v":0}]
[null,null,null,{"$f":"ROUND(IF(C245=\"\",0,SUM(C$8:C245)),2)","v":0},null,{"$f":"ROUND(IF(E245=\"\",0,SUM(E$8:E245)),2)","v":0}]
[null,null,null,{"$f":"ROUND(IF(C246=\"\",0,SUM(C$8:C246)),2)","v":0},null,{"$f":"ROUND(IF(E246=\"\",0,SUM(E$8:E246)),2)","v":0}]
[null,null,null,{"$f":"ROUND(IF(C247=\"\",0,SUM(C$8:C247)),2)","v":0},null,{"$f":"ROUND(IF(E247=\"\",0,SUM(E$8:E247)),2)","v":0}]
[null,null,null,{"$f":"ROUND(IF(C248=\"\",0,SUM(C$8:C248)),2)","v":0},null,{"$f":"ROUND(IF(E248=\"\",0,SUM(E$8:E248)),2)","v":0}]
[null,null,null,{"$f":"ROUND(IF(C249=\"\",0,SUM(C$8:C249)),2)","v":0},null,{"$f":"ROUND(IF(E249=\"\",0,SUM(E$8:E249)),2)","v":0}]
[null,null,null,{"$f":"ROUND(IF(C250=\"\",0,SUM(C$8:C250)),2)","v":0},null,{"$f":"ROUND(IF(E250=\"\",0,SUM(E$8:E250)),2)","v":0}]
[null,null,null,{"$f":"ROUND(IF(C251=\"\",0,SUM(C$8:C251)),2)","v":0},null,{"$f":"ROUND(IF(E251=\"\",0,SUM(E$8:E251)),2)","v":0}]
[null,null,null,{"$f":"ROUND(IF(C252=\"\",0,SUM(C$8:C252)),2)","v":0},null,{"$f":"ROUND(IF(E252=\"\",0,SUM(E$8:E252)),2)","v":0}]
[null,null,null,{"$f":"ROUND(IF(C253=\"\",0,SUM(C$8:C253)),2)","v":0},null,{"$f":"ROUND(IF(E253=\"\",0,SUM(E$8:E253)),2)","v":0}]
[null,null,null,{"$f":"ROUND(IF(C254=\"\",0,SUM(C$8:C254)),2)","v":0},null,{"$f":"ROUND(IF(E254=\"\",0,SUM(E$8:E254)),2)","v":0}]
[null,null,null,{"$f":"ROUND(IF(C255=\"\",0,SUM(C$8:C255)),2)","v":0},null,{"$f":"ROUND(IF(E255=\"\",0,SUM(E$8:E255)),2)","v":0}]
[null,null,null,{"$f":"ROUND(IF(C256=\"\",0,SUM(C$8:C256)),2)","v":0},null,{"$f":"ROUND(IF(E256=\"\",0,SUM(E$8:E256)),2)","v":0}]
[null,null,null,{"$f":"ROUND(IF(C257=\"\",0,SUM(C$8:C257)),2)","v":0},null,{"$f":"ROUND(IF(E257=\"\",0,SUM(E$8:E257)),2)","v":0}]
[null,null,null,{"$f":"ROUND(IF(C258=\"\",0,SUM(C$8:C258)),2)","v":0},null,{"$f":"ROUND(IF(E258=\"\",0,SUM(E$8:E258)),2)","v":0}]
[null,null,null,{"$f":"ROUND(IF(C259=\"\",0,SUM(C$8:C259)),2)","v":0},null,{"$f":"ROUND(IF(E259=\"\",0,SUM(E$8:E259)),2)","v":0}]
[null,null,null,{"$f":"ROUND(IF(C260=\"\",0,SUM(C$8:C260)),2)","v":0},null,{"$f":"ROUND(IF(E260=\"\",0,SUM(E$8:E260)),2)","v":0}]
[null,null,null,{"$f":"ROUND(IF(C261=\"\",0,SUM(C$8:C261)),2)","v":0},null,{"$f":"ROUND(IF(E261=\"\",0,SUM(E$8:E261)),2)","v":0}]
[null,null,null,{"$f":"ROUND(IF(C262=\"\",0,SUM(C$8:C262)),2)","v":0},null,{"$f":"ROUND(IF(E262=\"\",0,SUM(E$8:E262)),2)","v":0}]
[null,null,null,{"$f":"ROUND(IF(C263=\"\",0,SUM(C$8:C263)),2)","v":0},null,{"$f":"ROUND(IF(E263=\"\",0,SUM(E$8:E263)),2)","v":0}]
[null,null,null,{"$f":"ROUND(IF(C264=\"\",0,SUM(C$8:C264)),2)","v":0},null,{"$f":"ROUND(IF(E264=\"\",0,SUM(E$8:E264)),2)","v":0}]
[null,null,null,{"$f":"ROUND(IF(C265=\"\",0,SUM(C$8:C265)),2)","v":0},null,{"$f":"ROUND(IF(E265=\"\",0,SUM(E$8:E265)),2)","v":0}]
[null,null,null,{"$f":"ROUND(IF(C266=\"\",0,SUM(C$8:C266)),2)","v":0},null,{"$f":"ROUND(IF(E266=\"\",0,SUM(E$8:E266)),2)","v":0}]
[null,null,null,{"$f":"ROUND(IF(C267=\"\",0,SUM(C$8:C267)),2)","v":0},null,{"$f":"ROUND(IF(E267=\"\",0,SUM(E$8:E267)),2)","v":0}]
[null,null,null,{"$f":"ROUND(IF(C268=\"\",0,SUM(C$8:C268)),2)","v":0},null,{"$f":"ROUND(IF(E268=\"\",0,SUM(E$8:E268)),2)","v":0}]
[null,null,null,{"$f":"ROUND(IF(C269=\"\",0,SUM(C$8:C269)),2)","v":0},null,{"$f":"ROUND(IF(E269=\"\",0,SUM(E$8:E269)),2)","v":0}]
[null,null,null,{"$f":"ROUND(IF(C270=\"\",0,SUM(C$8:C270)),2)","v":0},null,{"$f":"ROUND(IF(E270=\"\",0,SUM(E$8:E270)),2)","v":0}]
[null,null,null,{"$f":"ROUND(IF(C271=\"\",0,SUM(C$8:C271)),2)","v":0},null,{"$f":"ROUND(IF(E271=\"\",0,SUM(E$8:E271)),2)","v":0}]
[null,null,null,{"$f":"ROUND(IF(C272=\"\",0,SUM(C$8:C272)),2)","v":0},null,{"$f":"ROUND(IF(E272=\"\",0,SUM(E$8:E272)),2)","v":0}]
[null,null,null,{"$f":"ROUND(IF(C273=\"\",0,SUM(C$8:C273)),2)","v":0},null,{"$f":"ROUND(IF(E273=\"\",0,SUM(E$8:E273)),2)","v":0}]
[null,null,null,{"$f":"ROUND(IF(C274=\"\",0,SUM(C$8:C274)),2)","v":0},null,{"$f":"ROUND(IF(E274=\"\",0,SUM(E$8:E274)),2)","v":0}]
[null,null,null,{"$f":"ROUND(IF(C275=\"\",0,SUM(C$8:C275)),2)","v":0},null,{"$f":"ROUND(IF(E275=\"\",0,SUM(E$8:E275)),2)","v":0}]
[null,null,null,{"$f":"ROUND(IF(C276=\"\",0,SUM(C$8:C276)),2)","v":0},null,{"$f":"ROUND(IF(E276=\"\",0,SUM(E$8:E276)),2)","v":0}]
[null,null,null,{"$f":"ROUND(IF(C277=\"\",0,SUM(C$8:C277)),2)","v":0},null,{"$f":"ROUND(IF(E277=\"\",0,SUM(E$8:E277)),2)","v":0}]
[null,null,null,{"$f":"ROUND(IF(C278=\"\",0,SUM(C$8:C278)),2)","v":0},null,{"$f":"ROUND(IF(E278=\"\",0,SUM(E$8:E278)),2)","v":0}]
[null,null,null,{"$f":"ROUND(IF(C279=\"\",0,SUM(C$8:C279)),2)","v":0},null,{"$f":"ROUND(IF(E279=\"\",0,SUM(E$8:E279)),2)","v":0}]
[null,null,null,{"$f":"ROUND(IF(C280=\"\",0,SUM(C$8:C280)),2)","v":0},null,{"$f":"ROUND(IF(E280=\"\",0,SUM(E$8:E280)),2)","v":0}]
[null,null,null,{"$f":"ROUND(IF(C281=\"\",0,SUM(C$8:C281)),2)","v":0},null,{"$f":"ROUND(IF(E281=\"\",0,SUM(E$8:E281)),2)","v":0}]
[null,null,null,{"$f":"ROUND(IF(C282=\"\",0,SUM(C$8:C282)),2)","v":0},null,{"$f":"ROUND(IF(E282=\"\",0,SUM(E$8:E282)),2)","v":0}]
[null,null,null,{"$f":"ROUND(IF(C283=\"\",0,SUM(C$8:C283)),2)","v":0},null,{"$f":"ROUND(IF(E283=\"\",0,SUM(E$8:E283)),2)","v":0}]
[null,null,null,{"$f":"ROUND(IF(C284=\"\",0,SUM(C$8:C284)),2)","v":0},null,{"$f":"ROUND(IF(E284=\"\",0,SUM(E$8:E284)),2)","v":0}]
[null,null,null,{"$f":"ROUND(IF(C285=\"\",0,SUM(C$8:C285)),2)","v":0},null,{"$f":"ROUND(IF(E285=\"\",0,SUM(E$8:E285)),2)","v":0}]
[null,null,null,{"$f":"ROUND(IF(C286=\"\",0,SUM(C$8:C286)),2)","v":0},null,{"$f":"ROUND(IF(E286=\"\",0,SUM(E$8:E286)),2)","v":0}]
[null,null,null,{"$f":"ROUND(IF(C287=\"\",0,SUM(C$8:C287)),2)","v":0},null,{"$f":"ROUND(IF(E287=\"\",0,SUM(E$8:E287)),2)","v":0}]
[null,null,null,{"$f":"ROUND(IF(C288=\"\",0,SUM(C$8:C288)),2)","v":0},null,{"$f":"ROUND(IF(E288=\"\",0,SUM(E$8:E288)),2)","v":0}]
[null,null,null,{"$f":"ROUND(IF(C289=\"\",0,SUM(C$8:C289)),2)","v":0},null,{"$f":"ROUND(IF(E289=\"\",0,SUM(E$8:E289)),2)","v":0}]
[null,null,null,{"$f":"ROUND(IF(C290=\"\",0,SUM(C$8:C290)),2)","v":0},null,{"$f":"ROUND(IF(E290=\"\",0,SUM(E$8:E290)),2)","v":0}]
[null,null,null,{"$f":"ROUND(IF(C291=\"\",0,SUM(C$8:C291)),2)","v":0},null,{"$f":"ROUND(IF(E291=\"\",0,SUM(E$8:E291)),2)","v":0}]
[null,null,null,{"$f":"ROUND(IF(C292=\"\",0,SUM(C$8:C292)),2)","v":0},null,{"$f":"ROUND(IF(E292=\"\",0,SUM(E$8:E292)),2)","v":0}]
[null,null,null,{"$f":"ROUND(IF(C293=\"\",0,SUM(C$8:C293)),2)","v":0},null,{"$f":"ROUND(IF(E293=\"\",0,SUM(E$8:E293)),2)","v":0}]
[null,null,null,{"$f":"ROUND(IF(C294=\"\",0,SUM(C$8:C294)),2)","v":0},null,{"$f":"ROUND(IF(E294=\"\",0,SUM(E$8:E294)),2)","v":0}]
[null,null,null,{"$f":"ROUND(IF(C295=\"\",0,SUM(C$8:C295)),2)","v":0},null,{"$f":"ROUND(IF(E295=\"\",0,SUM(E$8:E295)),2)","v":0}]
[null,null,null,{"$f":"ROUND(IF(C296=\"\",0,SUM(C$8:C296)),2)","v":0},null,{"$f":"ROUND(IF(E296=\"\",0,SUM(E$8:E296)),2)","v":0}]
[null,null,null,{"$f":"ROUND(IF(C297=\"\",0,SUM(C$8:C297)),2)","v":0},null,{"$f":"ROUND(IF(E297=\"\",0,SUM(E$8:E297)),2)","v":0}]
[null,null,null,{"$f":"ROUND(IF(C298=\"\",0,SUM(C$8:C298)),2)","v":0},null,{"$f":"ROUND(IF(E298=\"\",0,SUM(E$8:E298)),2)","v":0}]
[null,null,null,{"$f":"ROUND(IF(C299=\"\",0,SUM(C$8:C299)),2)","v":0},null,{"$f":"ROUND(IF(E299=\"\",0,SUM(E$8:E299)),2)","v":0}]
[null,null,null,{"$f":"ROUND(IF(C300=\"\",0,SUM(C$8:C300)),2)","v":0},null,{"$f":"ROUND(IF(E300=\"\",0,SUM(E$8:E300)),2)","v":0}]
[null,null,null,{"$f":"ROUND(IF(C301=\"\",0,SUM(C$8:C301)),2)","v":0},null,{"$f":"ROUND(IF(E301=\"\",0,SUM(E$8:E301)),2)","v":0}]
[null,null,null,{"$f":"ROUND(IF(C302=\"\",0,SUM(C$8:C302)),2)","v":0},null,{"$f":"ROUND(IF(E302=\"\",0,SUM(E$8:E302)),2)","v":0}]
[null,null,null,{"$f":"ROUND(IF(C303=\"\",0,SUM(C$8:C303)),2)","v":0},null,{"$f":"ROUND(IF(E303=\"\",0,SUM(E$8:E303)),2)","v":0}]
[null,null,null,{"$f":"ROUND(IF(C304=\"\",0,SUM(C$8:C304)),2)","v":0},null,{"$f":"ROUND(IF(E304=\"\",0,SUM(E$8:E304)),2)","v":0}]
[null,null,null,{"$f":"ROUND(IF(C305=\"\",0,SUM(C$8:C305)),2)","v":0},null,{"$f":"ROUND(IF(E305=\"\",0,SUM(E$8:E305)),2)","v":0}]
[null,null,null,{"$f":"ROUND(IF(C306=\"\",0,SUM(C$8:C306)),2)","v":0},null,{"$f":"ROUND(IF(E306=\"\",0,SUM(E$8:E306)),2)","v":0}]
[null,null,null,{"$f":"ROUND(IF(C307=\"\",0,SUM(C$8:C307)),2)","v":0},null,{"$f":"ROUND(IF(E307=\"\",0,SUM(E$8:E307)),2)","v":0}]
[null,null,null,{"$f":"ROUND(IF(C308=\"\",0,SUM(C$8:C308)),2)","v":0},null,{"$f":"ROUND(IF(E308=\"\",0,SUM(E$8:E308)),2)","v":0}]
[null,null,null,{"$f":"ROUND(IF(C309=\"\",0,SUM(C$8:C309)),2)","v":0},null,{"$f":"ROUND(IF(E309=\"\",0,SUM(E$8:E309)),2)","v":0}]
[null,null,null,{"$f":"ROUND(IF(C310=\"\",0,SUM(C$8:C310)),2)","v":0},null,{"$f":"ROUND(IF(E310=\"\",0,SUM(E$8:E310)),2)","v":0}]
[null,null,null,{"$f":"ROUND(IF(C311=\"\",0,SUM(C$8:C311)),2)","v":0},null,{"$f":"ROUND(IF(E311=\"\",0,SUM(E$8:E311)),2)","v":0}]
[null,null,null,{"$f":"ROUND(IF(C312=\"\",0,SUM(C$8:C312)),2)","v":0},null,{"$f":"ROUND(IF(E312=\"\",0,SUM(E$8:E312)),2)","v":0}]
[null,null,null,{"$f":"ROUND(IF(C313=\"\",0,SUM(C$8:C313)),2)","v":0},null,{"$f":"ROUND(IF(E313=\"\",0,SUM(E$8:E313)),2)","v":0}]
[null,null,null,{"$f":"ROUND(IF(C314=\"\",0,SUM(C$8:C314)),2)","v":0},null,{"$f":"ROUND(IF(E314=\"\",0,SUM(E$8:E314)),2)","v":0}]
[null,null,null,{"$f":"ROUND(IF(C315=\"\",0,SUM(C$8:C315)),2)","v":0},null,{"$f":"ROUND(IF(E315=\"\",0,SUM(E$8:E315)),2)","v":0}]
[null,null,null,{"$f":"ROUND(IF(C316=\"\",0,SUM(C$8:C316)),2)","v":0},null,{"$f":"ROUND(IF(E316=\"\",0,SUM(E$8:E316)),2)","v":0}]
[null,null,null,{"$f":"ROUND(IF(C317=\"\",0,SUM(C$8:C317)),2)","v":0},null,{"$f":"ROUND(IF(E317=\"\",0,SUM(E$8:E317)),2)","v":0}]
[null,null,null,{"$f":"ROUND(IF(C318=\"\",0,SUM(C$8:C318)),2)","v":0},null,{"$f":"ROUND(IF(E318=\"\",0,SUM(E$8:E318)),2)","v":0}]
[null,null,null,{"$f":"ROUND(IF(C319=\"\",0,SUM(C$8:C319)),2)","v":0},null,{"$f":"ROUND(IF(E319=\"\",0,SUM(E$8:E319)),2)","v":0}]
[null,null,null,{"$f":"ROUND(IF(C320=\"\",0,SUM(C$8:C320)),2)","v":0},null,{"$f":"ROUND(IF(E320=\"\",0,SUM(E$8:E320)),2)","v":0}]
[null,null,null,{"$f":"ROUND(IF(C321=\"\",0,SUM(C$8:C321)),2)","v":0},null,{"$f":"ROUND(IF(E321=\"\",0,SUM(E$8:E321)),2)","v":0}]
[null,null,null,{"$f":"ROUND(IF(C322=\"\",0,SUM(C$8:C322)),2)","v":0},null,{"$f":"ROUND(IF(E322=\"\",0,SUM(E$8:E322)),2)","v":0}]
[null,null,null,{"$f":"ROUND(IF(C323=\"\",0,SUM(C$8:C323)),2)","v":0},null,{"$f":"ROUND(IF(E323=\"\",0,SUM(E$8:E323)),2)","v":0}]
[null,null,null,{"$f":"ROUND(IF(C324=\"\",0,SUM(C$8:C324)),2)","v":0},null,{"$f":"ROUND(IF(E324=\"\",0,SUM(E$8:E324)),2)","v":0}]
[null,null,null,{"$f":"ROUND(IF(C325=\"\",0,SUM(C$8:C325)),2)","v":0},null,{"$f":"ROUND(IF(E325=\"\",0,SUM(E$8:E325)),2)","v":0}]
[null,null,null,{"$f":"ROUND(IF(C326=\"\",0,SUM(C$8:C326)),2)","v":0},null,{"$f":"ROUND(IF(E326=\"\",0,SUM(E$8:E326)),2)","v":0}]
[null,null,null,{"$f":"ROUND(IF(C327=\"\",0,SUM(C$8:C327)),2)","v":0},null,{"$f":"ROUND(IF(E327=\"\",0,SUM(E$8:E327)),2)","v":0}]
[null,null,null,{"$f":"ROUND(IF(C328=\"\",0,SUM(C$8:C328)),2)","v":0},null,{"$f":"ROUND(IF(E328=\"\",0,SUM(E$8:E328)),2)","v":0}]
[null,null,null,{"$f":"ROUND(IF(C329=\"\",0,SUM(C$8:C329)),2)","v":0},null,{"$f":"ROUND(IF(E329=\"\",0,SUM(E$8:E329)),2)","v":0}]
[null,null,null,{"$f":"ROUND(IF(C330=\"\",0,SUM(C$8:C330)),2)","v":0},null,{"$f":"ROUND(IF(E330=\"\",0,SUM(E$8:E330)),2)","v":0}]
[null,null,null,{"$f":"ROUND(IF(C331=\"\",0,SUM(C$8:C331)),2)","v":0},null,{"$f":"ROUND(IF(E331=\"\",0,SUM(E$8:E331)),2)","v":0}]
[null,null,null,{"$f":"ROUND(IF(C332=\"\",0,SUM(C$8:C332)),2)","v":0},null,{"$f":"ROUND(IF(E332=\"\",0,SUM(E$8:E332)),2)","v":0}]
[null,null,null,{"$f":"ROUND(IF(C333=\"\",0,SUM(C$8:C333)),2)","v":0},null,{"$f":"ROUND(IF(E333=\"\",0,SUM(E$8:E333)),2)","v":0}]
[null,null,null,{"$f":"ROUND(IF(C334=\"\",0,SUM(C$8:C334)),2)","v":0},null,{"$f":"ROUND(IF(E334=\"\",0,SUM(E$8:E334)),2)","v":0}]
[null,null,null,{"$f":"ROUND(IF(C335=\"\",0,SUM(C$8:C335)),2)","v":0},null,{"$f":"ROUND(IF(E335=\"\",0,SUM(E$8:E335)),2)","v":0}]
[null,null,null,{"$f":"ROUND(IF(C336=\"\",0,SUM(C$8:C336)),2)","v":0},null,{"$f":"ROUND(IF(E336=\"\",0,SUM(E$8:E336)),2)","v":0}]
[null,null,null,{"$f":"ROUND(IF(C337=\"\",0,SUM(C$8:C337)),2)","v":0},null,{"$f":"ROUND(IF(E337=\"\",0,SUM(E$8:E337)),2)","v":0}]
[null,null,null,{"$f":"ROUND(IF(C338=\"\",0,SUM(C$8:C338)),2)","v":0},null,{"$f":"ROUND(IF(E338=\"\",0,SUM(E$8:E338)),2)","v":0}]
[null,null,null,{"$f":"ROUND(IF(C339=\"\",0,SUM(C$8:C339)),2)","v":0},null,{"$f":"ROUND(IF(E339=\"\",0,SUM(E$8:E339)),2)","v":0}]
[null,null,null,{"$f":"ROUND(IF(C340=\"\",0,SUM(C$8:C340)),2)","v":0},null,{"$f":"ROUND(IF(E340=\"\",0,SUM(E$8:E340)),2)","v":0}]
[null,null,null,{"$f":"ROUND(IF(C341=\"\",0,SUM(C$8:C341)),2)","v":0},null,{"$f":"ROUND(IF(E341=\"\",0,SUM(E$8:E341)),2)","v":0}]
[null,null,null,{"$f":"ROUND(IF(C342=\"\",0,SUM(C$8:C342)),2)","v":0},null,{"$f":"ROUND(IF(E342=\"\",0,SUM(E$8:E342)),2)","v":0}]
[null,null,null,{"$f":"ROUND(IF(C343=\"\",0,SUM(C$8:C343)),2)","v":0},null,{"$f":"ROUND(IF(E343=\"\",0,SUM(E$8:E343)),2)","v":0}]
[null,null,null,{"$f":"ROUND(IF(C344=\"\",0,SUM(C$8:C344)),2)","v":0},null,{"$f":"ROUND(IF(E344=\"\",0,SUM(E$8:E344)),2)","v":0}]
[null,null,null,{"$f":"ROUND(IF(C345=\"\",0,SUM(C$8:C345)),2)","v":0},null,{"$f":"ROUND(IF(E345=\"\",0,SUM(E$8:E345)),2)","v":0}]
[null,null,null,{"$f":"ROUND(IF(C346=\"\",0,SUM(C$8:C346)),2)","v":0},null,{"$f":"ROUND(IF(E346=\"\",0,SUM(E$8:E346)),2)","v":0}]
[null,null,null,{"$f":"ROUND(IF(C347=\"\",0,SUM(C$8:C347)),2)","v":0},null,{"$f":"ROUND(IF(E347=\"\",0,SUM(E$8:E347)),2)","v":0}]
[null,null,null,{"$f":"ROUND(IF(C348=\"\",0,SUM(C$8:C348)),2)","v":0},null,{"$f":"ROUND(IF(E348=\"\",0,SUM(E$8:E348)),2)","v":0}]
[null,null,null,{"$f":"ROUND(IF(C349=\"\",0,SUM(C$8:C349)),2)","v":0},null,{"$f":"ROUND(IF(E349=\"\",0,SUM(E$8:E349)),2)","v":0}]
[null,null,null,{"$f":"ROUND(IF(C350=\"\",0,SUM(C$8:C350)),2)","v":0},null,{"$f":"ROUND(IF(E350=\"\",0,SUM(E$8:E350)),2)","v":0}]
[null,null,null,{"$f":"ROUND(IF(C351=\"\",0,SUM(C$8:C351)),2)","v":0},null,{"$f":"ROUND(IF(E351=\"\",0,SUM(E$8:E351)),2)","v":0}]
[null,null,null,{"$f":"ROUND(IF(C352=\"\",0,SUM(C$8:C352)),2)","v":0},null,{"$f":"ROUND(IF(E352=\"\",0,SUM(E$8:E352)),2)","v":0}]
[null,null,null,{"$f":"ROUND(IF(C353=\"\",0,SUM(C$8:C353)),2)","v":0},null,{"$f":"ROUND(IF(E353=\"\",0,SUM(E$8:E353)),2)","v":0}]
[null,null,null,{"$f":"ROUND(IF(C354=\"\",0,SUM(C$8:C354)),2)","v":0},null,{"$f":"ROUND(IF(E354=\"\",0,SUM(E$8:E354)),2)","v":0}]
[null,null,null,{"$f":"ROUND(IF(C355=\"\",0,SUM(C$8:C355)),2)","v":0},null,{"$f":"ROUND(IF(E355=\"\",0,SUM(E$8:E355)),2)","v":0}]
[null,null,null,{"$f":"ROUND(IF(C356=\"\",0,SUM(C$8:C356)),2)","v":0},null,{"$f":"ROUND(IF(E356=\"\",0,SUM(E$8:E356)),2)","v":0}]
[null,null,null,{"$f":"ROUND(IF(C357=\"\",0,SUM(C$8:C357)),2)","v":0},null,{"$f":"ROUND(IF(E357=\"\",0,SUM(E$8:E357)),2)","v":0}]
[null,null,null,{"$f":"ROUND(IF(C358=\"\",0,SUM(C$8:C358)),2)","v":0},null,{"$f":"ROUND(IF(E358=\"\",0,SUM(E$8:E358)),2)","v":0}]
[null,null,null,{"$f":"ROUND(IF(C359=\"\",0,SUM(C$8:C359)),2)","v":0},null,{"$f":"ROUND(IF(E359=\"\",0,SUM(E$8:E359)),2)","v":0}]
[null,null,null,{"$f":"ROUND(IF(C360=\"\",0,SUM(C$8:C360)),2)","v":0},null,{"$f":"ROUND(IF(E360=\"\",0,SUM(E$8:E360)),2)","v":0}]
[null,null,null,{"$f":"ROUND(IF(C361=\"\",0,SUM(C$8:C361)),2)","v":0},null,{"$f":"ROUND(IF(E361=\"\",0,SUM(E$8:E361)),2)","v":0}]
[null,null,null,{"$f":"ROUND(IF(C362=\"\",0,SUM(C$8:C362)),2)","v":0},null,{"$f":"ROUND(IF(E362=\"\",0,SUM(E$8:E362)),2)","v":0}]
[null,null,null,{"$f":"ROUND(IF(C363=\"\",0,SUM(C$8:C363)),2)","v":0},null,{"$f":"ROUND(IF(E363=\"\",0,SUM(E$8:E363)),2)","v":0}]
[null,null,null,{"$f":"ROUND(IF(C364=\"\",0,SUM(C$8:C364)),2)","v":0},null,{"$f":"ROUND(IF(E364=\"\",0,SUM(E$8:E364)),2)","v":0}]
[null,null,null,{"$f":"ROUND(IF(C365=\"\",0,SUM(C$8:C365)),2)","v":0},null,{"$f":"ROUND(IF(E365=\"\",0,SUM(E$8:E365)),2)","v":0}]
[null,null,null,{"$f":"ROUND(IF(C366=\"\",0,SUM(C$8:C366)),2)","v":0},null,{"$f":"ROUND(IF(E366=\"\",0,SUM(E$8:E366)),2)","v":0}]
[null,null,null,{"$f":"ROUND(IF(C367=\"\",0,SUM(C$8:C367)),2)","v":0},null,{"$f":"ROUND(IF(E367=\"\",0,SUM(E$8:E367)),2)","v":0}]
[null,null,null,{"$f":"ROUND(IF(C368=\"\",0,SUM(C$8:C368)),2)","v":0},null,{"$f":"ROUND(IF(E368=\"\",0,SUM(E$8:E368)),2)","v":0}]
[null,null,null,{"$f":"ROUND(IF(C369=\"\",0,SUM(C$8:C369)),2)","v":0},null,{"$f":"ROUND(IF(E369=\"\",0,SUM(E$8:E369)),2)","v":0}]
[null,null,null,{"$f":"ROUND(IF(C370=\"\",0,SUM(C$8:C370)),2)","v":0},null,{"$f":"ROUND(IF(E370=\"\",0,SUM(E$8:E370)),2)","v":0}]
[null,null,null,{"$f":"ROUND(IF(C371=\"\",0,SUM(C$8:C371)),2)","v":0},null,{"$f":"ROUND(IF(E371=\"\",0,SUM(E$8:E371)),2)","v":0}]
[null,null,null,{"$f":"ROUND(IF(C372=\"\",0,SUM(C$8:C372)),2)","v":0},null,{"$f":"ROUND(IF(E372=\"\",0,SUM(E$8:E372)),2)","v":0}]
[null,null,null,{"$f":"ROUND(IF(C373=\"\",0,SUM(C$8:C373)),2)","v":0},null,{"$f":"ROUND(IF(E373=\"\",0,SUM(E$8:E373)),2)","v":0}]
[null,null,null,{"$f":"ROUND(IF(C374=\"\",0,SUM(C$8:C374)),2)","v":0},null,{"$f":"ROUND(IF(E374=\"\",0,SUM(E$8:E374)),2)","v":0}]
[null,null,null,{"$f":"ROUND(IF(C375=\"\",0,SUM(C$8:C375)),2)","v":0},null,{"$f":"ROUND(IF(E375=\"\",0,SUM(E$8:E375)),2)","v":0}]
[null,null,null,{"$f":"ROUND(IF(C376=\"\",0,SUM(C$8:C376)),2)","v":0},null,{"$f":"ROUND(IF(E376=\"\",0,SUM(E$8:E376)),2)","v":0}]
[null,null,null,{"$f":"ROUND(IF(C377=\"\",0,SUM(C$8:C377)),2)","v":0},null,{"$f":"ROUND(IF(E377=\"\",0,SUM(E$8:E377)),2)","v":0}]
[null,null,null,{"$f":"ROUND(IF(C378=\"\",0,SUM(C$8:C378)),2)","v":0},null,{"$f":"ROUND(IF(E378=\"\",0,SUM(E$8:E378)),2)","v":0}]
[null,null,null,{"$f":"ROUND(IF(C379=\"\",0,SUM(C$8:C379)),2)","v":0},null,{"$f":"ROUND(IF(E379=\"\",0,SUM(E$8:E379)),2)","v":0}]
[null,null,null,{"$f":"ROUND(IF(C380=\"\",0,SUM(C$8:C380)),2)","v":0},null,{"$f":"ROUND(IF(E380=\"\",0,SUM(E$8:E380)),2)","v":0}]
[null,null,null,{"$f":"ROUND(IF(C381=\"\",0,SUM(C$8:C381)),2)","v":0},null,{"$f":"ROUND(IF(E381=\"\",0,SUM(E$8:E381)),2)","v":0}]
[null,null,null,{"$f":"ROUND(IF(C382=\"\",0,SUM(C$8:C382)),2)","v":0},null,{"$f":"ROUND(IF(E382=\"\",0,SUM(E$8:E382)),2)","v":0}]
[null,null,null,{"$f":"ROUND(IF(C383=\"\",0,SUM(C$8:C383)),2)","v":0},null,{"$f":"ROUND(IF(E383=\"\",0,SUM(E$8:E383)),2)","v":0}]
[null,null,null,{"$f":"ROUND(IF(C384=\"\",0,SUM(C$8:C384)),2)","v":0},null,{"$f":"ROUND(IF(E384=\"\",0,SUM(E$8:E384)),2)","v":0}]
[null,null,null,{"$f":"ROUND(IF(C385=\"\",0,SUM(C$8:C385)),2)","v":0},null,{"$f":"ROUND(IF(E385=\"\",0,SUM(E$8:E385)),2)","v":0}]
[null,null,null,{"$f":"ROUND(IF(C386=\"\",0,SUM(C$8:C386)),2)","v":0},null,{"$f":"ROUND(IF(E386=\"\",0,SUM(E$8:E386)),2)","v":0}]
[null,null,null,{"$f":"ROUND(IF(C387=\"\",0,SUM(C$8:C387)),2)","v":0},null,{"$f":"ROUND(IF(E387=\"\",0,SUM(E$8:E387)),2)","v":0}]
[null,null,null,{"$f":"ROUND(IF(C388=\"\",0,SUM(C$8:C388)),2)","v":0},null,{"$f":"ROUND(IF(E388=\"\",0,SUM(E$8:E388)),2)","v":0}]
[null,null,null,{"$f":"ROUND(IF(C389=\"\",0,SUM(C$8:C389)),2)","v":0},null,{"$f":"ROUND(IF(E389=\"\",0,SUM(E$8:E389)),2)","v":0}]
[null,null,null,{"$f":"ROUND(IF(C390=\"\",0,SUM(C$8:C390)),2)","v":0},null,{"$f":"ROUND(IF(E390=\"\",0,SUM(E$8:E390)),2)","v":0}]
[null,null,null,{"$f":"ROUND(IF(C391=\"\",0,SUM(C$8:C391)),2)","v":0},null,{"$f":"ROUND(IF(E391=\"\",0,SUM(E$8:E391)),2)","v":0}]
[null,null,null,{"$f":"ROUND(IF(C392=\"\",0,SUM(C$8:C392)),2)","v":0},null,{"$f":"ROUND(IF(E392=\"\",0,SUM(E$8:E392)),2)","v":0}]
[null,null,null,{"$f":"ROUND(IF(C393=\"\",0,SUM(C$8:C393)),2)","v":0},null,{"$f":"ROUND(IF(E393=\"\",0,SUM(E$8:E393)),2)","v":0}]
[null,null,null,{"$f":"ROUND(IF(C394=\"\",0,SUM(C$8:C394)),2)","v":0},null,{"$f":"ROUND(IF(E394=\"\",0,SUM(E$8:E394)),2)","v":0}]
[null,null,null,{"$f":"ROUND(IF(C395=\"\",0,SUM(C$8:C395)),2)","v":0},null,{"$f":"ROUND(IF(E395=\"\",0,SUM(E$8:E395)),2)","v":0}]
[null,null,null,{"$f":"ROUND(IF(C396=\"\",0,SUM(C$8:C396)),2)","v":0},null,{"$f":"ROUND(IF(E396=\"\",0,SUM(E$8:E396)),2)","v":0}]
[null,null,null,{"$f":"ROUND(IF(C397=\"\",0,SUM(C$8:C397)),2)","v":0},null,{"$f":"ROUND(IF(E397=\"\",0,SUM(E$8:E397)),2)","v":0}]
[null,null,null,{"$f":"ROUND(IF(C398=\"\",0,SUM(C$8:C398)),2)","v":0},null,{"$f":"ROUND(IF(E398=\"\",0,SUM(E$8:E398)),2)","v":0}]
[null,null,null,{"$f":"ROUND(IF(C399=\"\",0,SUM(C$8:C399)),2)","v":0},null,{"$f":"ROUND(IF(E399=\"\",0,SUM(E$8:E399)),2)","v":0}]
[null,null,null,{"$f":"ROUND(IF(C400=\"\",0,SUM(C$8:C400)),2)","v":0},null,{"$f":"ROUND(IF(E400=\"\",0,SUM(E$8:E400)),2)","v":0}]
[null,null,null,{"$f":"ROUND(IF(C401=\"\",0,SUM(C$8:C401)),2)","v":0},null,{"$f":"ROUND(IF(E401=\"\",0,SUM(E$8:E401)),2)","v":0}]
[null,null,null,{"$f":"ROUND(IF(C402=\"\",0,SUM(C$8:C402)),2)","v":0},null,{"$f":"ROUND(IF(E402=\"\",0,SUM(E$8:E402)),2)","v":0}]
[null,null,null,{"$f":"ROUND(IF(C403=\"\",0,SUM(C$8:C403)),2)","v":0},null,{"$f":"ROUND(IF(E403=\"\",0,SUM(E$8:E403)),2)","v":0}]
[null,null,null,{"$f":"ROUND(IF(C404=\"\",0,SUM(C$8:C404)),2)","v":0},null,{"$f":"ROUND(IF(E404=\"\",0,SUM(E$8:E404)),2)","v":0}]
[null,null,null,{"$f":"ROUND(IF(C405=\"\",0,SUM(C$8:C405)),2)","v":0},null,{"$f":"ROUND(IF(E405=\"\",0,SUM(E$8:E405)),2)","v":0}]
[null,null,null,{"$f":"ROUND(IF(C406=\"\",0,SUM(C$8:C406)),2)","v":0},null,{"$f":"ROUND(IF(E406=\"\",0,SUM(E$8:E406)),2)","v":0}]
[null,null,null,{"$f":"ROUND(IF(C407=\"\",0,SUM(C$8:C407)),2)","v":0},null,{"$f":"ROUND(IF(E407=\"\",0,SUM(E$8:E407)),2)","v":0}]
[null,null,null,{"$f":"ROUND(IF(C408=\"\",0,SUM(C$8:C408)),2)","v":0},null,{"$f":"ROUND(IF(E408=\"\",0,SUM(E$8:E408)),2)","v":0}]
[null,null,null,{"$f":"ROUND(IF(C409=\"\",0,SUM(C$8:C409)),2)","v":0},null,{"$f":"ROUND(IF(E409=\"\",0,SUM(E$8:E409)),2)","v":0}]
[null,null,null,{"$f":"ROUND(IF(C410=\"\",0,SUM(C$8:C410)),2)","v":0},null,{"$f":"ROUND(IF(E410=\"\",0,SUM(E$8:E410)),2)","v":0}]
[null,null,null,{"$f":"ROUND(IF(C411=\"\",0,SUM(C$8:C411)),2)","v":0},null,{"$f":"ROUND(IF(E411=\"\",0,SUM(E$8:E411)),2)","v":0}]
[null,null,null,{"$f":"ROUND(IF(C412=\"\",0,SUM(C$8:C412)),2)","v":0},null,{"$f":"ROUND(IF(E412=\"\",0,SUM(E$8:E412)),2)","v":0}]
[null,null,null,{"$f":"ROUND(IF(C413=\"\",0,SUM(C$8:C413)),2)","v":0},null,{"$f":"ROUND(IF(E413=\"\",0,SUM(E$8:E413)),2)","v":0}]
[null,null,null,{"$f":"ROUND(IF(C414=\"\",0,SUM(C$8:C414)),2)","v":0},null,{"$f":"ROUND(IF(E414=\"\",0,SUM(E$8:E414)),2)","v":0}]
[null,null,null,{"$f":"ROUND(IF(C415=\"\",0,SUM(C$8:C415)),2)","v":0},null,{"$f":"ROUND(IF(E415=\"\",0,SUM(E$8:E415)),2)","v":0}]
[null,null,null,{"$f":"ROUND(IF(C416=\"\",0,SUM(C$8:C416)),2)","v":0},null,{"$f":"ROUND(IF(E416=\"\",0,SUM(E$8:E416)),2)","v":0}]
[null,null,null,{"$f":"ROUND(IF(C417=\"\",0,SUM(C$8:C417)),2)","v":0},null,{"$f":"ROUND(IF(E417=\"\",0,SUM(E$8:E417)),2)","v":0}]
[null,null,null,{"$f":"ROUND(IF(C418=\"\",0,SUM(C$8:C418)),2)","v":0},null,{"$f":"ROUND(IF(E418=\"\",0,SUM(E$8:E418)),2)","v":0}]
[null,null,null,{"$f":"ROUND(IF(C419=\"\",0,SUM(C$8:C419)),2)","v":0},null,{"$f":"ROUND(IF(E419=\"\",0,SUM(E$8:E419)),2)","v":0}]
[null,null,null,{"$f":"ROUND(IF(C420=\"\",0,SUM(C$8:C420)),2)","v":0},null,{"$f":"ROUND(IF(E420=\"\",0,SUM(E$8:E420)),2)","v":0}]
[null,null,null,{"$f":"ROUND(IF(C421=\"\",0,SUM(C$8:C421)),2)","v":0},null,{"$f":"ROUND(IF(E421=\"\",0,SUM(E$8:E421)),2)","v":0}]
[null,null,null,{"$f":"ROUND(IF(C422=\"\",0,SUM(C$8:C422)),2)","v":0},null,{"$f":"ROUND(IF(E422=\"\",0,SUM(E$8:E422)),2)","v":0}]
[null,null,null,{"$f":"ROUND(IF(C423=\"\",0,SUM(C$8:C423)),2)","v":0},null,{"$f":"ROUND(IF(E423=\"\",0,SUM(E$8:E423)),2)","v":0}]
[null,null,null,{"$f":"ROUND(IF(C424=\"\",0,SUM(C$8:C424)),2)","v":0},null,{"$f":"ROUND(IF(E424=\"\",0,SUM(E$8:E424)),2)","v":0}]
[null,null,null,{"$f":"ROUND(IF(C425=\"\",0,SUM(C$8:C425)),2)","v":0},null,{"$f":"ROUND(IF(E425=\"\",0,SUM(E$8:E425)),2)","v":0}]
[null,null,null,{"$f":"ROUND(IF(C426=\"\",0,SUM(C$8:C426)),2)","v":0},null,{"$f":"ROUND(IF(E426=\"\",0,SUM(E$8:E426)),2)","v":0}]
[null,null,null,{"$f":"ROUND(IF(C427=\"\",0,SUM(C$8:C427)),2)","v":0},null,{"$f":"ROUND(IF(E427=\"\",0,SUM(E$8:E427)),2)","v":0}]
[null,null,null,{"$f":"ROUND(IF(C428=\"\",0,SUM(C$8:C428)),2)","v":0},null,{"$f":"ROUND(IF(E428=\"\",0,SUM(E$8:E428)),2)","v":0}]
[null,null,null,{"$f":"ROUND(IF(C429=\"\",0,SUM(C$8:C429)),2)","v":0},null,{"$f":"ROUND(IF(E429=\"\",0,SUM(E$8:E429)),2)","v":0}]
[null,null,null,{"$f":"ROUND(IF(C430=\"\",0,SUM(C$8:C430)),2)","v":0},null,{"$f":"ROUND(IF(E430=\"\",0,SUM(E$8:E430)),2)","v":0}]
[null,null,null,{"$f":"ROUND(IF(C431=\"\",0,SUM(C$8:C431)),2)","v":0},null,{"$f":"ROUND(IF(E431=\"\",0,SUM(E$8:E431)),2)","v":0}]
[null,null,null,{"$f":"ROUND(IF(C432=\"\",0,SUM(C$8:C432)),2)","v":0},null,{"$f":"ROUND(IF(E432=\"\",0,SUM(E$8:E432)),2)","v":0}]
[null,null,null,{"$f":"ROUND(IF(C433=\"\",0,SUM(C$8:C433)),2)","v":0},null,{"$f":"ROUND(IF(E433=\"\",0,SUM(E$8:E433)),2)","v":0}]
[null,null,null,{"$f":"ROUND(IF(C434=\"\",0,SUM(C$8:C434)),2)","v":0},null,{"$f":"ROUND(IF(E434=\"\",0,SUM(E$8:E434)),2)","v":0}]
[null,null,null,{"$f":"ROUND(IF(C435=\"\",0,SUM(C$8:C435)),2)","v":0},null,{"$f":"ROUND(IF(E435=\"\",0,SUM(E$8:E435)),2)","v":0}]
[null,null,null,{"$f":"ROUND(IF(C436=\"\",0,SUM(C$8:C436)),2)","v":0},null,{"$f":"ROUND(IF(E436=\"\",0,SUM(E$8:E436)),2)","v":0}]
[null,null,null,{"$f":"ROUND(IF(C437=\"\",0,SUM(C$8:C437)),2)","v":0},null,{"$f":"ROUND(IF(E437=\"\",0,SUM(E$8:E437)),2)","v":0}]
[null,null,null,{"$f":"ROUND(IF(C438=\"\",0,SUM(C$8:C438)),2)","v":0},null,{"$f":"ROUND(IF(E438=\"\",0,SUM(E$8:E438)),2)","v":0}]
[null,null,null,{"$f":"ROUND(IF(C439=\"\",0,SUM(C$8:C439)),2)","v":0},null,{"$f":"ROUND(IF(E439=\"\",0,SUM(E$8:E439)),2)","v":0}]
[null,null,null,{"$f":"ROUND(IF(C440=\"\",0,SUM(C$8:C440)),2)","v":0},null,{"$f":"ROUND(IF(E440=\"\",0,SUM(E$8:E440)),2)","v":0}]
[null,null,null,{"$f":"ROUND(IF(C441=\"\",0,SUM(C$8:C441)),2)","v":0},null,{"$f":"ROUND(IF(E441=\"\",0,SUM(E$8:E441)),2)","v":0}]
[null,null,null,{"$f":"ROUND(IF(C442=\"\",0,SUM(C$8:C442)),2)","v":0},null,{"$f":"ROUND(IF(E442=\"\",0,SUM(E$8:E442)),2)","v":0}]
[null,null,null,{"$f":"ROUND(IF(C443=\"\",0,SUM(C$8:C443)),2)","v":0},null,{"$f":"ROUND(IF(E443=\"\",0,SUM(E$8:E443)),2)","v":0}]
[null,null,null,{"$f":"ROUND(IF(C444=\"\",0,SUM(C$8:C444)),2)","v":0},null,{"$f":"ROUND(IF(E444=\"\",0,SUM(E$8:E444)),2)","v":0}]
[null,null,null,{"$f":"ROUND(IF(C445=\"\",0,SUM(C$8:C445)),2)","v":0},null,{"$f":"ROUND(IF(E445=\"\",0,SUM(E$8:E445)),2)","v":0}]
[null,null,null,{"$f":"ROUND(IF(C446=\"\",0,SUM(C$8:C446)),2)","v":0},null,{"$f":"ROUND(IF(E446=\"\",0,SUM(E$8:E446)),2)","v":0}]
[null,null,null,{"$f":"ROUND(IF(C447=\"\",0,SUM(C$8:C447)),2)","v":0},null,{"$f":"ROUND(IF(E447=\"\",0,SUM(E$8:E447)),2)","v":0}]
[null,null,null,{"$f":"ROUND(IF(C448=\"\",0,SUM(C$8:C448)),2)","v":0},null,{"$f":"ROUND(IF(E448=\"\",0,SUM(E$8:E448)),2)","v":0}]
[null,null,null,{"$f":"ROUND(IF(C449=\"\",0,SUM(C$8:C449)),2)","v":0},null,{"$f":"ROUND(IF(E449=\"\",0,SUM(E$8:E449)),2)","v":0}]
[null,null,null,{"$f":"ROUND(IF(C450=\"\",0,SUM(C$8:C450)),2)","v":0},null,{"$f":"ROUND(IF(E450=\"\",0,SUM(E$8:E450)),2)","v":0}]
[null,null,null,{"$f":"ROUND(IF(C451=\"\",0,SUM(C$8:C451)),2)","v":0},null,{"$f":"ROUND(IF(E451=\"\",0,SUM(E$8:E451)),2)","v":0}]
[null,null,null,{"$f":"ROUND(IF(C452=\"\",0,SUM(C$8:C452)),2)","v":0},null,{"$f":"ROUND(IF(E452=\"\",0,SUM(E$8:E452)),2)","v":0}]
[null,null,null,{"$f":"ROUND(IF(C453=\"\",0,SUM(C$8:C453)),2)","v":0},null,{"$f":"ROUND(IF(E453=\"\",0,SUM(E$8:E453)),2)","v":0}]
[null,null,null,{"$f":"ROUND(IF(C454=\"\",0,SUM(C$8:C454)),2)","v":0},null,{"$f":"ROUND(IF(E454=\"\",0,SUM(E$8:E454)),2)","v":0}]
[null,null,null,{"$f":"ROUND(IF(C455=\"\",0,SUM(C$8:C455)),2)","v":0},null,{"$f":"ROUND(IF(E455=\"\",0,SUM(E$8:E455)),2)","v":0}]
[null,null,null,{"$f":"ROUND(IF(C456=\"\",0,SUM(C$8:C456)),2)","v":0},null,{"$f":"ROUND(IF(E456=\"\",0,SUM(E$8:E456)),2)","v":0}]
[null,null,null,{"$f":"ROUND(IF(C457=\"\",0,SUM(C$8:C457)),2)","v":0},null,{"$f":"ROUND(IF(E457=\"\",0,SUM(E$8:E457)),2)","v":0}]
[null,null,null,{"$f":"ROUND(IF(C458=\"\",0,SUM(C$8:C458)),2)","v":0},null,{"$f":"ROUND(IF(E458=\"\",0,SUM(E$8:E458)),2)","v":0}]
[null,null,null,{"$f":"ROUND(IF(C459=\"\",0,SUM(C$8:C459)),2)","v":0},null,{"$f":"ROUND(IF(E459=\"\",0,SUM(E$8:E459)),2)","v":0}]
[null,null,null,{"$f":"ROUND(IF(C460=\"\",0,SUM(C$8:C460)),2)","v":0},null,{"$f":"ROUND(IF(E460=\"\",0,SUM(E$8:E460)),2)","v":0}]
[null,null,null,{"$f":"ROUND(IF(C461=\"\",0,SUM(C$8:C461)),2)","v":0},null,{"$f":"ROUND(IF(E461=\"\",0,SUM(E$8:E461)),2)","v":0}]
[null,null,null,{"$f":"ROUND(IF(C462=\"\",0,SUM(C$8:C462)),2)","v":0},null,{"$f":"ROUND(IF(E462=\"\",0,SUM(E$8:E462)),2)","v":0}]
[null,null,null,{"$f":"ROUND(IF(C463=\"\",0,SUM(C$8:C463)),2)","v":0},null,{"$f":"ROUND(IF(E463=\"\",0,SUM(E$8:E463)),2)","v":0}]
[null,null,null,{"$f":"ROUND(IF(C464=\"\",0,SUM(C$8:C464)),2)","v":0},null,{"$f":"ROUND(IF(E464=\"\",0,SUM(E$8:E464)),2)","v":0}]
[null,null,null,{"$f":"ROUND(IF(C465=\"\",0,SUM(C$8:C465)),2)","v":0},null,{"$f":"ROUND(IF(E465=\"\",0,SUM(E$8:E465)),2)","v":0}]
[null,null,null,{"$f":"ROUND(IF(C466=\"\",0,SUM(C$8:C466)),2)","v":0},null,{"$f":"ROUND(IF(E466=\"\",0,SUM(E$8:E466)),2)","v":0}]
[null,null,null,{"$f":"ROUND(IF(C467=\"\",0,SUM(C$8:C467)),2)","v":0},null,{"$f":"ROUND(IF(E467=\"\",0,SUM(E$8:E467)),2)","v":0}]
[null,null,null,{"$f":"ROUND(IF(C468=\"\",0,SUM(C$8:C468)),2)","v":0},null,{"$f":"ROUND(IF(E468=\"\",0,SUM(E$8:E468)),2)","v":0}]
[null,null,null,{"$f":"ROUND(IF(C469=\"\",0,SUM(C$8:C469)),2)","v":0},null,{"$f":"ROUND(IF(E469=\"\",0,SUM(E$8:E469)),2)","v":0}]
[null,null,null,{"$f":"ROUND(IF(C470=\"\",0,SUM(C$8:C470)),2)","v":0},null,{"$f":"ROUND(IF(E470=\"\",0,SUM(E$8:E470)),2)","v":0}]
[null,null,null,{"$f":"ROUND(IF(C471=\"\",0,SUM(C$8:C471)),2)","v":0},null,{"$f":"ROUND(IF(E471=\"\",0,SUM(E$8:E471)),2)","v":0}]
[null,null,null,{"$f":"ROUND(IF(C472=\"\",0,SUM(C$8:C472)),2)","v":0},null,{"$f":"ROUND(IF(E472=\"\",0,SUM(E$8:E472)),2)","v":0}]
[null,null,null,{"$f":"ROUND(IF(C473=\"\",0,SUM(C$8:C473)),2)","v":0},null,{"$f":"ROUND(IF(E473=\"\",0,SUM(E$8:E473)),2)","v":0}]
[null,null,null,{"$f":"ROUND(IF(C474=\"\",0,SUM(C$8:C474)),2)","v":0},null,{"$f":"ROUND(IF(E474=\"\",0,SUM(E$8:E474)),2)","v":0}]
[null,null,null,{"$f":"ROUND(IF(C475=\"\",0,SUM(C$8:C475)),2)","v":0},null,{"$f":"ROUND(IF(E475=\"\",0,SUM(E$8:E475)),2)","v":0}]
[null,null,null,{"$f":"ROUND(IF(C476=\"\",0,SUM(C$8:C476)),2)","v":0},null,{"$f":"ROUND(IF(E476=\"\",0,SUM(E$8:E476)),2)","v":0}]
[null,null,null,{"$f":"ROUND(IF(C477=\"\",0,SUM(C$8:C477)),2)","v":0},null,{"$f":"ROUND(IF(E477=\"\",0,SUM(E$8:E477)),2)","v":0}]
[null,null,null,{"$f":"ROUND(IF(C478=\"\",0,SUM(C$8:C478)),2)","v":0},null,{"$f":"ROUND(IF(E478=\"\",0,SUM(E$8:E478)),2)","v":0}]
[null,null,null,{"$f":"ROUND(IF(C479=\"\",0,SUM(C$8:C479)),2)","v":0},null,{"$f":"ROUND(IF(E479=\"\",0,SUM(E$8:E479)),2)","v":0}]
[null,null,null,{"$f":"ROUND(IF(C480=\"\",0,SUM(C$8:C480)),2)","v":0},null,{"$f":"ROUND(IF(E480=\"\",0,SUM(E$8:E480)),2)","v":0}]
[null,null,null,{"$f":"ROUND(IF(C481=\"\",0,SUM(C$8:C481)),2)","v":0},null,{"$f":"ROUND(IF(E481=\"\",0,SUM(E$8:E481)),2)","v":0}]
[null,null,null,{"$f":"ROUND(IF(C482=\"\",0,SUM(C$8:C482)),2)","v":0},null,{"$f":"ROUND(IF(E482=\"\",0,SUM(E$8:E482)),2)","v":0}]
[null,null,null,{"$f":"ROUND(IF(C483=\"\",0,SUM(C$8:C483)),2)","v":0},null,{"$f":"ROUND(IF(E483=\"\",0,SUM(E$8:E483)),2)","v":0}]
[null,null,null,{"$f":"ROUND(IF(C484=\"\",0,SUM(C$8:C484)),2)","v":0},null,{"$f":"ROUND(IF(E484=\"\",0,SUM(E$8:E484)),2)","v":0}]
[null,null,null,{"$f":"ROUND(IF(C485=\"\",0,SUM(C$8:C485)),2)","v":0},null,{"$f":"ROUND(IF(E485=\"\",0,SUM(E$8:E485)),2)","v":0}]
[null,null,null,{"$f":"ROUND(IF(C486=\"\",0,SUM(C$8:C486)),2)","v":0},null,{"$f":"ROUND(IF(E486=\"\",0,SUM(E$8:E486)),2)","v":0}]
[null,null,null,{"$f":"ROUND(IF(C487=\"\",0,SUM(C$8:C487)),2)","v":0},null,{"$f":"ROUND(IF(E487=\"\",0,SUM(E$8:E487)),2)","v":0}]
[null,null,null,{"$f":"ROUND(IF(C488=\"\",0,SUM(C$8:C488)),2)","v":0},null,{"$f":"ROUND(IF(E488=\"\",0,SUM(E$8:E488)),2)","v":0}]
[null,null,null,{"$f":"ROUND(IF(C489=\"\",0,SUM(C$8:C489)),2)","v":0},null,{"$f":"ROUND(IF(E489=\"\",0,SUM(E$8:E489)),2)","v":0}]
[null,null,null,{"$f":"ROUND(IF(C490=\"\",0,SUM(C$8:C490)),2)","v":0},null,{"$f":"ROUND(IF(E490=\"\",0,SUM(E$8:E490)),2)","v":0}]
[null,null,null,{"$f":"ROUND(IF(C491=\"\",0,SUM(C$8:C491)),2)","v":0},null,{"$f":"ROUND(IF(E491=\"\",0,SUM(E$8:E491)),2)","v":0}]
[null,null,null,{"$f":"ROUND(IF(C492=\"\",0,SUM(C$8:C492)),2)","v":0},null,{"$f":"ROUND(IF(E492=\"\",0,SUM(E$8:E492)),2)","v":0}]
[null,null,null,{"$f":"ROUND(IF(C493=\"\",0,SUM(C$8:C493)),2)","v":0},null,{"$f":"ROUND(IF(E493=\"\",0,SUM(E$8:E493)),2)","v":0}]
[null,null,null,{"$f":"ROUND(IF(C494=\"\",0,SUM(C$8:C494)),2)","v":0},null,{"$f":"ROUND(IF(E494=\"\",0,SUM(E$8:E494)),2)","v":0}]
[null,null,null,{"$f":"ROUND(IF(C495=\"\",0,SUM(C$8:C495)),2)","v":0},null,{"$f":"ROUND(IF(E495=\"\",0,SUM(E$8:E495)),2)","v":0}]
[null,null,null,{"$f":"ROUND(IF(C496=\"\",0,SUM(C$8:C496)),2)","v":0},null,{"$f":"ROUND(IF(E496=\"\",0,SUM(E$8:E496)),2)","v":0}]
[null,null,null,{"$f":"ROUND(IF(C497=\"\",0,SUM(C$8:C497)),2)","v":0},null,{"$f":"ROUND(IF(E497=\"\",0,SUM(E$8:E497)),2)","v":0}]
[null,null,null,{"$f":"ROUND(IF(C498=\"\",0,SUM(C$8:C498)),2)","v":0},null,{"$f":"ROUND(IF(E498=\"\",0,SUM(E$8:E498)),2)","v":0}]
[null,null,null,{"$f":"ROUND(IF(C499=\"\",0,SUM(C$8:C499)),2)","v":0},null,{"$f":"ROUND(IF(E499=\"\",0,SUM(E$8:E499)),2)","v":0}]
[null,null,null,{"$f":"ROUND(IF(C500=\"\",0,SUM(C$8:C500)),2)","v":0},null,{"$f":"ROUND(IF(E500=\"\",0,SUM(E$8:E500)),2)","v":0}]
[null,null,null,{"$f":"ROUND(IF(C501=\"\",0,SUM(C$8:C501)),2)","v":0},null,{"$f":"ROUND(IF(E501=\"\",0,SUM(E$8:E501)),2)","v":0}]
[null,null,null,{"$f":"ROUND(IF(C502=\"\",0,SUM(C$8:C502)),2)","v":0},null,{"$f":"ROUND(IF(E502=\"\",0,SUM(E$8:E502)),2)","v":0}]
[null,null,null,{"$f":"ROUND(IF(C503=\"\",0,SUM(C$8:C503)),2)","v":0},null,{"$f":"ROUND(IF(E503=\"\",0,SUM(E$8:E503)),2)","v":0}]
[null,null,null,{"$f":"ROUND(IF(C504=\"\",0,SUM(C$8:C504)),2)","v":0},null,{"$f":"ROUND(IF(E504=\"\",0,SUM(E$8:E504)),2)","v":0}]
[null,null,null,{"$f":"ROUND(IF(C505=\"\",0,SUM(C$8:C505)),2)","v":0},null,{"$f":"ROUND(IF(E505=\"\",0,SUM(E$8:E505)),2)","v":0}]
[null,null,null,{"$f":"ROUND(IF(C506=\"\",0,SUM(C$8:C506)),2)","v":0},null,{"$f":"ROUND(IF(E506=\"\",0,SUM(E$8:E506)),2)","v":0}]
[null,null,null,{"$f":"ROUND(IF(C507=\"\",0,SUM(C$8:C507)),2)","v":0},null,{"$f":"ROUND(IF(E507=\"\",0,SUM(E$8:E507)),2)","v":0}]
[null,null,null,{"$f":"ROUND(IF(C508=\"\",0,SUM(C$8:C508)),2)","v":0},null,{"$f":"ROUND(IF(E508=\"\",0,SUM(E$8:E508)),2)","v":0}]
[null,null,null,{"$f":"ROUND(IF(C509=\"\",0,SUM(C$8:C509)),2)","v":0},null,{"$f":"ROUND(IF(E509=\"\",0,SUM(E$8:E509)),2)","v":0}]
[null,null,null,{"$f":"ROUND(IF(C510=\"\",0,SUM(C$8:C510)),2)","v":0},null,{"$f":"ROUND(IF(E510=\"\",0,SUM(E$8:E510)),2)","v":0}]
[null,null,null,{"$f":"ROUND(IF(C511=\"\",0,SUM(C$8:C511)),2)","v":0},null,{"$f":"ROUND(IF(E511=\"\",0,SUM(E$8:E511)),2)","v":0}]
[null,null,null,{"$f":"ROUND(IF(C512=\"\",0,SUM(C$8:C512)),2)","v":0},null,{"$f":"ROUND(IF(E512=\"\",0,SUM(E$8:E512)),2)","v":0}]
[null,null,null,{"$f":"ROUND(IF(C513=\"\",0,SUM(C$8:C513)),2)","v":0},null,{"$f":"ROUND(IF(E513=\"\",0,SUM(E$8:E513)),2)","v":0}]
[null,null,null,{"$f":"ROUND(IF(C514=\"\",0,SUM(C$8:C514)),2)","v":0},null,{"$f":"ROUND(IF(E514=\"\",0,SUM(E$8:E514)),2)","v":0}]
[null,null,null,{"$f":"ROUND(IF(C515=\"\",0,SUM(C$8:C515)),2)","v":0},null,{"$f":"ROUND(IF(E515=\"\",0,SUM(E$8:E515)),2)","v":0}]
[null,null,null,{"$f":"ROUND(IF(C516=\"\",0,SUM(C$8:C516)),2)","v":0},null,{"$f":"ROUND(IF(E516=\"\",0,SUM(E$8:E516)),2)","v":0}]
[null,null,null,{"$f":"ROUND(IF(C517=\"\",0,SUM(C$8:C517)),2)","v":0},null,{"$f":"ROUND(IF(E517=\"\",0,SUM(E$8:E517)),2)","v":0}]
[null,null,null,{"$f":"ROUND(IF(C518=\"\",0,SUM(C$8:C518)),2)","v":0},null,{"$f":"ROUND(IF(E518=\"\",0,SUM(E$8:E518)),2)","v":0}]
[null,null,null,{"$f":"ROUND(IF(C519=\"\",0,SUM(C$8:C519)),2)","v":0},null,{"$f":"ROUND(IF(E519=\"\",0,SUM(E$8:E519)),2)","v":0}]
[null,null,null,{"$f":"ROUND(IF(C520=\"\",0,SUM(C$8:C520)),2)","v":0},null,{"$f":"ROUND(IF(E520=\"\",0,SUM(E$8:E520)),2)","v":0}]
[null,null,null,{"$f":"ROUND(IF(C521=\"\",0,SUM(C$8:C521)),2)","v":0},null,{"$f":"ROUND(IF(E521=\"\",0,SUM(E$8:E521)),2)","v":0}]
[null,null,null,{"$f":"ROUND(IF(C522=\"\",0,SUM(C$8:C522)),2)","v":0},null,{"$f":"ROUND(IF(E522=\"\",0,SUM(E$8:E522)),2)","v":0}]
[null,null,null,{"$f":"ROUND(IF(C523=\"\",0,SUM(C$8:C523)),2)","v":0},null,{"$f":"ROUND(IF(E523=\"\",0,SUM(E$8:E523)),2)","v":0}]
[null,null,null,{"$f":"ROUND(IF(C524=\"\",0,SUM(C$8:C524)),2)","v":0},null,{"$f":"ROUND(IF(E524=\"\",0,SUM(E$8:E524)),2)","v":0}]
[null,null,null,{"$f":"ROUND(IF(C525=\"\",0,SUM(C$8:C525)),2)","v":0},null,{"$f":"ROUND(IF(E525=\"\",0,SUM(E$8:E525)),2)","v":0}]
[null,null,null,{"$f":"ROUND(IF(C526=\"\",0,SUM(C$8:C526)),2)","v":0},null,{"$f":"ROUND(IF(E526=\"\",0,SUM(E$8:E526)),2)","v":0}]
[null,null,null,{"$f":"ROUND(IF(C527=\"\",0,SUM(C$8:C527)),2)","v":0},null,{"$f":"ROUND(IF(E527=\"\",0,SUM(E$8:E527)),2)","v":0}]
[null,null,null,{"$f":"ROUND(IF(C528=\"\",0,SUM(C$8:C528)),2)","v":0},null,{"$f":"ROUND(IF(E528=\"\",0,SUM(E$8:E528)),2)","v":0}]
[null,null,null,{"$f":"ROUND(IF(C529=\"\",0,SUM(C$8:C529)),2)","v":0},null,{"$f":"ROUND(IF(E529=\"\",0,SUM(E$8:E529)),2)","v":0}]
[null,null,null,{"$f":"ROUND(IF(C530=\"\",0,SUM(C$8:C530)),2)","v":0},null,{"$f":"ROUND(IF(E530=\"\",0,SUM(E$8:E530)),2)","v":0}]
[null,null,null,{"$f":"ROUND(IF(C531=\"\",0,SUM(C$8:C531)),2)","v":0},null,{"$f":"ROUND(IF(E531=\"\",0,SUM(E$8:E531)),2)","v":0}]
[null,null,null,{"$f":"ROUND(IF(C532=\"\",0,SUM(C$8:C532)),2)","v":0},null,{"$f":"ROUND(IF(E532=\"\",0,SUM(E$8:E532)),2)","v":0}]
[null,null,null,{"$f":"ROUND(IF(C533=\"\",0,SUM(C$8:C533)),2)","v":0},null,{"$f":"ROUND(IF(E533=\"\",0,SUM(E$8:E533)),2)","v":0}]
[null,null,null,{"$f":"ROUND(IF(C534=\"\",0,SUM(C$8:C534)),2)","v":0},null,{"$f":"ROUND(IF(E534=\"\",0,SUM(E$8:E534)),2)","v":0}]
[null,null,null,{"$f":"ROUND(IF(C535=\"\",0,SUM(C$8:C535)),2)","v":0},null,{"$f":"ROUND(IF(E535=\"\",0,SUM(E$8:E535)),2)","v":0}]
[null,null,null,{"$f":"ROUND(IF(C536=\"\",0,SUM(C$8:C536)),2)","v":0},null,{"$f":"ROUND(IF(E536=\"\",0,SUM(E$8:E536)),2)","v":0}]
[null,null,null,{"$f":"ROUND(IF(C537=\"\",0,SUM(C$8:C537)),2)","v":0},null,{"$f":"ROUND(IF(E537=\"\",0,SUM(E$8:E537)),2)","v":0}]
[null,null,null,{"$f":"ROUND(IF(C538=\"\",0,SUM(C$8:C538)),2)","v":0},null,{"$f":"ROUND(IF(E538=\"\",0,SUM(E$8:E538)),2)","v":0}]
[null,null,null,{"$f":"ROUND(IF(C539=\"\",0,SUM(C$8:C539)),2)","v":0},null,{"$f":"ROUND(IF(E539=\"\",0,SUM(E$8:E539)),2)","v":0}]
[null,null,null,{"$f":"ROUND(IF(C540=\"\",0,SUM(C$8:C540)),2)","v":0},null,{"$f":"ROUND(IF(E540=\"\",0,SUM(E$8:E540)),2)","v":0}]
[null,null,null,{"$f":"ROUND(IF(C541=\"\",0,SUM(C$8:C541)),2)","v":0},null,{"$f":"ROUND(IF(E541=\"\",0,SUM(E$8:E541)),2)","v":0}]
[null,null,null,{"$f":"ROUND(IF(C542=\"\",0,SUM(C$8:C542)),2)","v":0},null,{"$f":"ROUND(IF(E542=\"\",0,SUM(E$8:E542)),2)","v":0}]
[null,null,null,{"$f":"ROUND(IF(C543=\"\",0,SUM(C$8:C543)),2)","v":0},null,{"$f":"ROUND(IF(E543=\"\",0,SUM(E$8:E543)),2)","v":0}]
[null,null,null,{"$f":"ROUND(IF(C544=\"\",0,SUM(C$8:C544)),2)","v":0},null,{"$f":"ROUND(IF(E544=\"\",0,SUM(E$8:E544)),2)","v":0}]
[null,null,null,{"$f":"ROUND(IF(C545=\"\",0,SUM(C$8:C545)),2)","v":0},null,{"$f":"ROUND(IF(E545=\"\",0,SUM(E$8:E545)),2)","v":0}]
[null,null,null,{"$f":"ROUND(IF(C546=\"\",0,SUM(C$8:C546)),2)","v":0},null,{"$f":"ROUND(IF(E546=\"\",0,SUM(E$8:E546)),2)","v":0}]
[null,null,null,{"$f":"ROUND(IF(C547=\"\",0,SUM(C$8:C547)),2)","v":0},null,{"$f":"ROUND(IF(E547=\"\",0,SUM(E$8:E547)),2)","v":0}]
[null,null,null,{"$f":"ROUND(IF(C548=\"\",0,SUM(C$8:C548)),2)","v":0},null,{"$f":"ROUND(IF(E548=\"\",0,SUM(E$8:E548)),2)","v":0}]
[null,null,null,{"$f":"ROUND(IF(C549=\"\",0,SUM(C$8:C549)),2)","v":0},null,{"$f":"ROUND(IF(E549=\"\",0,SUM(E$8:E549)),2)","v":0}]
[null,null,null,{"$f":"ROUND(IF(C550=\"\",0,SUM(C$8:C550)),2)","v":0},null,{"$f":"ROUND(IF(E550=\"\",0,SUM(E$8:E550)),2)","v":0}]
[null,null,null,{"$f":"ROUND(IF(C551=\"\",0,SUM(C$8:C551)),2)","v":0},null,{"$f":"ROUND(IF(E551=\"\",0,SUM(E$8:E551)),2)","v":0}]
[null,null,null,{"$f":"ROUND(IF(C552=\"\",0,SUM(C$8:C552)),2)","v":0},null,{"$f":"ROUND(IF(E552=\"\",0,SUM(E$8:E552)),2)","v":0}]
[null,null,null,{"$f":"ROUND(IF(C553=\"\",0,SUM(C$8:C553)),2)","v":0},null,{"$f":"ROUND(IF(E553=\"\",0,SUM(E$8:E553)),2)","v":0}]
[null,null,null,{"$f":"ROUND(IF(C554=\"\",0,SUM(C$8:C554)),2)","v":0},null,{"$f":"ROUND(IF(E554=\"\",0,SUM(E$8:E554)),2)","v":0}]
[null,null,null,{"$f":"ROUND(IF(C555=\"\",0,SUM(C$8:C555)),2)","v":0},null,{"$f":"ROUND(IF(E555=\"\",0,SUM(E$8:E555)),2)","v":0}]
[null,null,null,{"$f":"ROUND(IF(C556=\"\",0,SUM(C$8:C556)),2)","v":0},null,{"$f":"ROUND(IF(E556=\"\",0,SUM(E$8:E556)),2)","v":0}]
[null,null,null,{"$f":"ROUND(IF(C557=\"\",0,SUM(C$8:C557)),2)","v":0},null,{"$f":"ROUND(IF(E557=\"\",0,SUM(E$8:E557)),2)","v":0}]
[null,null,null,{"$f":"ROUND(IF(C558=\"\",0,SUM(C$8:C558)),2)","v":0},null,{"$f":"ROUND(IF(E558=\"\",0,SUM(E$8:E558)),2)","v":0}]
[null,null,null,{"$f":"ROUND(IF(C559=\"\",0,SUM(C$8:C559)),2)","v":0},null,{"$f":"ROUND(IF(E559=\"\",0,SUM(E$8:E559)),2)","v":0}]
[null,null,null,{"$f":"ROUND(IF(C560=\"\",0,SUM(C$8:C560)),2)","v":0},null,{"$f":"ROUND(IF(E560=\"\",0,SUM(E$8:E560)),2)","v":0}]
[null,null,null,{"$f":"ROUND(IF(C561=\"\",0,SUM(C$8:C561)),2)","v":0},null,{"$f":"ROUND(IF(E561=\"\",0,SUM(E$8:E561)),2)","v":0}]
[null,null,null,{"$f":"ROUND(IF(C562=\"\",0,SUM(C$8:C562)),2)","v":0},null,{"$f":"ROUND(IF(E562=\"\",0,SUM(E$8:E562)),2)","v":0}]
[null,null,null,{"$f":"ROUND(IF(C563=\"\",0,SUM(C$8:C563)),2)","v":0},null,{"$f":"ROUND(IF(E563=\"\",0,SUM(E$8:E563)),2)","v":0}]
[null,null,null,{"$f":"ROUND(IF(C564=\"\",0,SUM(C$8:C564)),2)","v":0},null,{"$f":"ROUND(IF(E564=\"\",0,SUM(E$8:E564)),2)","v":0}]
[null,null,null,{"$f":"ROUND(IF(C565=\"\",0,SUM(C$8:C565)),2)","v":0},null,{"$f":"ROUND(IF(E565=\"\",0,SUM(E$8:E565)),2)","v":0}]
[null,null,null,{"$f":"ROUND(IF(C566=\"\",0,SUM(C$8:C566)),2)","v":0},null,{"$f":"ROUND(IF(E566=\"\",0,SUM(E$8:E566)),2)","v":0}]
[null,null,null,{"$f":"ROUND(IF(C567=\"\",0,SUM(C$8:C567)),2)","v":0},null,{"$f":"ROUND(IF(E567=\"\",0,SUM(E$8:E567)),2)","v":0}]
[null,null,null,{"$f":"ROUND(IF(C568=\"\",0,SUM(C$8:C568)),2)","v":0},null,{"$f":"ROUND(IF(E568=\"\",0,SUM(E$8:E568)),2)","v":0}]
[null,null,null,{"$f":"ROUND(IF(C569=\"\",0,SUM(C$8:C569)),2)","v":0},null,{"$f":"ROUND(IF(E569=\"\",0,SUM(E$8:E569)),2)","v":0}]
[null,null,null,{"$f":"ROUND(IF(C570=\"\",0,SUM(C$8:C570)),2)","v":0},null,{"$f":"ROUND(IF(E570=\"\",0,SUM(E$8:E570)),2)","v":0}]
[null,null,null,{"$f":"ROUND(IF(C571=\"\",0,SUM(C$8:C571)),2)","v":0},null,{"$f":"ROUND(IF(E571=\"\",0,SUM(E$8:E571)),2)","v":0}]
[null,null,null,{"$f":"ROUND(IF(C572=\"\",0,SUM(C$8:C572)),2)","v":0},null,{"$f":"ROUND(IF(E572=\"\",0,SUM(E$8:E572)),2)","v":0}]
[null,null,null,{"$f":"ROUND(IF(C573=\"\",0,SUM(C$8:C573)),2)","v":0},null,{"$f":"ROUND(IF(E573=\"\",0,SUM(E$8:E573)),2)","v":0}]
[null,null,null,{"$f":"ROUND(IF(C574=\"\",0,SUM(C$8:C574)),2)","v":0},null,{"$f":"ROUND(IF(E574=\"\",0,SUM(E$8:E574)),2)","v":0}]
[null,null,null,{"$f":"ROUND(IF(C575=\"\",0,SUM(C$8:C575)),2)","v":0},null,{"$f":"ROUND(IF(E575=\"\",0,SUM(E$8:E575)),2)","v":0}]
[null,null,null,{"$f":"ROUND(IF(C576=\"\",0,SUM(C$8:C576)),2)","v":0},null,{"$f":"ROUND(IF(E576=\"\",0,SUM(E$8:E576)),2)","v":0}]
[null,null,null,{"$f":"ROUND(IF(C577=\"\",0,SUM(C$8:C577)),2)","v":0},null,{"$f":"ROUND(IF(E577=\"\",0,SUM(E$8:E577)),2)","v":0}]
[null,null,null,{"$f":"ROUND(IF(C578=\"\",0,SUM(C$8:C578)),2)","v":0},null,{"$f":"ROUND(IF(E578=\"\",0,SUM(E$8:E578)),2)","v":0}]
[null,null,null,{"$f":"ROUND(IF(C579=\"\",0,SUM(C$8:C579)),2)","v":0},null,{"$f":"ROUND(IF(E579=\"\",0,SUM(E$8:E579)),2)","v":0}]
[null,null,null,{"$f":"ROUND(IF(C580=\"\",0,SUM(C$8:C580)),2)","v":0},null,{"$f":"ROUND(IF(E580=\"\",0,SUM(E$8:E580)),2)","v":0}]
[null,null,null,{"$f":"ROUND(IF(C581=\"\",0,SUM(C$8:C581)),2)","v":0},null,{"$f":"ROUND(IF(E581=\"\",0,SUM(E$8:E581)),2)","v":0}]
[null,null,null,{"$f":"ROUND(IF(C582=\"\",0,SUM(C$8:C582)),2)","v":0},null,{"$f":"ROUND(IF(E582=\"\",0,SUM(E$8:E582)),2)","v":0}]
[null,null,null,{"$f":"ROUND(IF(C583=\"\",0,SUM(C$8:C583)),2)","v":0},null,{"$f":"ROUND(IF(E583=\"\",0,SUM(E$8:E583)),2)","v":0}]
[null,null,null,{"$f":"ROUND(IF(C584=\"\",0,SUM(C$8:C584)),2)","v":0},null,{"$f":"ROUND(IF(E584=\"\",0,SUM(E$8:E584)),2)","v":0}]
[null,null,null,{"$f":"ROUND(IF(C585=\"\",0,SUM(C$8:C585)),2)","v":0},null,{"$f":"ROUND(IF(E585=\"\",0,SUM(E$8:E585)),2)","v":0}]
[null,null,null,{"$f":"ROUND(IF(C586=\"\",0,SUM(C$8:C586)),2)","v":0},null,{"$f":"ROUND(IF(E586=\"\",0,SUM(E$8:E586)),2)","v":0}]
[null,null,null,{"$f":"ROUND(IF(C587=\"\",0,SUM(C$8:C587)),2)","v":0},null,{"$f":"ROUND(IF(E587=\"\",0,SUM(E$8:E587)),2)","v":0}]
[null,null,null,{"$f":"ROUND(IF(C588=\"\",0,SUM(C$8:C588)),2)","v":0},null,{"$f":"ROUND(IF(E588=\"\",0,SUM(E$8:E588)),2)","v":0}]
[null,null,null,{"$f":"ROUND(IF(C589=\"\",0,SUM(C$8:C589)),2)","v":0},null,{"$f":"ROUND(IF(E589=\"\",0,SUM(E$8:E589)),2)","v":0}]
[null,null,null,{"$f":"ROUND(IF(C590=\"\",0,SUM(C$8:C590)),2)","v":0},null,{"$f":"ROUND(IF(E590=\"\",0,SUM(E$8:E590)),2)","v":0}]
[null,null,null,{"$f":"ROUND(IF(C591=\"\",0,SUM(C$8:C591)),2)","v":0},null,{"$f":"ROUND(IF(E591=\"\",0,SUM(E$8:E591)),2)","v":0}]
[null,null,null,{"$f":"ROUND(IF(C592=\"\",0,SUM(C$8:C592)),2)","v":0},null,{"$f":"ROUND(IF(E592=\"\",0,SUM(E$8:E592)),2)","v":0}]
[null,null,null,{"$f":"ROUND(IF(C593=\"\",0,SUM(C$8:C593)),2)","v":0},null,{"$f":"ROUND(IF(E593=\"\",0,SUM(E$8:E593)),2)","v":0}]
[null,null,null,{"$f":"ROUND(IF(C594=\"\",0,SUM(C$8:C594)),2)","v":0},null,{"$f":"ROUND(IF(E594=\"\",0,SUM(E$8:E594)),2)","v":0}]
[null,null,null,{"$f":"ROUND(IF(C595=\"\",0,SUM(C$8:C595)),2)","v":0},null,{"$f":"ROUND(IF(E595=\"\",0,SUM(E$8:E595)),2)","v":0}]
[null,null,null,{"$f":"ROUND(IF(C596=\"\",0,SUM(C$8:C596)),2)","v":0},null,{"$f":"ROUND(IF(E596=\"\",0,SUM(E$8:E596)),2)","v":0}]
[null,null,null,{"$f":"ROUND(IF(C597=\"\",0,SUM(C$8:C597)),2)","v":0},null,{"$f":"ROUND(IF(E597=\"\",0,SUM(E$8:E597)),2)","v":0}]
[null,null,null,{"$f":"ROUND(IF(C598=\"\",0,SUM(C$8:C598)),2)","v":0},null,{"$f":"ROUND(IF(E598=\"\",0,SUM(E$8:E598)),2)","v":0}]
[null,null,null,{"$f":"ROUND(IF(C599=\"\",0,SUM(C$8:C599)),2)","v":0},null,{"$f":"ROUND(IF(E599=\"\",0,SUM(E$8:E599)),2)","v":0}]
[null,null,null,{"$f":"ROUND(IF(C600=\"\",0,SUM(C$8:C600)),2)","v":0},null,{"$f":"ROUND(IF(E600=\"\",0,SUM(E$8:E600)),2)","v":0}]
[null,null,null,{"$f":"ROUND(IF(C601=\"\",0,SUM(C$8:C601)),2)","v":0},null,{"$f":"ROUND(IF(E601=\"\",0,SUM(E$8:E601)),2)","v":0}]
[null,null,null,{"$f":"ROUND(IF(C602=\"\",0,SUM(C$8:C602)),2)","v":0},null,{"$f":"ROUND(IF(E602=\"\",0,SUM(E$8:E602)),2)","v":0}]
[null,null,null,{"$f":"ROUND(IF(C603=\"\",0,SUM(C$8:C603)),2)","v":0},null,{"$f":"ROUND(IF(E603=\"\",0,SUM(E$8:E603)),2)","v":0}]
[null,null,null,{"$f":"ROUND(IF(C604=\"\",0,SUM(C$8:C604)),2)","v":0},null,{"$f":"ROUND(IF(E604=\"\",0,SUM(E$8:E604)),2)","v":0}]
[null,null,null,{"$f":"ROUND(IF(C605=\"\",0,SUM(C$8:C605)),2)","v":0},null,{"$f":"ROUND(IF(E605=\"\",0,SUM(E$8:E605)),2)","v":0}]
[null,null,null,{"$f":"ROUND(IF(C606=\"\",0,SUM(C$8:C606)),2)","v":0},null,{"$f":"ROUND(IF(E606=\"\",0,SUM(E$8:E606)),2)","v":0}]
[null,null,null,{"$f":"ROUND(IF(C607=\"\",0,SUM(C$8:C607)),2)","v":0},null,{"$f":"ROUND(IF(E607=\"\",0,SUM(E$8:E607)),2)","v":0}]

{"sheet":"Fly Ash 2","index":7,"n_rows":607,"n_cols":9,"rows_kept":607,"cut":false,"hidden":false,"merged":[]}
["Fly  Ash  2  Shipments",null,null,null,null,null,null,null,{"$f":"Info!B2","v":"E"}]
["Spec. Grav.: ",{"$f":"IF(AND(Info!B29=\"\", Info!C29=\"\"),\"\", IF(Info!B29<>\"\", Info!B29, Info!C29))","v":""},null,null,null,null,"Page No.: "]
["Source: ",{"$f":"IF(AND(Info!B27=\"\", Info!C27=\"\"),\"\", IF(Info!B27<>\"\", Info!B27, Info!C27))","v":""},null,null,null,null,"Type: ",{"$f":"IF(AND(Info!B28=\"\", Info!C28=\"\"),\"\", IF(Info!B28<>\"\", Info!B28, Info!C28))","v":""}]
["Project No.: ",{"$f":"IF(Info!B3=\"\",\"\",(Info!B3))","v":""},null,null,null,null,"Contract ID.: ",{"$f":"IF(Info!B4=\"\",\"\",(Info!B4))","v":""}]
[]
[null,"Ticket","Certified","To  Date","Used","To  Date",null,null," "]
["Date","No.",{"$f":"IF(Info!$B$2=\"M\",\"(Mg's)\",\"(Tons)\")","v":"(Tons)"},{"$f":"IF(Info!$B$2=\"M\",\"(Mg's)\",\"(Tons)\")","v":"(Tons)"},{"$f":"IF(Info!$B$2=\"M\",\"(Mg's)\",\"(Tons)\")","v":"(Tons)"},{"$f":"IF(Info!$B$2=\"M\",\"(Mg's)\",\"(Tons)\")","v":"(Tons)"},"Remarks",null,"By"]
[null,null,null,{"$f":"SUM(C8)","v":0},null,{"$f":"SUM(E8)","v":0}]
[null,null,null,{"$f":"ROUND(IF(C9=\"\",0,SUM(C$8:C9)),2)","v":0},null,{"$f":"ROUND(IF(E9=\"\",0,SUM(E$8:E9)),2)","v":0}]
[null,null,null,{"$f":"ROUND(IF(C10=\"\",0,SUM(C$8:C10)),2)","v":0},null,{"$f":"ROUND(IF(E10=\"\",0,SUM(E$8:E10)),2)","v":0}]
[null,null,null,{"$f":"ROUND(IF(C11=\"\",0,SUM(C$8:C11)),2)","v":0},null,{"$f":"ROUND(IF(E11=\"\",0,SUM(E$8:E11)),2)","v":0}]
[null,null,null,{"$f":"ROUND(IF(C12=\"\",0,SUM(C$8:C12)),2)","v":0},null,{"$f":"ROUND(IF(E12=\"\",0,SUM(E$8:E12)),2)","v":0}]
[null,null,null,{"$f":"ROUND(IF(C13=\"\",0,SUM(C$8:C13)),2)","v":0},null,{"$f":"ROUND(IF(E13=\"\",0,SUM(E$8:E13)),2)","v":0}]
[null,null,null,{"$f":"ROUND(IF(C14=\"\",0,SUM(C$8:C14)),2)","v":0},null,{"$f":"ROUND(IF(E14=\"\",0,SUM(E$8:E14)),2)","v":0}]
[null,null,null,{"$f":"ROUND(IF(C15=\"\",0,SUM(C$8:C15)),2)","v":0},null,{"$f":"ROUND(IF(E15=\"\",0,SUM(E$8:E15)),2)","v":0}]
[null,null,null,{"$f":"ROUND(IF(C16=\"\",0,SUM(C$8:C16)),2)","v":0},null,{"$f":"ROUND(IF(E16=\"\",0,SUM(E$8:E16)),2)","v":0}]
[null,null,null,{"$f":"ROUND(IF(C17=\"\",0,SUM(C$8:C17)),2)","v":0},null,{"$f":"ROUND(IF(E17=\"\",0,SUM(E$8:E17)),2)","v":0}]
[null,null,null,{"$f":"ROUND(IF(C18=\"\",0,SUM(C$8:C18)),2)","v":0},null,{"$f":"ROUND(IF(E18=\"\",0,SUM(E$8:E18)),2)","v":0}]
[null,null,null,{"$f":"ROUND(IF(C19=\"\",0,SUM(C$8:C19)),2)","v":0},null,{"$f":"ROUND(IF(E19=\"\",0,SUM(E$8:E19)),2)","v":0}]
[null,null,null,{"$f":"ROUND(IF(C20=\"\",0,SUM(C$8:C20)),2)","v":0},null,{"$f":"ROUND(IF(E20=\"\",0,SUM(E$8:E20)),2)","v":0}]
[null,null,null,{"$f":"ROUND(IF(C21=\"\",0,SUM(C$8:C21)),2)","v":0},null,{"$f":"ROUND(IF(E21=\"\",0,SUM(E$8:E21)),2)","v":0}]
[null,null,null,{"$f":"ROUND(IF(C22=\"\",0,SUM(C$8:C22)),2)","v":0},null,{"$f":"ROUND(IF(E22=\"\",0,SUM(E$8:E22)),2)","v":0}]
[null,null,null,{"$f":"ROUND(IF(C23=\"\",0,SUM(C$8:C23)),2)","v":0},null,{"$f":"ROUND(IF(E23=\"\",0,SUM(E$8:E23)),2)","v":0}]
[null,null,null,{"$f":"ROUND(IF(C24=\"\",0,SUM(C$8:C24)),2)","v":0},null,{"$f":"ROUND(IF(E24=\"\",0,SUM(E$8:E24)),2)","v":0}]
[null,null,null,{"$f":"ROUND(IF(C25=\"\",0,SUM(C$8:C25)),2)","v":0},null,{"$f":"ROUND(IF(E25=\"\",0,SUM(E$8:E25)),2)","v":0}]
[null,null,null,{"$f":"ROUND(IF(C26=\"\",0,SUM(C$8:C26)),2)","v":0},null,{"$f":"ROUND(IF(E26=\"\",0,SUM(E$8:E26)),2)","v":0}]
[null,null,null,{"$f":"ROUND(IF(C27=\"\",0,SUM(C$8:C27)),2)","v":0},null,{"$f":"ROUND(IF(E27=\"\",0,SUM(E$8:E27)),2)","v":0}]
[null,null,null,{"$f":"ROUND(IF(C28=\"\",0,SUM(C$8:C28)),2)","v":0},null,{"$f":"ROUND(IF(E28=\"\",0,SUM(E$8:E28)),2)","v":0}]
[null,null,null,{"$f":"ROUND(IF(C29=\"\",0,SUM(C$8:C29)),2)","v":0},null,{"$f":"ROUND(IF(E29=\"\",0,SUM(E$8:E29)),2)","v":0}]
[null,null,null,{"$f":"ROUND(IF(C30=\"\",0,SUM(C$8:C30)),2)","v":0},null,{"$f":"ROUND(IF(E30=\"\",0,SUM(E$8:E30)),2)","v":0}]
[null,null,null,{"$f":"ROUND(IF(C31=\"\",0,SUM(C$8:C31)),2)","v":0},null,{"$f":"ROUND(IF(E31=\"\",0,SUM(E$8:E31)),2)","v":0}]
[null,null,null,{"$f":"ROUND(IF(C32=\"\",0,SUM(C$8:C32)),2)","v":0},null,{"$f":"ROUND(IF(E32=\"\",0,SUM(E$8:E32)),2)","v":0}]
[null,null,null,{"$f":"ROUND(IF(C33=\"\",0,SUM(C$8:C33)),2)","v":0},null,{"$f":"ROUND(IF(E33=\"\",0,SUM(E$8:E33)),2)","v":0}]
[null,null,null,{"$f":"ROUND(IF(C34=\"\",0,SUM(C$8:C34)),2)","v":0},null,{"$f":"ROUND(IF(E34=\"\",0,SUM(E$8:E34)),2)","v":0}]
[null,null,null,{"$f":"ROUND(IF(C35=\"\",0,SUM(C$8:C35)),2)","v":0},null,{"$f":"ROUND(IF(E35=\"\",0,SUM(E$8:E35)),2)","v":0}]
[null,null,null,{"$f":"ROUND(IF(C36=\"\",0,SUM(C$8:C36)),2)","v":0},null,{"$f":"ROUND(IF(E36=\"\",0,SUM(E$8:E36)),2)","v":0}]
[null,null,null,{"$f":"ROUND(IF(C37=\"\",0,SUM(C$8:C37)),2)","v":0},null,{"$f":"ROUND(IF(E37=\"\",0,SUM(E$8:E37)),2)","v":0}]
[null,null,null,{"$f":"ROUND(IF(C38=\"\",0,SUM(C$8:C38)),2)","v":0},null,{"$f":"ROUND(IF(E38=\"\",0,SUM(E$8:E38)),2)","v":0}]
[null,null,null,{"$f":"ROUND(IF(C39=\"\",0,SUM(C$8:C39)),2)","v":0},null,{"$f":"ROUND(IF(E39=\"\",0,SUM(E$8:E39)),2)","v":0}]
[null,null,null,{"$f":"ROUND(IF(C40=\"\",0,SUM(C$8:C40)),2)","v":0},null,{"$f":"ROUND(IF(E40=\"\",0,SUM(E$8:E40)),2)","v":0}]
[null,null,null,{"$f":"ROUND(IF(C41=\"\",0,SUM(C$8:C41)),2)","v":0},null,{"$f":"ROUND(IF(E41=\"\",0,SUM(E$8:E41)),2)","v":0}]
[null,null,null,{"$f":"ROUND(IF(C42=\"\",0,SUM(C$8:C42)),2)","v":0},null,{"$f":"ROUND(IF(E42=\"\",0,SUM(E$8:E42)),2)","v":0}]
[null,null,null,{"$f":"ROUND(IF(C43=\"\",0,SUM(C$8:C43)),2)","v":0},null,{"$f":"ROUND(IF(E43=\"\",0,SUM(E$8:E43)),2)","v":0}]
[null,null,null,{"$f":"ROUND(IF(C44=\"\",0,SUM(C$8:C44)),2)","v":0},null,{"$f":"ROUND(IF(E44=\"\",0,SUM(E$8:E44)),2)","v":0}]
[null,null,null,{"$f":"ROUND(IF(C45=\"\",0,SUM(C$8:C45)),2)","v":0},null,{"$f":"ROUND(IF(E45=\"\",0,SUM(E$8:E45)),2)","v":0}]
[null,null,null,{"$f":"ROUND(IF(C46=\"\",0,SUM(C$8:C46)),2)","v":0},null,{"$f":"ROUND(IF(E46=\"\",0,SUM(E$8:E46)),2)","v":0}]
[null,null,null,{"$f":"ROUND(IF(C47=\"\",0,SUM(C$8:C47)),2)","v":0},null,{"$f":"ROUND(IF(E47=\"\",0,SUM(E$8:E47)),2)","v":0}]
[null,null,null,{"$f":"ROUND(IF(C48=\"\",0,SUM(C$8:C48)),2)","v":0},null,{"$f":"ROUND(IF(E48=\"\",0,SUM(E$8:E48)),2)","v":0}]
[null,null,null,{"$f":"ROUND(IF(C49=\"\",0,SUM(C$8:C49)),2)","v":0},null,{"$f":"ROUND(IF(E49=\"\",0,SUM(E$8:E49)),2)","v":0}]
[null,null,null,{"$f":"ROUND(IF(C50=\"\",0,SUM(C$8:C50)),2)","v":0},null,{"$f":"ROUND(IF(E50=\"\",0,SUM(E$8:E50)),2)","v":0}]
[null,null,null,{"$f":"ROUND(IF(C51=\"\",0,SUM(C$8:C51)),2)","v":0},null,{"$f":"ROUND(IF(E51=\"\",0,SUM(E$8:E51)),2)","v":0}]
[null,null,null,{"$f":"ROUND(IF(C52=\"\",0,SUM(C$8:C52)),2)","v":0},null,{"$f":"ROUND(IF(E52=\"\",0,SUM(E$8:E52)),2)","v":0}]
[null,null,null,{"$f":"ROUND(IF(C53=\"\",0,SUM(C$8:C53)),2)","v":0},null,{"$f":"ROUND(IF(E53=\"\",0,SUM(E$8:E53)),2)","v":0}]
[null,null,null,{"$f":"ROUND(IF(C54=\"\",0,SUM(C$8:C54)),2)","v":0},null,{"$f":"ROUND(IF(E54=\"\",0,SUM(E$8:E54)),2)","v":0}]
[null,null,null,{"$f":"ROUND(IF(C55=\"\",0,SUM(C$8:C55)),2)","v":0},null,{"$f":"ROUND(IF(E55=\"\",0,SUM(E$8:E55)),2)","v":0}]
[null,null,null,{"$f":"ROUND(IF(C56=\"\",0,SUM(C$8:C56)),2)","v":0},null,{"$f":"ROUND(IF(E56=\"\",0,SUM(E$8:E56)),2)","v":0}]
[null,null,null,{"$f":"ROUND(IF(C57=\"\",0,SUM(C$8:C57)),2)","v":0},null,{"$f":"ROUND(IF(E57=\"\",0,SUM(E$8:E57)),2)","v":0}]
[null,null,null,{"$f":"ROUND(IF(C58=\"\",0,SUM(C$8:C58)),2)","v":0},null,{"$f":"ROUND(IF(E58=\"\",0,SUM(E$8:E58)),2)","v":0}]
[null,null,null,{"$f":"ROUND(IF(C59=\"\",0,SUM(C$8:C59)),2)","v":0},null,{"$f":"ROUND(IF(E59=\"\",0,SUM(E$8:E59)),2)","v":0}]
[null,null,null,{"$f":"ROUND(IF(C60=\"\",0,SUM(C$8:C60)),2)","v":0},null,{"$f":"ROUND(IF(E60=\"\",0,SUM(E$8:E60)),2)","v":0}]
[null,null,null,{"$f":"ROUND(IF(C61=\"\",0,SUM(C$8:C61)),2)","v":0},null,{"$f":"ROUND(IF(E61=\"\",0,SUM(E$8:E61)),2)","v":0}]
[null,null,null,{"$f":"ROUND(IF(C62=\"\",0,SUM(C$8:C62)),2)","v":0},null,{"$f":"ROUND(IF(E62=\"\",0,SUM(E$8:E62)),2)","v":0}]
[null,null,null,{"$f":"ROUND(IF(C63=\"\",0,SUM(C$8:C63)),2)","v":0},null,{"$f":"ROUND(IF(E63=\"\",0,SUM(E$8:E63)),2)","v":0}]
[null,null,null,{"$f":"ROUND(IF(C64=\"\",0,SUM(C$8:C64)),2)","v":0},null,{"$f":"ROUND(IF(E64=\"\",0,SUM(E$8:E64)),2)","v":0}]
[null,null,null,{"$f":"ROUND(IF(C65=\"\",0,SUM(C$8:C65)),2)","v":0},null,{"$f":"ROUND(IF(E65=\"\",0,SUM(E$8:E65)),2)","v":0}]
[null,null,null,{"$f":"ROUND(IF(C66=\"\",0,SUM(C$8:C66)),2)","v":0},null,{"$f":"ROUND(IF(E66=\"\",0,SUM(E$8:E66)),2)","v":0}]
[null,null,null,{"$f":"ROUND(IF(C67=\"\",0,SUM(C$8:C67)),2)","v":0},null,{"$f":"ROUND(IF(E67=\"\",0,SUM(E$8:E67)),2)","v":0}]
[null,null,null,{"$f":"ROUND(IF(C68=\"\",0,SUM(C$8:C68)),2)","v":0},null,{"$f":"ROUND(IF(E68=\"\",0,SUM(E$8:E68)),2)","v":0}]
[null,null,null,{"$f":"ROUND(IF(C69=\"\",0,SUM(C$8:C69)),2)","v":0},null,{"$f":"ROUND(IF(E69=\"\",0,SUM(E$8:E69)),2)","v":0}]
[null,null,null,{"$f":"ROUND(IF(C70=\"\",0,SUM(C$8:C70)),2)","v":0},null,{"$f":"ROUND(IF(E70=\"\",0,SUM(E$8:E70)),2)","v":0}]
[null,null,null,{"$f":"ROUND(IF(C71=\"\",0,SUM(C$8:C71)),2)","v":0},null,{"$f":"ROUND(IF(E71=\"\",0,SUM(E$8:E71)),2)","v":0}]
[null,null,null,{"$f":"ROUND(IF(C72=\"\",0,SUM(C$8:C72)),2)","v":0},null,{"$f":"ROUND(IF(E72=\"\",0,SUM(E$8:E72)),2)","v":0}]
[null,null,null,{"$f":"ROUND(IF(C73=\"\",0,SUM(C$8:C73)),2)","v":0},null,{"$f":"ROUND(IF(E73=\"\",0,SUM(E$8:E73)),2)","v":0}]
[null,null,null,{"$f":"ROUND(IF(C74=\"\",0,SUM(C$8:C74)),2)","v":0},null,{"$f":"ROUND(IF(E74=\"\",0,SUM(E$8:E74)),2)","v":0}]
[null,null,null,{"$f":"ROUND(IF(C75=\"\",0,SUM(C$8:C75)),2)","v":0},null,{"$f":"ROUND(IF(E75=\"\",0,SUM(E$8:E75)),2)","v":0}]
[null,null,null,{"$f":"ROUND(IF(C76=\"\",0,SUM(C$8:C76)),2)","v":0},null,{"$f":"ROUND(IF(E76=\"\",0,SUM(E$8:E76)),2)","v":0}]
[null,null,null,{"$f":"ROUND(IF(C77=\"\",0,SUM(C$8:C77)),2)","v":0},null,{"$f":"ROUND(IF(E77=\"\",0,SUM(E$8:E77)),2)","v":0}]
[null,null,null,{"$f":"ROUND(IF(C78=\"\",0,SUM(C$8:C78)),2)","v":0},null,{"$f":"ROUND(IF(E78=\"\",0,SUM(E$8:E78)),2)","v":0}]
[null,null,null,{"$f":"ROUND(IF(C79=\"\",0,SUM(C$8:C79)),2)","v":0},null,{"$f":"ROUND(IF(E79=\"\",0,SUM(E$8:E79)),2)","v":0}]
[null,null,null,{"$f":"ROUND(IF(C80=\"\",0,SUM(C$8:C80)),2)","v":0},null,{"$f":"ROUND(IF(E80=\"\",0,SUM(E$8:E80)),2)","v":0}]
[null,null,null,{"$f":"ROUND(IF(C81=\"\",0,SUM(C$8:C81)),2)","v":0},null,{"$f":"ROUND(IF(E81=\"\",0,SUM(E$8:E81)),2)","v":0}]
[null,null,null,{"$f":"ROUND(IF(C82=\"\",0,SUM(C$8:C82)),2)","v":0},null,{"$f":"ROUND(IF(E82=\"\",0,SUM(E$8:E82)),2)","v":0}]
[null,null,null,{"$f":"ROUND(IF(C83=\"\",0,SUM(C$8:C83)),2)","v":0},null,{"$f":"ROUND(IF(E83=\"\",0,SUM(E$8:E83)),2)","v":0}]
[null,null,null,{"$f":"ROUND(IF(C84=\"\",0,SUM(C$8:C84)),2)","v":0},null,{"$f":"ROUND(IF(E84=\"\",0,SUM(E$8:E84)),2)","v":0}]
[null,null,null,{"$f":"ROUND(IF(C85=\"\",0,SUM(C$8:C85)),2)","v":0},null,{"$f":"ROUND(IF(E85=\"\",0,SUM(E$8:E85)),2)","v":0}]
[null,null,null,{"$f":"ROUND(IF(C86=\"\",0,SUM(C$8:C86)),2)","v":0},null,{"$f":"ROUND(IF(E86=\"\",0,SUM(E$8:E86)),2)","v":0}]
[null,null,null,{"$f":"ROUND(IF(C87=\"\",0,SUM(C$8:C87)),2)","v":0},null,{"$f":"ROUND(IF(E87=\"\",0,SUM(E$8:E87)),2)","v":0}]
[null,null,null,{"$f":"ROUND(IF(C88=\"\",0,SUM(C$8:C88)),2)","v":0},null,{"$f":"ROUND(IF(E88=\"\",0,SUM(E$8:E88)),2)","v":0}]
[null,null,null,{"$f":"ROUND(IF(C89=\"\",0,SUM(C$8:C89)),2)","v":0},null,{"$f":"ROUND(IF(E89=\"\",0,SUM(E$8:E89)),2)","v":0}]
[null,null,null,{"$f":"ROUND(IF(C90=\"\",0,SUM(C$8:C90)),2)","v":0},null,{"$f":"ROUND(IF(E90=\"\",0,SUM(E$8:E90)),2)","v":0}]
[null,null,null,{"$f":"ROUND(IF(C91=\"\",0,SUM(C$8:C91)),2)","v":0},null,{"$f":"ROUND(IF(E91=\"\",0,SUM(E$8:E91)),2)","v":0}]
[null,null,null,{"$f":"ROUND(IF(C92=\"\",0,SUM(C$8:C92)),2)","v":0},null,{"$f":"ROUND(IF(E92=\"\",0,SUM(E$8:E92)),2)","v":0}]
[null,null,null,{"$f":"ROUND(IF(C93=\"\",0,SUM(C$8:C93)),2)","v":0},null,{"$f":"ROUND(IF(E93=\"\",0,SUM(E$8:E93)),2)","v":0}]
[null,null,null,{"$f":"ROUND(IF(C94=\"\",0,SUM(C$8:C94)),2)","v":0},null,{"$f":"ROUND(IF(E94=\"\",0,SUM(E$8:E94)),2)","v":0}]
[null,null,null,{"$f":"ROUND(IF(C95=\"\",0,SUM(C$8:C95)),2)","v":0},null,{"$f":"ROUND(IF(E95=\"\",0,SUM(E$8:E95)),2)","v":0}]
[null,null,null,{"$f":"ROUND(IF(C96=\"\",0,SUM(C$8:C96)),2)","v":0},null,{"$f":"ROUND(IF(E96=\"\",0,SUM(E$8:E96)),2)","v":0}]
[null,null,null,{"$f":"ROUND(IF(C97=\"\",0,SUM(C$8:C97)),2)","v":0},null,{"$f":"ROUND(IF(E97=\"\",0,SUM(E$8:E97)),2)","v":0}]
[null,null,null,{"$f":"ROUND(IF(C98=\"\",0,SUM(C$8:C98)),2)","v":0},null,{"$f":"ROUND(IF(E98=\"\",0,SUM(E$8:E98)),2)","v":0}]
[null,null,null,{"$f":"ROUND(IF(C99=\"\",0,SUM(C$8:C99)),2)","v":0},null,{"$f":"ROUND(IF(E99=\"\",0,SUM(E$8:E99)),2)","v":0}]
[null,null,null,{"$f":"ROUND(IF(C100=\"\",0,SUM(C$8:C100)),2)","v":0},null,{"$f":"ROUND(IF(E100=\"\",0,SUM(E$8:E100)),2)","v":0}]
[null,null,null,{"$f":"ROUND(IF(C101=\"\",0,SUM(C$8:C101)),2)","v":0},null,{"$f":"ROUND(IF(E101=\"\",0,SUM(E$8:E101)),2)","v":0}]
[null,null,null,{"$f":"ROUND(IF(C102=\"\",0,SUM(C$8:C102)),2)","v":0},null,{"$f":"ROUND(IF(E102=\"\",0,SUM(E$8:E102)),2)","v":0}]
[null,null,null,{"$f":"ROUND(IF(C103=\"\",0,SUM(C$8:C103)),2)","v":0},null,{"$f":"ROUND(IF(E103=\"\",0,SUM(E$8:E103)),2)","v":0}]
[null,null,null,{"$f":"ROUND(IF(C104=\"\",0,SUM(C$8:C104)),2)","v":0},null,{"$f":"ROUND(IF(E104=\"\",0,SUM(E$8:E104)),2)","v":0}]
[null,null,null,{"$f":"ROUND(IF(C105=\"\",0,SUM(C$8:C105)),2)","v":0},null,{"$f":"ROUND(IF(E105=\"\",0,SUM(E$8:E105)),2)","v":0}]
[null,null,null,{"$f":"ROUND(IF(C106=\"\",0,SUM(C$8:C106)),2)","v":0},null,{"$f":"ROUND(IF(E106=\"\",0,SUM(E$8:E106)),2)","v":0}]
[null,null,null,{"$f":"ROUND(IF(C107=\"\",0,SUM(C$8:C107)),2)","v":0},null,{"$f":"ROUND(IF(E107=\"\",0,SUM(E$8:E107)),2)","v":0}]
[null,null,null,{"$f":"ROUND(IF(C108=\"\",0,SUM(C$8:C108)),2)","v":0},null,{"$f":"ROUND(IF(E108=\"\",0,SUM(E$8:E108)),2)","v":0}]
[null,null,null,{"$f":"ROUND(IF(C109=\"\",0,SUM(C$8:C109)),2)","v":0},null,{"$f":"ROUND(IF(E109=\"\",0,SUM(E$8:E109)),2)","v":0}]
[null,null,null,{"$f":"ROUND(IF(C110=\"\",0,SUM(C$8:C110)),2)","v":0},null,{"$f":"ROUND(IF(E110=\"\",0,SUM(E$8:E110)),2)","v":0}]
[null,null,null,{"$f":"ROUND(IF(C111=\"\",0,SUM(C$8:C111)),2)","v":0},null,{"$f":"ROUND(IF(E111=\"\",0,SUM(E$8:E111)),2)","v":0}]
[null,null,null,{"$f":"ROUND(IF(C112=\"\",0,SUM(C$8:C112)),2)","v":0},null,{"$f":"ROUND(IF(E112=\"\",0,SUM(E$8:E112)),2)","v":0}]
[null,null,null,{"$f":"ROUND(IF(C113=\"\",0,SUM(C$8:C113)),2)","v":0},null,{"$f":"ROUND(IF(E113=\"\",0,SUM(E$8:E113)),2)","v":0}]
[null,null,null,{"$f":"ROUND(IF(C114=\"\",0,SUM(C$8:C114)),2)","v":0},null,{"$f":"ROUND(IF(E114=\"\",0,SUM(E$8:E114)),2)","v":0}]
[null,null,null,{"$f":"ROUND(IF(C115=\"\",0,SUM(C$8:C115)),2)","v":0},null,{"$f":"ROUND(IF(E115=\"\",0,SUM(E$8:E115)),2)","v":0}]
[null,null,null,{"$f":"ROUND(IF(C116=\"\",0,SUM(C$8:C116)),2)","v":0},null,{"$f":"ROUND(IF(E116=\"\",0,SUM(E$8:E116)),2)","v":0}]
[null,null,null,{"$f":"ROUND(IF(C117=\"\",0,SUM(C$8:C117)),2)","v":0},null,{"$f":"ROUND(IF(E117=\"\",0,SUM(E$8:E117)),2)","v":0}]
[null,null,null,{"$f":"ROUND(IF(C118=\"\",0,SUM(C$8:C118)),2)","v":0},null,{"$f":"ROUND(IF(E118=\"\",0,SUM(E$8:E118)),2)","v":0}]
[null,null,null,{"$f":"ROUND(IF(C119=\"\",0,SUM(C$8:C119)),2)","v":0},null,{"$f":"ROUND(IF(E119=\"\",0,SUM(E$8:E119)),2)","v":0}]
[null,null,null,{"$f":"ROUND(IF(C120=\"\",0,SUM(C$8:C120)),2)","v":0},null,{"$f":"ROUND(IF(E120=\"\",0,SUM(E$8:E120)),2)","v":0}]
[null,null,null,{"$f":"ROUND(IF(C121=\"\",0,SUM(C$8:C121)),2)","v":0},null,{"$f":"ROUND(IF(E121=\"\",0,SUM(E$8:E121)),2)","v":0}]
[null,null,null,{"$f":"ROUND(IF(C122=\"\",0,SUM(C$8:C122)),2)","v":0},null,{"$f":"ROUND(IF(E122=\"\",0,SUM(E$8:E122)),2)","v":0}]
[null,null,null,{"$f":"ROUND(IF(C123=\"\",0,SUM(C$8:C123)),2)","v":0},null,{"$f":"ROUND(IF(E123=\"\",0,SUM(E$8:E123)),2)","v":0}]
[null,null,null,{"$f":"ROUND(IF(C124=\"\",0,SUM(C$8:C124)),2)","v":0},null,{"$f":"ROUND(IF(E124=\"\",0,SUM(E$8:E124)),2)","v":0}]
[null,null,null,{"$f":"ROUND(IF(C125=\"\",0,SUM(C$8:C125)),2)","v":0},null,{"$f":"ROUND(IF(E125=\"\",0,SUM(E$8:E125)),2)","v":0}]
[null,null,null,{"$f":"ROUND(IF(C126=\"\",0,SUM(C$8:C126)),2)","v":0},null,{"$f":"ROUND(IF(E126=\"\",0,SUM(E$8:E126)),2)","v":0}]
[null,null,null,{"$f":"ROUND(IF(C127=\"\",0,SUM(C$8:C127)),2)","v":0},null,{"$f":"ROUND(IF(E127=\"\",0,SUM(E$8:E127)),2)","v":0}]
[null,null,null,{"$f":"ROUND(IF(C128=\"\",0,SUM(C$8:C128)),2)","v":0},null,{"$f":"ROUND(IF(E128=\"\",0,SUM(E$8:E128)),2)","v":0}]
[null,null,null,{"$f":"ROUND(IF(C129=\"\",0,SUM(C$8:C129)),2)","v":0},null,{"$f":"ROUND(IF(E129=\"\",0,SUM(E$8:E129)),2)","v":0}]
[null,null,null,{"$f":"ROUND(IF(C130=\"\",0,SUM(C$8:C130)),2)","v":0},null,{"$f":"ROUND(IF(E130=\"\",0,SUM(E$8:E130)),2)","v":0}]
[null,null,null,{"$f":"ROUND(IF(C131=\"\",0,SUM(C$8:C131)),2)","v":0},null,{"$f":"ROUND(IF(E131=\"\",0,SUM(E$8:E131)),2)","v":0}]
[null,null,null,{"$f":"ROUND(IF(C132=\"\",0,SUM(C$8:C132)),2)","v":0},null,{"$f":"ROUND(IF(E132=\"\",0,SUM(E$8:E132)),2)","v":0}]
[null,null,null,{"$f":"ROUND(IF(C133=\"\",0,SUM(C$8:C133)),2)","v":0},null,{"$f":"ROUND(IF(E133=\"\",0,SUM(E$8:E133)),2)","v":0}]
[null,null,null,{"$f":"ROUND(IF(C134=\"\",0,SUM(C$8:C134)),2)","v":0},null,{"$f":"ROUND(IF(E134=\"\",0,SUM(E$8:E134)),2)","v":0}]
[null,null,null,{"$f":"ROUND(IF(C135=\"\",0,SUM(C$8:C135)),2)","v":0},null,{"$f":"ROUND(IF(E135=\"\",0,SUM(E$8:E135)),2)","v":0}]
[null,null,null,{"$f":"ROUND(IF(C136=\"\",0,SUM(C$8:C136)),2)","v":0},null,{"$f":"ROUND(IF(E136=\"\",0,SUM(E$8:E136)),2)","v":0}]
[null,null,null,{"$f":"ROUND(IF(C137=\"\",0,SUM(C$8:C137)),2)","v":0},null,{"$f":"ROUND(IF(E137=\"\",0,SUM(E$8:E137)),2)","v":0}]
[null,null,null,{"$f":"ROUND(IF(C138=\"\",0,SUM(C$8:C138)),2)","v":0},null,{"$f":"ROUND(IF(E138=\"\",0,SUM(E$8:E138)),2)","v":0}]
[null,null,null,{"$f":"ROUND(IF(C139=\"\",0,SUM(C$8:C139)),2)","v":0},null,{"$f":"ROUND(IF(E139=\"\",0,SUM(E$8:E139)),2)","v":0}]
[null,null,null,{"$f":"ROUND(IF(C140=\"\",0,SUM(C$8:C140)),2)","v":0},null,{"$f":"ROUND(IF(E140=\"\",0,SUM(E$8:E140)),2)","v":0}]
[null,null,null,{"$f":"ROUND(IF(C141=\"\",0,SUM(C$8:C141)),2)","v":0},null,{"$f":"ROUND(IF(E141=\"\",0,SUM(E$8:E141)),2)","v":0}]
[null,null,null,{"$f":"ROUND(IF(C142=\"\",0,SUM(C$8:C142)),2)","v":0},null,{"$f":"ROUND(IF(E142=\"\",0,SUM(E$8:E142)),2)","v":0}]
[null,null,null,{"$f":"ROUND(IF(C143=\"\",0,SUM(C$8:C143)),2)","v":0},null,{"$f":"ROUND(IF(E143=\"\",0,SUM(E$8:E143)),2)","v":0}]
[null,null,null,{"$f":"ROUND(IF(C144=\"\",0,SUM(C$8:C144)),2)","v":0},null,{"$f":"ROUND(IF(E144=\"\",0,SUM(E$8:E144)),2)","v":0}]
[null,null,null,{"$f":"ROUND(IF(C145=\"\",0,SUM(C$8:C145)),2)","v":0},null,{"$f":"ROUND(IF(E145=\"\",0,SUM(E$8:E145)),2)","v":0}]
[null,null,null,{"$f":"ROUND(IF(C146=\"\",0,SUM(C$8:C146)),2)","v":0},null,{"$f":"ROUND(IF(E146=\"\",0,SUM(E$8:E146)),2)","v":0}]
[null,null,null,{"$f":"ROUND(IF(C147=\"\",0,SUM(C$8:C147)),2)","v":0},null,{"$f":"ROUND(IF(E147=\"\",0,SUM(E$8:E147)),2)","v":0}]
[null,null,null,{"$f":"ROUND(IF(C148=\"\",0,SUM(C$8:C148)),2)","v":0},null,{"$f":"ROUND(IF(E148=\"\",0,SUM(E$8:E148)),2)","v":0}]
[null,null,null,{"$f":"ROUND(IF(C149=\"\",0,SUM(C$8:C149)),2)","v":0},null,{"$f":"ROUND(IF(E149=\"\",0,SUM(E$8:E149)),2)","v":0}]
[null,null,null,{"$f":"ROUND(IF(C150=\"\",0,SUM(C$8:C150)),2)","v":0},null,{"$f":"ROUND(IF(E150=\"\",0,SUM(E$8:E150)),2)","v":0}]
[null,null,null,{"$f":"ROUND(IF(C151=\"\",0,SUM(C$8:C151)),2)","v":0},null,{"$f":"ROUND(IF(E151=\"\",0,SUM(E$8:E151)),2)","v":0}]
[null,null,null,{"$f":"ROUND(IF(C152=\"\",0,SUM(C$8:C152)),2)","v":0},null,{"$f":"ROUND(IF(E152=\"\",0,SUM(E$8:E152)),2)","v":0}]
[null,null,null,{"$f":"ROUND(IF(C153=\"\",0,SUM(C$8:C153)),2)","v":0},null,{"$f":"ROUND(IF(E153=\"\",0,SUM(E$8:E153)),2)","v":0}]
[null,null,null,{"$f":"ROUND(IF(C154=\"\",0,SUM(C$8:C154)),2)","v":0},null,{"$f":"ROUND(IF(E154=\"\",0,SUM(E$8:E154)),2)","v":0}]
[null,null,null,{"$f":"ROUND(IF(C155=\"\",0,SUM(C$8:C155)),2)","v":0},null,{"$f":"ROUND(IF(E155=\"\",0,SUM(E$8:E155)),2)","v":0}]
[null,null,null,{"$f":"ROUND(IF(C156=\"\",0,SUM(C$8:C156)),2)","v":0},null,{"$f":"ROUND(IF(E156=\"\",0,SUM(E$8:E156)),2)","v":0}]
[null,null,null,{"$f":"ROUND(IF(C157=\"\",0,SUM(C$8:C157)),2)","v":0},null,{"$f":"ROUND(IF(E157=\"\",0,SUM(E$8:E157)),2)","v":0}]
[null,null,null,{"$f":"ROUND(IF(C158=\"\",0,SUM(C$8:C158)),2)","v":0},null,{"$f":"ROUND(IF(E158=\"\",0,SUM(E$8:E158)),2)","v":0}]
[null,null,null,{"$f":"ROUND(IF(C159=\"\",0,SUM(C$8:C159)),2)","v":0},null,{"$f":"ROUND(IF(E159=\"\",0,SUM(E$8:E159)),2)","v":0}]
[null,null,null,{"$f":"ROUND(IF(C160=\"\",0,SUM(C$8:C160)),2)","v":0},null,{"$f":"ROUND(IF(E160=\"\",0,SUM(E$8:E160)),2)","v":0}]
[null,null,null,{"$f":"ROUND(IF(C161=\"\",0,SUM(C$8:C161)),2)","v":0},null,{"$f":"ROUND(IF(E161=\"\",0,SUM(E$8:E161)),2)","v":0}]
[null,null,null,{"$f":"ROUND(IF(C162=\"\",0,SUM(C$8:C162)),2)","v":0},null,{"$f":"ROUND(IF(E162=\"\",0,SUM(E$8:E162)),2)","v":0}]
[null,null,null,{"$f":"ROUND(IF(C163=\"\",0,SUM(C$8:C163)),2)","v":0},null,{"$f":"ROUND(IF(E163=\"\",0,SUM(E$8:E163)),2)","v":0}]
[null,null,null,{"$f":"ROUND(IF(C164=\"\",0,SUM(C$8:C164)),2)","v":0},null,{"$f":"ROUND(IF(E164=\"\",0,SUM(E$8:E164)),2)","v":0}]
[null,null,null,{"$f":"ROUND(IF(C165=\"\",0,SUM(C$8:C165)),2)","v":0},null,{"$f":"ROUND(IF(E165=\"\",0,SUM(E$8:E165)),2)","v":0}]
[null,null,null,{"$f":"ROUND(IF(C166=\"\",0,SUM(C$8:C166)),2)","v":0},null,{"$f":"ROUND(IF(E166=\"\",0,SUM(E$8:E166)),2)","v":0}]
[null,null,null,{"$f":"ROUND(IF(C167=\"\",0,SUM(C$8:C167)),2)","v":0},null,{"$f":"ROUND(IF(E167=\"\",0,SUM(E$8:E167)),2)","v":0}]
[null,null,null,{"$f":"ROUND(IF(C168=\"\",0,SUM(C$8:C168)),2)","v":0},null,{"$f":"ROUND(IF(E168=\"\",0,SUM(E$8:E168)),2)","v":0}]
[null,null,null,{"$f":"ROUND(IF(C169=\"\",0,SUM(C$8:C169)),2)","v":0},null,{"$f":"ROUND(IF(E169=\"\",0,SUM(E$8:E169)),2)","v":0}]
[null,null,null,{"$f":"ROUND(IF(C170=\"\",0,SUM(C$8:C170)),2)","v":0},null,{"$f":"ROUND(IF(E170=\"\",0,SUM(E$8:E170)),2)","v":0}]
[null,null,null,{"$f":"ROUND(IF(C171=\"\",0,SUM(C$8:C171)),2)","v":0},null,{"$f":"ROUND(IF(E171=\"\",0,SUM(E$8:E171)),2)","v":0}]
[null,null,null,{"$f":"ROUND(IF(C172=\"\",0,SUM(C$8:C172)),2)","v":0},null,{"$f":"ROUND(IF(E172=\"\",0,SUM(E$8:E172)),2)","v":0}]
[null,null,null,{"$f":"ROUND(IF(C173=\"\",0,SUM(C$8:C173)),2)","v":0},null,{"$f":"ROUND(IF(E173=\"\",0,SUM(E$8:E173)),2)","v":0}]
[null,null,null,{"$f":"ROUND(IF(C174=\"\",0,SUM(C$8:C174)),2)","v":0},null,{"$f":"ROUND(IF(E174=\"\",0,SUM(E$8:E174)),2)","v":0}]
[null,null,null,{"$f":"ROUND(IF(C175=\"\",0,SUM(C$8:C175)),2)","v":0},null,{"$f":"ROUND(IF(E175=\"\",0,SUM(E$8:E175)),2)","v":0}]
[null,null,null,{"$f":"ROUND(IF(C176=\"\",0,SUM(C$8:C176)),2)","v":0},null,{"$f":"ROUND(IF(E176=\"\",0,SUM(E$8:E176)),2)","v":0}]
[null,null,null,{"$f":"ROUND(IF(C177=\"\",0,SUM(C$8:C177)),2)","v":0},null,{"$f":"ROUND(IF(E177=\"\",0,SUM(E$8:E177)),2)","v":0}]
[null,null,null,{"$f":"ROUND(IF(C178=\"\",0,SUM(C$8:C178)),2)","v":0},null,{"$f":"ROUND(IF(E178=\"\",0,SUM(E$8:E178)),2)","v":0}]
[null,null,null,{"$f":"ROUND(IF(C179=\"\",0,SUM(C$8:C179)),2)","v":0},null,{"$f":"ROUND(IF(E179=\"\",0,SUM(E$8:E179)),2)","v":0}]
[null,null,null,{"$f":"ROUND(IF(C180=\"\",0,SUM(C$8:C180)),2)","v":0},null,{"$f":"ROUND(IF(E180=\"\",0,SUM(E$8:E180)),2)","v":0}]
[null,null,null,{"$f":"ROUND(IF(C181=\"\",0,SUM(C$8:C181)),2)","v":0},null,{"$f":"ROUND(IF(E181=\"\",0,SUM(E$8:E181)),2)","v":0}]
[null,null,null,{"$f":"ROUND(IF(C182=\"\",0,SUM(C$8:C182)),2)","v":0},null,{"$f":"ROUND(IF(E182=\"\",0,SUM(E$8:E182)),2)","v":0}]
[null,null,null,{"$f":"ROUND(IF(C183=\"\",0,SUM(C$8:C183)),2)","v":0},null,{"$f":"ROUND(IF(E183=\"\",0,SUM(E$8:E183)),2)","v":0}]
[null,null,null,{"$f":"ROUND(IF(C184=\"\",0,SUM(C$8:C184)),2)","v":0},null,{"$f":"ROUND(IF(E184=\"\",0,SUM(E$8:E184)),2)","v":0}]
[null,null,null,{"$f":"ROUND(IF(C185=\"\",0,SUM(C$8:C185)),2)","v":0},null,{"$f":"ROUND(IF(E185=\"\",0,SUM(E$8:E185)),2)","v":0}]
[null,null,null,{"$f":"ROUND(IF(C186=\"\",0,SUM(C$8:C186)),2)","v":0},null,{"$f":"ROUND(IF(E186=\"\",0,SUM(E$8:E186)),2)","v":0}]
[null,null,null,{"$f":"ROUND(IF(C187=\"\",0,SUM(C$8:C187)),2)","v":0},null,{"$f":"ROUND(IF(E187=\"\",0,SUM(E$8:E187)),2)","v":0}]
[null,null,null,{"$f":"ROUND(IF(C188=\"\",0,SUM(C$8:C188)),2)","v":0},null,{"$f":"ROUND(IF(E188=\"\",0,SUM(E$8:E188)),2)","v":0}]
[null,null,null,{"$f":"ROUND(IF(C189=\"\",0,SUM(C$8:C189)),2)","v":0},null,{"$f":"ROUND(IF(E189=\"\",0,SUM(E$8:E189)),2)","v":0}]
[null,null,null,{"$f":"ROUND(IF(C190=\"\",0,SUM(C$8:C190)),2)","v":0},null,{"$f":"ROUND(IF(E190=\"\",0,SUM(E$8:E190)),2)","v":0}]
[null,null,null,{"$f":"ROUND(IF(C191=\"\",0,SUM(C$8:C191)),2)","v":0},null,{"$f":"ROUND(IF(E191=\"\",0,SUM(E$8:E191)),2)","v":0}]
[null,null,null,{"$f":"ROUND(IF(C192=\"\",0,SUM(C$8:C192)),2)","v":0},null,{"$f":"ROUND(IF(E192=\"\",0,SUM(E$8:E192)),2)","v":0}]
[null,null,null,{"$f":"ROUND(IF(C193=\"\",0,SUM(C$8:C193)),2)","v":0},null,{"$f":"ROUND(IF(E193=\"\",0,SUM(E$8:E193)),2)","v":0}]
[null,null,null,{"$f":"ROUND(IF(C194=\"\",0,SUM(C$8:C194)),2)","v":0},null,{"$f":"ROUND(IF(E194=\"\",0,SUM(E$8:E194)),2)","v":0}]
[null,null,null,{"$f":"ROUND(IF(C195=\"\",0,SUM(C$8:C195)),2)","v":0},null,{"$f":"ROUND(IF(E195=\"\",0,SUM(E$8:E195)),2)","v":0}]
[null,null,null,{"$f":"ROUND(IF(C196=\"\",0,SUM(C$8:C196)),2)","v":0},null,{"$f":"ROUND(IF(E196=\"\",0,SUM(E$8:E196)),2)","v":0}]
[null,null,null,{"$f":"ROUND(IF(C197=\"\",0,SUM(C$8:C197)),2)","v":0},null,{"$f":"ROUND(IF(E197=\"\",0,SUM(E$8:E197)),2)","v":0}]
[null,null,null,{"$f":"ROUND(IF(C198=\"\",0,SUM(C$8:C198)),2)","v":0},null,{"$f":"ROUND(IF(E198=\"\",0,SUM(E$8:E198)),2)","v":0}]
[null,null,null,{"$f":"ROUND(IF(C199=\"\",0,SUM(C$8:C199)),2)","v":0},null,{"$f":"ROUND(IF(E199=\"\",0,SUM(E$8:E199)),2)","v":0}]
[null,null,null,{"$f":"ROUND(IF(C200=\"\",0,SUM(C$8:C200)),2)","v":0},null,{"$f":"ROUND(IF(E200=\"\",0,SUM(E$8:E200)),2)","v":0}]
[null,null,null,{"$f":"ROUND(IF(C201=\"\",0,SUM(C$8:C201)),2)","v":0},null,{"$f":"ROUND(IF(E201=\"\",0,SUM(E$8:E201)),2)","v":0}]
[null,null,null,{"$f":"ROUND(IF(C202=\"\",0,SUM(C$8:C202)),2)","v":0},null,{"$f":"ROUND(IF(E202=\"\",0,SUM(E$8:E202)),2)","v":0}]
[null,null,null,{"$f":"ROUND(IF(C203=\"\",0,SUM(C$8:C203)),2)","v":0},null,{"$f":"ROUND(IF(E203=\"\",0,SUM(E$8:E203)),2)","v":0}]
[null,null,null,{"$f":"ROUND(IF(C204=\"\",0,SUM(C$8:C204)),2)","v":0},null,{"$f":"ROUND(IF(E204=\"\",0,SUM(E$8:E204)),2)","v":0}]
[null,null,null,{"$f":"ROUND(IF(C205=\"\",0,SUM(C$8:C205)),2)","v":0},null,{"$f":"ROUND(IF(E205=\"\",0,SUM(E$8:E205)),2)","v":0}]
[null,null,null,{"$f":"ROUND(IF(C206=\"\",0,SUM(C$8:C206)),2)","v":0},null,{"$f":"ROUND(IF(E206=\"\",0,SUM(E$8:E206)),2)","v":0}]
[null,null,null,{"$f":"ROUND(IF(C207=\"\",0,SUM(C$8:C207)),2)","v":0},null,{"$f":"ROUND(IF(E207=\"\",0,SUM(E$8:E207)),2)","v":0}]
[null,null,null,{"$f":"ROUND(IF(C208=\"\",0,SUM(C$8:C208)),2)","v":0},null,{"$f":"ROUND(IF(E208=\"\",0,SUM(E$8:E208)),2)","v":0}]
[null,null,null,{"$f":"ROUND(IF(C209=\"\",0,SUM(C$8:C209)),2)","v":0},null,{"$f":"ROUND(IF(E209=\"\",0,SUM(E$8:E209)),2)","v":0}]
[null,null,null,{"$f":"ROUND(IF(C210=\"\",0,SUM(C$8:C210)),2)","v":0},null,{"$f":"ROUND(IF(E210=\"\",0,SUM(E$8:E210)),2)","v":0}]
[null,null,null,{"$f":"ROUND(IF(C211=\"\",0,SUM(C$8:C211)),2)","v":0},null,{"$f":"ROUND(IF(E211=\"\",0,SUM(E$8:E211)),2)","v":0}]
[null,null,null,{"$f":"ROUND(IF(C212=\"\",0,SUM(C$8:C212)),2)","v":0},null,{"$f":"ROUND(IF(E212=\"\",0,SUM(E$8:E212)),2)","v":0}]
[null,null,null,{"$f":"ROUND(IF(C213=\"\",0,SUM(C$8:C213)),2)","v":0},null,{"$f":"ROUND(IF(E213=\"\",0,SUM(E$8:E213)),2)","v":0}]
[null,null,null,{"$f":"ROUND(IF(C214=\"\",0,SUM(C$8:C214)),2)","v":0},null,{"$f":"ROUND(IF(E214=\"\",0,SUM(E$8:E214)),2)","v":0}]
[null,null,null,{"$f":"ROUND(IF(C215=\"\",0,SUM(C$8:C215)),2)","v":0},null,{"$f":"ROUND(IF(E215=\"\",0,SUM(E$8:E215)),2)","v":0}]
[null,null,null,{"$f":"ROUND(IF(C216=\"\",0,SUM(C$8:C216)),2)","v":0},null,{"$f":"ROUND(IF(E216=\"\",0,SUM(E$8:E216)),2)","v":0}]
[null,null,null,{"$f":"ROUND(IF(C217=\"\",0,SUM(C$8:C217)),2)","v":0},null,{"$f":"ROUND(IF(E217=\"\",0,SUM(E$8:E217)),2)","v":0}]
[null,null,null,{"$f":"ROUND(IF(C218=\"\",0,SUM(C$8:C218)),2)","v":0},null,{"$f":"ROUND(IF(E218=\"\",0,SUM(E$8:E218)),2)","v":0}]
[null,null,null,{"$f":"ROUND(IF(C219=\"\",0,SUM(C$8:C219)),2)","v":0},null,{"$f":"ROUND(IF(E219=\"\",0,SUM(E$8:E219)),2)","v":0}]
[null,null,null,{"$f":"ROUND(IF(C220=\"\",0,SUM(C$8:C220)),2)","v":0},null,{"$f":"ROUND(IF(E220=\"\",0,SUM(E$8:E220)),2)","v":0}]
[null,null,null,{"$f":"ROUND(IF(C221=\"\",0,SUM(C$8:C221)),2)","v":0},null,{"$f":"ROUND(IF(E221=\"\",0,SUM(E$8:E221)),2)","v":0}]
[null,null,null,{"$f":"ROUND(IF(C222=\"\",0,SUM(C$8:C222)),2)","v":0},null,{"$f":"ROUND(IF(E222=\"\",0,SUM(E$8:E222)),2)","v":0}]
[null,null,null,{"$f":"ROUND(IF(C223=\"\",0,SUM(C$8:C223)),2)","v":0},null,{"$f":"ROUND(IF(E223=\"\",0,SUM(E$8:E223)),2)","v":0}]
[null,null,null,{"$f":"ROUND(IF(C224=\"\",0,SUM(C$8:C224)),2)","v":0},null,{"$f":"ROUND(IF(E224=\"\",0,SUM(E$8:E224)),2)","v":0}]
[null,null,null,{"$f":"ROUND(IF(C225=\"\",0,SUM(C$8:C225)),2)","v":0},null,{"$f":"ROUND(IF(E225=\"\",0,SUM(E$8:E225)),2)","v":0}]
[null,null,null,{"$f":"ROUND(IF(C226=\"\",0,SUM(C$8:C226)),2)","v":0},null,{"$f":"ROUND(IF(E226=\"\",0,SUM(E$8:E226)),2)","v":0}]
[null,null,null,{"$f":"ROUND(IF(C227=\"\",0,SUM(C$8:C227)),2)","v":0},null,{"$f":"ROUND(IF(E227=\"\",0,SUM(E$8:E227)),2)","v":0}]
[null,null,null,{"$f":"ROUND(IF(C228=\"\",0,SUM(C$8:C228)),2)","v":0},null,{"$f":"ROUND(IF(E228=\"\",0,SUM(E$8:E228)),2)","v":0}]
[null,null,null,{"$f":"ROUND(IF(C229=\"\",0,SUM(C$8:C229)),2)","v":0},null,{"$f":"ROUND(IF(E229=\"\",0,SUM(E$8:E229)),2)","v":0}]
[null,null,null,{"$f":"ROUND(IF(C230=\"\",0,SUM(C$8:C230)),2)","v":0},null,{"$f":"ROUND(IF(E230=\"\",0,SUM(E$8:E230)),2)","v":0}]
[null,null,null,{"$f":"ROUND(IF(C231=\"\",0,SUM(C$8:C231)),2)","v":0},null,{"$f":"ROUND(IF(E231=\"\",0,SUM(E$8:E231)),2)","v":0}]
[null,null,null,{"$f":"ROUND(IF(C232=\"\",0,SUM(C$8:C232)),2)","v":0},null,{"$f":"ROUND(IF(E232=\"\",0,SUM(E$8:E232)),2)","v":0}]
[null,null,null,{"$f":"ROUND(IF(C233=\"\",0,SUM(C$8:C233)),2)","v":0},null,{"$f":"ROUND(IF(E233=\"\",0,SUM(E$8:E233)),2)","v":0}]
[null,null,null,{"$f":"ROUND(IF(C234=\"\",0,SUM(C$8:C234)),2)","v":0},null,{"$f":"ROUND(IF(E234=\"\",0,SUM(E$8:E234)),2)","v":0}]
[null,null,null,{"$f":"ROUND(IF(C235=\"\",0,SUM(C$8:C235)),2)","v":0},null,{"$f":"ROUND(IF(E235=\"\",0,SUM(E$8:E235)),2)","v":0}]
[null,null,null,{"$f":"ROUND(IF(C236=\"\",0,SUM(C$8:C236)),2)","v":0},null,{"$f":"ROUND(IF(E236=\"\",0,SUM(E$8:E236)),2)","v":0}]
[null,null,null,{"$f":"ROUND(IF(C237=\"\",0,SUM(C$8:C237)),2)","v":0},null,{"$f":"ROUND(IF(E237=\"\",0,SUM(E$8:E237)),2)","v":0}]
[null,null,null,{"$f":"ROUND(IF(C238=\"\",0,SUM(C$8:C238)),2)","v":0},null,{"$f":"ROUND(IF(E238=\"\",0,SUM(E$8:E238)),2)","v":0}]
[null,null,null,{"$f":"ROUND(IF(C239=\"\",0,SUM(C$8:C239)),2)","v":0},null,{"$f":"ROUND(IF(E239=\"\",0,SUM(E$8:E239)),2)","v":0}]
[null,null,null,{"$f":"ROUND(IF(C240=\"\",0,SUM(C$8:C240)),2)","v":0},null,{"$f":"ROUND(IF(E240=\"\",0,SUM(E$8:E240)),2)","v":0}]
[null,null,null,{"$f":"ROUND(IF(C241=\"\",0,SUM(C$8:C241)),2)","v":0},null,{"$f":"ROUND(IF(E241=\"\",0,SUM(E$8:E241)),2)","v":0}]
[null,null,null,{"$f":"ROUND(IF(C242=\"\",0,SUM(C$8:C242)),2)","v":0},null,{"$f":"ROUND(IF(E242=\"\",0,SUM(E$8:E242)),2)","v":0}]
[null,null,null,{"$f":"ROUND(IF(C243=\"\",0,SUM(C$8:C243)),2)","v":0},null,{"$f":"ROUND(IF(E243=\"\",0,SUM(E$8:E243)),2)","v":0}]
[null,null,null,{"$f":"ROUND(IF(C244=\"\",0,SUM(C$8:C244)),2)","v":0},null,{"$f":"ROUND(IF(E244=\"\",0,SUM(E$8:E244)),2)","v":0}]
[null,null,null,{"$f":"ROUND(IF(C245=\"\",0,SUM(C$8:C245)),2)","v":0},null,{"$f":"ROUND(IF(E245=\"\",0,SUM(E$8:E245)),2)","v":0}]
[null,null,null,{"$f":"ROUND(IF(C246=\"\",0,SUM(C$8:C246)),2)","v":0},null,{"$f":"ROUND(IF(E246=\"\",0,SUM(E$8:E246)),2)","v":0}]
[null,null,null,{"$f":"ROUND(IF(C247=\"\",0,SUM(C$8:C247)),2)","v":0},null,{"$f":"ROUND(IF(E247=\"\",0,SUM(E$8:E247)),2)","v":0}]
[null,null,null,{"$f":"ROUND(IF(C248=\"\",0,SUM(C$8:C248)),2)","v":0},null,{"$f":"ROUND(IF(E248=\"\",0,SUM(E$8:E248)),2)","v":0}]
[null,null,null,{"$f":"ROUND(IF(C249=\"\",0,SUM(C$8:C249)),2)","v":0},null,{"$f":"ROUND(IF(E249=\"\",0,SUM(E$8:E249)),2)","v":0}]
[null,null,null,{"$f":"ROUND(IF(C250=\"\",0,SUM(C$8:C250)),2)","v":0},null,{"$f":"ROUND(IF(E250=\"\",0,SUM(E$8:E250)),2)","v":0}]
[null,null,null,{"$f":"ROUND(IF(C251=\"\",0,SUM(C$8:C251)),2)","v":0},null,{"$f":"ROUND(IF(E251=\"\",0,SUM(E$8:E251)),2)","v":0}]
[null,null,null,{"$f":"ROUND(IF(C252=\"\",0,SUM(C$8:C252)),2)","v":0},null,{"$f":"ROUND(IF(E252=\"\",0,SUM(E$8:E252)),2)","v":0}]
[null,null,null,{"$f":"ROUND(IF(C253=\"\",0,SUM(C$8:C253)),2)","v":0},null,{"$f":"ROUND(IF(E253=\"\",0,SUM(E$8:E253)),2)","v":0}]
[null,null,null,{"$f":"ROUND(IF(C254=\"\",0,SUM(C$8:C254)),2)","v":0},null,{"$f":"ROUND(IF(E254=\"\",0,SUM(E$8:E254)),2)","v":0}]
[null,null,null,{"$f":"ROUND(IF(C255=\"\",0,SUM(C$8:C255)),2)","v":0},null,{"$f":"ROUND(IF(E255=\"\",0,SUM(E$8:E255)),2)","v":0}]
[null,null,null,{"$f":"ROUND(IF(C256=\"\",0,SUM(C$8:C256)),2)","v":0},null,{"$f":"ROUND(IF(E256=\"\",0,SUM(E$8:E256)),2)","v":0}]
[null,null,null,{"$f":"ROUND(IF(C257=\"\",0,SUM(C$8:C257)),2)","v":0},null,{"$f":"ROUND(IF(E257=\"\",0,SUM(E$8:E257)),2)","v":0}]
[null,null,null,{"$f":"ROUND(IF(C258=\"\",0,SUM(C$8:C258)),2)","v":0},null,{"$f":"ROUND(IF(E258=\"\",0,SUM(E$8:E258)),2)","v":0}]
[null,null,null,{"$f":"ROUND(IF(C259=\"\",0,SUM(C$8:C259)),2)","v":0},null,{"$f":"ROUND(IF(E259=\"\",0,SUM(E$8:E259)),2)","v":0}]
[null,null,null,{"$f":"ROUND(IF(C260=\"\",0,SUM(C$8:C260)),2)","v":0},null,{"$f":"ROUND(IF(E260=\"\",0,SUM(E$8:E260)),2)","v":0}]
[null,null,null,{"$f":"ROUND(IF(C261=\"\",0,SUM(C$8:C261)),2)","v":0},null,{"$f":"ROUND(IF(E261=\"\",0,SUM(E$8:E261)),2)","v":0}]
[null,null,null,{"$f":"ROUND(IF(C262=\"\",0,SUM(C$8:C262)),2)","v":0},null,{"$f":"ROUND(IF(E262=\"\",0,SUM(E$8:E262)),2)","v":0}]
[null,null,null,{"$f":"ROUND(IF(C263=\"\",0,SUM(C$8:C263)),2)","v":0},null,{"$f":"ROUND(IF(E263=\"\",0,SUM(E$8:E263)),2)","v":0}]
[null,null,null,{"$f":"ROUND(IF(C264=\"\",0,SUM(C$8:C264)),2)","v":0},null,{"$f":"ROUND(IF(E264=\"\",0,SUM(E$8:E264)),2)","v":0}]
[null,null,null,{"$f":"ROUND(IF(C265=\"\",0,SUM(C$8:C265)),2)","v":0},null,{"$f":"ROUND(IF(E265=\"\",0,SUM(E$8:E265)),2)","v":0}]
[null,null,null,{"$f":"ROUND(IF(C266=\"\",0,SUM(C$8:C266)),2)","v":0},null,{"$f":"ROUND(IF(E266=\"\",0,SUM(E$8:E266)),2)","v":0}]
[null,null,null,{"$f":"ROUND(IF(C267=\"\",0,SUM(C$8:C267)),2)","v":0},null,{"$f":"ROUND(IF(E267=\"\",0,SUM(E$8:E267)),2)","v":0}]
[null,null,null,{"$f":"ROUND(IF(C268=\"\",0,SUM(C$8:C268)),2)","v":0},null,{"$f":"ROUND(IF(E268=\"\",0,SUM(E$8:E268)),2)","v":0}]
[null,null,null,{"$f":"ROUND(IF(C269=\"\",0,SUM(C$8:C269)),2)","v":0},null,{"$f":"ROUND(IF(E269=\"\",0,SUM(E$8:E269)),2)","v":0}]
[null,null,null,{"$f":"ROUND(IF(C270=\"\",0,SUM(C$8:C270)),2)","v":0},null,{"$f":"ROUND(IF(E270=\"\",0,SUM(E$8:E270)),2)","v":0}]
[null,null,null,{"$f":"ROUND(IF(C271=\"\",0,SUM(C$8:C271)),2)","v":0},null,{"$f":"ROUND(IF(E271=\"\",0,SUM(E$8:E271)),2)","v":0}]
[null,null,null,{"$f":"ROUND(IF(C272=\"\",0,SUM(C$8:C272)),2)","v":0},null,{"$f":"ROUND(IF(E272=\"\",0,SUM(E$8:E272)),2)","v":0}]
[null,null,null,{"$f":"ROUND(IF(C273=\"\",0,SUM(C$8:C273)),2)","v":0},null,{"$f":"ROUND(IF(E273=\"\",0,SUM(E$8:E273)),2)","v":0}]
[null,null,null,{"$f":"ROUND(IF(C274=\"\",0,SUM(C$8:C274)),2)","v":0},null,{"$f":"ROUND(IF(E274=\"\",0,SUM(E$8:E274)),2)","v":0}]
[null,null,null,{"$f":"ROUND(IF(C275=\"\",0,SUM(C$8:C275)),2)","v":0},null,{"$f":"ROUND(IF(E275=\"\",0,SUM(E$8:E275)),2)","v":0}]
[null,null,null,{"$f":"ROUND(IF(C276=\"\",0,SUM(C$8:C276)),2)","v":0},null,{"$f":"ROUND(IF(E276=\"\",0,SUM(E$8:E276)),2)","v":0}]
[null,null,null,{"$f":"ROUND(IF(C277=\"\",0,SUM(C$8:C277)),2)","v":0},null,{"$f":"ROUND(IF(E277=\"\",0,SUM(E$8:E277)),2)","v":0}]
[null,null,null,{"$f":"ROUND(IF(C278=\"\",0,SUM(C$8:C278)),2)","v":0},null,{"$f":"ROUND(IF(E278=\"\",0,SUM(E$8:E278)),2)","v":0}]
[null,null,null,{"$f":"ROUND(IF(C279=\"\",0,SUM(C$8:C279)),2)","v":0},null,{"$f":"ROUND(IF(E279=\"\",0,SUM(E$8:E279)),2)","v":0}]
[null,null,null,{"$f":"ROUND(IF(C280=\"\",0,SUM(C$8:C280)),2)","v":0},null,{"$f":"ROUND(IF(E280=\"\",0,SUM(E$8:E280)),2)","v":0}]
[null,null,null,{"$f":"ROUND(IF(C281=\"\",0,SUM(C$8:C281)),2)","v":0},null,{"$f":"ROUND(IF(E281=\"\",0,SUM(E$8:E281)),2)","v":0}]
[null,null,null,{"$f":"ROUND(IF(C282=\"\",0,SUM(C$8:C282)),2)","v":0},null,{"$f":"ROUND(IF(E282=\"\",0,SUM(E$8:E282)),2)","v":0}]
[null,null,null,{"$f":"ROUND(IF(C283=\"\",0,SUM(C$8:C283)),2)","v":0},null,{"$f":"ROUND(IF(E283=\"\",0,SUM(E$8:E283)),2)","v":0}]
[null,null,null,{"$f":"ROUND(IF(C284=\"\",0,SUM(C$8:C284)),2)","v":0},null,{"$f":"ROUND(IF(E284=\"\",0,SUM(E$8:E284)),2)","v":0}]
[null,null,null,{"$f":"ROUND(IF(C285=\"\",0,SUM(C$8:C285)),2)","v":0},null,{"$f":"ROUND(IF(E285=\"\",0,SUM(E$8:E285)),2)","v":0}]
[null,null,null,{"$f":"ROUND(IF(C286=\"\",0,SUM(C$8:C286)),2)","v":0},null,{"$f":"ROUND(IF(E286=\"\",0,SUM(E$8:E286)),2)","v":0}]
[null,null,null,{"$f":"ROUND(IF(C287=\"\",0,SUM(C$8:C287)),2)","v":0},null,{"$f":"ROUND(IF(E287=\"\",0,SUM(E$8:E287)),2)","v":0}]
[null,null,null,{"$f":"ROUND(IF(C288=\"\",0,SUM(C$8:C288)),2)","v":0},null,{"$f":"ROUND(IF(E288=\"\",0,SUM(E$8:E288)),2)","v":0}]
[null,null,null,{"$f":"ROUND(IF(C289=\"\",0,SUM(C$8:C289)),2)","v":0},null,{"$f":"ROUND(IF(E289=\"\",0,SUM(E$8:E289)),2)","v":0}]
[null,null,null,{"$f":"ROUND(IF(C290=\"\",0,SUM(C$8:C290)),2)","v":0},null,{"$f":"ROUND(IF(E290=\"\",0,SUM(E$8:E290)),2)","v":0}]
[null,null,null,{"$f":"ROUND(IF(C291=\"\",0,SUM(C$8:C291)),2)","v":0},null,{"$f":"ROUND(IF(E291=\"\",0,SUM(E$8:E291)),2)","v":0}]
[null,null,null,{"$f":"ROUND(IF(C292=\"\",0,SUM(C$8:C292)),2)","v":0},null,{"$f":"ROUND(IF(E292=\"\",0,SUM(E$8:E292)),2)","v":0}]
[null,null,null,{"$f":"ROUND(IF(C293=\"\",0,SUM(C$8:C293)),2)","v":0},null,{"$f":"ROUND(IF(E293=\"\",0,SUM(E$8:E293)),2)","v":0}]
[null,null,null,{"$f":"ROUND(IF(C294=\"\",0,SUM(C$8:C294)),2)","v":0},null,{"$f":"ROUND(IF(E294=\"\",0,SUM(E$8:E294)),2)","v":0}]
[null,null,null,{"$f":"ROUND(IF(C295=\"\",0,SUM(C$8:C295)),2)","v":0},null,{"$f":"ROUND(IF(E295=\"\",0,SUM(E$8:E295)),2)","v":0}]
[null,null,null,{"$f":"ROUND(IF(C296=\"\",0,SUM(C$8:C296)),2)","v":0},null,{"$f":"ROUND(IF(E296=\"\",0,SUM(E$8:E296)),2)","v":0}]
[null,null,null,{"$f":"ROUND(IF(C297=\"\",0,SUM(C$8:C297)),2)","v":0},null,{"$f":"ROUND(IF(E297=\"\",0,SUM(E$8:E297)),2)","v":0}]
[null,null,null,{"$f":"ROUND(IF(C298=\"\",0,SUM(C$8:C298)),2)","v":0},null,{"$f":"ROUND(IF(E298=\"\",0,SUM(E$8:E298)),2)","v":0}]
[null,null,null,{"$f":"ROUND(IF(C299=\"\",0,SUM(C$8:C299)),2)","v":0},null,{"$f":"ROUND(IF(E299=\"\",0,SUM(E$8:E299)),2)","v":0}]
[null,null,null,{"$f":"ROUND(IF(C300=\"\",0,SUM(C$8:C300)),2)","v":0},null,{"$f":"ROUND(IF(E300=\"\",0,SUM(E$8:E300)),2)","v":0}]
[null,null,null,{"$f":"ROUND(IF(C301=\"\",0,SUM(C$8:C301)),2)","v":0},null,{"$f":"ROUND(IF(E301=\"\",0,SUM(E$8:E301)),2)","v":0}]
[null,null,null,{"$f":"ROUND(IF(C302=\"\",0,SUM(C$8:C302)),2)","v":0},null,{"$f":"ROUND(IF(E302=\"\",0,SUM(E$8:E302)),2)","v":0}]
[null,null,null,{"$f":"ROUND(IF(C303=\"\",0,SUM(C$8:C303)),2)","v":0},null,{"$f":"ROUND(IF(E303=\"\",0,SUM(E$8:E303)),2)","v":0}]
[null,null,null,{"$f":"ROUND(IF(C304=\"\",0,SUM(C$8:C304)),2)","v":0},null,{"$f":"ROUND(IF(E304=\"\",0,SUM(E$8:E304)),2)","v":0}]
[null,null,null,{"$f":"ROUND(IF(C305=\"\",0,SUM(C$8:C305)),2)","v":0},null,{"$f":"ROUND(IF(E305=\"\",0,SUM(E$8:E305)),2)","v":0}]
[null,null,null,{"$f":"ROUND(IF(C306=\"\",0,SUM(C$8:C306)),2)","v":0},null,{"$f":"ROUND(IF(E306=\"\",0,SUM(E$8:E306)),2)","v":0}]
[null,null,null,{"$f":"ROUND(IF(C307=\"\",0,SUM(C$8:C307)),2)","v":0},null,{"$f":"ROUND(IF(E307=\"\",0,SUM(E$8:E307)),2)","v":0}]
[null,null,null,{"$f":"ROUND(IF(C308=\"\",0,SUM(C$8:C308)),2)","v":0},null,{"$f":"ROUND(IF(E308=\"\",0,SUM(E$8:E308)),2)","v":0}]
[null,null,null,{"$f":"ROUND(IF(C309=\"\",0,SUM(C$8:C309)),2)","v":0},null,{"$f":"ROUND(IF(E309=\"\",0,SUM(E$8:E309)),2)","v":0}]
[null,null,null,{"$f":"ROUND(IF(C310=\"\",0,SUM(C$8:C310)),2)","v":0},null,{"$f":"ROUND(IF(E310=\"\",0,SUM(E$8:E310)),2)","v":0}]
[null,null,null,{"$f":"ROUND(IF(C311=\"\",0,SUM(C$8:C311)),2)","v":0},null,{"$f":"ROUND(IF(E311=\"\",0,SUM(E$8:E311)),2)","v":0}]
[null,null,null,{"$f":"ROUND(IF(C312=\"\",0,SUM(C$8:C312)),2)","v":0},null,{"$f":"ROUND(IF(E312=\"\",0,SUM(E$8:E312)),2)","v":0}]
[null,null,null,{"$f":"ROUND(IF(C313=\"\",0,SUM(C$8:C313)),2)","v":0},null,{"$f":"ROUND(IF(E313=\"\",0,SUM(E$8:E313)),2)","v":0}]
[null,null,null,{"$f":"ROUND(IF(C314=\"\",0,SUM(C$8:C314)),2)","v":0},null,{"$f":"ROUND(IF(E314=\"\",0,SUM(E$8:E314)),2)","v":0}]
[null,null,null,{"$f":"ROUND(IF(C315=\"\",0,SUM(C$8:C315)),2)","v":0},null,{"$f":"ROUND(IF(E315=\"\",0,SUM(E$8:E315)),2)","v":0}]
[null,null,null,{"$f":"ROUND(IF(C316=\"\",0,SUM(C$8:C316)),2)","v":0},null,{"$f":"ROUND(IF(E316=\"\",0,SUM(E$8:E316)),2)","v":0}]
[null,null,null,{"$f":"ROUND(IF(C317=\"\",0,SUM(C$8:C317)),2)","v":0},null,{"$f":"ROUND(IF(E317=\"\",0,SUM(E$8:E317)),2)","v":0}]
[null,null,null,{"$f":"ROUND(IF(C318=\"\",0,SUM(C$8:C318)),2)","v":0},null,{"$f":"ROUND(IF(E318=\"\",0,SUM(E$8:E318)),2)","v":0}]
[null,null,null,{"$f":"ROUND(IF(C319=\"\",0,SUM(C$8:C319)),2)","v":0},null,{"$f":"ROUND(IF(E319=\"\",0,SUM(E$8:E319)),2)","v":0}]
[null,null,null,{"$f":"ROUND(IF(C320=\"\",0,SUM(C$8:C320)),2)","v":0},null,{"$f":"ROUND(IF(E320=\"\",0,SUM(E$8:E320)),2)","v":0}]
[null,null,null,{"$f":"ROUND(IF(C321=\"\",0,SUM(C$8:C321)),2)","v":0},null,{"$f":"ROUND(IF(E321=\"\",0,SUM(E$8:E321)),2)","v":0}]
[null,null,null,{"$f":"ROUND(IF(C322=\"\",0,SUM(C$8:C322)),2)","v":0},null,{"$f":"ROUND(IF(E322=\"\",0,SUM(E$8:E322)),2)","v":0}]
[null,null,null,{"$f":"ROUND(IF(C323=\"\",0,SUM(C$8:C323)),2)","v":0},null,{"$f":"ROUND(IF(E323=\"\",0,SUM(E$8:E323)),2)","v":0}]
[null,null,null,{"$f":"ROUND(IF(C324=\"\",0,SUM(C$8:C324)),2)","v":0},null,{"$f":"ROUND(IF(E324=\"\",0,SUM(E$8:E324)),2)","v":0}]
[null,null,null,{"$f":"ROUND(IF(C325=\"\",0,SUM(C$8:C325)),2)","v":0},null,{"$f":"ROUND(IF(E325=\"\",0,SUM(E$8:E325)),2)","v":0}]
[null,null,null,{"$f":"ROUND(IF(C326=\"\",0,SUM(C$8:C326)),2)","v":0},null,{"$f":"ROUND(IF(E326=\"\",0,SUM(E$8:E326)),2)","v":0}]
[null,null,null,{"$f":"ROUND(IF(C327=\"\",0,SUM(C$8:C327)),2)","v":0},null,{"$f":"ROUND(IF(E327=\"\",0,SUM(E$8:E327)),2)","v":0}]
[null,null,null,{"$f":"ROUND(IF(C328=\"\",0,SUM(C$8:C328)),2)","v":0},null,{"$f":"ROUND(IF(E328=\"\",0,SUM(E$8:E328)),2)","v":0}]
[null,null,null,{"$f":"ROUND(IF(C329=\"\",0,SUM(C$8:C329)),2)","v":0},null,{"$f":"ROUND(IF(E329=\"\",0,SUM(E$8:E329)),2)","v":0}]
[null,null,null,{"$f":"ROUND(IF(C330=\"\",0,SUM(C$8:C330)),2)","v":0},null,{"$f":"ROUND(IF(E330=\"\",0,SUM(E$8:E330)),2)","v":0}]
[null,null,null,{"$f":"ROUND(IF(C331=\"\",0,SUM(C$8:C331)),2)","v":0},null,{"$f":"ROUND(IF(E331=\"\",0,SUM(E$8:E331)),2)","v":0}]
[null,null,null,{"$f":"ROUND(IF(C332=\"\",0,SUM(C$8:C332)),2)","v":0},null,{"$f":"ROUND(IF(E332=\"\",0,SUM(E$8:E332)),2)","v":0}]
[null,null,null,{"$f":"ROUND(IF(C333=\"\",0,SUM(C$8:C333)),2)","v":0},null,{"$f":"ROUND(IF(E333=\"\",0,SUM(E$8:E333)),2)","v":0}]
[null,null,null,{"$f":"ROUND(IF(C334=\"\",0,SUM(C$8:C334)),2)","v":0},null,{"$f":"ROUND(IF(E334=\"\",0,SUM(E$8:E334)),2)","v":0}]
[null,null,null,{"$f":"ROUND(IF(C335=\"\",0,SUM(C$8:C335)),2)","v":0},null,{"$f":"ROUND(IF(E335=\"\",0,SUM(E$8:E335)),2)","v":0}]
[null,null,null,{"$f":"ROUND(IF(C336=\"\",0,SUM(C$8:C336)),2)","v":0},null,{"$f":"ROUND(IF(E336=\"\",0,SUM(E$8:E336)),2)","v":0}]
[null,null,null,{"$f":"ROUND(IF(C337=\"\",0,SUM(C$8:C337)),2)","v":0},null,{"$f":"ROUND(IF(E337=\"\",0,SUM(E$8:E337)),2)","v":0}]
[null,null,null,{"$f":"ROUND(IF(C338=\"\",0,SUM(C$8:C338)),2)","v":0},null,{"$f":"ROUND(IF(E338=\"\",0,SUM(E$8:E338)),2)","v":0}]
[null,null,null,{"$f":"ROUND(IF(C339=\"\",0,SUM(C$8:C339)),2)","v":0},null,{"$f":"ROUND(IF(E339=\"\",0,SUM(E$8:E339)),2)","v":0}]
[null,null,null,{"$f":"ROUND(IF(C340=\"\",0,SUM(C$8:C340)),2)","v":0},null,{"$f":"ROUND(IF(E340=\"\",0,SUM(E$8:E340)),2)","v":0}]
[null,null,null,{"$f":"ROUND(IF(C341=\"\",0,SUM(C$8:C341)),2)","v":0},null,{"$f":"ROUND(IF(E341=\"\",0,SUM(E$8:E341)),2)","v":0}]
[null,null,null,{"$f":"ROUND(IF(C342=\"\",0,SUM(C$8:C342)),2)","v":0},null,{"$f":"ROUND(IF(E342=\"\",0,SUM(E$8:E342)),2)","v":0}]
[null,null,null,{"$f":"ROUND(IF(C343=\"\",0,SUM(C$8:C343)),2)","v":0},null,{"$f":"ROUND(IF(E343=\"\",0,SUM(E$8:E343)),2)","v":0}]
[null,null,null,{"$f":"ROUND(IF(C344=\"\",0,SUM(C$8:C344)),2)","v":0},null,{"$f":"ROUND(IF(E344=\"\",0,SUM(E$8:E344)),2)","v":0}]
[null,null,null,{"$f":"ROUND(IF(C345=\"\",0,SUM(C$8:C345)),2)","v":0},null,{"$f":"ROUND(IF(E345=\"\",0,SUM(E$8:E345)),2)","v":0}]
[null,null,null,{"$f":"ROUND(IF(C346=\"\",0,SUM(C$8:C346)),2)","v":0},null,{"$f":"ROUND(IF(E346=\"\",0,SUM(E$8:E346)),2)","v":0}]
[null,null,null,{"$f":"ROUND(IF(C347=\"\",0,SUM(C$8:C347)),2)","v":0},null,{"$f":"ROUND(IF(E347=\"\",0,SUM(E$8:E347)),2)","v":0}]
[null,null,null,{"$f":"ROUND(IF(C348=\"\",0,SUM(C$8:C348)),2)","v":0},null,{"$f":"ROUND(IF(E348=\"\",0,SUM(E$8:E348)),2)","v":0}]
[null,null,null,{"$f":"ROUND(IF(C349=\"\",0,SUM(C$8:C349)),2)","v":0},null,{"$f":"ROUND(IF(E349=\"\",0,SUM(E$8:E349)),2)","v":0}]
[null,null,null,{"$f":"ROUND(IF(C350=\"\",0,SUM(C$8:C350)),2)","v":0},null,{"$f":"ROUND(IF(E350=\"\",0,SUM(E$8:E350)),2)","v":0}]
[null,null,null,{"$f":"ROUND(IF(C351=\"\",0,SUM(C$8:C351)),2)","v":0},null,{"$f":"ROUND(IF(E351=\"\",0,SUM(E$8:E351)),2)","v":0}]
[null,null,null,{"$f":"ROUND(IF(C352=\"\",0,SUM(C$8:C352)),2)","v":0},null,{"$f":"ROUND(IF(E352=\"\",0,SUM(E$8:E352)),2)","v":0}]
[null,null,null,{"$f":"ROUND(IF(C353=\"\",0,SUM(C$8:C353)),2)","v":0},null,{"$f":"ROUND(IF(E353=\"\",0,SUM(E$8:E353)),2)","v":0}]
[null,null,null,{"$f":"ROUND(IF(C354=\"\",0,SUM(C$8:C354)),2)","v":0},null,{"$f":"ROUND(IF(E354=\"\",0,SUM(E$8:E354)),2)","v":0}]
[null,null,null,{"$f":"ROUND(IF(C355=\"\",0,SUM(C$8:C355)),2)","v":0},null,{"$f":"ROUND(IF(E355=\"\",0,SUM(E$8:E355)),2)","v":0}]
[null,null,null,{"$f":"ROUND(IF(C356=\"\",0,SUM(C$8:C356)),2)","v":0},null,{"$f":"ROUND(IF(E356=\"\",0,SUM(E$8:E356)),2)","v":0}]
[null,null,null,{"$f":"ROUND(IF(C357=\"\",0,SUM(C$8:C357)),2)","v":0},null,{"$f":"ROUND(IF(E357=\"\",0,SUM(E$8:E357)),2)","v":0}]
[null,null,null,{"$f":"ROUND(IF(C358=\"\",0,SUM(C$8:C358)),2)","v":0},null,{"$f":"ROUND(IF(E358=\"\",0,SUM(E$8:E358)),2)","v":0}]
[null,null,null,{"$f":"ROUND(IF(C359=\"\",0,SUM(C$8:C359)),2)","v":0},null,{"$f":"ROUND(IF(E359=\"\",0,SUM(E$8:E359)),2)","v":0}]
[null,null,null,{"$f":"ROUND(IF(C360=\"\",0,SUM(C$8:C360)),2)","v":0},null,{"$f":"ROUND(IF(E360=\"\",0,SUM(E$8:E360)),2)","v":0}]
[null,null,null,{"$f":"ROUND(IF(C361=\"\",0,SUM(C$8:C361)),2)","v":0},null,{"$f":"ROUND(IF(E361=\"\",0,SUM(E$8:E361)),2)","v":0}]
[null,null,null,{"$f":"ROUND(IF(C362=\"\",0,SUM(C$8:C362)),2)","v":0},null,{"$f":"ROUND(IF(E362=\"\",0,SUM(E$8:E362)),2)","v":0}]
[null,null,null,{"$f":"ROUND(IF(C363=\"\",0,SUM(C$8:C363)),2)","v":0},null,{"$f":"ROUND(IF(E363=\"\",0,SUM(E$8:E363)),2)","v":0}]
[null,null,null,{"$f":"ROUND(IF(C364=\"\",0,SUM(C$8:C364)),2)","v":0},null,{"$f":"ROUND(IF(E364=\"\",0,SUM(E$8:E364)),2)","v":0}]
[null,null,null,{"$f":"ROUND(IF(C365=\"\",0,SUM(C$8:C365)),2)","v":0},null,{"$f":"ROUND(IF(E365=\"\",0,SUM(E$8:E365)),2)","v":0}]
[null,null,null,{"$f":"ROUND(IF(C366=\"\",0,SUM(C$8:C366)),2)","v":0},null,{"$f":"ROUND(IF(E366=\"\",0,SUM(E$8:E366)),2)","v":0}]
[null,null,null,{"$f":"ROUND(IF(C367=\"\",0,SUM(C$8:C367)),2)","v":0},null,{"$f":"ROUND(IF(E367=\"\",0,SUM(E$8:E367)),2)","v":0}]
[null,null,null,{"$f":"ROUND(IF(C368=\"\",0,SUM(C$8:C368)),2)","v":0},null,{"$f":"ROUND(IF(E368=\"\",0,SUM(E$8:E368)),2)","v":0}]
[null,null,null,{"$f":"ROUND(IF(C369=\"\",0,SUM(C$8:C369)),2)","v":0},null,{"$f":"ROUND(IF(E369=\"\",0,SUM(E$8:E369)),2)","v":0}]
[null,null,null,{"$f":"ROUND(IF(C370=\"\",0,SUM(C$8:C370)),2)","v":0},null,{"$f":"ROUND(IF(E370=\"\",0,SUM(E$8:E370)),2)","v":0}]
[null,null,null,{"$f":"ROUND(IF(C371=\"\",0,SUM(C$8:C371)),2)","v":0},null,{"$f":"ROUND(IF(E371=\"\",0,SUM(E$8:E371)),2)","v":0}]
[null,null,null,{"$f":"ROUND(IF(C372=\"\",0,SUM(C$8:C372)),2)","v":0},null,{"$f":"ROUND(IF(E372=\"\",0,SUM(E$8:E372)),2)","v":0}]
[null,null,null,{"$f":"ROUND(IF(C373=\"\",0,SUM(C$8:C373)),2)","v":0},null,{"$f":"ROUND(IF(E373=\"\",0,SUM(E$8:E373)),2)","v":0}]
[null,null,null,{"$f":"ROUND(IF(C374=\"\",0,SUM(C$8:C374)),2)","v":0},null,{"$f":"ROUND(IF(E374=\"\",0,SUM(E$8:E374)),2)","v":0}]
[null,null,null,{"$f":"ROUND(IF(C375=\"\",0,SUM(C$8:C375)),2)","v":0},null,{"$f":"ROUND(IF(E375=\"\",0,SUM(E$8:E375)),2)","v":0}]
[null,null,null,{"$f":"ROUND(IF(C376=\"\",0,SUM(C$8:C376)),2)","v":0},null,{"$f":"ROUND(IF(E376=\"\",0,SUM(E$8:E376)),2)","v":0}]
[null,null,null,{"$f":"ROUND(IF(C377=\"\",0,SUM(C$8:C377)),2)","v":0},null,{"$f":"ROUND(IF(E377=\"\",0,SUM(E$8:E377)),2)","v":0}]
[null,null,null,{"$f":"ROUND(IF(C378=\"\",0,SUM(C$8:C378)),2)","v":0},null,{"$f":"ROUND(IF(E378=\"\",0,SUM(E$8:E378)),2)","v":0}]
[null,null,null,{"$f":"ROUND(IF(C379=\"\",0,SUM(C$8:C379)),2)","v":0},null,{"$f":"ROUND(IF(E379=\"\",0,SUM(E$8:E379)),2)","v":0}]
[null,null,null,{"$f":"ROUND(IF(C380=\"\",0,SUM(C$8:C380)),2)","v":0},null,{"$f":"ROUND(IF(E380=\"\",0,SUM(E$8:E380)),2)","v":0}]
[null,null,null,{"$f":"ROUND(IF(C381=\"\",0,SUM(C$8:C381)),2)","v":0},null,{"$f":"ROUND(IF(E381=\"\",0,SUM(E$8:E381)),2)","v":0}]
[null,null,null,{"$f":"ROUND(IF(C382=\"\",0,SUM(C$8:C382)),2)","v":0},null,{"$f":"ROUND(IF(E382=\"\",0,SUM(E$8:E382)),2)","v":0}]
[null,null,null,{"$f":"ROUND(IF(C383=\"\",0,SUM(C$8:C383)),2)","v":0},null,{"$f":"ROUND(IF(E383=\"\",0,SUM(E$8:E383)),2)","v":0}]
[null,null,null,{"$f":"ROUND(IF(C384=\"\",0,SUM(C$8:C384)),2)","v":0},null,{"$f":"ROUND(IF(E384=\"\",0,SUM(E$8:E384)),2)","v":0}]
[null,null,null,{"$f":"ROUND(IF(C385=\"\",0,SUM(C$8:C385)),2)","v":0},null,{"$f":"ROUND(IF(E385=\"\",0,SUM(E$8:E385)),2)","v":0}]
[null,null,null,{"$f":"ROUND(IF(C386=\"\",0,SUM(C$8:C386)),2)","v":0},null,{"$f":"ROUND(IF(E386=\"\",0,SUM(E$8:E386)),2)","v":0}]
[null,null,null,{"$f":"ROUND(IF(C387=\"\",0,SUM(C$8:C387)),2)","v":0},null,{"$f":"ROUND(IF(E387=\"\",0,SUM(E$8:E387)),2)","v":0}]
[null,null,null,{"$f":"ROUND(IF(C388=\"\",0,SUM(C$8:C388)),2)","v":0},null,{"$f":"ROUND(IF(E388=\"\",0,SUM(E$8:E388)),2)","v":0}]
[null,null,null,{"$f":"ROUND(IF(C389=\"\",0,SUM(C$8:C389)),2)","v":0},null,{"$f":"ROUND(IF(E389=\"\",0,SUM(E$8:E389)),2)","v":0}]
[null,null,null,{"$f":"ROUND(IF(C390=\"\",0,SUM(C$8:C390)),2)","v":0},null,{"$f":"ROUND(IF(E390=\"\",0,SUM(E$8:E390)),2)","v":0}]
[null,null,null,{"$f":"ROUND(IF(C391=\"\",0,SUM(C$8:C391)),2)","v":0},null,{"$f":"ROUND(IF(E391=\"\",0,SUM(E$8:E391)),2)","v":0}]
[null,null,null,{"$f":"ROUND(IF(C392=\"\",0,SUM(C$8:C392)),2)","v":0},null,{"$f":"ROUND(IF(E392=\"\",0,SUM(E$8:E392)),2)","v":0}]
[null,null,null,{"$f":"ROUND(IF(C393=\"\",0,SUM(C$8:C393)),2)","v":0},null,{"$f":"ROUND(IF(E393=\"\",0,SUM(E$8:E393)),2)","v":0}]
[null,null,null,{"$f":"ROUND(IF(C394=\"\",0,SUM(C$8:C394)),2)","v":0},null,{"$f":"ROUND(IF(E394=\"\",0,SUM(E$8:E394)),2)","v":0}]
[null,null,null,{"$f":"ROUND(IF(C395=\"\",0,SUM(C$8:C395)),2)","v":0},null,{"$f":"ROUND(IF(E395=\"\",0,SUM(E$8:E395)),2)","v":0}]
[null,null,null,{"$f":"ROUND(IF(C396=\"\",0,SUM(C$8:C396)),2)","v":0},null,{"$f":"ROUND(IF(E396=\"\",0,SUM(E$8:E396)),2)","v":0}]
[null,null,null,{"$f":"ROUND(IF(C397=\"\",0,SUM(C$8:C397)),2)","v":0},null,{"$f":"ROUND(IF(E397=\"\",0,SUM(E$8:E397)),2)","v":0}]
[null,null,null,{"$f":"ROUND(IF(C398=\"\",0,SUM(C$8:C398)),2)","v":0},null,{"$f":"ROUND(IF(E398=\"\",0,SUM(E$8:E398)),2)","v":0}]
[null,null,null,{"$f":"ROUND(IF(C399=\"\",0,SUM(C$8:C399)),2)","v":0},null,{"$f":"ROUND(IF(E399=\"\",0,SUM(E$8:E399)),2)","v":0}]
[null,null,null,{"$f":"ROUND(IF(C400=\"\",0,SUM(C$8:C400)),2)","v":0},null,{"$f":"ROUND(IF(E400=\"\",0,SUM(E$8:E400)),2)","v":0}]
[null,null,null,{"$f":"ROUND(IF(C401=\"\",0,SUM(C$8:C401)),2)","v":0},null,{"$f":"ROUND(IF(E401=\"\",0,SUM(E$8:E401)),2)","v":0}]
[null,null,null,{"$f":"ROUND(IF(C402=\"\",0,SUM(C$8:C402)),2)","v":0},null,{"$f":"ROUND(IF(E402=\"\",0,SUM(E$8:E402)),2)","v":0}]
[null,null,null,{"$f":"ROUND(IF(C403=\"\",0,SUM(C$8:C403)),2)","v":0},null,{"$f":"ROUND(IF(E403=\"\",0,SUM(E$8:E403)),2)","v":0}]
[null,null,null,{"$f":"ROUND(IF(C404=\"\",0,SUM(C$8:C404)),2)","v":0},null,{"$f":"ROUND(IF(E404=\"\",0,SUM(E$8:E404)),2)","v":0}]
[null,null,null,{"$f":"ROUND(IF(C405=\"\",0,SUM(C$8:C405)),2)","v":0},null,{"$f":"ROUND(IF(E405=\"\",0,SUM(E$8:E405)),2)","v":0}]
[null,null,null,{"$f":"ROUND(IF(C406=\"\",0,SUM(C$8:C406)),2)","v":0},null,{"$f":"ROUND(IF(E406=\"\",0,SUM(E$8:E406)),2)","v":0}]
[null,null,null,{"$f":"ROUND(IF(C407=\"\",0,SUM(C$8:C407)),2)","v":0},null,{"$f":"ROUND(IF(E407=\"\",0,SUM(E$8:E407)),2)","v":0}]
[null,null,null,{"$f":"ROUND(IF(C408=\"\",0,SUM(C$8:C408)),2)","v":0},null,{"$f":"ROUND(IF(E408=\"\",0,SUM(E$8:E408)),2)","v":0}]
[null,null,null,{"$f":"ROUND(IF(C409=\"\",0,SUM(C$8:C409)),2)","v":0},null,{"$f":"ROUND(IF(E409=\"\",0,SUM(E$8:E409)),2)","v":0}]
[null,null,null,{"$f":"ROUND(IF(C410=\"\",0,SUM(C$8:C410)),2)","v":0},null,{"$f":"ROUND(IF(E410=\"\",0,SUM(E$8:E410)),2)","v":0}]
[null,null,null,{"$f":"ROUND(IF(C411=\"\",0,SUM(C$8:C411)),2)","v":0},null,{"$f":"ROUND(IF(E411=\"\",0,SUM(E$8:E411)),2)","v":0}]
[null,null,null,{"$f":"ROUND(IF(C412=\"\",0,SUM(C$8:C412)),2)","v":0},null,{"$f":"ROUND(IF(E412=\"\",0,SUM(E$8:E412)),2)","v":0}]
[null,null,null,{"$f":"ROUND(IF(C413=\"\",0,SUM(C$8:C413)),2)","v":0},null,{"$f":"ROUND(IF(E413=\"\",0,SUM(E$8:E413)),2)","v":0}]
[null,null,null,{"$f":"ROUND(IF(C414=\"\",0,SUM(C$8:C414)),2)","v":0},null,{"$f":"ROUND(IF(E414=\"\",0,SUM(E$8:E414)),2)","v":0}]
[null,null,null,{"$f":"ROUND(IF(C415=\"\",0,SUM(C$8:C415)),2)","v":0},null,{"$f":"ROUND(IF(E415=\"\",0,SUM(E$8:E415)),2)","v":0}]
[null,null,null,{"$f":"ROUND(IF(C416=\"\",0,SUM(C$8:C416)),2)","v":0},null,{"$f":"ROUND(IF(E416=\"\",0,SUM(E$8:E416)),2)","v":0}]
[null,null,null,{"$f":"ROUND(IF(C417=\"\",0,SUM(C$8:C417)),2)","v":0},null,{"$f":"ROUND(IF(E417=\"\",0,SUM(E$8:E417)),2)","v":0}]
[null,null,null,{"$f":"ROUND(IF(C418=\"\",0,SUM(C$8:C418)),2)","v":0},null,{"$f":"ROUND(IF(E418=\"\",0,SUM(E$8:E418)),2)","v":0}]
[null,null,null,{"$f":"ROUND(IF(C419=\"\",0,SUM(C$8:C419)),2)","v":0},null,{"$f":"ROUND(IF(E419=\"\",0,SUM(E$8:E419)),2)","v":0}]
[null,null,null,{"$f":"ROUND(IF(C420=\"\",0,SUM(C$8:C420)),2)","v":0},null,{"$f":"ROUND(IF(E420=\"\",0,SUM(E$8:E420)),2)","v":0}]
[null,null,null,{"$f":"ROUND(IF(C421=\"\",0,SUM(C$8:C421)),2)","v":0},null,{"$f":"ROUND(IF(E421=\"\",0,SUM(E$8:E421)),2)","v":0}]
[null,null,null,{"$f":"ROUND(IF(C422=\"\",0,SUM(C$8:C422)),2)","v":0},null,{"$f":"ROUND(IF(E422=\"\",0,SUM(E$8:E422)),2)","v":0}]
[null,null,null,{"$f":"ROUND(IF(C423=\"\",0,SUM(C$8:C423)),2)","v":0},null,{"$f":"ROUND(IF(E423=\"\",0,SUM(E$8:E423)),2)","v":0}]
[null,null,null,{"$f":"ROUND(IF(C424=\"\",0,SUM(C$8:C424)),2)","v":0},null,{"$f":"ROUND(IF(E424=\"\",0,SUM(E$8:E424)),2)","v":0}]
[null,null,null,{"$f":"ROUND(IF(C425=\"\",0,SUM(C$8:C425)),2)","v":0},null,{"$f":"ROUND(IF(E425=\"\",0,SUM(E$8:E425)),2)","v":0}]
[null,null,null,{"$f":"ROUND(IF(C426=\"\",0,SUM(C$8:C426)),2)","v":0},null,{"$f":"ROUND(IF(E426=\"\",0,SUM(E$8:E426)),2)","v":0}]
[null,null,null,{"$f":"ROUND(IF(C427=\"\",0,SUM(C$8:C427)),2)","v":0},null,{"$f":"ROUND(IF(E427=\"\",0,SUM(E$8:E427)),2)","v":0}]
[null,null,null,{"$f":"ROUND(IF(C428=\"\",0,SUM(C$8:C428)),2)","v":0},null,{"$f":"ROUND(IF(E428=\"\",0,SUM(E$8:E428)),2)","v":0}]
[null,null,null,{"$f":"ROUND(IF(C429=\"\",0,SUM(C$8:C429)),2)","v":0},null,{"$f":"ROUND(IF(E429=\"\",0,SUM(E$8:E429)),2)","v":0}]
[null,null,null,{"$f":"ROUND(IF(C430=\"\",0,SUM(C$8:C430)),2)","v":0},null,{"$f":"ROUND(IF(E430=\"\",0,SUM(E$8:E430)),2)","v":0}]
[null,null,null,{"$f":"ROUND(IF(C431=\"\",0,SUM(C$8:C431)),2)","v":0},null,{"$f":"ROUND(IF(E431=\"\",0,SUM(E$8:E431)),2)","v":0}]
[null,null,null,{"$f":"ROUND(IF(C432=\"\",0,SUM(C$8:C432)),2)","v":0},null,{"$f":"ROUND(IF(E432=\"\",0,SUM(E$8:E432)),2)","v":0}]
[null,null,null,{"$f":"ROUND(IF(C433=\"\",0,SUM(C$8:C433)),2)","v":0},null,{"$f":"ROUND(IF(E433=\"\",0,SUM(E$8:E433)),2)","v":0}]
[null,null,null,{"$f":"ROUND(IF(C434=\"\",0,SUM(C$8:C434)),2)","v":0},null,{"$f":"ROUND(IF(E434=\"\",0,SUM(E$8:E434)),2)","v":0}]
[null,null,null,{"$f":"ROUND(IF(C435=\"\",0,SUM(C$8:C435)),2)","v":0},null,{"$f":"ROUND(IF(E435=\"\",0,SUM(E$8:E435)),2)","v":0}]
[null,null,null,{"$f":"ROUND(IF(C436=\"\",0,SUM(C$8:C436)),2)","v":0},null,{"$f":"ROUND(IF(E436=\"\",0,SUM(E$8:E436)),2)","v":0}]
[null,null,null,{"$f":"ROUND(IF(C437=\"\",0,SUM(C$8:C437)),2)","v":0},null,{"$f":"ROUND(IF(E437=\"\",0,SUM(E$8:E437)),2)","v":0}]
[null,null,null,{"$f":"ROUND(IF(C438=\"\",0,SUM(C$8:C438)),2)","v":0},null,{"$f":"ROUND(IF(E438=\"\",0,SUM(E$8:E438)),2)","v":0}]
[null,null,null,{"$f":"ROUND(IF(C439=\"\",0,SUM(C$8:C439)),2)","v":0},null,{"$f":"ROUND(IF(E439=\"\",0,SUM(E$8:E439)),2)","v":0}]
[null,null,null,{"$f":"ROUND(IF(C440=\"\",0,SUM(C$8:C440)),2)","v":0},null,{"$f":"ROUND(IF(E440=\"\",0,SUM(E$8:E440)),2)","v":0}]
[null,null,null,{"$f":"ROUND(IF(C441=\"\",0,SUM(C$8:C441)),2)","v":0},null,{"$f":"ROUND(IF(E441=\"\",0,SUM(E$8:E441)),2)","v":0}]
[null,null,null,{"$f":"ROUND(IF(C442=\"\",0,SUM(C$8:C442)),2)","v":0},null,{"$f":"ROUND(IF(E442=\"\",0,SUM(E$8:E442)),2)","v":0}]
[null,null,null,{"$f":"ROUND(IF(C443=\"\",0,SUM(C$8:C443)),2)","v":0},null,{"$f":"ROUND(IF(E443=\"\",0,SUM(E$8:E443)),2)","v":0}]
[null,null,null,{"$f":"ROUND(IF(C444=\"\",0,SUM(C$8:C444)),2)","v":0},null,{"$f":"ROUND(IF(E444=\"\",0,SUM(E$8:E444)),2)","v":0}]
[null,null,null,{"$f":"ROUND(IF(C445=\"\",0,SUM(C$8:C445)),2)","v":0},null,{"$f":"ROUND(IF(E445=\"\",0,SUM(E$8:E445)),2)","v":0}]
[null,null,null,{"$f":"ROUND(IF(C446=\"\",0,SUM(C$8:C446)),2)","v":0},null,{"$f":"ROUND(IF(E446=\"\",0,SUM(E$8:E446)),2)","v":0}]
[null,null,null,{"$f":"ROUND(IF(C447=\"\",0,SUM(C$8:C447)),2)","v":0},null,{"$f":"ROUND(IF(E447=\"\",0,SUM(E$8:E447)),2)","v":0}]
[null,null,null,{"$f":"ROUND(IF(C448=\"\",0,SUM(C$8:C448)),2)","v":0},null,{"$f":"ROUND(IF(E448=\"\",0,SUM(E$8:E448)),2)","v":0}]
[null,null,null,{"$f":"ROUND(IF(C449=\"\",0,SUM(C$8:C449)),2)","v":0},null,{"$f":"ROUND(IF(E449=\"\",0,SUM(E$8:E449)),2)","v":0}]
[null,null,null,{"$f":"ROUND(IF(C450=\"\",0,SUM(C$8:C450)),2)","v":0},null,{"$f":"ROUND(IF(E450=\"\",0,SUM(E$8:E450)),2)","v":0}]
[null,null,null,{"$f":"ROUND(IF(C451=\"\",0,SUM(C$8:C451)),2)","v":0},null,{"$f":"ROUND(IF(E451=\"\",0,SUM(E$8:E451)),2)","v":0}]
[null,null,null,{"$f":"ROUND(IF(C452=\"\",0,SUM(C$8:C452)),2)","v":0},null,{"$f":"ROUND(IF(E452=\"\",0,SUM(E$8:E452)),2)","v":0}]
[null,null,null,{"$f":"ROUND(IF(C453=\"\",0,SUM(C$8:C453)),2)","v":0},null,{"$f":"ROUND(IF(E453=\"\",0,SUM(E$8:E453)),2)","v":0}]
[null,null,null,{"$f":"ROUND(IF(C454=\"\",0,SUM(C$8:C454)),2)","v":0},null,{"$f":"ROUND(IF(E454=\"\",0,SUM(E$8:E454)),2)","v":0}]
[null,null,null,{"$f":"ROUND(IF(C455=\"\",0,SUM(C$8:C455)),2)","v":0},null,{"$f":"ROUND(IF(E455=\"\",0,SUM(E$8:E455)),2)","v":0}]
[null,null,null,{"$f":"ROUND(IF(C456=\"\",0,SUM(C$8:C456)),2)","v":0},null,{"$f":"ROUND(IF(E456=\"\",0,SUM(E$8:E456)),2)","v":0}]
[null,null,null,{"$f":"ROUND(IF(C457=\"\",0,SUM(C$8:C457)),2)","v":0},null,{"$f":"ROUND(IF(E457=\"\",0,SUM(E$8:E457)),2)","v":0}]
[null,null,null,{"$f":"ROUND(IF(C458=\"\",0,SUM(C$8:C458)),2)","v":0},null,{"$f":"ROUND(IF(E458=\"\",0,SUM(E$8:E458)),2)","v":0}]
[null,null,null,{"$f":"ROUND(IF(C459=\"\",0,SUM(C$8:C459)),2)","v":0},null,{"$f":"ROUND(IF(E459=\"\",0,SUM(E$8:E459)),2)","v":0}]
[null,null,null,{"$f":"ROUND(IF(C460=\"\",0,SUM(C$8:C460)),2)","v":0},null,{"$f":"ROUND(IF(E460=\"\",0,SUM(E$8:E460)),2)","v":0}]
[null,null,null,{"$f":"ROUND(IF(C461=\"\",0,SUM(C$8:C461)),2)","v":0},null,{"$f":"ROUND(IF(E461=\"\",0,SUM(E$8:E461)),2)","v":0}]
[null,null,null,{"$f":"ROUND(IF(C462=\"\",0,SUM(C$8:C462)),2)","v":0},null,{"$f":"ROUND(IF(E462=\"\",0,SUM(E$8:E462)),2)","v":0}]
[null,null,null,{"$f":"ROUND(IF(C463=\"\",0,SUM(C$8:C463)),2)","v":0},null,{"$f":"ROUND(IF(E463=\"\",0,SUM(E$8:E463)),2)","v":0}]
[null,null,null,{"$f":"ROUND(IF(C464=\"\",0,SUM(C$8:C464)),2)","v":0},null,{"$f":"ROUND(IF(E464=\"\",0,SUM(E$8:E464)),2)","v":0}]
[null,null,null,{"$f":"ROUND(IF(C465=\"\",0,SUM(C$8:C465)),2)","v":0},null,{"$f":"ROUND(IF(E465=\"\",0,SUM(E$8:E465)),2)","v":0}]
[null,null,null,{"$f":"ROUND(IF(C466=\"\",0,SUM(C$8:C466)),2)","v":0},null,{"$f":"ROUND(IF(E466=\"\",0,SUM(E$8:E466)),2)","v":0}]
[null,null,null,{"$f":"ROUND(IF(C467=\"\",0,SUM(C$8:C467)),2)","v":0},null,{"$f":"ROUND(IF(E467=\"\",0,SUM(E$8:E467)),2)","v":0}]
[null,null,null,{"$f":"ROUND(IF(C468=\"\",0,SUM(C$8:C468)),2)","v":0},null,{"$f":"ROUND(IF(E468=\"\",0,SUM(E$8:E468)),2)","v":0}]
[null,null,null,{"$f":"ROUND(IF(C469=\"\",0,SUM(C$8:C469)),2)","v":0},null,{"$f":"ROUND(IF(E469=\"\",0,SUM(E$8:E469)),2)","v":0}]
[null,null,null,{"$f":"ROUND(IF(C470=\"\",0,SUM(C$8:C470)),2)","v":0},null,{"$f":"ROUND(IF(E470=\"\",0,SUM(E$8:E470)),2)","v":0}]
[null,null,null,{"$f":"ROUND(IF(C471=\"\",0,SUM(C$8:C471)),2)","v":0},null,{"$f":"ROUND(IF(E471=\"\",0,SUM(E$8:E471)),2)","v":0}]
[null,null,null,{"$f":"ROUND(IF(C472=\"\",0,SUM(C$8:C472)),2)","v":0},null,{"$f":"ROUND(IF(E472=\"\",0,SUM(E$8:E472)),2)","v":0}]
[null,null,null,{"$f":"ROUND(IF(C473=\"\",0,SUM(C$8:C473)),2)","v":0},null,{"$f":"ROUND(IF(E473=\"\",0,SUM(E$8:E473)),2)","v":0}]
[null,null,null,{"$f":"ROUND(IF(C474=\"\",0,SUM(C$8:C474)),2)","v":0},null,{"$f":"ROUND(IF(E474=\"\",0,SUM(E$8:E474)),2)","v":0}]
[null,null,null,{"$f":"ROUND(IF(C475=\"\",0,SUM(C$8:C475)),2)","v":0},null,{"$f":"ROUND(IF(E475=\"\",0,SUM(E$8:E475)),2)","v":0}]
[null,null,null,{"$f":"ROUND(IF(C476=\"\",0,SUM(C$8:C476)),2)","v":0},null,{"$f":"ROUND(IF(E476=\"\",0,SUM(E$8:E476)),2)","v":0}]
[null,null,null,{"$f":"ROUND(IF(C477=\"\",0,SUM(C$8:C477)),2)","v":0},null,{"$f":"ROUND(IF(E477=\"\",0,SUM(E$8:E477)),2)","v":0}]
[null,null,null,{"$f":"ROUND(IF(C478=\"\",0,SUM(C$8:C478)),2)","v":0},null,{"$f":"ROUND(IF(E478=\"\",0,SUM(E$8:E478)),2)","v":0}]
[null,null,null,{"$f":"ROUND(IF(C479=\"\",0,SUM(C$8:C479)),2)","v":0},null,{"$f":"ROUND(IF(E479=\"\",0,SUM(E$8:E479)),2)","v":0}]
[null,null,null,{"$f":"ROUND(IF(C480=\"\",0,SUM(C$8:C480)),2)","v":0},null,{"$f":"ROUND(IF(E480=\"\",0,SUM(E$8:E480)),2)","v":0}]
[null,null,null,{"$f":"ROUND(IF(C481=\"\",0,SUM(C$8:C481)),2)","v":0},null,{"$f":"ROUND(IF(E481=\"\",0,SUM(E$8:E481)),2)","v":0}]
[null,null,null,{"$f":"ROUND(IF(C482=\"\",0,SUM(C$8:C482)),2)","v":0},null,{"$f":"ROUND(IF(E482=\"\",0,SUM(E$8:E482)),2)","v":0}]
[null,null,null,{"$f":"ROUND(IF(C483=\"\",0,SUM(C$8:C483)),2)","v":0},null,{"$f":"ROUND(IF(E483=\"\",0,SUM(E$8:E483)),2)","v":0}]
[null,null,null,{"$f":"ROUND(IF(C484=\"\",0,SUM(C$8:C484)),2)","v":0},null,{"$f":"ROUND(IF(E484=\"\",0,SUM(E$8:E484)),2)","v":0}]
[null,null,null,{"$f":"ROUND(IF(C485=\"\",0,SUM(C$8:C485)),2)","v":0},null,{"$f":"ROUND(IF(E485=\"\",0,SUM(E$8:E485)),2)","v":0}]
[null,null,null,{"$f":"ROUND(IF(C486=\"\",0,SUM(C$8:C486)),2)","v":0},null,{"$f":"ROUND(IF(E486=\"\",0,SUM(E$8:E486)),2)","v":0}]
[null,null,null,{"$f":"ROUND(IF(C487=\"\",0,SUM(C$8:C487)),2)","v":0},null,{"$f":"ROUND(IF(E487=\"\",0,SUM(E$8:E487)),2)","v":0}]
[null,null,null,{"$f":"ROUND(IF(C488=\"\",0,SUM(C$8:C488)),2)","v":0},null,{"$f":"ROUND(IF(E488=\"\",0,SUM(E$8:E488)),2)","v":0}]
[null,null,null,{"$f":"ROUND(IF(C489=\"\",0,SUM(C$8:C489)),2)","v":0},null,{"$f":"ROUND(IF(E489=\"\",0,SUM(E$8:E489)),2)","v":0}]
[null,null,null,{"$f":"ROUND(IF(C490=\"\",0,SUM(C$8:C490)),2)","v":0},null,{"$f":"ROUND(IF(E490=\"\",0,SUM(E$8:E490)),2)","v":0}]
[null,null,null,{"$f":"ROUND(IF(C491=\"\",0,SUM(C$8:C491)),2)","v":0},null,{"$f":"ROUND(IF(E491=\"\",0,SUM(E$8:E491)),2)","v":0}]
[null,null,null,{"$f":"ROUND(IF(C492=\"\",0,SUM(C$8:C492)),2)","v":0},null,{"$f":"ROUND(IF(E492=\"\",0,SUM(E$8:E492)),2)","v":0}]
[null,null,null,{"$f":"ROUND(IF(C493=\"\",0,SUM(C$8:C493)),2)","v":0},null,{"$f":"ROUND(IF(E493=\"\",0,SUM(E$8:E493)),2)","v":0}]
[null,null,null,{"$f":"ROUND(IF(C494=\"\",0,SUM(C$8:C494)),2)","v":0},null,{"$f":"ROUND(IF(E494=\"\",0,SUM(E$8:E494)),2)","v":0}]
[null,null,null,{"$f":"ROUND(IF(C495=\"\",0,SUM(C$8:C495)),2)","v":0},null,{"$f":"ROUND(IF(E495=\"\",0,SUM(E$8:E495)),2)","v":0}]
[null,null,null,{"$f":"ROUND(IF(C496=\"\",0,SUM(C$8:C496)),2)","v":0},null,{"$f":"ROUND(IF(E496=\"\",0,SUM(E$8:E496)),2)","v":0}]
[null,null,null,{"$f":"ROUND(IF(C497=\"\",0,SUM(C$8:C497)),2)","v":0},null,{"$f":"ROUND(IF(E497=\"\",0,SUM(E$8:E497)),2)","v":0}]
[null,null,null,{"$f":"ROUND(IF(C498=\"\",0,SUM(C$8:C498)),2)","v":0},null,{"$f":"ROUND(IF(E498=\"\",0,SUM(E$8:E498)),2)","v":0}]
[null,null,null,{"$f":"ROUND(IF(C499=\"\",0,SUM(C$8:C499)),2)","v":0},null,{"$f":"ROUND(IF(E499=\"\",0,SUM(E$8:E499)),2)","v":0}]
[null,null,null,{"$f":"ROUND(IF(C500=\"\",0,SUM(C$8:C500)),2)","v":0},null,{"$f":"ROUND(IF(E500=\"\",0,SUM(E$8:E500)),2)","v":0}]
[null,null,null,{"$f":"ROUND(IF(C501=\"\",0,SUM(C$8:C501)),2)","v":0},null,{"$f":"ROUND(IF(E501=\"\",0,SUM(E$8:E501)),2)","v":0}]
[null,null,null,{"$f":"ROUND(IF(C502=\"\",0,SUM(C$8:C502)),2)","v":0},null,{"$f":"ROUND(IF(E502=\"\",0,SUM(E$8:E502)),2)","v":0}]
[null,null,null,{"$f":"ROUND(IF(C503=\"\",0,SUM(C$8:C503)),2)","v":0},null,{"$f":"ROUND(IF(E503=\"\",0,SUM(E$8:E503)),2)","v":0}]
[null,null,null,{"$f":"ROUND(IF(C504=\"\",0,SUM(C$8:C504)),2)","v":0},null,{"$f":"ROUND(IF(E504=\"\",0,SUM(E$8:E504)),2)","v":0}]
[null,null,null,{"$f":"ROUND(IF(C505=\"\",0,SUM(C$8:C505)),2)","v":0},null,{"$f":"ROUND(IF(E505=\"\",0,SUM(E$8:E505)),2)","v":0}]
[null,null,null,{"$f":"ROUND(IF(C506=\"\",0,SUM(C$8:C506)),2)","v":0},null,{"$f":"ROUND(IF(E506=\"\",0,SUM(E$8:E506)),2)","v":0}]
[null,null,null,{"$f":"ROUND(IF(C507=\"\",0,SUM(C$8:C507)),2)","v":0},null,{"$f":"ROUND(IF(E507=\"\",0,SUM(E$8:E507)),2)","v":0}]
[null,null,null,{"$f":"ROUND(IF(C508=\"\",0,SUM(C$8:C508)),2)","v":0},null,{"$f":"ROUND(IF(E508=\"\",0,SUM(E$8:E508)),2)","v":0}]
[null,null,null,{"$f":"ROUND(IF(C509=\"\",0,SUM(C$8:C509)),2)","v":0},null,{"$f":"ROUND(IF(E509=\"\",0,SUM(E$8:E509)),2)","v":0}]
[null,null,null,{"$f":"ROUND(IF(C510=\"\",0,SUM(C$8:C510)),2)","v":0},null,{"$f":"ROUND(IF(E510=\"\",0,SUM(E$8:E510)),2)","v":0}]
[null,null,null,{"$f":"ROUND(IF(C511=\"\",0,SUM(C$8:C511)),2)","v":0},null,{"$f":"ROUND(IF(E511=\"\",0,SUM(E$8:E511)),2)","v":0}]
[null,null,null,{"$f":"ROUND(IF(C512=\"\",0,SUM(C$8:C512)),2)","v":0},null,{"$f":"ROUND(IF(E512=\"\",0,SUM(E$8:E512)),2)","v":0}]
[null,null,null,{"$f":"ROUND(IF(C513=\"\",0,SUM(C$8:C513)),2)","v":0},null,{"$f":"ROUND(IF(E513=\"\",0,SUM(E$8:E513)),2)","v":0}]
[null,null,null,{"$f":"ROUND(IF(C514=\"\",0,SUM(C$8:C514)),2)","v":0},null,{"$f":"ROUND(IF(E514=\"\",0,SUM(E$8:E514)),2)","v":0}]
[null,null,null,{"$f":"ROUND(IF(C515=\"\",0,SUM(C$8:C515)),2)","v":0},null,{"$f":"ROUND(IF(E515=\"\",0,SUM(E$8:E515)),2)","v":0}]
[null,null,null,{"$f":"ROUND(IF(C516=\"\",0,SUM(C$8:C516)),2)","v":0},null,{"$f":"ROUND(IF(E516=\"\",0,SUM(E$8:E516)),2)","v":0}]
[null,null,null,{"$f":"ROUND(IF(C517=\"\",0,SUM(C$8:C517)),2)","v":0},null,{"$f":"ROUND(IF(E517=\"\",0,SUM(E$8:E517)),2)","v":0}]
[null,null,null,{"$f":"ROUND(IF(C518=\"\",0,SUM(C$8:C518)),2)","v":0},null,{"$f":"ROUND(IF(E518=\"\",0,SUM(E$8:E518)),2)","v":0}]
[null,null,null,{"$f":"ROUND(IF(C519=\"\",0,SUM(C$8:C519)),2)","v":0},null,{"$f":"ROUND(IF(E519=\"\",0,SUM(E$8:E519)),2)","v":0}]
[null,null,null,{"$f":"ROUND(IF(C520=\"\",0,SUM(C$8:C520)),2)","v":0},null,{"$f":"ROUND(IF(E520=\"\",0,SUM(E$8:E520)),2)","v":0}]
[null,null,null,{"$f":"ROUND(IF(C521=\"\",0,SUM(C$8:C521)),2)","v":0},null,{"$f":"ROUND(IF(E521=\"\",0,SUM(E$8:E521)),2)","v":0}]
[null,null,null,{"$f":"ROUND(IF(C522=\"\",0,SUM(C$8:C522)),2)","v":0},null,{"$f":"ROUND(IF(E522=\"\",0,SUM(E$8:E522)),2)","v":0}]
[null,null,null,{"$f":"ROUND(IF(C523=\"\",0,SUM(C$8:C523)),2)","v":0},null,{"$f":"ROUND(IF(E523=\"\",0,SUM(E$8:E523)),2)","v":0}]
[null,null,null,{"$f":"ROUND(IF(C524=\"\",0,SUM(C$8:C524)),2)","v":0},null,{"$f":"ROUND(IF(E524=\"\",0,SUM(E$8:E524)),2)","v":0}]
[null,null,null,{"$f":"ROUND(IF(C525=\"\",0,SUM(C$8:C525)),2)","v":0},null,{"$f":"ROUND(IF(E525=\"\",0,SUM(E$8:E525)),2)","v":0}]
[null,null,null,{"$f":"ROUND(IF(C526=\"\",0,SUM(C$8:C526)),2)","v":0},null,{"$f":"ROUND(IF(E526=\"\",0,SUM(E$8:E526)),2)","v":0}]
[null,null,null,{"$f":"ROUND(IF(C527=\"\",0,SUM(C$8:C527)),2)","v":0},null,{"$f":"ROUND(IF(E527=\"\",0,SUM(E$8:E527)),2)","v":0}]
[null,null,null,{"$f":"ROUND(IF(C528=\"\",0,SUM(C$8:C528)),2)","v":0},null,{"$f":"ROUND(IF(E528=\"\",0,SUM(E$8:E528)),2)","v":0}]
[null,null,null,{"$f":"ROUND(IF(C529=\"\",0,SUM(C$8:C529)),2)","v":0},null,{"$f":"ROUND(IF(E529=\"\",0,SUM(E$8:E529)),2)","v":0}]
[null,null,null,{"$f":"ROUND(IF(C530=\"\",0,SUM(C$8:C530)),2)","v":0},null,{"$f":"ROUND(IF(E530=\"\",0,SUM(E$8:E530)),2)","v":0}]
[null,null,null,{"$f":"ROUND(IF(C531=\"\",0,SUM(C$8:C531)),2)","v":0},null,{"$f":"ROUND(IF(E531=\"\",0,SUM(E$8:E531)),2)","v":0}]
[null,null,null,{"$f":"ROUND(IF(C532=\"\",0,SUM(C$8:C532)),2)","v":0},null,{"$f":"ROUND(IF(E532=\"\",0,SUM(E$8:E532)),2)","v":0}]
[null,null,null,{"$f":"ROUND(IF(C533=\"\",0,SUM(C$8:C533)),2)","v":0},null,{"$f":"ROUND(IF(E533=\"\",0,SUM(E$8:E533)),2)","v":0}]
[null,null,null,{"$f":"ROUND(IF(C534=\"\",0,SUM(C$8:C534)),2)","v":0},null,{"$f":"ROUND(IF(E534=\"\",0,SUM(E$8:E534)),2)","v":0}]
[null,null,null,{"$f":"ROUND(IF(C535=\"\",0,SUM(C$8:C535)),2)","v":0},null,{"$f":"ROUND(IF(E535=\"\",0,SUM(E$8:E535)),2)","v":0}]
[null,null,null,{"$f":"ROUND(IF(C536=\"\",0,SUM(C$8:C536)),2)","v":0},null,{"$f":"ROUND(IF(E536=\"\",0,SUM(E$8:E536)),2)","v":0}]
[null,null,null,{"$f":"ROUND(IF(C537=\"\",0,SUM(C$8:C537)),2)","v":0},null,{"$f":"ROUND(IF(E537=\"\",0,SUM(E$8:E537)),2)","v":0}]
[null,null,null,{"$f":"ROUND(IF(C538=\"\",0,SUM(C$8:C538)),2)","v":0},null,{"$f":"ROUND(IF(E538=\"\",0,SUM(E$8:E538)),2)","v":0}]
[null,null,null,{"$f":"ROUND(IF(C539=\"\",0,SUM(C$8:C539)),2)","v":0},null,{"$f":"ROUND(IF(E539=\"\",0,SUM(E$8:E539)),2)","v":0}]
[null,null,null,{"$f":"ROUND(IF(C540=\"\",0,SUM(C$8:C540)),2)","v":0},null,{"$f":"ROUND(IF(E540=\"\",0,SUM(E$8:E540)),2)","v":0}]
[null,null,null,{"$f":"ROUND(IF(C541=\"\",0,SUM(C$8:C541)),2)","v":0},null,{"$f":"ROUND(IF(E541=\"\",0,SUM(E$8:E541)),2)","v":0}]
[null,null,null,{"$f":"ROUND(IF(C542=\"\",0,SUM(C$8:C542)),2)","v":0},null,{"$f":"ROUND(IF(E542=\"\",0,SUM(E$8:E542)),2)","v":0}]
[null,null,null,{"$f":"ROUND(IF(C543=\"\",0,SUM(C$8:C543)),2)","v":0},null,{"$f":"ROUND(IF(E543=\"\",0,SUM(E$8:E543)),2)","v":0}]
[null,null,null,{"$f":"ROUND(IF(C544=\"\",0,SUM(C$8:C544)),2)","v":0},null,{"$f":"ROUND(IF(E544=\"\",0,SUM(E$8:E544)),2)","v":0}]
[null,null,null,{"$f":"ROUND(IF(C545=\"\",0,SUM(C$8:C545)),2)","v":0},null,{"$f":"ROUND(IF(E545=\"\",0,SUM(E$8:E545)),2)","v":0}]
[null,null,null,{"$f":"ROUND(IF(C546=\"\",0,SUM(C$8:C546)),2)","v":0},null,{"$f":"ROUND(IF(E546=\"\",0,SUM(E$8:E546)),2)","v":0}]
[null,null,null,{"$f":"ROUND(IF(C547=\"\",0,SUM(C$8:C547)),2)","v":0},null,{"$f":"ROUND(IF(E547=\"\",0,SUM(E$8:E547)),2)","v":0}]
[null,null,null,{"$f":"ROUND(IF(C548=\"\",0,SUM(C$8:C548)),2)","v":0},null,{"$f":"ROUND(IF(E548=\"\",0,SUM(E$8:E548)),2)","v":0}]
[null,null,null,{"$f":"ROUND(IF(C549=\"\",0,SUM(C$8:C549)),2)","v":0},null,{"$f":"ROUND(IF(E549=\"\",0,SUM(E$8:E549)),2)","v":0}]
[null,null,null,{"$f":"ROUND(IF(C550=\"\",0,SUM(C$8:C550)),2)","v":0},null,{"$f":"ROUND(IF(E550=\"\",0,SUM(E$8:E550)),2)","v":0}]
[null,null,null,{"$f":"ROUND(IF(C551=\"\",0,SUM(C$8:C551)),2)","v":0},null,{"$f":"ROUND(IF(E551=\"\",0,SUM(E$8:E551)),2)","v":0}]
[null,null,null,{"$f":"ROUND(IF(C552=\"\",0,SUM(C$8:C552)),2)","v":0},null,{"$f":"ROUND(IF(E552=\"\",0,SUM(E$8:E552)),2)","v":0}]
[null,null,null,{"$f":"ROUND(IF(C553=\"\",0,SUM(C$8:C553)),2)","v":0},null,{"$f":"ROUND(IF(E553=\"\",0,SUM(E$8:E553)),2)","v":0}]
[null,null,null,{"$f":"ROUND(IF(C554=\"\",0,SUM(C$8:C554)),2)","v":0},null,{"$f":"ROUND(IF(E554=\"\",0,SUM(E$8:E554)),2)","v":0}]
[null,null,null,{"$f":"ROUND(IF(C555=\"\",0,SUM(C$8:C555)),2)","v":0},null,{"$f":"ROUND(IF(E555=\"\",0,SUM(E$8:E555)),2)","v":0}]
[null,null,null,{"$f":"ROUND(IF(C556=\"\",0,SUM(C$8:C556)),2)","v":0},null,{"$f":"ROUND(IF(E556=\"\",0,SUM(E$8:E556)),2)","v":0}]
[null,null,null,{"$f":"ROUND(IF(C557=\"\",0,SUM(C$8:C557)),2)","v":0},null,{"$f":"ROUND(IF(E557=\"\",0,SUM(E$8:E557)),2)","v":0}]
[null,null,null,{"$f":"ROUND(IF(C558=\"\",0,SUM(C$8:C558)),2)","v":0},null,{"$f":"ROUND(IF(E558=\"\",0,SUM(E$8:E558)),2)","v":0}]
[null,null,null,{"$f":"ROUND(IF(C559=\"\",0,SUM(C$8:C559)),2)","v":0},null,{"$f":"ROUND(IF(E559=\"\",0,SUM(E$8:E559)),2)","v":0}]
[null,null,null,{"$f":"ROUND(IF(C560=\"\",0,SUM(C$8:C560)),2)","v":0},null,{"$f":"ROUND(IF(E560=\"\",0,SUM(E$8:E560)),2)","v":0}]
[null,null,null,{"$f":"ROUND(IF(C561=\"\",0,SUM(C$8:C561)),2)","v":0},null,{"$f":"ROUND(IF(E561=\"\",0,SUM(E$8:E561)),2)","v":0}]
[null,null,null,{"$f":"ROUND(IF(C562=\"\",0,SUM(C$8:C562)),2)","v":0},null,{"$f":"ROUND(IF(E562=\"\",0,SUM(E$8:E562)),2)","v":0}]
[null,null,null,{"$f":"ROUND(IF(C563=\"\",0,SUM(C$8:C563)),2)","v":0},null,{"$f":"ROUND(IF(E563=\"\",0,SUM(E$8:E563)),2)","v":0}]
[null,null,null,{"$f":"ROUND(IF(C564=\"\",0,SUM(C$8:C564)),2)","v":0},null,{"$f":"ROUND(IF(E564=\"\",0,SUM(E$8:E564)),2)","v":0}]
[null,null,null,{"$f":"ROUND(IF(C565=\"\",0,SUM(C$8:C565)),2)","v":0},null,{"$f":"ROUND(IF(E565=\"\",0,SUM(E$8:E565)),2)","v":0}]
[null,null,null,{"$f":"ROUND(IF(C566=\"\",0,SUM(C$8:C566)),2)","v":0},null,{"$f":"ROUND(IF(E566=\"\",0,SUM(E$8:E566)),2)","v":0}]
[null,null,null,{"$f":"ROUND(IF(C567=\"\",0,SUM(C$8:C567)),2)","v":0},null,{"$f":"ROUND(IF(E567=\"\",0,SUM(E$8:E567)),2)","v":0}]
[null,null,null,{"$f":"ROUND(IF(C568=\"\",0,SUM(C$8:C568)),2)","v":0},null,{"$f":"ROUND(IF(E568=\"\",0,SUM(E$8:E568)),2)","v":0}]
[null,null,null,{"$f":"ROUND(IF(C569=\"\",0,SUM(C$8:C569)),2)","v":0},null,{"$f":"ROUND(IF(E569=\"\",0,SUM(E$8:E569)),2)","v":0}]
[null,null,null,{"$f":"ROUND(IF(C570=\"\",0,SUM(C$8:C570)),2)","v":0},null,{"$f":"ROUND(IF(E570=\"\",0,SUM(E$8:E570)),2)","v":0}]
[null,null,null,{"$f":"ROUND(IF(C571=\"\",0,SUM(C$8:C571)),2)","v":0},null,{"$f":"ROUND(IF(E571=\"\",0,SUM(E$8:E571)),2)","v":0}]
[null,null,null,{"$f":"ROUND(IF(C572=\"\",0,SUM(C$8:C572)),2)","v":0},null,{"$f":"ROUND(IF(E572=\"\",0,SUM(E$8:E572)),2)","v":0}]
[null,null,null,{"$f":"ROUND(IF(C573=\"\",0,SUM(C$8:C573)),2)","v":0},null,{"$f":"ROUND(IF(E573=\"\",0,SUM(E$8:E573)),2)","v":0}]
[null,null,null,{"$f":"ROUND(IF(C574=\"\",0,SUM(C$8:C574)),2)","v":0},null,{"$f":"ROUND(IF(E574=\"\",0,SUM(E$8:E574)),2)","v":0}]
[null,null,null,{"$f":"ROUND(IF(C575=\"\",0,SUM(C$8:C575)),2)","v":0},null,{"$f":"ROUND(IF(E575=\"\",0,SUM(E$8:E575)),2)","v":0}]
[null,null,null,{"$f":"ROUND(IF(C576=\"\",0,SUM(C$8:C576)),2)","v":0},null,{"$f":"ROUND(IF(E576=\"\",0,SUM(E$8:E576)),2)","v":0}]
[null,null,null,{"$f":"ROUND(IF(C577=\"\",0,SUM(C$8:C577)),2)","v":0},null,{"$f":"ROUND(IF(E577=\"\",0,SUM(E$8:E577)),2)","v":0}]
[null,null,null,{"$f":"ROUND(IF(C578=\"\",0,SUM(C$8:C578)),2)","v":0},null,{"$f":"ROUND(IF(E578=\"\",0,SUM(E$8:E578)),2)","v":0}]
[null,null,null,{"$f":"ROUND(IF(C579=\"\",0,SUM(C$8:C579)),2)","v":0},null,{"$f":"ROUND(IF(E579=\"\",0,SUM(E$8:E579)),2)","v":0}]
[null,null,null,{"$f":"ROUND(IF(C580=\"\",0,SUM(C$8:C580)),2)","v":0},null,{"$f":"ROUND(IF(E580=\"\",0,SUM(E$8:E580)),2)","v":0}]
[null,null,null,{"$f":"ROUND(IF(C581=\"\",0,SUM(C$8:C581)),2)","v":0},null,{"$f":"ROUND(IF(E581=\"\",0,SUM(E$8:E581)),2)","v":0}]
[null,null,null,{"$f":"ROUND(IF(C582=\"\",0,SUM(C$8:C582)),2)","v":0},null,{"$f":"ROUND(IF(E582=\"\",0,SUM(E$8:E582)),2)","v":0}]
[null,null,null,{"$f":"ROUND(IF(C583=\"\",0,SUM(C$8:C583)),2)","v":0},null,{"$f":"ROUND(IF(E583=\"\",0,SUM(E$8:E583)),2)","v":0}]
[null,null,null,{"$f":"ROUND(IF(C584=\"\",0,SUM(C$8:C584)),2)","v":0},null,{"$f":"ROUND(IF(E584=\"\",0,SUM(E$8:E584)),2)","v":0}]
[null,null,null,{"$f":"ROUND(IF(C585=\"\",0,SUM(C$8:C585)),2)","v":0},null,{"$f":"ROUND(IF(E585=\"\",0,SUM(E$8:E585)),2)","v":0}]
[null,null,null,{"$f":"ROUND(IF(C586=\"\",0,SUM(C$8:C586)),2)","v":0},null,{"$f":"ROUND(IF(E586=\"\",0,SUM(E$8:E586)),2)","v":0}]
[null,null,null,{"$f":"ROUND(IF(C587=\"\",0,SUM(C$8:C587)),2)","v":0},null,{"$f":"ROUND(IF(E587=\"\",0,SUM(E$8:E587)),2)","v":0}]
[null,null,null,{"$f":"ROUND(IF(C588=\"\",0,SUM(C$8:C588)),2)","v":0},null,{"$f":"ROUND(IF(E588=\"\",0,SUM(E$8:E588)),2)","v":0}]
[null,null,null,{"$f":"ROUND(IF(C589=\"\",0,SUM(C$8:C589)),2)","v":0},null,{"$f":"ROUND(IF(E589=\"\",0,SUM(E$8:E589)),2)","v":0}]
[null,null,null,{"$f":"ROUND(IF(C590=\"\",0,SUM(C$8:C590)),2)","v":0},null,{"$f":"ROUND(IF(E590=\"\",0,SUM(E$8:E590)),2)","v":0}]
[null,null,null,{"$f":"ROUND(IF(C591=\"\",0,SUM(C$8:C591)),2)","v":0},null,{"$f":"ROUND(IF(E591=\"\",0,SUM(E$8:E591)),2)","v":0}]
[null,null,null,{"$f":"ROUND(IF(C592=\"\",0,SUM(C$8:C592)),2)","v":0},null,{"$f":"ROUND(IF(E592=\"\",0,SUM(E$8:E592)),2)","v":0}]
[null,null,null,{"$f":"ROUND(IF(C593=\"\",0,SUM(C$8:C593)),2)","v":0},null,{"$f":"ROUND(IF(E593=\"\",0,SUM(E$8:E593)),2)","v":0}]
[null,null,null,{"$f":"ROUND(IF(C594=\"\",0,SUM(C$8:C594)),2)","v":0},null,{"$f":"ROUND(IF(E594=\"\",0,SUM(E$8:E594)),2)","v":0}]
[null,null,null,{"$f":"ROUND(IF(C595=\"\",0,SUM(C$8:C595)),2)","v":0},null,{"$f":"ROUND(IF(E595=\"\",0,SUM(E$8:E595)),2)","v":0}]
[null,null,null,{"$f":"ROUND(IF(C596=\"\",0,SUM(C$8:C596)),2)","v":0},null,{"$f":"ROUND(IF(E596=\"\",0,SUM(E$8:E596)),2)","v":0}]
[null,null,null,{"$f":"ROUND(IF(C597=\"\",0,SUM(C$8:C597)),2)","v":0},null,{"$f":"ROUND(IF(E597=\"\",0,SUM(E$8:E597)),2)","v":0}]
[null,null,null,{"$f":"ROUND(IF(C598=\"\",0,SUM(C$8:C598)),2)","v":0},null,{"$f":"ROUND(IF(E598=\"\",0,SUM(E$8:E598)),2)","v":0}]
[null,null,null,{"$f":"ROUND(IF(C599=\"\",0,SUM(C$8:C599)),2)","v":0},null,{"$f":"ROUND(IF(E599=\"\",0,SUM(E$8:E599)),2)","v":0}]
[null,null,null,{"$f":"ROUND(IF(C600=\"\",0,SUM(C$8:C600)),2)","v":0},null,{"$f":"ROUND(IF(E600=\"\",0,SUM(E$8:E600)),2)","v":0}]
[null,null,null,{"$f":"ROUND(IF(C601=\"\",0,SUM(C$8:C601)),2)","v":0},null,{"$f":"ROUND(IF(E601=\"\",0,SUM(E$8:E601)),2)","v":0}]
[null,null,null,{"$f":"ROUND(IF(C602=\"\",0,SUM(C$8:C602)),2)","v":0},null,{"$f":"ROUND(IF(E602=\"\",0,SUM(E$8:E602)),2)","v":0}]
[null,null,null,{"$f":"ROUND(IF(C603=\"\",0,SUM(C$8:C603)),2)","v":0},null,{"$f":"ROUND(IF(E603=\"\",0,SUM(E$8:E603)),2)","v":0}]
[null,null,null,{"$f":"ROUND(IF(C604=\"\",0,SUM(C$8:C604)),2)","v":0},null,{"$f":"ROUND(IF(E604=\"\",0,SUM(E$8:E604)),2)","v":0}]
[null,null,null,{"$f":"ROUND(IF(C605=\"\",0,SUM(C$8:C605)),2)","v":0},null,{"$f":"ROUND(IF(E605=\"\",0,SUM(E$8:E605)),2)","v":0}]
[null,null,null,{"$f":"ROUND(IF(C606=\"\",0,SUM(C$8:C606)),2)","v":0},null,{"$f":"ROUND(IF(E606=\"\",0,SUM(E$8:E606)),2)","v":0}]
[null,null,null,{"$f":"SUM(C607)","v":0},null,{"$f":"SUM(E607)","v":0}]

{"sheet":"Fly Ash 3","index":8,"n_rows":607,"n_cols":9,"rows_kept":607,"cut":false,"hidden":false,"merged":[]}
["Fly  Ash  3  Shipments",null,null,null,null,null,null,null,{"$f":"Info!B2","v":"E"}]
["Spec. Grav.: ",{"$f":"IF(AND(Info!B32=\"\", Info!C32=\"\"),\"\", IF(Info!B32<>\"\", Info!B32, Info!C32))","v":""},null,null,null,null,"Page No.: "]
["Source: ",{"$f":"IF(AND(Info!B30=\"\", Info!C30=\"\"),\"\", IF(Info!B30<>\"\", Info!B30, Info!C30))","v":""},null,null,null,null,"Type: ",{"$f":"IF(AND(Info!B31=\"\", Info!C31=\"\"),\"\", IF(Info!B31<>\"\", Info!B31, Info!C31))","v":""}]
["Project No.: ",{"$f":"IF(Info!B3=\"\",\"\",(Info!B3))","v":""},null,null,null,null,"Contract ID.: ",{"$f":"IF(Info!B4=\"\",\"\",(Info!B4))","v":""}]
[]
[null,"Ticket","Certified","To  Date","Used","To  Date",null,null," "]
["Date","No.",{"$f":"IF(Info!$B$2=\"M\",\"(Mg's)\",\"(Tons)\")","v":"(Tons)"},{"$f":"IF(Info!$B$2=\"M\",\"(Mg's)\",\"(Tons)\")","v":"(Tons)"},{"$f":"IF(Info!$B$2=\"M\",\"(Mg's)\",\"(Tons)\")","v":"(Tons)"},{"$f":"IF(Info!$B$2=\"M\",\"(Mg's)\",\"(Tons)\")","v":"(Tons)"},"Remarks",null,"By"]
[null,null,null,{"$f":"SUM(C8)","v":0},null,{"$f":"SUM(E8)","v":0}]
[null,null,null,{"$f":"ROUND(IF(C9=\"\",0,SUM(C$8:C9)),2)","v":0},null,{"$f":"ROUND(IF(E9=\"\",0,SUM(E$8:E9)),2)","v":0}]
[null,null,null,{"$f":"ROUND(IF(C10=\"\",0,SUM(C$8:C10)),2)","v":0},null,{"$f":"ROUND(IF(E10=\"\",0,SUM(E$8:E10)),2)","v":0}]
[null,null,null,{"$f":"ROUND(IF(C11=\"\",0,SUM(C$8:C11)),2)","v":0},null,{"$f":"ROUND(IF(E11=\"\",0,SUM(E$8:E11)),2)","v":0}]
[null,null,null,{"$f":"ROUND(IF(C12=\"\",0,SUM(C$8:C12)),2)","v":0},null,{"$f":"ROUND(IF(E12=\"\",0,SUM(E$8:E12)),2)","v":0}]
[null,null,null,{"$f":"ROUND(IF(C13=\"\",0,SUM(C$8:C13)),2)","v":0},null,{"$f":"ROUND(IF(E13=\"\",0,SUM(E$8:E13)),2)","v":0}]
[null,null,null,{"$f":"ROUND(IF(C14=\"\",0,SUM(C$8:C14)),2)","v":0},null,{"$f":"ROUND(IF(E14=\"\",0,SUM(E$8:E14)),2)","v":0}]
[null,null,null,{"$f":"ROUND(IF(C15=\"\",0,SUM(C$8:C15)),2)","v":0},null,{"$f":"ROUND(IF(E15=\"\",0,SUM(E$8:E15)),2)","v":0}]
[null,null,null,{"$f":"ROUND(IF(C16=\"\",0,SUM(C$8:C16)),2)","v":0},null,{"$f":"ROUND(IF(E16=\"\",0,SUM(E$8:E16)),2)","v":0}]
[null,null,null,{"$f":"ROUND(IF(C17=\"\",0,SUM(C$8:C17)),2)","v":0},null,{"$f":"ROUND(IF(E17=\"\",0,SUM(E$8:E17)),2)","v":0}]
[null,null,null,{"$f":"ROUND(IF(C18=\"\",0,SUM(C$8:C18)),2)","v":0},null,{"$f":"ROUND(IF(E18=\"\",0,SUM(E$8:E18)),2)","v":0}]
[null,null,null,{"$f":"ROUND(IF(C19=\"\",0,SUM(C$8:C19)),2)","v":0},null,{"$f":"ROUND(IF(E19=\"\",0,SUM(E$8:E19)),2)","v":0}]
[null,null,null,{"$f":"ROUND(IF(C20=\"\",0,SUM(C$8:C20)),2)","v":0},null,{"$f":"ROUND(IF(E20=\"\",0,SUM(E$8:E20)),2)","v":0}]
[null,null,null,{"$f":"ROUND(IF(C21=\"\",0,SUM(C$8:C21)),2)","v":0},null,{"$f":"ROUND(IF(E21=\"\",0,SUM(E$8:E21)),2)","v":0}]
[null,null,null,{"$f":"ROUND(IF(C22=\"\",0,SUM(C$8:C22)),2)","v":0},null,{"$f":"ROUND(IF(E22=\"\",0,SUM(E$8:E22)),2)","v":0}]
[null,null,null,{"$f":"ROUND(IF(C23=\"\",0,SUM(C$8:C23)),2)","v":0},null,{"$f":"ROUND(IF(E23=\"\",0,SUM(E$8:E23)),2)","v":0}]
[null,null,null,{"$f":"ROUND(IF(C24=\"\",0,SUM(C$8:C24)),2)","v":0},null,{"$f":"ROUND(IF(E24=\"\",0,SUM(E$8:E24)),2)","v":0}]
[null,null,null,{"$f":"ROUND(IF(C25=\"\",0,SUM(C$8:C25)),2)","v":0},null,{"$f":"ROUND(IF(E25=\"\",0,SUM(E$8:E25)),2)","v":0}]
[null,null,null,{"$f":"ROUND(IF(C26=\"\",0,SUM(C$8:C26)),2)","v":0},null,{"$f":"ROUND(IF(E26=\"\",0,SUM(E$8:E26)),2)","v":0}]
[null,null,null,{"$f":"ROUND(IF(C27=\"\",0,SUM(C$8:C27)),2)","v":0},null,{"$f":"ROUND(IF(E27=\"\",0,SUM(E$8:E27)),2)","v":0}]
[null,null,null,{"$f":"ROUND(IF(C28=\"\",0,SUM(C$8:C28)),2)","v":0},null,{"$f":"ROUND(IF(E28=\"\",0,SUM(E$8:E28)),2)","v":0}]
[null,null,null,{"$f":"ROUND(IF(C29=\"\",0,SUM(C$8:C29)),2)","v":0},null,{"$f":"ROUND(IF(E29=\"\",0,SUM(E$8:E29)),2)","v":0}]
[null,null,null,{"$f":"ROUND(IF(C30=\"\",0,SUM(C$8:C30)),2)","v":0},null,{"$f":"ROUND(IF(E30=\"\",0,SUM(E$8:E30)),2)","v":0}]
[null,null,null,{"$f":"ROUND(IF(C31=\"\",0,SUM(C$8:C31)),2)","v":0},null,{"$f":"ROUND(IF(E31=\"\",0,SUM(E$8:E31)),2)","v":0}]
[null,null,null,{"$f":"ROUND(IF(C32=\"\",0,SUM(C$8:C32)),2)","v":0},null,{"$f":"ROUND(IF(E32=\"\",0,SUM(E$8:E32)),2)","v":0}]
[null,null,null,{"$f":"ROUND(IF(C33=\"\",0,SUM(C$8:C33)),2)","v":0},null,{"$f":"ROUND(IF(E33=\"\",0,SUM(E$8:E33)),2)","v":0}]
[null,null,null,{"$f":"ROUND(IF(C34=\"\",0,SUM(C$8:C34)),2)","v":0},null,{"$f":"ROUND(IF(E34=\"\",0,SUM(E$8:E34)),2)","v":0}]
[null,null,null,{"$f":"ROUND(IF(C35=\"\",0,SUM(C$8:C35)),2)","v":0},null,{"$f":"ROUND(IF(E35=\"\",0,SUM(E$8:E35)),2)","v":0}]
[null,null,null,{"$f":"ROUND(IF(C36=\"\",0,SUM(C$8:C36)),2)","v":0},null,{"$f":"ROUND(IF(E36=\"\",0,SUM(E$8:E36)),2)","v":0}]
[null,null,null,{"$f":"ROUND(IF(C37=\"\",0,SUM(C$8:C37)),2)","v":0},null,{"$f":"ROUND(IF(E37=\"\",0,SUM(E$8:E37)),2)","v":0}]
[null,null,null,{"$f":"ROUND(IF(C38=\"\",0,SUM(C$8:C38)),2)","v":0},null,{"$f":"ROUND(IF(E38=\"\",0,SUM(E$8:E38)),2)","v":0}]
[null,null,null,{"$f":"ROUND(IF(C39=\"\",0,SUM(C$8:C39)),2)","v":0},null,{"$f":"ROUND(IF(E39=\"\",0,SUM(E$8:E39)),2)","v":0}]
[null,null,null,{"$f":"ROUND(IF(C40=\"\",0,SUM(C$8:C40)),2)","v":0},null,{"$f":"ROUND(IF(E40=\"\",0,SUM(E$8:E40)),2)","v":0}]
[null,null,null,{"$f":"ROUND(IF(C41=\"\",0,SUM(C$8:C41)),2)","v":0},null,{"$f":"ROUND(IF(E41=\"\",0,SUM(E$8:E41)),2)","v":0}]
[null,null,null,{"$f":"ROUND(IF(C42=\"\",0,SUM(C$8:C42)),2)","v":0},null,{"$f":"ROUND(IF(E42=\"\",0,SUM(E$8:E42)),2)","v":0}]
[null,null,null,{"$f":"ROUND(IF(C43=\"\",0,SUM(C$8:C43)),2)","v":0},null,{"$f":"ROUND(IF(E43=\"\",0,SUM(E$8:E43)),2)","v":0}]
[null,null,null,{"$f":"ROUND(IF(C44=\"\",0,SUM(C$8:C44)),2)","v":0},null,{"$f":"ROUND(IF(E44=\"\",0,SUM(E$8:E44)),2)","v":0}]
[null,null,null,{"$f":"ROUND(IF(C45=\"\",0,SUM(C$8:C45)),2)","v":0},null,{"$f":"ROUND(IF(E45=\"\",0,SUM(E$8:E45)),2)","v":0}]
[null,null,null,{"$f":"ROUND(IF(C46=\"\",0,SUM(C$8:C46)),2)","v":0},null,{"$f":"ROUND(IF(E46=\"\",0,SUM(E$8:E46)),2)","v":0}]
[null,null,null,{"$f":"ROUND(IF(C47=\"\",0,SUM(C$8:C47)),2)","v":0},null,{"$f":"ROUND(IF(E47=\"\",0,SUM(E$8:E47)),2)","v":0}]
[null,null,null,{"$f":"ROUND(IF(C48=\"\",0,SUM(C$8:C48)),2)","v":0},null,{"$f":"ROUND(IF(E48=\"\",0,SUM(E$8:E48)),2)","v":0}]
[null,null,null,{"$f":"ROUND(IF(C49=\"\",0,SUM(C$8:C49)),2)","v":0},null,{"$f":"ROUND(IF(E49=\"\",0,SUM(E$8:E49)),2)","v":0}]
[null,null,null,{"$f":"ROUND(IF(C50=\"\",0,SUM(C$8:C50)),2)","v":0},null,{"$f":"ROUND(IF(E50=\"\",0,SUM(E$8:E50)),2)","v":0}]
[null,null,null,{"$f":"ROUND(IF(C51=\"\",0,SUM(C$8:C51)),2)","v":0},null,{"$f":"ROUND(IF(E51=\"\",0,SUM(E$8:E51)),2)","v":0}]
[null,null,null,{"$f":"ROUND(IF(C52=\"\",0,SUM(C$8:C52)),2)","v":0},null,{"$f":"ROUND(IF(E52=\"\",0,SUM(E$8:E52)),2)","v":0}]
[null,null,null,{"$f":"ROUND(IF(C53=\"\",0,SUM(C$8:C53)),2)","v":0},null,{"$f":"ROUND(IF(E53=\"\",0,SUM(E$8:E53)),2)","v":0}]
[null,null,null,{"$f":"ROUND(IF(C54=\"\",0,SUM(C$8:C54)),2)","v":0},null,{"$f":"ROUND(IF(E54=\"\",0,SUM(E$8:E54)),2)","v":0}]
[null,null,null,{"$f":"ROUND(IF(C55=\"\",0,SUM(C$8:C55)),2)","v":0},null,{"$f":"ROUND(IF(E55=\"\",0,SUM(E$8:E55)),2)","v":0}]
[null,null,null,{"$f":"ROUND(IF(C56=\"\",0,SUM(C$8:C56)),2)","v":0},null,{"$f":"ROUND(IF(E56=\"\",0,SUM(E$8:E56)),2)","v":0}]
[null,null,null,{"$f":"ROUND(IF(C57=\"\",0,SUM(C$8:C57)),2)","v":0},null,{"$f":"ROUND(IF(E57=\"\",0,SUM(E$8:E57)),2)","v":0}]
[null,null,null,{"$f":"ROUND(IF(C58=\"\",0,SUM(C$8:C58)),2)","v":0},null,{"$f":"ROUND(IF(E58=\"\",0,SUM(E$8:E58)),2)","v":0}]
[null,null,null,{"$f":"ROUND(IF(C59=\"\",0,SUM(C$8:C59)),2)","v":0},null,{"$f":"ROUND(IF(E59=\"\",0,SUM(E$8:E59)),2)","v":0}]
[null,null,null,{"$f":"ROUND(IF(C60=\"\",0,SUM(C$8:C60)),2)","v":0},null,{"$f":"ROUND(IF(E60=\"\",0,SUM(E$8:E60)),2)","v":0}]
[null,null,null,{"$f":"ROUND(IF(C61=\"\",0,SUM(C$8:C61)),2)","v":0},null,{"$f":"ROUND(IF(E61=\"\",0,SUM(E$8:E61)),2)","v":0}]
[null,null,null,{"$f":"ROUND(IF(C62=\"\",0,SUM(C$8:C62)),2)","v":0},null,{"$f":"ROUND(IF(E62=\"\",0,SUM(E$8:E62)),2)","v":0}]
[null,null,null,{"$f":"ROUND(IF(C63=\"\",0,SUM(C$8:C63)),2)","v":0},null,{"$f":"ROUND(IF(E63=\"\",0,SUM(E$8:E63)),2)","v":0}]
[null,null,null,{"$f":"ROUND(IF(C64=\"\",0,SUM(C$8:C64)),2)","v":0},null,{"$f":"ROUND(IF(E64=\"\",0,SUM(E$8:E64)),2)","v":0}]
[null,null,null,{"$f":"ROUND(IF(C65=\"\",0,SUM(C$8:C65)),2)","v":0},null,{"$f":"ROUND(IF(E65=\"\",0,SUM(E$8:E65)),2)","v":0}]
[null,null,null,{"$f":"ROUND(IF(C66=\"\",0,SUM(C$8:C66)),2)","v":0},null,{"$f":"ROUND(IF(E66=\"\",0,SUM(E$8:E66)),2)","v":0}]
[null,null,null,{"$f":"ROUND(IF(C67=\"\",0,SUM(C$8:C67)),2)","v":0},null,{"$f":"ROUND(IF(E67=\"\",0,SUM(E$8:E67)),2)","v":0}]
[null,null,null,{"$f":"ROUND(IF(C68=\"\",0,SUM(C$8:C68)),2)","v":0},null,{"$f":"ROUND(IF(E68=\"\",0,SUM(E$8:E68)),2)","v":0}]
[null,null,null,{"$f":"ROUND(IF(C69=\"\",0,SUM(C$8:C69)),2)","v":0},null,{"$f":"ROUND(IF(E69=\"\",0,SUM(E$8:E69)),2)","v":0}]
[null,null,null,{"$f":"ROUND(IF(C70=\"\",0,SUM(C$8:C70)),2)","v":0},null,{"$f":"ROUND(IF(E70=\"\",0,SUM(E$8:E70)),2)","v":0}]
[null,null,null,{"$f":"ROUND(IF(C71=\"\",0,SUM(C$8:C71)),2)","v":0},null,{"$f":"ROUND(IF(E71=\"\",0,SUM(E$8:E71)),2)","v":0}]
[null,null,null,{"$f":"ROUND(IF(C72=\"\",0,SUM(C$8:C72)),2)","v":0},null,{"$f":"ROUND(IF(E72=\"\",0,SUM(E$8:E72)),2)","v":0}]
[null,null,null,{"$f":"ROUND(IF(C73=\"\",0,SUM(C$8:C73)),2)","v":0},null,{"$f":"ROUND(IF(E73=\"\",0,SUM(E$8:E73)),2)","v":0}]
[null,null,null,{"$f":"ROUND(IF(C74=\"\",0,SUM(C$8:C74)),2)","v":0},null,{"$f":"ROUND(IF(E74=\"\",0,SUM(E$8:E74)),2)","v":0}]
[null,null,null,{"$f":"ROUND(IF(C75=\"\",0,SUM(C$8:C75)),2)","v":0},null,{"$f":"ROUND(IF(E75=\"\",0,SUM(E$8:E75)),2)","v":0}]
[null,null,null,{"$f":"ROUND(IF(C76=\"\",0,SUM(C$8:C76)),2)","v":0},null,{"$f":"ROUND(IF(E76=\"\",0,SUM(E$8:E76)),2)","v":0}]
[null,null,null,{"$f":"ROUND(IF(C77=\"\",0,SUM(C$8:C77)),2)","v":0},null,{"$f":"ROUND(IF(E77=\"\",0,SUM(E$8:E77)),2)","v":0}]
[null,null,null,{"$f":"ROUND(IF(C78=\"\",0,SUM(C$8:C78)),2)","v":0},null,{"$f":"ROUND(IF(E78=\"\",0,SUM(E$8:E78)),2)","v":0}]
[null,null,null,{"$f":"ROUND(IF(C79=\"\",0,SUM(C$8:C79)),2)","v":0},null,{"$f":"ROUND(IF(E79=\"\",0,SUM(E$8:E79)),2)","v":0}]
[null,null,null,{"$f":"ROUND(IF(C80=\"\",0,SUM(C$8:C80)),2)","v":0},null,{"$f":"ROUND(IF(E80=\"\",0,SUM(E$8:E80)),2)","v":0}]
[null,null,null,{"$f":"ROUND(IF(C81=\"\",0,SUM(C$8:C81)),2)","v":0},null,{"$f":"ROUND(IF(E81=\"\",0,SUM(E$8:E81)),2)","v":0}]
[null,null,null,{"$f":"ROUND(IF(C82=\"\",0,SUM(C$8:C82)),2)","v":0},null,{"$f":"ROUND(IF(E82=\"\",0,SUM(E$8:E82)),2)","v":0}]
[null,null,null,{"$f":"ROUND(IF(C83=\"\",0,SUM(C$8:C83)),2)","v":0},null,{"$f":"ROUND(IF(E83=\"\",0,SUM(E$8:E83)),2)","v":0}]
[null,null,null,{"$f":"ROUND(IF(C84=\"\",0,SUM(C$8:C84)),2)","v":0},null,{"$f":"ROUND(IF(E84=\"\",0,SUM(E$8:E84)),2)","v":0}]
[null,null,null,{"$f":"ROUND(IF(C85=\"\",0,SUM(C$8:C85)),2)","v":0},null,{"$f":"ROUND(IF(E85=\"\",0,SUM(E$8:E85)),2)","v":0}]
[null,null,null,{"$f":"ROUND(IF(C86=\"\",0,SUM(C$8:C86)),2)","v":0},null,{"$f":"ROUND(IF(E86=\"\",0,SUM(E$8:E86)),2)","v":0}]
[null,null,null,{"$f":"ROUND(IF(C87=\"\",0,SUM(C$8:C87)),2)","v":0},null,{"$f":"ROUND(IF(E87=\"\",0,SUM(E$8:E87)),2)","v":0}]
[null,null,null,{"$f":"ROUND(IF(C88=\"\",0,SUM(C$8:C88)),2)","v":0},null,{"$f":"ROUND(IF(E88=\"\",0,SUM(E$8:E88)),2)","v":0}]
[null,null,null,{"$f":"ROUND(IF(C89=\"\",0,SUM(C$8:C89)),2)","v":0},null,{"$f":"ROUND(IF(E89=\"\",0,SUM(E$8:E89)),2)","v":0}]
[null,null,null,{"$f":"ROUND(IF(C90=\"\",0,SUM(C$8:C90)),2)","v":0},null,{"$f":"ROUND(IF(E90=\"\",0,SUM(E$8:E90)),2)","v":0}]
[null,null,null,{"$f":"ROUND(IF(C91=\"\",0,SUM(C$8:C91)),2)","v":0},null,{"$f":"ROUND(IF(E91=\"\",0,SUM(E$8:E91)),2)","v":0}]
[null,null,null,{"$f":"ROUND(IF(C92=\"\",0,SUM(C$8:C92)),2)","v":0},null,{"$f":"ROUND(IF(E92=\"\",0,SUM(E$8:E92)),2)","v":0}]
[null,null,null,{"$f":"ROUND(IF(C93=\"\",0,SUM(C$8:C93)),2)","v":0},null,{"$f":"ROUND(IF(E93=\"\",0,SUM(E$8:E93)),2)","v":0}]
[null,null,null,{"$f":"ROUND(IF(C94=\"\",0,SUM(C$8:C94)),2)","v":0},null,{"$f":"ROUND(IF(E94=\"\",0,SUM(E$8:E94)),2)","v":0}]
[null,null,null,{"$f":"ROUND(IF(C95=\"\",0,SUM(C$8:C95)),2)","v":0},null,{"$f":"ROUND(IF(E95=\"\",0,SUM(E$8:E95)),2)","v":0}]
[null,null,null,{"$f":"ROUND(IF(C96=\"\",0,SUM(C$8:C96)),2)","v":0},null,{"$f":"ROUND(IF(E96=\"\",0,SUM(E$8:E96)),2)","v":0}]
[null,null,null,{"$f":"ROUND(IF(C97=\"\",0,SUM(C$8:C97)),2)","v":0},null,{"$f":"ROUND(IF(E97=\"\",0,SUM(E$8:E97)),2)","v":0}]
[null,null,null,{"$f":"ROUND(IF(C98=\"\",0,SUM(C$8:C98)),2)","v":0},null,{"$f":"ROUND(IF(E98=\"\",0,SUM(E$8:E98)),2)","v":0}]
[null,null,null,{"$f":"ROUND(IF(C99=\"\",0,SUM(C$8:C99)),2)","v":0},null,{"$f":"ROUND(IF(E99=\"\",0,SUM(E$8:E99)),2)","v":0}]
[null,null,null,{"$f":"ROUND(IF(C100=\"\",0,SUM(C$8:C100)),2)","v":0},null,{"$f":"ROUND(IF(E100=\"\",0,SUM(E$8:E100)),2)","v":0}]
[null,null,null,{"$f":"ROUND(IF(C101=\"\",0,SUM(C$8:C101)),2)","v":0},null,{"$f":"ROUND(IF(E101=\"\",0,SUM(E$8:E101)),2)","v":0}]
[null,null,null,{"$f":"ROUND(IF(C102=\"\",0,SUM(C$8:C102)),2)","v":0},null,{"$f":"ROUND(IF(E102=\"\",0,SUM(E$8:E102)),2)","v":0}]
[null,null,null,{"$f":"ROUND(IF(C103=\"\",0,SUM(C$8:C103)),2)","v":0},null,{"$f":"ROUND(IF(E103=\"\",0,SUM(E$8:E103)),2)","v":0}]
[null,null,null,{"$f":"ROUND(IF(C104=\"\",0,SUM(C$8:C104)),2)","v":0},null,{"$f":"ROUND(IF(E104=\"\",0,SUM(E$8:E104)),2)","v":0}]
[null,null,null,{"$f":"ROUND(IF(C105=\"\",0,SUM(C$8:C105)),2)","v":0},null,{"$f":"ROUND(IF(E105=\"\",0,SUM(E$8:E105)),2)","v":0}]
[null,null,null,{"$f":"ROUND(IF(C106=\"\",0,SUM(C$8:C106)),2)","v":0},null,{"$f":"ROUND(IF(E106=\"\",0,SUM(E$8:E106)),2)","v":0}]
[null,null,null,{"$f":"ROUND(IF(C107=\"\",0,SUM(C$8:C107)),2)","v":0},null,{"$f":"ROUND(IF(E107=\"\",0,SUM(E$8:E107)),2)","v":0}]
[null,null,null,{"$f":"ROUND(IF(C108=\"\",0,SUM(C$8:C108)),2)","v":0},null,{"$f":"ROUND(IF(E108=\"\",0,SUM(E$8:E108)),2)","v":0}]
[null,null,null,{"$f":"ROUND(IF(C109=\"\",0,SUM(C$8:C109)),2)","v":0},null,{"$f":"ROUND(IF(E109=\"\",0,SUM(E$8:E109)),2)","v":0}]
[null,null,null,{"$f":"ROUND(IF(C110=\"\",0,SUM(C$8:C110)),2)","v":0},null,{"$f":"ROUND(IF(E110=\"\",0,SUM(E$8:E110)),2)","v":0}]
[null,null,null,{"$f":"ROUND(IF(C111=\"\",0,SUM(C$8:C111)),2)","v":0},null,{"$f":"ROUND(IF(E111=\"\",0,SUM(E$8:E111)),2)","v":0}]
[null,null,null,{"$f":"ROUND(IF(C112=\"\",0,SUM(C$8:C112)),2)","v":0},null,{"$f":"ROUND(IF(E112=\"\",0,SUM(E$8:E112)),2)","v":0}]
[null,null,null,{"$f":"ROUND(IF(C113=\"\",0,SUM(C$8:C113)),2)","v":0},null,{"$f":"ROUND(IF(E113=\"\",0,SUM(E$8:E113)),2)","v":0}]
[null,null,null,{"$f":"ROUND(IF(C114=\"\",0,SUM(C$8:C114)),2)","v":0},null,{"$f":"ROUND(IF(E114=\"\",0,SUM(E$8:E114)),2)","v":0}]
[null,null,null,{"$f":"ROUND(IF(C115=\"\",0,SUM(C$8:C115)),2)","v":0},null,{"$f":"ROUND(IF(E115=\"\",0,SUM(E$8:E115)),2)","v":0}]
[null,null,null,{"$f":"ROUND(IF(C116=\"\",0,SUM(C$8:C116)),2)","v":0},null,{"$f":"ROUND(IF(E116=\"\",0,SUM(E$8:E116)),2)","v":0}]
[null,null,null,{"$f":"ROUND(IF(C117=\"\",0,SUM(C$8:C117)),2)","v":0},null,{"$f":"ROUND(IF(E117=\"\",0,SUM(E$8:E117)),2)","v":0}]
[null,null,null,{"$f":"ROUND(IF(C118=\"\",0,SUM(C$8:C118)),2)","v":0},null,{"$f":"ROUND(IF(E118=\"\",0,SUM(E$8:E118)),2)","v":0}]
[null,null,null,{"$f":"ROUND(IF(C119=\"\",0,SUM(C$8:C119)),2)","v":0},null,{"$f":"ROUND(IF(E119=\"\",0,SUM(E$8:E119)),2)","v":0}]
[null,null,null,{"$f":"ROUND(IF(C120=\"\",0,SUM(C$8:C120)),2)","v":0},null,{"$f":"ROUND(IF(E120=\"\",0,SUM(E$8:E120)),2)","v":0}]
[null,null,null,{"$f":"ROUND(IF(C121=\"\",0,SUM(C$8:C121)),2)","v":0},null,{"$f":"ROUND(IF(E121=\"\",0,SUM(E$8:E121)),2)","v":0}]
[null,null,null,{"$f":"ROUND(IF(C122=\"\",0,SUM(C$8:C122)),2)","v":0},null,{"$f":"ROUND(IF(E122=\"\",0,SUM(E$8:E122)),2)","v":0}]
[null,null,null,{"$f":"ROUND(IF(C123=\"\",0,SUM(C$8:C123)),2)","v":0},null,{"$f":"ROUND(IF(E123=\"\",0,SUM(E$8:E123)),2)","v":0}]
[null,null,null,{"$f":"ROUND(IF(C124=\"\",0,SUM(C$8:C124)),2)","v":0},null,{"$f":"ROUND(IF(E124=\"\",0,SUM(E$8:E124)),2)","v":0}]
[null,null,null,{"$f":"ROUND(IF(C125=\"\",0,SUM(C$8:C125)),2)","v":0},null,{"$f":"ROUND(IF(E125=\"\",0,SUM(E$8:E125)),2)","v":0}]
[null,null,null,{"$f":"ROUND(IF(C126=\"\",0,SUM(C$8:C126)),2)","v":0},null,{"$f":"ROUND(IF(E126=\"\",0,SUM(E$8:E126)),2)","v":0}]
[null,null,null,{"$f":"ROUND(IF(C127=\"\",0,SUM(C$8:C127)),2)","v":0},null,{"$f":"ROUND(IF(E127=\"\",0,SUM(E$8:E127)),2)","v":0}]
[null,null,null,{"$f":"ROUND(IF(C128=\"\",0,SUM(C$8:C128)),2)","v":0},null,{"$f":"ROUND(IF(E128=\"\",0,SUM(E$8:E128)),2)","v":0}]
[null,null,null,{"$f":"ROUND(IF(C129=\"\",0,SUM(C$8:C129)),2)","v":0},null,{"$f":"ROUND(IF(E129=\"\",0,SUM(E$8:E129)),2)","v":0}]
[null,null,null,{"$f":"ROUND(IF(C130=\"\",0,SUM(C$8:C130)),2)","v":0},null,{"$f":"ROUND(IF(E130=\"\",0,SUM(E$8:E130)),2)","v":0}]
[null,null,null,{"$f":"ROUND(IF(C131=\"\",0,SUM(C$8:C131)),2)","v":0},null,{"$f":"ROUND(IF(E131=\"\",0,SUM(E$8:E131)),2)","v":0}]
[null,null,null,{"$f":"ROUND(IF(C132=\"\",0,SUM(C$8:C132)),2)","v":0},null,{"$f":"ROUND(IF(E132=\"\",0,SUM(E$8:E132)),2)","v":0}]
[null,null,null,{"$f":"ROUND(IF(C133=\"\",0,SUM(C$8:C133)),2)","v":0},null,{"$f":"ROUND(IF(E133=\"\",0,SUM(E$8:E133)),2)","v":0}]
[null,null,null,{"$f":"ROUND(IF(C134=\"\",0,SUM(C$8:C134)),2)","v":0},null,{"$f":"ROUND(IF(E134=\"\",0,SUM(E$8:E134)),2)","v":0}]
[null,null,null,{"$f":"ROUND(IF(C135=\"\",0,SUM(C$8:C135)),2)","v":0},null,{"$f":"ROUND(IF(E135=\"\",0,SUM(E$8:E135)),2)","v":0}]
[null,null,null,{"$f":"ROUND(IF(C136=\"\",0,SUM(C$8:C136)),2)","v":0},null,{"$f":"ROUND(IF(E136=\"\",0,SUM(E$8:E136)),2)","v":0}]
[null,null,null,{"$f":"ROUND(IF(C137=\"\",0,SUM(C$8:C137)),2)","v":0},null,{"$f":"ROUND(IF(E137=\"\",0,SUM(E$8:E137)),2)","v":0}]
[null,null,null,{"$f":"ROUND(IF(C138=\"\",0,SUM(C$8:C138)),2)","v":0},null,{"$f":"ROUND(IF(E138=\"\",0,SUM(E$8:E138)),2)","v":0}]
[null,null,null,{"$f":"ROUND(IF(C139=\"\",0,SUM(C$8:C139)),2)","v":0},null,{"$f":"ROUND(IF(E139=\"\",0,SUM(E$8:E139)),2)","v":0}]
[null,null,null,{"$f":"ROUND(IF(C140=\"\",0,SUM(C$8:C140)),2)","v":0},null,{"$f":"ROUND(IF(E140=\"\",0,SUM(E$8:E140)),2)","v":0}]
[null,null,null,{"$f":"ROUND(IF(C141=\"\",0,SUM(C$8:C141)),2)","v":0},null,{"$f":"ROUND(IF(E141=\"\",0,SUM(E$8:E141)),2)","v":0}]
[null,null,null,{"$f":"ROUND(IF(C142=\"\",0,SUM(C$8:C142)),2)","v":0},null,{"$f":"ROUND(IF(E142=\"\",0,SUM(E$8:E142)),2)","v":0}]
[null,null,null,{"$f":"ROUND(IF(C143=\"\",0,SUM(C$8:C143)),2)","v":0},null,{"$f":"ROUND(IF(E143=\"\",0,SUM(E$8:E143)),2)","v":0}]
[null,null,null,{"$f":"ROUND(IF(C144=\"\",0,SUM(C$8:C144)),2)","v":0},null,{"$f":"ROUND(IF(E144=\"\",0,SUM(E$8:E144)),2)","v":0}]
[null,null,null,{"$f":"ROUND(IF(C145=\"\",0,SUM(C$8:C145)),2)","v":0},null,{"$f":"ROUND(IF(E145=\"\",0,SUM(E$8:E145)),2)","v":0}]
[null,null,null,{"$f":"ROUND(IF(C146=\"\",0,SUM(C$8:C146)),2)","v":0},null,{"$f":"ROUND(IF(E146=\"\",0,SUM(E$8:E146)),2)","v":0}]
[null,null,null,{"$f":"ROUND(IF(C147=\"\",0,SUM(C$8:C147)),2)","v":0},null,{"$f":"ROUND(IF(E147=\"\",0,SUM(E$8:E147)),2)","v":0}]
[null,null,null,{"$f":"ROUND(IF(C148=\"\",0,SUM(C$8:C148)),2)","v":0},null,{"$f":"ROUND(IF(E148=\"\",0,SUM(E$8:E148)),2)","v":0}]
[null,null,null,{"$f":"ROUND(IF(C149=\"\",0,SUM(C$8:C149)),2)","v":0},null,{"$f":"ROUND(IF(E149=\"\",0,SUM(E$8:E149)),2)","v":0}]
[null,null,null,{"$f":"ROUND(IF(C150=\"\",0,SUM(C$8:C150)),2)","v":0},null,{"$f":"ROUND(IF(E150=\"\",0,SUM(E$8:E150)),2)","v":0}]
[null,null,null,{"$f":"ROUND(IF(C151=\"\",0,SUM(C$8:C151)),2)","v":0},null,{"$f":"ROUND(IF(E151=\"\",0,SUM(E$8:E151)),2)","v":0}]
[null,null,null,{"$f":"ROUND(IF(C152=\"\",0,SUM(C$8:C152)),2)","v":0},null,{"$f":"ROUND(IF(E152=\"\",0,SUM(E$8:E152)),2)","v":0}]
[null,null,null,{"$f":"ROUND(IF(C153=\"\",0,SUM(C$8:C153)),2)","v":0},null,{"$f":"ROUND(IF(E153=\"\",0,SUM(E$8:E153)),2)","v":0}]
[null,null,null,{"$f":"ROUND(IF(C154=\"\",0,SUM(C$8:C154)),2)","v":0},null,{"$f":"ROUND(IF(E154=\"\",0,SUM(E$8:E154)),2)","v":0}]
[null,null,null,{"$f":"ROUND(IF(C155=\"\",0,SUM(C$8:C155)),2)","v":0},null,{"$f":"ROUND(IF(E155=\"\",0,SUM(E$8:E155)),2)","v":0}]
[null,null,null,{"$f":"ROUND(IF(C156=\"\",0,SUM(C$8:C156)),2)","v":0},null,{"$f":"ROUND(IF(E156=\"\",0,SUM(E$8:E156)),2)","v":0}]
[null,null,null,{"$f":"ROUND(IF(C157=\"\",0,SUM(C$8:C157)),2)","v":0},null,{"$f":"ROUND(IF(E157=\"\",0,SUM(E$8:E157)),2)","v":0}]
[null,null,null,{"$f":"ROUND(IF(C158=\"\",0,SUM(C$8:C158)),2)","v":0},null,{"$f":"ROUND(IF(E158=\"\",0,SUM(E$8:E158)),2)","v":0}]
[null,null,null,{"$f":"ROUND(IF(C159=\"\",0,SUM(C$8:C159)),2)","v":0},null,{"$f":"ROUND(IF(E159=\"\",0,SUM(E$8:E159)),2)","v":0}]
[null,null,null,{"$f":"ROUND(IF(C160=\"\",0,SUM(C$8:C160)),2)","v":0},null,{"$f":"ROUND(IF(E160=\"\",0,SUM(E$8:E160)),2)","v":0}]
[null,null,null,{"$f":"ROUND(IF(C161=\"\",0,SUM(C$8:C161)),2)","v":0},null,{"$f":"ROUND(IF(E161=\"\",0,SUM(E$8:E161)),2)","v":0}]
[null,null,null,{"$f":"ROUND(IF(C162=\"\",0,SUM(C$8:C162)),2)","v":0},null,{"$f":"ROUND(IF(E162=\"\",0,SUM(E$8:E162)),2)","v":0}]
[null,null,null,{"$f":"ROUND(IF(C163=\"\",0,SUM(C$8:C163)),2)","v":0},null,{"$f":"ROUND(IF(E163=\"\",0,SUM(E$8:E163)),2)","v":0}]
[null,null,null,{"$f":"ROUND(IF(C164=\"\",0,SUM(C$8:C164)),2)","v":0},null,{"$f":"ROUND(IF(E164=\"\",0,SUM(E$8:E164)),2)","v":0}]
[null,null,null,{"$f":"ROUND(IF(C165=\"\",0,SUM(C$8:C165)),2)","v":0},null,{"$f":"ROUND(IF(E165=\"\",0,SUM(E$8:E165)),2)","v":0}]
[null,null,null,{"$f":"ROUND(IF(C166=\"\",0,SUM(C$8:C166)),2)","v":0},null,{"$f":"ROUND(IF(E166=\"\",0,SUM(E$8:E166)),2)","v":0}]
[null,null,null,{"$f":"ROUND(IF(C167=\"\",0,SUM(C$8:C167)),2)","v":0},null,{"$f":"ROUND(IF(E167=\"\",0,SUM(E$8:E167)),2)","v":0}]
[null,null,null,{"$f":"ROUND(IF(C168=\"\",0,SUM(C$8:C168)),2)","v":0},null,{"$f":"ROUND(IF(E168=\"\",0,SUM(E$8:E168)),2)","v":0}]
[null,null,null,{"$f":"ROUND(IF(C169=\"\",0,SUM(C$8:C169)),2)","v":0},null,{"$f":"ROUND(IF(E169=\"\",0,SUM(E$8:E169)),2)","v":0}]
[null,null,null,{"$f":"ROUND(IF(C170=\"\",0,SUM(C$8:C170)),2)","v":0},null,{"$f":"ROUND(IF(E170=\"\",0,SUM(E$8:E170)),2)","v":0}]
[null,null,null,{"$f":"ROUND(IF(C171=\"\",0,SUM(C$8:C171)),2)","v":0},null,{"$f":"ROUND(IF(E171=\"\",0,SUM(E$8:E171)),2)","v":0}]
[null,null,null,{"$f":"ROUND(IF(C172=\"\",0,SUM(C$8:C172)),2)","v":0},null,{"$f":"ROUND(IF(E172=\"\",0,SUM(E$8:E172)),2)","v":0}]
[null,null,null,{"$f":"ROUND(IF(C173=\"\",0,SUM(C$8:C173)),2)","v":0},null,{"$f":"ROUND(IF(E173=\"\",0,SUM(E$8:E173)),2)","v":0}]
[null,null,null,{"$f":"ROUND(IF(C174=\"\",0,SUM(C$8:C174)),2)","v":0},null,{"$f":"ROUND(IF(E174=\"\",0,SUM(E$8:E174)),2)","v":0}]
[null,null,null,{"$f":"ROUND(IF(C175=\"\",0,SUM(C$8:C175)),2)","v":0},null,{"$f":"ROUND(IF(E175=\"\",0,SUM(E$8:E175)),2)","v":0}]
[null,null,null,{"$f":"ROUND(IF(C176=\"\",0,SUM(C$8:C176)),2)","v":0},null,{"$f":"ROUND(IF(E176=\"\",0,SUM(E$8:E176)),2)","v":0}]
[null,null,null,{"$f":"ROUND(IF(C177=\"\",0,SUM(C$8:C177)),2)","v":0},null,{"$f":"ROUND(IF(E177=\"\",0,SUM(E$8:E177)),2)","v":0}]
[null,null,null,{"$f":"ROUND(IF(C178=\"\",0,SUM(C$8:C178)),2)","v":0},null,{"$f":"ROUND(IF(E178=\"\",0,SUM(E$8:E178)),2)","v":0}]
[null,null,null,{"$f":"ROUND(IF(C179=\"\",0,SUM(C$8:C179)),2)","v":0},null,{"$f":"ROUND(IF(E179=\"\",0,SUM(E$8:E179)),2)","v":0}]
[null,null,null,{"$f":"ROUND(IF(C180=\"\",0,SUM(C$8:C180)),2)","v":0},null,{"$f":"ROUND(IF(E180=\"\",0,SUM(E$8:E180)),2)","v":0}]
[null,null,null,{"$f":"ROUND(IF(C181=\"\",0,SUM(C$8:C181)),2)","v":0},null,{"$f":"ROUND(IF(E181=\"\",0,SUM(E$8:E181)),2)","v":0}]
[null,null,null,{"$f":"ROUND(IF(C182=\"\",0,SUM(C$8:C182)),2)","v":0},null,{"$f":"ROUND(IF(E182=\"\",0,SUM(E$8:E182)),2)","v":0}]
[null,null,null,{"$f":"ROUND(IF(C183=\"\",0,SUM(C$8:C183)),2)","v":0},null,{"$f":"ROUND(IF(E183=\"\",0,SUM(E$8:E183)),2)","v":0}]
[null,null,null,{"$f":"ROUND(IF(C184=\"\",0,SUM(C$8:C184)),2)","v":0},null,{"$f":"ROUND(IF(E184=\"\",0,SUM(E$8:E184)),2)","v":0}]
[null,null,null,{"$f":"ROUND(IF(C185=\"\",0,SUM(C$8:C185)),2)","v":0},null,{"$f":"ROUND(IF(E185=\"\",0,SUM(E$8:E185)),2)","v":0}]
[null,null,null,{"$f":"ROUND(IF(C186=\"\",0,SUM(C$8:C186)),2)","v":0},null,{"$f":"ROUND(IF(E186=\"\",0,SUM(E$8:E186)),2)","v":0}]
[null,null,null,{"$f":"ROUND(IF(C187=\"\",0,SUM(C$8:C187)),2)","v":0},null,{"$f":"ROUND(IF(E187=\"\",0,SUM(E$8:E187)),2)","v":0}]
[null,null,null,{"$f":"ROUND(IF(C188=\"\",0,SUM(C$8:C188)),2)","v":0},null,{"$f":"ROUND(IF(E188=\"\",0,SUM(E$8:E188)),2)","v":0}]
[null,null,null,{"$f":"ROUND(IF(C189=\"\",0,SUM(C$8:C189)),2)","v":0},null,{"$f":"ROUND(IF(E189=\"\",0,SUM(E$8:E189)),2)","v":0}]
[null,null,null,{"$f":"ROUND(IF(C190=\"\",0,SUM(C$8:C190)),2)","v":0},null,{"$f":"ROUND(IF(E190=\"\",0,SUM(E$8:E190)),2)","v":0}]
[null,null,null,{"$f":"ROUND(IF(C191=\"\",0,SUM(C$8:C191)),2)","v":0},null,{"$f":"ROUND(IF(E191=\"\",0,SUM(E$8:E191)),2)","v":0}]
[null,null,null,{"$f":"ROUND(IF(C192=\"\",0,SUM(C$8:C192)),2)","v":0},null,{"$f":"ROUND(IF(E192=\"\",0,SUM(E$8:E192)),2)","v":0}]
[null,null,null,{"$f":"ROUND(IF(C193=\"\",0,SUM(C$8:C193)),2)","v":0},null,{"$f":"ROUND(IF(E193=\"\",0,SUM(E$8:E193)),2)","v":0}]
[null,null,null,{"$f":"ROUND(IF(C194=\"\",0,SUM(C$8:C194)),2)","v":0},null,{"$f":"ROUND(IF(E194=\"\",0,SUM(E$8:E194)),2)","v":0}]
[null,null,null,{"$f":"ROUND(IF(C195=\"\",0,SUM(C$8:C195)),2)","v":0},null,{"$f":"ROUND(IF(E195=\"\",0,SUM(E$8:E195)),2)","v":0}]
[null,null,null,{"$f":"ROUND(IF(C196=\"\",0,SUM(C$8:C196)),2)","v":0},null,{"$f":"ROUND(IF(E196=\"\",0,SUM(E$8:E196)),2)","v":0}]
[null,null,null,{"$f":"ROUND(IF(C197=\"\",0,SUM(C$8:C197)),2)","v":0},null,{"$f":"ROUND(IF(E197=\"\",0,SUM(E$8:E197)),2)","v":0}]
[null,null,null,{"$f":"ROUND(IF(C198=\"\",0,SUM(C$8:C198)),2)","v":0},null,{"$f":"ROUND(IF(E198=\"\",0,SUM(E$8:E198)),2)","v":0}]
[null,null,null,{"$f":"ROUND(IF(C199=\"\",0,SUM(C$8:C199)),2)","v":0},null,{"$f":"ROUND(IF(E199=\"\",0,SUM(E$8:E199)),2)","v":0}]
[null,null,null,{"$f":"ROUND(IF(C200=\"\",0,SUM(C$8:C200)),2)","v":0},null,{"$f":"ROUND(IF(E200=\"\",0,SUM(E$8:E200)),2)","v":0}]
[null,null,null,{"$f":"ROUND(IF(C201=\"\",0,SUM(C$8:C201)),2)","v":0},null,{"$f":"ROUND(IF(E201=\"\",0,SUM(E$8:E201)),2)","v":0}]
[null,null,null,{"$f":"ROUND(IF(C202=\"\",0,SUM(C$8:C202)),2)","v":0},null,{"$f":"ROUND(IF(E202=\"\",0,SUM(E$8:E202)),2)","v":0}]
[null,null,null,{"$f":"ROUND(IF(C203=\"\",0,SUM(C$8:C203)),2)","v":0},null,{"$f":"ROUND(IF(E203=\"\",0,SUM(E$8:E203)),2)","v":0}]
[null,null,null,{"$f":"ROUND(IF(C204=\"\",0,SUM(C$8:C204)),2)","v":0},null,{"$f":"ROUND(IF(E204=\"\",0,SUM(E$8:E204)),2)","v":0}]
[null,null,null,{"$f":"ROUND(IF(C205=\"\",0,SUM(C$8:C205)),2)","v":0},null,{"$f":"ROUND(IF(E205=\"\",0,SUM(E$8:E205)),2)","v":0}]
[null,null,null,{"$f":"ROUND(IF(C206=\"\",0,SUM(C$8:C206)),2)","v":0},null,{"$f":"ROUND(IF(E206=\"\",0,SUM(E$8:E206)),2)","v":0}]
[null,null,null,{"$f":"ROUND(IF(C207=\"\",0,SUM(C$8:C207)),2)","v":0},null,{"$f":"ROUND(IF(E207=\"\",0,SUM(E$8:E207)),2)","v":0}]
[null,null,null,{"$f":"ROUND(IF(C208=\"\",0,SUM(C$8:C208)),2)","v":0},null,{"$f":"ROUND(IF(E208=\"\",0,SUM(E$8:E208)),2)","v":0}]
[null,null,null,{"$f":"ROUND(IF(C209=\"\",0,SUM(C$8:C209)),2)","v":0},null,{"$f":"ROUND(IF(E209=\"\",0,SUM(E$8:E209)),2)","v":0}]
[null,null,null,{"$f":"ROUND(IF(C210=\"\",0,SUM(C$8:C210)),2)","v":0},null,{"$f":"ROUND(IF(E210=\"\",0,SUM(E$8:E210)),2)","v":0}]
[null,null,null,{"$f":"ROUND(IF(C211=\"\",0,SUM(C$8:C211)),2)","v":0},null,{"$f":"ROUND(IF(E211=\"\",0,SUM(E$8:E211)),2)","v":0}]
[null,null,null,{"$f":"ROUND(IF(C212=\"\",0,SUM(C$8:C212)),2)","v":0},null,{"$f":"ROUND(IF(E212=\"\",0,SUM(E$8:E212)),2)","v":0}]
[null,null,null,{"$f":"ROUND(IF(C213=\"\",0,SUM(C$8:C213)),2)","v":0},null,{"$f":"ROUND(IF(E213=\"\",0,SUM(E$8:E213)),2)","v":0}]
[null,null,null,{"$f":"ROUND(IF(C214=\"\",0,SUM(C$8:C214)),2)","v":0},null,{"$f":"ROUND(IF(E214=\"\",0,SUM(E$8:E214)),2)","v":0}]
[null,null,null,{"$f":"ROUND(IF(C215=\"\",0,SUM(C$8:C215)),2)","v":0},null,{"$f":"ROUND(IF(E215=\"\",0,SUM(E$8:E215)),2)","v":0}]
[null,null,null,{"$f":"ROUND(IF(C216=\"\",0,SUM(C$8:C216)),2)","v":0},null,{"$f":"ROUND(IF(E216=\"\",0,SUM(E$8:E216)),2)","v":0}]
[null,null,null,{"$f":"ROUND(IF(C217=\"\",0,SUM(C$8:C217)),2)","v":0},null,{"$f":"ROUND(IF(E217=\"\",0,SUM(E$8:E217)),2)","v":0}]
[null,null,null,{"$f":"ROUND(IF(C218=\"\",0,SUM(C$8:C218)),2)","v":0},null,{"$f":"ROUND(IF(E218=\"\",0,SUM(E$8:E218)),2)","v":0}]
[null,null,null,{"$f":"ROUND(IF(C219=\"\",0,SUM(C$8:C219)),2)","v":0},null,{"$f":"ROUND(IF(E219=\"\",0,SUM(E$8:E219)),2)","v":0}]
[null,null,null,{"$f":"ROUND(IF(C220=\"\",0,SUM(C$8:C220)),2)","v":0},null,{"$f":"ROUND(IF(E220=\"\",0,SUM(E$8:E220)),2)","v":0}]
[null,null,null,{"$f":"ROUND(IF(C221=\"\",0,SUM(C$8:C221)),2)","v":0},null,{"$f":"ROUND(IF(E221=\"\",0,SUM(E$8:E221)),2)","v":0}]
[null,null,null,{"$f":"ROUND(IF(C222=\"\",0,SUM(C$8:C222)),2)","v":0},null,{"$f":"ROUND(IF(E222=\"\",0,SUM(E$8:E222)),2)","v":0}]
[null,null,null,{"$f":"ROUND(IF(C223=\"\",0,SUM(C$8:C223)),2)","v":0},null,{"$f":"ROUND(IF(E223=\"\",0,SUM(E$8:E223)),2)","v":0}]
[null,null,null,{"$f":"ROUND(IF(C224=\"\",0,SUM(C$8:C224)),2)","v":0},null,{"$f":"ROUND(IF(E224=\"\",0,SUM(E$8:E224)),2)","v":0}]
[null,null,null,{"$f":"ROUND(IF(C225=\"\",0,SUM(C$8:C225)),2)","v":0},null,{"$f":"ROUND(IF(E225=\"\",0,SUM(E$8:E225)),2)","v":0}]
[null,null,null,{"$f":"ROUND(IF(C226=\"\",0,SUM(C$8:C226)),2)","v":0},null,{"$f":"ROUND(IF(E226=\"\",0,SUM(E$8:E226)),2)","v":0}]
[null,null,null,{"$f":"ROUND(IF(C227=\"\",0,SUM(C$8:C227)),2)","v":0},null,{"$f":"ROUND(IF(E227=\"\",0,SUM(E$8:E227)),2)","v":0}]
[null,null,null,{"$f":"ROUND(IF(C228=\"\",0,SUM(C$8:C228)),2)","v":0},null,{"$f":"ROUND(IF(E228=\"\",0,SUM(E$8:E228)),2)","v":0}]
[null,null,null,{"$f":"ROUND(IF(C229=\"\",0,SUM(C$8:C229)),2)","v":0},null,{"$f":"ROUND(IF(E229=\"\",0,SUM(E$8:E229)),2)","v":0}]
[null,null,null,{"$f":"ROUND(IF(C230=\"\",0,SUM(C$8:C230)),2)","v":0},null,{"$f":"ROUND(IF(E230=\"\",0,SUM(E$8:E230)),2)","v":0}]
[null,null,null,{"$f":"ROUND(IF(C231=\"\",0,SUM(C$8:C231)),2)","v":0},null,{"$f":"ROUND(IF(E231=\"\",0,SUM(E$8:E231)),2)","v":0}]
[null,null,null,{"$f":"ROUND(IF(C232=\"\",0,SUM(C$8:C232)),2)","v":0},null,{"$f":"ROUND(IF(E232=\"\",0,SUM(E$8:E232)),2)","v":0}]
[null,null,null,{"$f":"ROUND(IF(C233=\"\",0,SUM(C$8:C233)),2)","v":0},null,{"$f":"ROUND(IF(E233=\"\",0,SUM(E$8:E233)),2)","v":0}]
[null,null,null,{"$f":"ROUND(IF(C234=\"\",0,SUM(C$8:C234)),2)","v":0},null,{"$f":"ROUND(IF(E234=\"\",0,SUM(E$8:E234)),2)","v":0}]
[null,null,null,{"$f":"ROUND(IF(C235=\"\",0,SUM(C$8:C235)),2)","v":0},null,{"$f":"ROUND(IF(E235=\"\",0,SUM(E$8:E235)),2)","v":0}]
[null,null,null,{"$f":"ROUND(IF(C236=\"\",0,SUM(C$8:C236)),2)","v":0},null,{"$f":"ROUND(IF(E236=\"\",0,SUM(E$8:E236)),2)","v":0}]
[null,null,null,{"$f":"ROUND(IF(C237=\"\",0,SUM(C$8:C237)),2)","v":0},null,{"$f":"ROUND(IF(E237=\"\",0,SUM(E$8:E237)),2)","v":0}]
[null,null,null,{"$f":"ROUND(IF(C238=\"\",0,SUM(C$8:C238)),2)","v":0},null,{"$f":"ROUND(IF(E238=\"\",0,SUM(E$8:E238)),2)","v":0}]
[null,null,null,{"$f":"ROUND(IF(C239=\"\",0,SUM(C$8:C239)),2)","v":0},null,{"$f":"ROUND(IF(E239=\"\",0,SUM(E$8:E239)),2)","v":0}]
[null,null,null,{"$f":"ROUND(IF(C240=\"\",0,SUM(C$8:C240)),2)","v":0},null,{"$f":"ROUND(IF(E240=\"\",0,SUM(E$8:E240)),2)","v":0}]
[null,null,null,{"$f":"ROUND(IF(C241=\"\",0,SUM(C$8:C241)),2)","v":0},null,{"$f":"ROUND(IF(E241=\"\",0,SUM(E$8:E241)),2)","v":0}]
[null,null,null,{"$f":"ROUND(IF(C242=\"\",0,SUM(C$8:C242)),2)","v":0},null,{"$f":"ROUND(IF(E242=\"\",0,SUM(E$8:E242)),2)","v":0}]
[null,null,null,{"$f":"ROUND(IF(C243=\"\",0,SUM(C$8:C243)),2)","v":0},null,{"$f":"ROUND(IF(E243=\"\",0,SUM(E$8:E243)),2)","v":0}]
[null,null,null,{"$f":"ROUND(IF(C244=\"\",0,SUM(C$8:C244)),2)","v":0},null,{"$f":"ROUND(IF(E244=\"\",0,SUM(E$8:E244)),2)","v":0}]
[null,null,null,{"$f":"ROUND(IF(C245=\"\",0,SUM(C$8:C245)),2)","v":0},null,{"$f":"ROUND(IF(E245=\"\",0,SUM(E$8:E245)),2)","v":0}]
[null,null,null,{"$f":"ROUND(IF(C246=\"\",0,SUM(C$8:C246)),2)","v":0},null,{"$f":"ROUND(IF(E246=\"\",0,SUM(E$8:E246)),2)","v":0}]
[null,null,null,{"$f":"ROUND(IF(C247=\"\",0,SUM(C$8:C247)),2)","v":0},null,{"$f":"ROUND(IF(E247=\"\",0,SUM(E$8:E247)),2)","v":0}]
[null,null,null,{"$f":"ROUND(IF(C248=\"\",0,SUM(C$8:C248)),2)","v":0},null,{"$f":"ROUND(IF(E248=\"\",0,SUM(E$8:E248)),2)","v":0}]
[null,null,null,{"$f":"ROUND(IF(C249=\"\",0,SUM(C$8:C249)),2)","v":0},null,{"$f":"ROUND(IF(E249=\"\",0,SUM(E$8:E249)),2)","v":0}]
[null,null,null,{"$f":"ROUND(IF(C250=\"\",0,SUM(C$8:C250)),2)","v":0},null,{"$f":"ROUND(IF(E250=\"\",0,SUM(E$8:E250)),2)","v":0}]
[null,null,null,{"$f":"ROUND(IF(C251=\"\",0,SUM(C$8:C251)),2)","v":0},null,{"$f":"ROUND(IF(E251=\"\",0,SUM(E$8:E251)),2)","v":0}]
[null,null,null,{"$f":"ROUND(IF(C252=\"\",0,SUM(C$8:C252)),2)","v":0},null,{"$f":"ROUND(IF(E252=\"\",0,SUM(E$8:E252)),2)","v":0}]
[null,null,null,{"$f":"ROUND(IF(C253=\"\",0,SUM(C$8:C253)),2)","v":0},null,{"$f":"ROUND(IF(E253=\"\",0,SUM(E$8:E253)),2)","v":0}]
[null,null,null,{"$f":"ROUND(IF(C254=\"\",0,SUM(C$8:C254)),2)","v":0},null,{"$f":"ROUND(IF(E254=\"\",0,SUM(E$8:E254)),2)","v":0}]
[null,null,null,{"$f":"ROUND(IF(C255=\"\",0,SUM(C$8:C255)),2)","v":0},null,{"$f":"ROUND(IF(E255=\"\",0,SUM(E$8:E255)),2)","v":0}]
[null,null,null,{"$f":"ROUND(IF(C256=\"\",0,SUM(C$8:C256)),2)","v":0},null,{"$f":"ROUND(IF(E256=\"\",0,SUM(E$8:E256)),2)","v":0}]
[null,null,null,{"$f":"ROUND(IF(C257=\"\",0,SUM(C$8:C257)),2)","v":0},null,{"$f":"ROUND(IF(E257=\"\",0,SUM(E$8:E257)),2)","v":0}]
[null,null,null,{"$f":"ROUND(IF(C258=\"\",0,SUM(C$8:C258)),2)","v":0},null,{"$f":"ROUND(IF(E258=\"\",0,SUM(E$8:E258)),2)","v":0}]
[null,null,null,{"$f":"ROUND(IF(C259=\"\",0,SUM(C$8:C259)),2)","v":0},null,{"$f":"ROUND(IF(E259=\"\",0,SUM(E$8:E259)),2)","v":0}]
[null,null,null,{"$f":"ROUND(IF(C260=\"\",0,SUM(C$8:C260)),2)","v":0},null,{"$f":"ROUND(IF(E260=\"\",0,SUM(E$8:E260)),2)","v":0}]
[null,null,null,{"$f":"ROUND(IF(C261=\"\",0,SUM(C$8:C261)),2)","v":0},null,{"$f":"ROUND(IF(E261=\"\",0,SUM(E$8:E261)),2)","v":0}]
[null,null,null,{"$f":"ROUND(IF(C262=\"\",0,SUM(C$8:C262)),2)","v":0},null,{"$f":"ROUND(IF(E262=\"\",0,SUM(E$8:E262)),2)","v":0}]
[null,null,null,{"$f":"ROUND(IF(C263=\"\",0,SUM(C$8:C263)),2)","v":0},null,{"$f":"ROUND(IF(E263=\"\",0,SUM(E$8:E263)),2)","v":0}]
[null,null,null,{"$f":"ROUND(IF(C264=\"\",0,SUM(C$8:C264)),2)","v":0},null,{"$f":"ROUND(IF(E264=\"\",0,SUM(E$8:E264)),2)","v":0}]
[null,null,null,{"$f":"ROUND(IF(C265=\"\",0,SUM(C$8:C265)),2)","v":0},null,{"$f":"ROUND(IF(E265=\"\",0,SUM(E$8:E265)),2)","v":0}]
[null,null,null,{"$f":"ROUND(IF(C266=\"\",0,SUM(C$8:C266)),2)","v":0},null,{"$f":"ROUND(IF(E266=\"\",0,SUM(E$8:E266)),2)","v":0}]
[null,null,null,{"$f":"ROUND(IF(C267=\"\",0,SUM(C$8:C267)),2)","v":0},null,{"$f":"ROUND(IF(E267=\"\",0,SUM(E$8:E267)),2)","v":0}]
[null,null,null,{"$f":"ROUND(IF(C268=\"\",0,SUM(C$8:C268)),2)","v":0},null,{"$f":"ROUND(IF(E268=\"\",0,SUM(E$8:E268)),2)","v":0}]
[null,null,null,{"$f":"ROUND(IF(C269=\"\",0,SUM(C$8:C269)),2)","v":0},null,{"$f":"ROUND(IF(E269=\"\",0,SUM(E$8:E269)),2)","v":0}]
[null,null,null,{"$f":"ROUND(IF(C270=\"\",0,SUM(C$8:C270)),2)","v":0},null,{"$f":"ROUND(IF(E270=\"\",0,SUM(E$8:E270)),2)","v":0}]
[null,null,null,{"$f":"ROUND(IF(C271=\"\",0,SUM(C$8:C271)),2)","v":0},null,{"$f":"ROUND(IF(E271=\"\",0,SUM(E$8:E271)),2)","v":0}]
[null,null,null,{"$f":"ROUND(IF(C272=\"\",0,SUM(C$8:C272)),2)","v":0},null,{"$f":"ROUND(IF(E272=\"\",0,SUM(E$8:E272)),2)","v":0}]
[null,null,null,{"$f":"ROUND(IF(C273=\"\",0,SUM(C$8:C273)),2)","v":0},null,{"$f":"ROUND(IF(E273=\"\",0,SUM(E$8:E273)),2)","v":0}]
[null,null,null,{"$f":"ROUND(IF(C274=\"\",0,SUM(C$8:C274)),2)","v":0},null,{"$f":"ROUND(IF(E274=\"\",0,SUM(E$8:E274)),2)","v":0}]
[null,null,null,{"$f":"ROUND(IF(C275=\"\",0,SUM(C$8:C275)),2)","v":0},null,{"$f":"ROUND(IF(E275=\"\",0,SUM(E$8:E275)),2)","v":0}]
[null,null,null,{"$f":"ROUND(IF(C276=\"\",0,SUM(C$8:C276)),2)","v":0},null,{"$f":"ROUND(IF(E276=\"\",0,SUM(E$8:E276)),2)","v":0}]
[null,null,null,{"$f":"ROUND(IF(C277=\"\",0,SUM(C$8:C277)),2)","v":0},null,{"$f":"ROUND(IF(E277=\"\",0,SUM(E$8:E277)),2)","v":0}]
[null,null,null,{"$f":"ROUND(IF(C278=\"\",0,SUM(C$8:C278)),2)","v":0},null,{"$f":"ROUND(IF(E278=\"\",0,SUM(E$8:E278)),2)","v":0}]
[null,null,null,{"$f":"ROUND(IF(C279=\"\",0,SUM(C$8:C279)),2)","v":0},null,{"$f":"ROUND(IF(E279=\"\",0,SUM(E$8:E279)),2)","v":0}]
[null,null,null,{"$f":"ROUND(IF(C280=\"\",0,SUM(C$8:C280)),2)","v":0},null,{"$f":"ROUND(IF(E280=\"\",0,SUM(E$8:E280)),2)","v":0}]
[null,null,null,{"$f":"ROUND(IF(C281=\"\",0,SUM(C$8:C281)),2)","v":0},null,{"$f":"ROUND(IF(E281=\"\",0,SUM(E$8:E281)),2)","v":0}]
[null,null,null,{"$f":"ROUND(IF(C282=\"\",0,SUM(C$8:C282)),2)","v":0},null,{"$f":"ROUND(IF(E282=\"\",0,SUM(E$8:E282)),2)","v":0}]
[null,null,null,{"$f":"ROUND(IF(C283=\"\",0,SUM(C$8:C283)),2)","v":0},null,{"$f":"ROUND(IF(E283=\"\",0,SUM(E$8:E283)),2)","v":0}]
[null,null,null,{"$f":"ROUND(IF(C284=\"\",0,SUM(C$8:C284)),2)","v":0},null,{"$f":"ROUND(IF(E284=\"\",0,SUM(E$8:E284)),2)","v":0}]
[null,null,null,{"$f":"ROUND(IF(C285=\"\",0,SUM(C$8:C285)),2)","v":0},null,{"$f":"ROUND(IF(E285=\"\",0,SUM(E$8:E285)),2)","v":0}]
[null,null,null,{"$f":"ROUND(IF(C286=\"\",0,SUM(C$8:C286)),2)","v":0},null,{"$f":"ROUND(IF(E286=\"\",0,SUM(E$8:E286)),2)","v":0}]
[null,null,null,{"$f":"ROUND(IF(C287=\"\",0,SUM(C$8:C287)),2)","v":0},null,{"$f":"ROUND(IF(E287=\"\",0,SUM(E$8:E287)),2)","v":0}]
[null,null,null,{"$f":"ROUND(IF(C288=\"\",0,SUM(C$8:C288)),2)","v":0},null,{"$f":"ROUND(IF(E288=\"\",0,SUM(E$8:E288)),2)","v":0}]
[null,null,null,{"$f":"ROUND(IF(C289=\"\",0,SUM(C$8:C289)),2)","v":0},null,{"$f":"ROUND(IF(E289=\"\",0,SUM(E$8:E289)),2)","v":0}]
[null,null,null,{"$f":"ROUND(IF(C290=\"\",0,SUM(C$8:C290)),2)","v":0},null,{"$f":"ROUND(IF(E290=\"\",0,SUM(E$8:E290)),2)","v":0}]
[null,null,null,{"$f":"ROUND(IF(C291=\"\",0,SUM(C$8:C291)),2)","v":0},null,{"$f":"ROUND(IF(E291=\"\",0,SUM(E$8:E291)),2)","v":0}]
[null,null,null,{"$f":"ROUND(IF(C292=\"\",0,SUM(C$8:C292)),2)","v":0},null,{"$f":"ROUND(IF(E292=\"\",0,SUM(E$8:E292)),2)","v":0}]
[null,null,null,{"$f":"ROUND(IF(C293=\"\",0,SUM(C$8:C293)),2)","v":0},null,{"$f":"ROUND(IF(E293=\"\",0,SUM(E$8:E293)),2)","v":0}]
[null,null,null,{"$f":"ROUND(IF(C294=\"\",0,SUM(C$8:C294)),2)","v":0},null,{"$f":"ROUND(IF(E294=\"\",0,SUM(E$8:E294)),2)","v":0}]
[null,null,null,{"$f":"ROUND(IF(C295=\"\",0,SUM(C$8:C295)),2)","v":0},null,{"$f":"ROUND(IF(E295=\"\",0,SUM(E$8:E295)),2)","v":0}]
[null,null,null,{"$f":"ROUND(IF(C296=\"\",0,SUM(C$8:C296)),2)","v":0},null,{"$f":"ROUND(IF(E296=\"\",0,SUM(E$8:E296)),2)","v":0}]
[null,null,null,{"$f":"ROUND(IF(C297=\"\",0,SUM(C$8:C297)),2)","v":0},null,{"$f":"ROUND(IF(E297=\"\",0,SUM(E$8:E297)),2)","v":0}]
[null,null,null,{"$f":"ROUND(IF(C298=\"\",0,SUM(C$8:C298)),2)","v":0},null,{"$f":"ROUND(IF(E298=\"\",0,SUM(E$8:E298)),2)","v":0}]
[null,null,null,{"$f":"ROUND(IF(C299=\"\",0,SUM(C$8:C299)),2)","v":0},null,{"$f":"ROUND(IF(E299=\"\",0,SUM(E$8:E299)),2)","v":0}]
[null,null,null,{"$f":"ROUND(IF(C300=\"\",0,SUM(C$8:C300)),2)","v":0},null,{"$f":"ROUND(IF(E300=\"\",0,SUM(E$8:E300)),2)","v":0}]
[null,null,null,{"$f":"ROUND(IF(C301=\"\",0,SUM(C$8:C301)),2)","v":0},null,{"$f":"ROUND(IF(E301=\"\",0,SUM(E$8:E301)),2)","v":0}]
[null,null,null,{"$f":"ROUND(IF(C302=\"\",0,SUM(C$8:C302)),2)","v":0},null,{"$f":"ROUND(IF(E302=\"\",0,SUM(E$8:E302)),2)","v":0}]
[null,null,null,{"$f":"ROUND(IF(C303=\"\",0,SUM(C$8:C303)),2)","v":0},null,{"$f":"ROUND(IF(E303=\"\",0,SUM(E$8:E303)),2)","v":0}]
[null,null,null,{"$f":"ROUND(IF(C304=\"\",0,SUM(C$8:C304)),2)","v":0},null,{"$f":"ROUND(IF(E304=\"\",0,SUM(E$8:E304)),2)","v":0}]
[null,null,null,{"$f":"ROUND(IF(C305=\"\",0,SUM(C$8:C305)),2)","v":0},null,{"$f":"ROUND(IF(E305=\"\",0,SUM(E$8:E305)),2)","v":0}]
[null,null,null,{"$f":"ROUND(IF(C306=\"\",0,SUM(C$8:C306)),2)","v":0},null,{"$f":"ROUND(IF(E306=\"\",0,SUM(E$8:E306)),2)","v":0}]
[null,null,null,{"$f":"ROUND(IF(C307=\"\",0,SUM(C$8:C307)),2)","v":0},null,{"$f":"ROUND(IF(E307=\"\",0,SUM(E$8:E307)),2)","v":0}]
[null,null,null,{"$f":"ROUND(IF(C308=\"\",0,SUM(C$8:C308)),2)","v":0},null,{"$f":"ROUND(IF(E308=\"\",0,SUM(E$8:E308)),2)","v":0}]
[null,null,null,{"$f":"ROUND(IF(C309=\"\",0,SUM(C$8:C309)),2)","v":0},null,{"$f":"ROUND(IF(E309=\"\",0,SUM(E$8:E309)),2)","v":0}]
[null,null,null,{"$f":"ROUND(IF(C310=\"\",0,SUM(C$8:C310)),2)","v":0},null,{"$f":"ROUND(IF(E310=\"\",0,SUM(E$8:E310)),2)","v":0}]
[null,null,null,{"$f":"ROUND(IF(C311=\"\",0,SUM(C$8:C311)),2)","v":0},null,{"$f":"ROUND(IF(E311=\"\",0,SUM(E$8:E311)),2)","v":0}]
[null,null,null,{"$f":"ROUND(IF(C312=\"\",0,SUM(C$8:C312)),2)","v":0},null,{"$f":"ROUND(IF(E312=\"\",0,SUM(E$8:E312)),2)","v":0}]
[null,null,null,{"$f":"ROUND(IF(C313=\"\",0,SUM(C$8:C313)),2)","v":0},null,{"$f":"ROUND(IF(E313=\"\",0,SUM(E$8:E313)),2)","v":0}]
[null,null,null,{"$f":"ROUND(IF(C314=\"\",0,SUM(C$8:C314)),2)","v":0},null,{"$f":"ROUND(IF(E314=\"\",0,SUM(E$8:E314)),2)","v":0}]
[null,null,null,{"$f":"ROUND(IF(C315=\"\",0,SUM(C$8:C315)),2)","v":0},null,{"$f":"ROUND(IF(E315=\"\",0,SUM(E$8:E315)),2)","v":0}]
[null,null,null,{"$f":"ROUND(IF(C316=\"\",0,SUM(C$8:C316)),2)","v":0},null,{"$f":"ROUND(IF(E316=\"\",0,SUM(E$8:E316)),2)","v":0}]
[null,null,null,{"$f":"ROUND(IF(C317=\"\",0,SUM(C$8:C317)),2)","v":0},null,{"$f":"ROUND(IF(E317=\"\",0,SUM(E$8:E317)),2)","v":0}]
[null,null,null,{"$f":"ROUND(IF(C318=\"\",0,SUM(C$8:C318)),2)","v":0},null,{"$f":"ROUND(IF(E318=\"\",0,SUM(E$8:E318)),2)","v":0}]
[null,null,null,{"$f":"ROUND(IF(C319=\"\",0,SUM(C$8:C319)),2)","v":0},null,{"$f":"ROUND(IF(E319=\"\",0,SUM(E$8:E319)),2)","v":0}]
[null,null,null,{"$f":"ROUND(IF(C320=\"\",0,SUM(C$8:C320)),2)","v":0},null,{"$f":"ROUND(IF(E320=\"\",0,SUM(E$8:E320)),2)","v":0}]
[null,null,null,{"$f":"ROUND(IF(C321=\"\",0,SUM(C$8:C321)),2)","v":0},null,{"$f":"ROUND(IF(E321=\"\",0,SUM(E$8:E321)),2)","v":0}]
[null,null,null,{"$f":"ROUND(IF(C322=\"\",0,SUM(C$8:C322)),2)","v":0},null,{"$f":"ROUND(IF(E322=\"\",0,SUM(E$8:E322)),2)","v":0}]
[null,null,null,{"$f":"ROUND(IF(C323=\"\",0,SUM(C$8:C323)),2)","v":0},null,{"$f":"ROUND(IF(E323=\"\",0,SUM(E$8:E323)),2)","v":0}]
[null,null,null,{"$f":"ROUND(IF(C324=\"\",0,SUM(C$8:C324)),2)","v":0},null,{"$f":"ROUND(IF(E324=\"\",0,SUM(E$8:E324)),2)","v":0}]
[null,null,null,{"$f":"ROUND(IF(C325=\"\",0,SUM(C$8:C325)),2)","v":0},null,{"$f":"ROUND(IF(E325=\"\",0,SUM(E$8:E325)),2)","v":0}]
[null,null,null,{"$f":"ROUND(IF(C326=\"\",0,SUM(C$8:C326)),2)","v":0},null,{"$f":"ROUND(IF(E326=\"\",0,SUM(E$8:E326)),2)","v":0}]
[null,null,null,{"$f":"ROUND(IF(C327=\"\",0,SUM(C$8:C327)),2)","v":0},null,{"$f":"ROUND(IF(E327=\"\",0,SUM(E$8:E327)),2)","v":0}]
[null,null,null,{"$f":"ROUND(IF(C328=\"\",0,SUM(C$8:C328)),2)","v":0},null,{"$f":"ROUND(IF(E328=\"\",0,SUM(E$8:E328)),2)","v":0}]
[null,null,null,{"$f":"ROUND(IF(C329=\"\",0,SUM(C$8:C329)),2)","v":0},null,{"$f":"ROUND(IF(E329=\"\",0,SUM(E$8:E329)),2)","v":0}]
[null,null,null,{"$f":"ROUND(IF(C330=\"\",0,SUM(C$8:C330)),2)","v":0},null,{"$f":"ROUND(IF(E330=\"\",0,SUM(E$8:E330)),2)","v":0}]
[null,null,null,{"$f":"ROUND(IF(C331=\"\",0,SUM(C$8:C331)),2)","v":0},null,{"$f":"ROUND(IF(E331=\"\",0,SUM(E$8:E331)),2)","v":0}]
[null,null,null,{"$f":"ROUND(IF(C332=\"\",0,SUM(C$8:C332)),2)","v":0},null,{"$f":"ROUND(IF(E332=\"\",0,SUM(E$8:E332)),2)","v":0}]
[null,null,null,{"$f":"ROUND(IF(C333=\"\",0,SUM(C$8:C333)),2)","v":0},null,{"$f":"ROUND(IF(E333=\"\",0,SUM(E$8:E333)),2)","v":0}]
[null,null,null,{"$f":"ROUND(IF(C334=\"\",0,SUM(C$8:C334)),2)","v":0},null,{"$f":"ROUND(IF(E334=\"\",0,SUM(E$8:E334)),2)","v":0}]
[null,null,null,{"$f":"ROUND(IF(C335=\"\",0,SUM(C$8:C335)),2)","v":0},null,{"$f":"ROUND(IF(E335=\"\",0,SUM(E$8:E335)),2)","v":0}]
[null,null,null,{"$f":"ROUND(IF(C336=\"\",0,SUM(C$8:C336)),2)","v":0},null,{"$f":"ROUND(IF(E336=\"\",0,SUM(E$8:E336)),2)","v":0}]
[null,null,null,{"$f":"ROUND(IF(C337=\"\",0,SUM(C$8:C337)),2)","v":0},null,{"$f":"ROUND(IF(E337=\"\",0,SUM(E$8:E337)),2)","v":0}]
[null,null,null,{"$f":"ROUND(IF(C338=\"\",0,SUM(C$8:C338)),2)","v":0},null,{"$f":"ROUND(IF(E338=\"\",0,SUM(E$8:E338)),2)","v":0}]
[null,null,null,{"$f":"ROUND(IF(C339=\"\",0,SUM(C$8:C339)),2)","v":0},null,{"$f":"ROUND(IF(E339=\"\",0,SUM(E$8:E339)),2)","v":0}]
[null,null,null,{"$f":"ROUND(IF(C340=\"\",0,SUM(C$8:C340)),2)","v":0},null,{"$f":"ROUND(IF(E340=\"\",0,SUM(E$8:E340)),2)","v":0}]
[null,null,null,{"$f":"ROUND(IF(C341=\"\",0,SUM(C$8:C341)),2)","v":0},null,{"$f":"ROUND(IF(E341=\"\",0,SUM(E$8:E341)),2)","v":0}]
[null,null,null,{"$f":"ROUND(IF(C342=\"\",0,SUM(C$8:C342)),2)","v":0},null,{"$f":"ROUND(IF(E342=\"\",0,SUM(E$8:E342)),2)","v":0}]
[null,null,null,{"$f":"ROUND(IF(C343=\"\",0,SUM(C$8:C343)),2)","v":0},null,{"$f":"ROUND(IF(E343=\"\",0,SUM(E$8:E343)),2)","v":0}]
[null,null,null,{"$f":"ROUND(IF(C344=\"\",0,SUM(C$8:C344)),2)","v":0},null,{"$f":"ROUND(IF(E344=\"\",0,SUM(E$8:E344)),2)","v":0}]
[null,null,null,{"$f":"ROUND(IF(C345=\"\",0,SUM(C$8:C345)),2)","v":0},null,{"$f":"ROUND(IF(E345=\"\",0,SUM(E$8:E345)),2)","v":0}]
[null,null,null,{"$f":"ROUND(IF(C346=\"\",0,SUM(C$8:C346)),2)","v":0},null,{"$f":"ROUND(IF(E346=\"\",0,SUM(E$8:E346)),2)","v":0}]
[null,null,null,{"$f":"ROUND(IF(C347=\"\",0,SUM(C$8:C347)),2)","v":0},null,{"$f":"ROUND(IF(E347=\"\",0,SUM(E$8:E347)),2)","v":0}]
[null,null,null,{"$f":"ROUND(IF(C348=\"\",0,SUM(C$8:C348)),2)","v":0},null,{"$f":"ROUND(IF(E348=\"\",0,SUM(E$8:E348)),2)","v":0}]
[null,null,null,{"$f":"ROUND(IF(C349=\"\",0,SUM(C$8:C349)),2)","v":0},null,{"$f":"ROUND(IF(E349=\"\",0,SUM(E$8:E349)),2)","v":0}]
[null,null,null,{"$f":"ROUND(IF(C350=\"\",0,SUM(C$8:C350)),2)","v":0},null,{"$f":"ROUND(IF(E350=\"\",0,SUM(E$8:E350)),2)","v":0}]
[null,null,null,{"$f":"ROUND(IF(C351=\"\",0,SUM(C$8:C351)),2)","v":0},null,{"$f":"ROUND(IF(E351=\"\",0,SUM(E$8:E351)),2)","v":0}]
[null,null,null,{"$f":"ROUND(IF(C352=\"\",0,SUM(C$8:C352)),2)","v":0},null,{"$f":"ROUND(IF(E352=\"\",0,SUM(E$8:E352)),2)","v":0}]
[null,null,null,{"$f":"ROUND(IF(C353=\"\",0,SUM(C$8:C353)),2)","v":0},null,{"$f":"ROUND(IF(E353=\"\",0,SUM(E$8:E353)),2)","v":0}]
[null,null,null,{"$f":"ROUND(IF(C354=\"\",0,SUM(C$8:C354)),2)","v":0},null,{"$f":"ROUND(IF(E354=\"\",0,SUM(E$8:E354)),2)","v":0}]
[null,null,null,{"$f":"ROUND(IF(C355=\"\",0,SUM(C$8:C355)),2)","v":0},null,{"$f":"ROUND(IF(E355=\"\",0,SUM(E$8:E355)),2)","v":0}]
[null,null,null,{"$f":"ROUND(IF(C356=\"\",0,SUM(C$8:C356)),2)","v":0},null,{"$f":"ROUND(IF(E356=\"\",0,SUM(E$8:E356)),2)","v":0}]
[null,null,null,{"$f":"ROUND(IF(C357=\"\",0,SUM(C$8:C357)),2)","v":0},null,{"$f":"ROUND(IF(E357=\"\",0,SUM(E$8:E357)),2)","v":0}]
[null,null,null,{"$f":"ROUND(IF(C358=\"\",0,SUM(C$8:C358)),2)","v":0},null,{"$f":"ROUND(IF(E358=\"\",0,SUM(E$8:E358)),2)","v":0}]
[null,null,null,{"$f":"ROUND(IF(C359=\"\",0,SUM(C$8:C359)),2)","v":0},null,{"$f":"ROUND(IF(E359=\"\",0,SUM(E$8:E359)),2)","v":0}]
[null,null,null,{"$f":"ROUND(IF(C360=\"\",0,SUM(C$8:C360)),2)","v":0},null,{"$f":"ROUND(IF(E360=\"\",0,SUM(E$8:E360)),2)","v":0}]
[null,null,null,{"$f":"ROUND(IF(C361=\"\",0,SUM(C$8:C361)),2)","v":0},null,{"$f":"ROUND(IF(E361=\"\",0,SUM(E$8:E361)),2)","v":0}]
[null,null,null,{"$f":"ROUND(IF(C362=\"\",0,SUM(C$8:C362)),2)","v":0},null,{"$f":"ROUND(IF(E362=\"\",0,SUM(E$8:E362)),2)","v":0}]
[null,null,null,{"$f":"ROUND(IF(C363=\"\",0,SUM(C$8:C363)),2)","v":0},null,{"$f":"ROUND(IF(E363=\"\",0,SUM(E$8:E363)),2)","v":0}]
[null,null,null,{"$f":"ROUND(IF(C364=\"\",0,SUM(C$8:C364)),2)","v":0},null,{"$f":"ROUND(IF(E364=\"\",0,SUM(E$8:E364)),2)","v":0}]
[null,null,null,{"$f":"ROUND(IF(C365=\"\",0,SUM(C$8:C365)),2)","v":0},null,{"$f":"ROUND(IF(E365=\"\",0,SUM(E$8:E365)),2)","v":0}]
[null,null,null,{"$f":"ROUND(IF(C366=\"\",0,SUM(C$8:C366)),2)","v":0},null,{"$f":"ROUND(IF(E366=\"\",0,SUM(E$8:E366)),2)","v":0}]
[null,null,null,{"$f":"ROUND(IF(C367=\"\",0,SUM(C$8:C367)),2)","v":0},null,{"$f":"ROUND(IF(E367=\"\",0,SUM(E$8:E367)),2)","v":0}]
[null,null,null,{"$f":"ROUND(IF(C368=\"\",0,SUM(C$8:C368)),2)","v":0},null,{"$f":"ROUND(IF(E368=\"\",0,SUM(E$8:E368)),2)","v":0}]
[null,null,null,{"$f":"ROUND(IF(C369=\"\",0,SUM(C$8:C369)),2)","v":0},null,{"$f":"ROUND(IF(E369=\"\",0,SUM(E$8:E369)),2)","v":0}]
[null,null,null,{"$f":"ROUND(IF(C370=\"\",0,SUM(C$8:C370)),2)","v":0},null,{"$f":"ROUND(IF(E370=\"\",0,SUM(E$8:E370)),2)","v":0}]
[null,null,null,{"$f":"ROUND(IF(C371=\"\",0,SUM(C$8:C371)),2)","v":0},null,{"$f":"ROUND(IF(E371=\"\",0,SUM(E$8:E371)),2)","v":0}]
[null,null,null,{"$f":"ROUND(IF(C372=\"\",0,SUM(C$8:C372)),2)","v":0},null,{"$f":"ROUND(IF(E372=\"\",0,SUM(E$8:E372)),2)","v":0}]
[null,null,null,{"$f":"ROUND(IF(C373=\"\",0,SUM(C$8:C373)),2)","v":0},null,{"$f":"ROUND(IF(E373=\"\",0,SUM(E$8:E373)),2)","v":0}]
[null,null,null,{"$f":"ROUND(IF(C374=\"\",0,SUM(C$8:C374)),2)","v":0},null,{"$f":"ROUND(IF(E374=\"\",0,SUM(E$8:E374)),2)","v":0}]
[null,null,null,{"$f":"ROUND(IF(C375=\"\",0,SUM(C$8:C375)),2)","v":0},null,{"$f":"ROUND(IF(E375=\"\",0,SUM(E$8:E375)),2)","v":0}]
[null,null,null,{"$f":"ROUND(IF(C376=\"\",0,SUM(C$8:C376)),2)","v":0},null,{"$f":"ROUND(IF(E376=\"\",0,SUM(E$8:E376)),2)","v":0}]
[null,null,null,{"$f":"ROUND(IF(C377=\"\",0,SUM(C$8:C377)),2)","v":0},null,{"$f":"ROUND(IF(E377=\"\",0,SUM(E$8:E377)),2)","v":0}]
[null,null,null,{"$f":"ROUND(IF(C378=\"\",0,SUM(C$8:C378)),2)","v":0},null,{"$f":"ROUND(IF(E378=\"\",0,SUM(E$8:E378)),2)","v":0}]
[null,null,null,{"$f":"ROUND(IF(C379=\"\",0,SUM(C$8:C379)),2)","v":0},null,{"$f":"ROUND(IF(E379=\"\",0,SUM(E$8:E379)),2)","v":0}]
[null,null,null,{"$f":"ROUND(IF(C380=\"\",0,SUM(C$8:C380)),2)","v":0},null,{"$f":"ROUND(IF(E380=\"\",0,SUM(E$8:E380)),2)","v":0}]
[null,null,null,{"$f":"ROUND(IF(C381=\"\",0,SUM(C$8:C381)),2)","v":0},null,{"$f":"ROUND(IF(E381=\"\",0,SUM(E$8:E381)),2)","v":0}]
[null,null,null,{"$f":"ROUND(IF(C382=\"\",0,SUM(C$8:C382)),2)","v":0},null,{"$f":"ROUND(IF(E382=\"\",0,SUM(E$8:E382)),2)","v":0}]
[null,null,null,{"$f":"ROUND(IF(C383=\"\",0,SUM(C$8:C383)),2)","v":0},null,{"$f":"ROUND(IF(E383=\"\",0,SUM(E$8:E383)),2)","v":0}]
[null,null,null,{"$f":"ROUND(IF(C384=\"\",0,SUM(C$8:C384)),2)","v":0},null,{"$f":"ROUND(IF(E384=\"\",0,SUM(E$8:E384)),2)","v":0}]
[null,null,null,{"$f":"ROUND(IF(C385=\"\",0,SUM(C$8:C385)),2)","v":0},null,{"$f":"ROUND(IF(E385=\"\",0,SUM(E$8:E385)),2)","v":0}]
[null,null,null,{"$f":"ROUND(IF(C386=\"\",0,SUM(C$8:C386)),2)","v":0},null,{"$f":"ROUND(IF(E386=\"\",0,SUM(E$8:E386)),2)","v":0}]
[null,null,null,{"$f":"ROUND(IF(C387=\"\",0,SUM(C$8:C387)),2)","v":0},null,{"$f":"ROUND(IF(E387=\"\",0,SUM(E$8:E387)),2)","v":0}]
[null,null,null,{"$f":"ROUND(IF(C388=\"\",0,SUM(C$8:C388)),2)","v":0},null,{"$f":"ROUND(IF(E388=\"\",0,SUM(E$8:E388)),2)","v":0}]
[null,null,null,{"$f":"ROUND(IF(C389=\"\",0,SUM(C$8:C389)),2)","v":0},null,{"$f":"ROUND(IF(E389=\"\",0,SUM(E$8:E389)),2)","v":0}]
[null,null,null,{"$f":"ROUND(IF(C390=\"\",0,SUM(C$8:C390)),2)","v":0},null,{"$f":"ROUND(IF(E390=\"\",0,SUM(E$8:E390)),2)","v":0}]
[null,null,null,{"$f":"ROUND(IF(C391=\"\",0,SUM(C$8:C391)),2)","v":0},null,{"$f":"ROUND(IF(E391=\"\",0,SUM(E$8:E391)),2)","v":0}]
[null,null,null,{"$f":"ROUND(IF(C392=\"\",0,SUM(C$8:C392)),2)","v":0},null,{"$f":"ROUND(IF(E392=\"\",0,SUM(E$8:E392)),2)","v":0}]
[null,null,null,{"$f":"ROUND(IF(C393=\"\",0,SUM(C$8:C393)),2)","v":0},null,{"$f":"ROUND(IF(E393=\"\",0,SUM(E$8:E393)),2)","v":0}]
[null,null,null,{"$f":"ROUND(IF(C394=\"\",0,SUM(C$8:C394)),2)","v":0},null,{"$f":"ROUND(IF(E394=\"\",0,SUM(E$8:E394)),2)","v":0}]
[null,null,null,{"$f":"ROUND(IF(C395=\"\",0,SUM(C$8:C395)),2)","v":0},null,{"$f":"ROUND(IF(E395=\"\",0,SUM(E$8:E395)),2)","v":0}]
[null,null,null,{"$f":"ROUND(IF(C396=\"\",0,SUM(C$8:C396)),2)","v":0},null,{"$f":"ROUND(IF(E396=\"\",0,SUM(E$8:E396)),2)","v":0}]
[null,null,null,{"$f":"ROUND(IF(C397=\"\",0,SUM(C$8:C397)),2)","v":0},null,{"$f":"ROUND(IF(E397=\"\",0,SUM(E$8:E397)),2)","v":0}]
[null,null,null,{"$f":"ROUND(IF(C398=\"\",0,SUM(C$8:C398)),2)","v":0},null,{"$f":"ROUND(IF(E398=\"\",0,SUM(E$8:E398)),2)","v":0}]
[null,null,null,{"$f":"ROUND(IF(C399=\"\",0,SUM(C$8:C399)),2)","v":0},null,{"$f":"ROUND(IF(E399=\"\",0,SUM(E$8:E399)),2)","v":0}]
[null,null,null,{"$f":"ROUND(IF(C400=\"\",0,SUM(C$8:C400)),2)","v":0},null,{"$f":"ROUND(IF(E400=\"\",0,SUM(E$8:E400)),2)","v":0}]
[null,null,null,{"$f":"ROUND(IF(C401=\"\",0,SUM(C$8:C401)),2)","v":0},null,{"$f":"ROUND(IF(E401=\"\",0,SUM(E$8:E401)),2)","v":0}]
[null,null,null,{"$f":"ROUND(IF(C402=\"\",0,SUM(C$8:C402)),2)","v":0},null,{"$f":"ROUND(IF(E402=\"\",0,SUM(E$8:E402)),2)","v":0}]
[null,null,null,{"$f":"ROUND(IF(C403=\"\",0,SUM(C$8:C403)),2)","v":0},null,{"$f":"ROUND(IF(E403=\"\",0,SUM(E$8:E403)),2)","v":0}]
[null,null,null,{"$f":"ROUND(IF(C404=\"\",0,SUM(C$8:C404)),2)","v":0},null,{"$f":"ROUND(IF(E404=\"\",0,SUM(E$8:E404)),2)","v":0}]
[null,null,null,{"$f":"ROUND(IF(C405=\"\",0,SUM(C$8:C405)),2)","v":0},null,{"$f":"ROUND(IF(E405=\"\",0,SUM(E$8:E405)),2)","v":0}]
[null,null,null,{"$f":"ROUND(IF(C406=\"\",0,SUM(C$8:C406)),2)","v":0},null,{"$f":"ROUND(IF(E406=\"\",0,SUM(E$8:E406)),2)","v":0}]
[null,null,null,{"$f":"ROUND(IF(C407=\"\",0,SUM(C$8:C407)),2)","v":0},null,{"$f":"ROUND(IF(E407=\"\",0,SUM(E$8:E407)),2)","v":0}]
[null,null,null,{"$f":"ROUND(IF(C408=\"\",0,SUM(C$8:C408)),2)","v":0},null,{"$f":"ROUND(IF(E408=\"\",0,SUM(E$8:E408)),2)","v":0}]
[null,null,null,{"$f":"ROUND(IF(C409=\"\",0,SUM(C$8:C409)),2)","v":0},null,{"$f":"ROUND(IF(E409=\"\",0,SUM(E$8:E409)),2)","v":0}]
[null,null,null,{"$f":"ROUND(IF(C410=\"\",0,SUM(C$8:C410)),2)","v":0},null,{"$f":"ROUND(IF(E410=\"\",0,SUM(E$8:E410)),2)","v":0}]
[null,null,null,{"$f":"ROUND(IF(C411=\"\",0,SUM(C$8:C411)),2)","v":0},null,{"$f":"ROUND(IF(E411=\"\",0,SUM(E$8:E411)),2)","v":0}]
[null,null,null,{"$f":"ROUND(IF(C412=\"\",0,SUM(C$8:C412)),2)","v":0},null,{"$f":"ROUND(IF(E412=\"\",0,SUM(E$8:E412)),2)","v":0}]
[null,null,null,{"$f":"ROUND(IF(C413=\"\",0,SUM(C$8:C413)),2)","v":0},null,{"$f":"ROUND(IF(E413=\"\",0,SUM(E$8:E413)),2)","v":0}]
[null,null,null,{"$f":"ROUND(IF(C414=\"\",0,SUM(C$8:C414)),2)","v":0},null,{"$f":"ROUND(IF(E414=\"\",0,SUM(E$8:E414)),2)","v":0}]
[null,null,null,{"$f":"ROUND(IF(C415=\"\",0,SUM(C$8:C415)),2)","v":0},null,{"$f":"ROUND(IF(E415=\"\",0,SUM(E$8:E415)),2)","v":0}]
[null,null,null,{"$f":"ROUND(IF(C416=\"\",0,SUM(C$8:C416)),2)","v":0},null,{"$f":"ROUND(IF(E416=\"\",0,SUM(E$8:E416)),2)","v":0}]
[null,null,null,{"$f":"ROUND(IF(C417=\"\",0,SUM(C$8:C417)),2)","v":0},null,{"$f":"ROUND(IF(E417=\"\",0,SUM(E$8:E417)),2)","v":0}]
[null,null,null,{"$f":"ROUND(IF(C418=\"\",0,SUM(C$8:C418)),2)","v":0},null,{"$f":"ROUND(IF(E418=\"\",0,SUM(E$8:E418)),2)","v":0}]
[null,null,null,{"$f":"ROUND(IF(C419=\"\",0,SUM(C$8:C419)),2)","v":0},null,{"$f":"ROUND(IF(E419=\"\",0,SUM(E$8:E419)),2)","v":0}]
[null,null,null,{"$f":"ROUND(IF(C420=\"\",0,SUM(C$8:C420)),2)","v":0},null,{"$f":"ROUND(IF(E420=\"\",0,SUM(E$8:E420)),2)","v":0}]
[null,null,null,{"$f":"ROUND(IF(C421=\"\",0,SUM(C$8:C421)),2)","v":0},null,{"$f":"ROUND(IF(E421=\"\",0,SUM(E$8:E421)),2)","v":0}]
[null,null,null,{"$f":"ROUND(IF(C422=\"\",0,SUM(C$8:C422)),2)","v":0},null,{"$f":"ROUND(IF(E422=\"\",0,SUM(E$8:E422)),2)","v":0}]
[null,null,null,{"$f":"ROUND(IF(C423=\"\",0,SUM(C$8:C423)),2)","v":0},null,{"$f":"ROUND(IF(E423=\"\",0,SUM(E$8:E423)),2)","v":0}]
[null,null,null,{"$f":"ROUND(IF(C424=\"\",0,SUM(C$8:C424)),2)","v":0},null,{"$f":"ROUND(IF(E424=\"\",0,SUM(E$8:E424)),2)","v":0}]
[null,null,null,{"$f":"ROUND(IF(C425=\"\",0,SUM(C$8:C425)),2)","v":0},null,{"$f":"ROUND(IF(E425=\"\",0,SUM(E$8:E425)),2)","v":0}]
[null,null,null,{"$f":"ROUND(IF(C426=\"\",0,SUM(C$8:C426)),2)","v":0},null,{"$f":"ROUND(IF(E426=\"\",0,SUM(E$8:E426)),2)","v":0}]
[null,null,null,{"$f":"ROUND(IF(C427=\"\",0,SUM(C$8:C427)),2)","v":0},null,{"$f":"ROUND(IF(E427=\"\",0,SUM(E$8:E427)),2)","v":0}]
[null,null,null,{"$f":"ROUND(IF(C428=\"\",0,SUM(C$8:C428)),2)","v":0},null,{"$f":"ROUND(IF(E428=\"\",0,SUM(E$8:E428)),2)","v":0}]
[null,null,null,{"$f":"ROUND(IF(C429=\"\",0,SUM(C$8:C429)),2)","v":0},null,{"$f":"ROUND(IF(E429=\"\",0,SUM(E$8:E429)),2)","v":0}]
[null,null,null,{"$f":"ROUND(IF(C430=\"\",0,SUM(C$8:C430)),2)","v":0},null,{"$f":"ROUND(IF(E430=\"\",0,SUM(E$8:E430)),2)","v":0}]
[null,null,null,{"$f":"ROUND(IF(C431=\"\",0,SUM(C$8:C431)),2)","v":0},null,{"$f":"ROUND(IF(E431=\"\",0,SUM(E$8:E431)),2)","v":0}]
[null,null,null,{"$f":"ROUND(IF(C432=\"\",0,SUM(C$8:C432)),2)","v":0},null,{"$f":"ROUND(IF(E432=\"\",0,SUM(E$8:E432)),2)","v":0}]
[null,null,null,{"$f":"ROUND(IF(C433=\"\",0,SUM(C$8:C433)),2)","v":0},null,{"$f":"ROUND(IF(E433=\"\",0,SUM(E$8:E433)),2)","v":0}]
[null,null,null,{"$f":"ROUND(IF(C434=\"\",0,SUM(C$8:C434)),2)","v":0},null,{"$f":"ROUND(IF(E434=\"\",0,SUM(E$8:E434)),2)","v":0}]
[null,null,null,{"$f":"ROUND(IF(C435=\"\",0,SUM(C$8:C435)),2)","v":0},null,{"$f":"ROUND(IF(E435=\"\",0,SUM(E$8:E435)),2)","v":0}]
[null,null,null,{"$f":"ROUND(IF(C436=\"\",0,SUM(C$8:C436)),2)","v":0},null,{"$f":"ROUND(IF(E436=\"\",0,SUM(E$8:E436)),2)","v":0}]
[null,null,null,{"$f":"ROUND(IF(C437=\"\",0,SUM(C$8:C437)),2)","v":0},null,{"$f":"ROUND(IF(E437=\"\",0,SUM(E$8:E437)),2)","v":0}]
[null,null,null,{"$f":"ROUND(IF(C438=\"\",0,SUM(C$8:C438)),2)","v":0},null,{"$f":"ROUND(IF(E438=\"\",0,SUM(E$8:E438)),2)","v":0}]
[null,null,null,{"$f":"ROUND(IF(C439=\"\",0,SUM(C$8:C439)),2)","v":0},null,{"$f":"ROUND(IF(E439=\"\",0,SUM(E$8:E439)),2)","v":0}]
[null,null,null,{"$f":"ROUND(IF(C440=\"\",0,SUM(C$8:C440)),2)","v":0},null,{"$f":"ROUND(IF(E440=\"\",0,SUM(E$8:E440)),2)","v":0}]
[null,null,null,{"$f":"ROUND(IF(C441=\"\",0,SUM(C$8:C441)),2)","v":0},null,{"$f":"ROUND(IF(E441=\"\",0,SUM(E$8:E441)),2)","v":0}]
[null,null,null,{"$f":"ROUND(IF(C442=\"\",0,SUM(C$8:C442)),2)","v":0},null,{"$f":"ROUND(IF(E442=\"\",0,SUM(E$8:E442)),2)","v":0}]
[null,null,null,{"$f":"ROUND(IF(C443=\"\",0,SUM(C$8:C443)),2)","v":0},null,{"$f":"ROUND(IF(E443=\"\",0,SUM(E$8:E443)),2)","v":0}]
[null,null,null,{"$f":"ROUND(IF(C444=\"\",0,SUM(C$8:C444)),2)","v":0},null,{"$f":"ROUND(IF(E444=\"\",0,SUM(E$8:E444)),2)","v":0}]
[null,null,null,{"$f":"ROUND(IF(C445=\"\",0,SUM(C$8:C445)),2)","v":0},null,{"$f":"ROUND(IF(E445=\"\",0,SUM(E$8:E445)),2)","v":0}]
[null,null,null,{"$f":"ROUND(IF(C446=\"\",0,SUM(C$8:C446)),2)","v":0},null,{"$f":"ROUND(IF(E446=\"\",0,SUM(E$8:E446)),2)","v":0}]
[null,null,null,{"$f":"ROUND(IF(C447=\"\",0,SUM(C$8:C447)),2)","v":0},null,{"$f":"ROUND(IF(E447=\"\",0,SUM(E$8:E447)),2)","v":0}]
[null,null,null,{"$f":"ROUND(IF(C448=\"\",0,SUM(C$8:C448)),2)","v":0},null,{"$f":"ROUND(IF(E448=\"\",0,SUM(E$8:E448)),2)","v":0}]
[null,null,null,{"$f":"ROUND(IF(C449=\"\",0,SUM(C$8:C449)),2)","v":0},null,{"$f":"ROUND(IF(E449=\"\",0,SUM(E$8:E449)),2)","v":0}]
[null,null,null,{"$f":"ROUND(IF(C450=\"\",0,SUM(C$8:C450)),2)","v":0},null,{"$f":"ROUND(IF(E450=\"\",0,SUM(E$8:E450)),2)","v":0}]
[null,null,null,{"$f":"ROUND(IF(C451=\"\",0,SUM(C$8:C451)),2)","v":0},null,{"$f":"ROUND(IF(E451=\"\",0,SUM(E$8:E451)),2)","v":0}]
[null,null,null,{"$f":"ROUND(IF(C452=\"\",0,SUM(C$8:C452)),2)","v":0},null,{"$f":"ROUND(IF(E452=\"\",0,SUM(E$8:E452)),2)","v":0}]
[null,null,null,{"$f":"ROUND(IF(C453=\"\",0,SUM(C$8:C453)),2)","v":0},null,{"$f":"ROUND(IF(E453=\"\",0,SUM(E$8:E453)),2)","v":0}]
[null,null,null,{"$f":"ROUND(IF(C454=\"\",0,SUM(C$8:C454)),2)","v":0},null,{"$f":"ROUND(IF(E454=\"\",0,SUM(E$8:E454)),2)","v":0}]
[null,null,null,{"$f":"ROUND(IF(C455=\"\",0,SUM(C$8:C455)),2)","v":0},null,{"$f":"ROUND(IF(E455=\"\",0,SUM(E$8:E455)),2)","v":0}]
[null,null,null,{"$f":"ROUND(IF(C456=\"\",0,SUM(C$8:C456)),2)","v":0},null,{"$f":"ROUND(IF(E456=\"\",0,SUM(E$8:E456)),2)","v":0}]
[null,null,null,{"$f":"ROUND(IF(C457=\"\",0,SUM(C$8:C457)),2)","v":0},null,{"$f":"ROUND(IF(E457=\"\",0,SUM(E$8:E457)),2)","v":0}]
[null,null,null,{"$f":"ROUND(IF(C458=\"\",0,SUM(C$8:C458)),2)","v":0},null,{"$f":"ROUND(IF(E458=\"\",0,SUM(E$8:E458)),2)","v":0}]
[null,null,null,{"$f":"ROUND(IF(C459=\"\",0,SUM(C$8:C459)),2)","v":0},null,{"$f":"ROUND(IF(E459=\"\",0,SUM(E$8:E459)),2)","v":0}]
[null,null,null,{"$f":"ROUND(IF(C460=\"\",0,SUM(C$8:C460)),2)","v":0},null,{"$f":"ROUND(IF(E460=\"\",0,SUM(E$8:E460)),2)","v":0}]
[null,null,null,{"$f":"ROUND(IF(C461=\"\",0,SUM(C$8:C461)),2)","v":0},null,{"$f":"ROUND(IF(E461=\"\",0,SUM(E$8:E461)),2)","v":0}]
[null,null,null,{"$f":"ROUND(IF(C462=\"\",0,SUM(C$8:C462)),2)","v":0},null,{"$f":"ROUND(IF(E462=\"\",0,SUM(E$8:E462)),2)","v":0}]
[null,null,null,{"$f":"ROUND(IF(C463=\"\",0,SUM(C$8:C463)),2)","v":0},null,{"$f":"ROUND(IF(E463=\"\",0,SUM(E$8:E463)),2)","v":0}]
[null,null,null,{"$f":"ROUND(IF(C464=\"\",0,SUM(C$8:C464)),2)","v":0},null,{"$f":"ROUND(IF(E464=\"\",0,SUM(E$8:E464)),2)","v":0}]
[null,null,null,{"$f":"ROUND(IF(C465=\"\",0,SUM(C$8:C465)),2)","v":0},null,{"$f":"ROUND(IF(E465=\"\",0,SUM(E$8:E465)),2)","v":0}]
[null,null,null,{"$f":"ROUND(IF(C466=\"\",0,SUM(C$8:C466)),2)","v":0},null,{"$f":"ROUND(IF(E466=\"\",0,SUM(E$8:E466)),2)","v":0}]
[null,null,null,{"$f":"ROUND(IF(C467=\"\",0,SUM(C$8:C467)),2)","v":0},null,{"$f":"ROUND(IF(E467=\"\",0,SUM(E$8:E467)),2)","v":0}]
[null,null,null,{"$f":"ROUND(IF(C468=\"\",0,SUM(C$8:C468)),2)","v":0},null,{"$f":"ROUND(IF(E468=\"\",0,SUM(E$8:E468)),2)","v":0}]
[null,null,null,{"$f":"ROUND(IF(C469=\"\",0,SUM(C$8:C469)),2)","v":0},null,{"$f":"ROUND(IF(E469=\"\",0,SUM(E$8:E469)),2)","v":0}]
[null,null,null,{"$f":"ROUND(IF(C470=\"\",0,SUM(C$8:C470)),2)","v":0},null,{"$f":"ROUND(IF(E470=\"\",0,SUM(E$8:E470)),2)","v":0}]
[null,null,null,{"$f":"ROUND(IF(C471=\"\",0,SUM(C$8:C471)),2)","v":0},null,{"$f":"ROUND(IF(E471=\"\",0,SUM(E$8:E471)),2)","v":0}]
[null,null,null,{"$f":"ROUND(IF(C472=\"\",0,SUM(C$8:C472)),2)","v":0},null,{"$f":"ROUND(IF(E472=\"\",0,SUM(E$8:E472)),2)","v":0}]
[null,null,null,{"$f":"ROUND(IF(C473=\"\",0,SUM(C$8:C473)),2)","v":0},null,{"$f":"ROUND(IF(E473=\"\",0,SUM(E$8:E473)),2)","v":0}]
[null,null,null,{"$f":"ROUND(IF(C474=\"\",0,SUM(C$8:C474)),2)","v":0},null,{"$f":"ROUND(IF(E474=\"\",0,SUM(E$8:E474)),2)","v":0}]
[null,null,null,{"$f":"ROUND(IF(C475=\"\",0,SUM(C$8:C475)),2)","v":0},null,{"$f":"ROUND(IF(E475=\"\",0,SUM(E$8:E475)),2)","v":0}]
[null,null,null,{"$f":"ROUND(IF(C476=\"\",0,SUM(C$8:C476)),2)","v":0},null,{"$f":"ROUND(IF(E476=\"\",0,SUM(E$8:E476)),2)","v":0}]
[null,null,null,{"$f":"ROUND(IF(C477=\"\",0,SUM(C$8:C477)),2)","v":0},null,{"$f":"ROUND(IF(E477=\"\",0,SUM(E$8:E477)),2)","v":0}]
[null,null,null,{"$f":"ROUND(IF(C478=\"\",0,SUM(C$8:C478)),2)","v":0},null,{"$f":"ROUND(IF(E478=\"\",0,SUM(E$8:E478)),2)","v":0}]
[null,null,null,{"$f":"ROUND(IF(C479=\"\",0,SUM(C$8:C479)),2)","v":0},null,{"$f":"ROUND(IF(E479=\"\",0,SUM(E$8:E479)),2)","v":0}]
[null,null,null,{"$f":"ROUND(IF(C480=\"\",0,SUM(C$8:C480)),2)","v":0},null,{"$f":"ROUND(IF(E480=\"\",0,SUM(E$8:E480)),2)","v":0}]
[null,null,null,{"$f":"ROUND(IF(C481=\"\",0,SUM(C$8:C481)),2)","v":0},null,{"$f":"ROUND(IF(E481=\"\",0,SUM(E$8:E481)),2)","v":0}]
[null,null,null,{"$f":"ROUND(IF(C482=\"\",0,SUM(C$8:C482)),2)","v":0},null,{"$f":"ROUND(IF(E482=\"\",0,SUM(E$8:E482)),2)","v":0}]
[null,null,null,{"$f":"ROUND(IF(C483=\"\",0,SUM(C$8:C483)),2)","v":0},null,{"$f":"ROUND(IF(E483=\"\",0,SUM(E$8:E483)),2)","v":0}]
[null,null,null,{"$f":"ROUND(IF(C484=\"\",0,SUM(C$8:C484)),2)","v":0},null,{"$f":"ROUND(IF(E484=\"\",0,SUM(E$8:E484)),2)","v":0}]
[null,null,null,{"$f":"ROUND(IF(C485=\"\",0,SUM(C$8:C485)),2)","v":0},null,{"$f":"ROUND(IF(E485=\"\",0,SUM(E$8:E485)),2)","v":0}]
[null,null,null,{"$f":"ROUND(IF(C486=\"\",0,SUM(C$8:C486)),2)","v":0},null,{"$f":"ROUND(IF(E486=\"\",0,SUM(E$8:E486)),2)","v":0}]
[null,null,null,{"$f":"ROUND(IF(C487=\"\",0,SUM(C$8:C487)),2)","v":0},null,{"$f":"ROUND(IF(E487=\"\",0,SUM(E$8:E487)),2)","v":0}]
[null,null,null,{"$f":"ROUND(IF(C488=\"\",0,SUM(C$8:C488)),2)","v":0},null,{"$f":"ROUND(IF(E488=\"\",0,SUM(E$8:E488)),2)","v":0}]
[null,null,null,{"$f":"ROUND(IF(C489=\"\",0,SUM(C$8:C489)),2)","v":0},null,{"$f":"ROUND(IF(E489=\"\",0,SUM(E$8:E489)),2)","v":0}]
[null,null,null,{"$f":"ROUND(IF(C490=\"\",0,SUM(C$8:C490)),2)","v":0},null,{"$f":"ROUND(IF(E490=\"\",0,SUM(E$8:E490)),2)","v":0}]
[null,null,null,{"$f":"ROUND(IF(C491=\"\",0,SUM(C$8:C491)),2)","v":0},null,{"$f":"ROUND(IF(E491=\"\",0,SUM(E$8:E491)),2)","v":0}]
[null,null,null,{"$f":"ROUND(IF(C492=\"\",0,SUM(C$8:C492)),2)","v":0},null,{"$f":"ROUND(IF(E492=\"\",0,SUM(E$8:E492)),2)","v":0}]
[null,null,null,{"$f":"ROUND(IF(C493=\"\",0,SUM(C$8:C493)),2)","v":0},null,{"$f":"ROUND(IF(E493=\"\",0,SUM(E$8:E493)),2)","v":0}]
[null,null,null,{"$f":"ROUND(IF(C494=\"\",0,SUM(C$8:C494)),2)","v":0},null,{"$f":"ROUND(IF(E494=\"\",0,SUM(E$8:E494)),2)","v":0}]
[null,null,null,{"$f":"ROUND(IF(C495=\"\",0,SUM(C$8:C495)),2)","v":0},null,{"$f":"ROUND(IF(E495=\"\",0,SUM(E$8:E495)),2)","v":0}]
[null,null,null,{"$f":"ROUND(IF(C496=\"\",0,SUM(C$8:C496)),2)","v":0},null,{"$f":"ROUND(IF(E496=\"\",0,SUM(E$8:E496)),2)","v":0}]
[null,null,null,{"$f":"ROUND(IF(C497=\"\",0,SUM(C$8:C497)),2)","v":0},null,{"$f":"ROUND(IF(E497=\"\",0,SUM(E$8:E497)),2)","v":0}]
[null,null,null,{"$f":"ROUND(IF(C498=\"\",0,SUM(C$8:C498)),2)","v":0},null,{"$f":"ROUND(IF(E498=\"\",0,SUM(E$8:E498)),2)","v":0}]
[null,null,null,{"$f":"ROUND(IF(C499=\"\",0,SUM(C$8:C499)),2)","v":0},null,{"$f":"ROUND(IF(E499=\"\",0,SUM(E$8:E499)),2)","v":0}]
[null,null,null,{"$f":"ROUND(IF(C500=\"\",0,SUM(C$8:C500)),2)","v":0},null,{"$f":"ROUND(IF(E500=\"\",0,SUM(E$8:E500)),2)","v":0}]
[null,null,null,{"$f":"ROUND(IF(C501=\"\",0,SUM(C$8:C501)),2)","v":0},null,{"$f":"ROUND(IF(E501=\"\",0,SUM(E$8:E501)),2)","v":0}]
[null,null,null,{"$f":"ROUND(IF(C502=\"\",0,SUM(C$8:C502)),2)","v":0},null,{"$f":"ROUND(IF(E502=\"\",0,SUM(E$8:E502)),2)","v":0}]
[null,null,null,{"$f":"ROUND(IF(C503=\"\",0,SUM(C$8:C503)),2)","v":0},null,{"$f":"ROUND(IF(E503=\"\",0,SUM(E$8:E503)),2)","v":0}]
[null,null,null,{"$f":"ROUND(IF(C504=\"\",0,SUM(C$8:C504)),2)","v":0},null,{"$f":"ROUND(IF(E504=\"\",0,SUM(E$8:E504)),2)","v":0}]
[null,null,null,{"$f":"ROUND(IF(C505=\"\",0,SUM(C$8:C505)),2)","v":0},null,{"$f":"ROUND(IF(E505=\"\",0,SUM(E$8:E505)),2)","v":0}]
[null,null,null,{"$f":"ROUND(IF(C506=\"\",0,SUM(C$8:C506)),2)","v":0},null,{"$f":"ROUND(IF(E506=\"\",0,SUM(E$8:E506)),2)","v":0}]
[null,null,null,{"$f":"ROUND(IF(C507=\"\",0,SUM(C$8:C507)),2)","v":0},null,{"$f":"ROUND(IF(E507=\"\",0,SUM(E$8:E507)),2)","v":0}]
[null,null,null,{"$f":"ROUND(IF(C508=\"\",0,SUM(C$8:C508)),2)","v":0},null,{"$f":"ROUND(IF(E508=\"\",0,SUM(E$8:E508)),2)","v":0}]
[null,null,null,{"$f":"ROUND(IF(C509=\"\",0,SUM(C$8:C509)),2)","v":0},null,{"$f":"ROUND(IF(E509=\"\",0,SUM(E$8:E509)),2)","v":0}]
[null,null,null,{"$f":"ROUND(IF(C510=\"\",0,SUM(C$8:C510)),2)","v":0},null,{"$f":"ROUND(IF(E510=\"\",0,SUM(E$8:E510)),2)","v":0}]
[null,null,null,{"$f":"ROUND(IF(C511=\"\",0,SUM(C$8:C511)),2)","v":0},null,{"$f":"ROUND(IF(E511=\"\",0,SUM(E$8:E511)),2)","v":0}]
[null,null,null,{"$f":"ROUND(IF(C512=\"\",0,SUM(C$8:C512)),2)","v":0},null,{"$f":"ROUND(IF(E512=\"\",0,SUM(E$8:E512)),2)","v":0}]
[null,null,null,{"$f":"ROUND(IF(C513=\"\",0,SUM(C$8:C513)),2)","v":0},null,{"$f":"ROUND(IF(E513=\"\",0,SUM(E$8:E513)),2)","v":0}]
[null,null,null,{"$f":"ROUND(IF(C514=\"\",0,SUM(C$8:C514)),2)","v":0},null,{"$f":"ROUND(IF(E514=\"\",0,SUM(E$8:E514)),2)","v":0}]
[null,null,null,{"$f":"ROUND(IF(C515=\"\",0,SUM(C$8:C515)),2)","v":0},null,{"$f":"ROUND(IF(E515=\"\",0,SUM(E$8:E515)),2)","v":0}]
[null,null,null,{"$f":"ROUND(IF(C516=\"\",0,SUM(C$8:C516)),2)","v":0},null,{"$f":"ROUND(IF(E516=\"\",0,SUM(E$8:E516)),2)","v":0}]
[null,null,null,{"$f":"ROUND(IF(C517=\"\",0,SUM(C$8:C517)),2)","v":0},null,{"$f":"ROUND(IF(E517=\"\",0,SUM(E$8:E517)),2)","v":0}]
[null,null,null,{"$f":"ROUND(IF(C518=\"\",0,SUM(C$8:C518)),2)","v":0},null,{"$f":"ROUND(IF(E518=\"\",0,SUM(E$8:E518)),2)","v":0}]
[null,null,null,{"$f":"ROUND(IF(C519=\"\",0,SUM(C$8:C519)),2)","v":0},null,{"$f":"ROUND(IF(E519=\"\",0,SUM(E$8:E519)),2)","v":0}]
[null,null,null,{"$f":"ROUND(IF(C520=\"\",0,SUM(C$8:C520)),2)","v":0},null,{"$f":"ROUND(IF(E520=\"\",0,SUM(E$8:E520)),2)","v":0}]
[null,null,null,{"$f":"ROUND(IF(C521=\"\",0,SUM(C$8:C521)),2)","v":0},null,{"$f":"ROUND(IF(E521=\"\",0,SUM(E$8:E521)),2)","v":0}]
[null,null,null,{"$f":"ROUND(IF(C522=\"\",0,SUM(C$8:C522)),2)","v":0},null,{"$f":"ROUND(IF(E522=\"\",0,SUM(E$8:E522)),2)","v":0}]
[null,null,null,{"$f":"ROUND(IF(C523=\"\",0,SUM(C$8:C523)),2)","v":0},null,{"$f":"ROUND(IF(E523=\"\",0,SUM(E$8:E523)),2)","v":0}]
[null,null,null,{"$f":"ROUND(IF(C524=\"\",0,SUM(C$8:C524)),2)","v":0},null,{"$f":"ROUND(IF(E524=\"\",0,SUM(E$8:E524)),2)","v":0}]
[null,null,null,{"$f":"ROUND(IF(C525=\"\",0,SUM(C$8:C525)),2)","v":0},null,{"$f":"ROUND(IF(E525=\"\",0,SUM(E$8:E525)),2)","v":0}]
[null,null,null,{"$f":"ROUND(IF(C526=\"\",0,SUM(C$8:C526)),2)","v":0},null,{"$f":"ROUND(IF(E526=\"\",0,SUM(E$8:E526)),2)","v":0}]
[null,null,null,{"$f":"ROUND(IF(C527=\"\",0,SUM(C$8:C527)),2)","v":0},null,{"$f":"ROUND(IF(E527=\"\",0,SUM(E$8:E527)),2)","v":0}]
[null,null,null,{"$f":"ROUND(IF(C528=\"\",0,SUM(C$8:C528)),2)","v":0},null,{"$f":"ROUND(IF(E528=\"\",0,SUM(E$8:E528)),2)","v":0}]
[null,null,null,{"$f":"ROUND(IF(C529=\"\",0,SUM(C$8:C529)),2)","v":0},null,{"$f":"ROUND(IF(E529=\"\",0,SUM(E$8:E529)),2)","v":0}]
[null,null,null,{"$f":"ROUND(IF(C530=\"\",0,SUM(C$8:C530)),2)","v":0},null,{"$f":"ROUND(IF(E530=\"\",0,SUM(E$8:E530)),2)","v":0}]
[null,null,null,{"$f":"ROUND(IF(C531=\"\",0,SUM(C$8:C531)),2)","v":0},null,{"$f":"ROUND(IF(E531=\"\",0,SUM(E$8:E531)),2)","v":0}]
[null,null,null,{"$f":"ROUND(IF(C532=\"\",0,SUM(C$8:C532)),2)","v":0},null,{"$f":"ROUND(IF(E532=\"\",0,SUM(E$8:E532)),2)","v":0}]
[null,null,null,{"$f":"ROUND(IF(C533=\"\",0,SUM(C$8:C533)),2)","v":0},null,{"$f":"ROUND(IF(E533=\"\",0,SUM(E$8:E533)),2)","v":0}]
[null,null,null,{"$f":"ROUND(IF(C534=\"\",0,SUM(C$8:C534)),2)","v":0},null,{"$f":"ROUND(IF(E534=\"\",0,SUM(E$8:E534)),2)","v":0}]
[null,null,null,{"$f":"ROUND(IF(C535=\"\",0,SUM(C$8:C535)),2)","v":0},null,{"$f":"ROUND(IF(E535=\"\",0,SUM(E$8:E535)),2)","v":0}]
[null,null,null,{"$f":"ROUND(IF(C536=\"\",0,SUM(C$8:C536)),2)","v":0},null,{"$f":"ROUND(IF(E536=\"\",0,SUM(E$8:E536)),2)","v":0}]
[null,null,null,{"$f":"ROUND(IF(C537=\"\",0,SUM(C$8:C537)),2)","v":0},null,{"$f":"ROUND(IF(E537=\"\",0,SUM(E$8:E537)),2)","v":0}]
[null,null,null,{"$f":"ROUND(IF(C538=\"\",0,SUM(C$8:C538)),2)","v":0},null,{"$f":"ROUND(IF(E538=\"\",0,SUM(E$8:E538)),2)","v":0}]
[null,null,null,{"$f":"ROUND(IF(C539=\"\",0,SUM(C$8:C539)),2)","v":0},null,{"$f":"ROUND(IF(E539=\"\",0,SUM(E$8:E539)),2)","v":0}]
[null,null,null,{"$f":"ROUND(IF(C540=\"\",0,SUM(C$8:C540)),2)","v":0},null,{"$f":"ROUND(IF(E540=\"\",0,SUM(E$8:E540)),2)","v":0}]
[null,null,null,{"$f":"ROUND(IF(C541=\"\",0,SUM(C$8:C541)),2)","v":0},null,{"$f":"ROUND(IF(E541=\"\",0,SUM(E$8:E541)),2)","v":0}]
[null,null,null,{"$f":"ROUND(IF(C542=\"\",0,SUM(C$8:C542)),2)","v":0},null,{"$f":"ROUND(IF(E542=\"\",0,SUM(E$8:E542)),2)","v":0}]
[null,null,null,{"$f":"ROUND(IF(C543=\"\",0,SUM(C$8:C543)),2)","v":0},null,{"$f":"ROUND(IF(E543=\"\",0,SUM(E$8:E543)),2)","v":0}]
[null,null,null,{"$f":"ROUND(IF(C544=\"\",0,SUM(C$8:C544)),2)","v":0},null,{"$f":"ROUND(IF(E544=\"\",0,SUM(E$8:E544)),2)","v":0}]
[null,null,null,{"$f":"ROUND(IF(C545=\"\",0,SUM(C$8:C545)),2)","v":0},null,{"$f":"ROUND(IF(E545=\"\",0,SUM(E$8:E545)),2)","v":0}]
[null,null,null,{"$f":"ROUND(IF(C546=\"\",0,SUM(C$8:C546)),2)","v":0},null,{"$f":"ROUND(IF(E546=\"\",0,SUM(E$8:E546)),2)","v":0}]
[null,null,null,{"$f":"ROUND(IF(C547=\"\",0,SUM(C$8:C547)),2)","v":0},null,{"$f":"ROUND(IF(E547=\"\",0,SUM(E$8:E547)),2)","v":0}]
[null,null,null,{"$f":"ROUND(IF(C548=\"\",0,SUM(C$8:C548)),2)","v":0},null,{"$f":"ROUND(IF(E548=\"\",0,SUM(E$8:E548)),2)","v":0}]
[null,null,null,{"$f":"ROUND(IF(C549=\"\",0,SUM(C$8:C549)),2)","v":0},null,{"$f":"ROUND(IF(E549=\"\",0,SUM(E$8:E549)),2)","v":0}]
[null,null,null,{"$f":"ROUND(IF(C550=\"\",0,SUM(C$8:C550)),2)","v":0},null,{"$f":"ROUND(IF(E550=\"\",0,SUM(E$8:E550)),2)","v":0}]
[null,null,null,{"$f":"ROUND(IF(C551=\"\",0,SUM(C$8:C551)),2)","v":0},null,{"$f":"ROUND(IF(E551=\"\",0,SUM(E$8:E551)),2)","v":0}]
[null,null,null,{"$f":"ROUND(IF(C552=\"\",0,SUM(C$8:C552)),2)","v":0},null,{"$f":"ROUND(IF(E552=\"\",0,SUM(E$8:E552)),2)","v":0}]
[null,null,null,{"$f":"ROUND(IF(C553=\"\",0,SUM(C$8:C553)),2)","v":0},null,{"$f":"ROUND(IF(E553=\"\",0,SUM(E$8:E553)),2)","v":0}]
[null,null,null,{"$f":"ROUND(IF(C554=\"\",0,SUM(C$8:C554)),2)","v":0},null,{"$f":"ROUND(IF(E554=\"\",0,SUM(E$8:E554)),2)","v":0}]
[null,null,null,{"$f":"ROUND(IF(C555=\"\",0,SUM(C$8:C555)),2)","v":0},null,{"$f":"ROUND(IF(E555=\"\",0,SUM(E$8:E555)),2)","v":0}]
[null,null,null,{"$f":"ROUND(IF(C556=\"\",0,SUM(C$8:C556)),2)","v":0},null,{"$f":"ROUND(IF(E556=\"\",0,SUM(E$8:E556)),2)","v":0}]
[null,null,null,{"$f":"ROUND(IF(C557=\"\",0,SUM(C$8:C557)),2)","v":0},null,{"$f":"ROUND(IF(E557=\"\",0,SUM(E$8:E557)),2)","v":0}]
[null,null,null,{"$f":"ROUND(IF(C558=\"\",0,SUM(C$8:C558)),2)","v":0},null,{"$f":"ROUND(IF(E558=\"\",0,SUM(E$8:E558)),2)","v":0}]
[null,null,null,{"$f":"ROUND(IF(C559=\"\",0,SUM(C$8:C559)),2)","v":0},null,{"$f":"ROUND(IF(E559=\"\",0,SUM(E$8:E559)),2)","v":0}]
[null,null,null,{"$f":"ROUND(IF(C560=\"\",0,SUM(C$8:C560)),2)","v":0},null,{"$f":"ROUND(IF(E560=\"\",0,SUM(E$8:E560)),2)","v":0}]
[null,null,null,{"$f":"ROUND(IF(C561=\"\",0,SUM(C$8:C561)),2)","v":0},null,{"$f":"ROUND(IF(E561=\"\",0,SUM(E$8:E561)),2)","v":0}]
[null,null,null,{"$f":"ROUND(IF(C562=\"\",0,SUM(C$8:C562)),2)","v":0},null,{"$f":"ROUND(IF(E562=\"\",0,SUM(E$8:E562)),2)","v":0}]
[null,null,null,{"$f":"ROUND(IF(C563=\"\",0,SUM(C$8:C563)),2)","v":0},null,{"$f":"ROUND(IF(E563=\"\",0,SUM(E$8:E563)),2)","v":0}]
[null,null,null,{"$f":"ROUND(IF(C564=\"\",0,SUM(C$8:C564)),2)","v":0},null,{"$f":"ROUND(IF(E564=\"\",0,SUM(E$8:E564)),2)","v":0}]
[null,null,null,{"$f":"ROUND(IF(C565=\"\",0,SUM(C$8:C565)),2)","v":0},null,{"$f":"ROUND(IF(E565=\"\",0,SUM(E$8:E565)),2)","v":0}]
[null,null,null,{"$f":"ROUND(IF(C566=\"\",0,SUM(C$8:C566)),2)","v":0},null,{"$f":"ROUND(IF(E566=\"\",0,SUM(E$8:E566)),2)","v":0}]
[null,null,null,{"$f":"ROUND(IF(C567=\"\",0,SUM(C$8:C567)),2)","v":0},null,{"$f":"ROUND(IF(E567=\"\",0,SUM(E$8:E567)),2)","v":0}]
[null,null,null,{"$f":"ROUND(IF(C568=\"\",0,SUM(C$8:C568)),2)","v":0},null,{"$f":"ROUND(IF(E568=\"\",0,SUM(E$8:E568)),2)","v":0}]
[null,null,null,{"$f":"ROUND(IF(C569=\"\",0,SUM(C$8:C569)),2)","v":0},null,{"$f":"ROUND(IF(E569=\"\",0,SUM(E$8:E569)),2)","v":0}]
[null,null,null,{"$f":"ROUND(IF(C570=\"\",0,SUM(C$8:C570)),2)","v":0},null,{"$f":"ROUND(IF(E570=\"\",0,SUM(E$8:E570)),2)","v":0}]
[null,null,null,{"$f":"ROUND(IF(C571=\"\",0,SUM(C$8:C571)),2)","v":0},null,{"$f":"ROUND(IF(E571=\"\",0,SUM(E$8:E571)),2)","v":0}]
[null,null,null,{"$f":"ROUND(IF(C572=\"\",0,SUM(C$8:C572)),2)","v":0},null,{"$f":"ROUND(IF(E572=\"\",0,SUM(E$8:E572)),2)","v":0}]
[null,null,null,{"$f":"ROUND(IF(C573=\"\",0,SUM(C$8:C573)),2)","v":0},null,{"$f":"ROUND(IF(E573=\"\",0,SUM(E$8:E573)),2)","v":0}]
[null,null,null,{"$f":"ROUND(IF(C574=\"\",0,SUM(C$8:C574)),2)","v":0},null,{"$f":"ROUND(IF(E574=\"\",0,SUM(E$8:E574)),2)","v":0}]
[null,null,null,{"$f":"ROUND(IF(C575=\"\",0,SUM(C$8:C575)),2)","v":0},null,{"$f":"ROUND(IF(E575=\"\",0,SUM(E$8:E575)),2)","v":0}]
[null,null,null,{"$f":"ROUND(IF(C576=\"\",0,SUM(C$8:C576)),2)","v":0},null,{"$f":"ROUND(IF(E576=\"\",0,SUM(E$8:E576)),2)","v":0}]
[null,null,null,{"$f":"ROUND(IF(C577=\"\",0,SUM(C$8:C577)),2)","v":0},null,{"$f":"ROUND(IF(E577=\"\",0,SUM(E$8:E577)),2)","v":0}]
[null,null,null,{"$f":"ROUND(IF(C578=\"\",0,SUM(C$8:C578)),2)","v":0},null,{"$f":"ROUND(IF(E578=\"\",0,SUM(E$8:E578)),2)","v":0}]
[null,null,null,{"$f":"ROUND(IF(C579=\"\",0,SUM(C$8:C579)),2)","v":0},null,{"$f":"ROUND(IF(E579=\"\",0,SUM(E$8:E579)),2)","v":0}]
[null,null,null,{"$f":"ROUND(IF(C580=\"\",0,SUM(C$8:C580)),2)","v":0},null,{"$f":"ROUND(IF(E580=\"\",0,SUM(E$8:E580)),2)","v":0}]
[null,null,null,{"$f":"ROUND(IF(C581=\"\",0,SUM(C$8:C581)),2)","v":0},null,{"$f":"ROUND(IF(E581=\"\",0,SUM(E$8:E581)),2)","v":0}]
[null,null,null,{"$f":"ROUND(IF(C582=\"\",0,SUM(C$8:C582)),2)","v":0},null,{"$f":"ROUND(IF(E582=\"\",0,SUM(E$8:E582)),2)","v":0}]
[null,null,null,{"$f":"ROUND(IF(C583=\"\",0,SUM(C$8:C583)),2)","v":0},null,{"$f":"ROUND(IF(E583=\"\",0,SUM(E$8:E583)),2)","v":0}]
[null,null,null,{"$f":"ROUND(IF(C584=\"\",0,SUM(C$8:C584)),2)","v":0},null,{"$f":"ROUND(IF(E584=\"\",0,SUM(E$8:E584)),2)","v":0}]
[null,null,null,{"$f":"ROUND(IF(C585=\"\",0,SUM(C$8:C585)),2)","v":0},null,{"$f":"ROUND(IF(E585=\"\",0,SUM(E$8:E585)),2)","v":0}]
[null,null,null,{"$f":"ROUND(IF(C586=\"\",0,SUM(C$8:C586)),2)","v":0},null,{"$f":"ROUND(IF(E586=\"\",0,SUM(E$8:E586)),2)","v":0}]
[null,null,null,{"$f":"ROUND(IF(C587=\"\",0,SUM(C$8:C587)),2)","v":0},null,{"$f":"ROUND(IF(E587=\"\",0,SUM(E$8:E587)),2)","v":0}]
[null,null,null,{"$f":"ROUND(IF(C588=\"\",0,SUM(C$8:C588)),2)","v":0},null,{"$f":"ROUND(IF(E588=\"\",0,SUM(E$8:E588)),2)","v":0}]
[null,null,null,{"$f":"ROUND(IF(C589=\"\",0,SUM(C$8:C589)),2)","v":0},null,{"$f":"ROUND(IF(E589=\"\",0,SUM(E$8:E589)),2)","v":0}]
[null,null,null,{"$f":"ROUND(IF(C590=\"\",0,SUM(C$8:C590)),2)","v":0},null,{"$f":"ROUND(IF(E590=\"\",0,SUM(E$8:E590)),2)","v":0}]
[null,null,null,{"$f":"ROUND(IF(C591=\"\",0,SUM(C$8:C591)),2)","v":0},null,{"$f":"ROUND(IF(E591=\"\",0,SUM(E$8:E591)),2)","v":0}]
[null,null,null,{"$f":"ROUND(IF(C592=\"\",0,SUM(C$8:C592)),2)","v":0},null,{"$f":"ROUND(IF(E592=\"\",0,SUM(E$8:E592)),2)","v":0}]
[null,null,null,{"$f":"ROUND(IF(C593=\"\",0,SUM(C$8:C593)),2)","v":0},null,{"$f":"ROUND(IF(E593=\"\",0,SUM(E$8:E593)),2)","v":0}]
[null,null,null,{"$f":"ROUND(IF(C594=\"\",0,SUM(C$8:C594)),2)","v":0},null,{"$f":"ROUND(IF(E594=\"\",0,SUM(E$8:E594)),2)","v":0}]
[null,null,null,{"$f":"ROUND(IF(C595=\"\",0,SUM(C$8:C595)),2)","v":0},null,{"$f":"ROUND(IF(E595=\"\",0,SUM(E$8:E595)),2)","v":0}]
[null,null,null,{"$f":"ROUND(IF(C596=\"\",0,SUM(C$8:C596)),2)","v":0},null,{"$f":"ROUND(IF(E596=\"\",0,SUM(E$8:E596)),2)","v":0}]
[null,null,null,{"$f":"ROUND(IF(C597=\"\",0,SUM(C$8:C597)),2)","v":0},null,{"$f":"ROUND(IF(E597=\"\",0,SUM(E$8:E597)),2)","v":0}]
[null,null,null,{"$f":"ROUND(IF(C598=\"\",0,SUM(C$8:C598)),2)","v":0},null,{"$f":"ROUND(IF(E598=\"\",0,SUM(E$8:E598)),2)","v":0}]
[null,null,null,{"$f":"ROUND(IF(C599=\"\",0,SUM(C$8:C599)),2)","v":0},null,{"$f":"ROUND(IF(E599=\"\",0,SUM(E$8:E599)),2)","v":0}]
[null,null,null,{"$f":"ROUND(IF(C600=\"\",0,SUM(C$8:C600)),2)","v":0},null,{"$f":"ROUND(IF(E600=\"\",0,SUM(E$8:E600)),2)","v":0}]
[null,null,null,{"$f":"ROUND(IF(C601=\"\",0,SUM(C$8:C601)),2)","v":0},null,{"$f":"ROUND(IF(E601=\"\",0,SUM(E$8:E601)),2)","v":0}]
[null,null,null,{"$f":"ROUND(IF(C602=\"\",0,SUM(C$8:C602)),2)","v":0},null,{"$f":"ROUND(IF(E602=\"\",0,SUM(E$8:E602)),2)","v":0}]
[null,null,null,{"$f":"ROUND(IF(C603=\"\",0,SUM(C$8:C603)),2)","v":0},null,{"$f":"ROUND(IF(E603=\"\",0,SUM(E$8:E603)),2)","v":0}]
[null,null,null,{"$f":"ROUND(IF(C604=\"\",0,SUM(C$8:C604)),2)","v":0},null,{"$f":"ROUND(IF(E604=\"\",0,SUM(E$8:E604)),2)","v":0}]
[null,null,null,{"$f":"ROUND(IF(C605=\"\",0,SUM(C$8:C605)),2)","v":0},null,{"$f":"ROUND(IF(E605=\"\",0,SUM(E$8:E605)),2)","v":0}]
[null,null,null,{"$f":"ROUND(IF(C606=\"\",0,SUM(C$8:C606)),2)","v":0},null,{"$f":"ROUND(IF(E606=\"\",0,SUM(E$8:E606)),2)","v":0}]
[null,null,null,{"$f":"ROUND(IF(C607=\"\",0,SUM(C$8:C607)),2)","v":0},null,{"$f":"ROUND(IF(E607=\"\",0,SUM(E$8:E607)),2)","v":0}]

{"sheet":"Fly Ash 4","index":9,"n_rows":607,"n_cols":9,"rows_kept":607,"cut":false,"hidden":false,"merged":[]}
["Fly  Ash  4  Shipments",null,null,null,null,null,null,null,{"$f":"Info!B2","v":"E"}]
["Spec. Grav.: ",{"$f":"IF(AND(Info!B35=\"\", Info!C35=\"\"),\"\", IF(Info!B35<>\"\", Info!B35, Info!C35))","v":""},null,null,null,null,"Page No.: "]
["Source: ",{"$f":"IF(AND(Info!B33=\"\", Info!C33=\"\"),\"\", IF(Info!B33<>\"\", Info!B33, Info!C33))","v":""},null,null,null,null,"Type: ",{"$f":"IF(AND(Info!B34=\"\", Info!C34=\"\"),\"\", IF(Info!B34<>\"\", Info!B34, Info!C34))","v":""}]
["Project No.: ",{"$f":"IF(Info!B3=\"\",\"\",(Info!B3))","v":""},null,null,null,null,"Contract ID.: ",{"$f":"IF(Info!B4=\"\",\"\",(Info!B4))","v":""}]
[]
[null,"Ticket","Certified","To  Date","Used","To  Date",null,null," "]
["Date","No.",{"$f":"IF(Info!$B$2=\"M\",\"(Mg's)\",\"(Tons)\")","v":"(Tons)"},{"$f":"IF(Info!$B$2=\"M\",\"(Mg's)\",\"(Tons)\")","v":"(Tons)"},{"$f":"IF(Info!$B$2=\"M\",\"(Mg's)\",\"(Tons)\")","v":"(Tons)"},{"$f":"IF(Info!$B$2=\"M\",\"(Mg's)\",\"(Tons)\")","v":"(Tons)"},"Remarks",null,"By"]
[null,null,null,{"$f":"SUM(C8)","v":0},null,{"$f":"SUM(E8)","v":0}]
[null,null,null,{"$f":"ROUND(IF(C9=\"\",0,SUM(C$8:C9)),2)","v":0},null,{"$f":"ROUND(IF(E9=\"\",0,SUM(E$8:E9)),2)","v":0}]
[null,null,null,{"$f":"ROUND(IF(C10=\"\",0,SUM(C$8:C10)),2)","v":0},null,{"$f":"ROUND(IF(E10=\"\",0,SUM(E$8:E10)),2)","v":0}]
[null,null,null,{"$f":"ROUND(IF(C11=\"\",0,SUM(C$8:C11)),2)","v":0},null,{"$f":"ROUND(IF(E11=\"\",0,SUM(E$8:E11)),2)","v":0}]
[null,null,null,{"$f":"ROUND(IF(C12=\"\",0,SUM(C$8:C12)),2)","v":0},null,{"$f":"ROUND(IF(E12=\"\",0,SUM(E$8:E12)),2)","v":0}]
[null,null,null,{"$f":"ROUND(IF(C13=\"\",0,SUM(C$8:C13)),2)","v":0},null,{"$f":"ROUND(IF(E13=\"\",0,SUM(E$8:E13)),2)","v":0}]
[null,null,null,{"$f":"ROUND(IF(C14=\"\",0,SUM(C$8:C14)),2)","v":0},null,{"$f":"ROUND(IF(E14=\"\",0,SUM(E$8:E14)),2)","v":0}]
[null,null,null,{"$f":"ROUND(IF(C15=\"\",0,SUM(C$8:C15)),2)","v":0},null,{"$f":"ROUND(IF(E15=\"\",0,SUM(E$8:E15)),2)","v":0}]
[null,null,null,{"$f":"ROUND(IF(C16=\"\",0,SUM(C$8:C16)),2)","v":0},null,{"$f":"ROUND(IF(E16=\"\",0,SUM(E$8:E16)),2)","v":0}]
[null,null,null,{"$f":"ROUND(IF(C17=\"\",0,SUM(C$8:C17)),2)","v":0},null,{"$f":"ROUND(IF(E17=\"\",0,SUM(E$8:E17)),2)","v":0}]
[null,null,null,{"$f":"ROUND(IF(C18=\"\",0,SUM(C$8:C18)),2)","v":0},null,{"$f":"ROUND(IF(E18=\"\",0,SUM(E$8:E18)),2)","v":0}]
[null,null,null,{"$f":"ROUND(IF(C19=\"\",0,SUM(C$8:C19)),2)","v":0},null,{"$f":"ROUND(IF(E19=\"\",0,SUM(E$8:E19)),2)","v":0}]
[null,null,null,{"$f":"ROUND(IF(C20=\"\",0,SUM(C$8:C20)),2)","v":0},null,{"$f":"ROUND(IF(E20=\"\",0,SUM(E$8:E20)),2)","v":0}]
[null,null,null,{"$f":"ROUND(IF(C21=\"\",0,SUM(C$8:C21)),2)","v":0},null,{"$f":"ROUND(IF(E21=\"\",0,SUM(E$8:E21)),2)","v":0}]
[null,null,null,{"$f":"ROUND(IF(C22=\"\",0,SUM(C$8:C22)),2)","v":0},null,{"$f":"ROUND(IF(E22=\"\",0,SUM(E$8:E22)),2)","v":0}]
[null,null,null,{"$f":"ROUND(IF(C23=\"\",0,SUM(C$8:C23)),2)","v":0},null,{"$f":"ROUND(IF(E23=\"\",0,SUM(E$8:E23)),2)","v":0}]
[null,null,null,{"$f":"ROUND(IF(C24=\"\",0,SUM(C$8:C24)),2)","v":0},null,{"$f":"ROUND(IF(E24=\"\",0,SUM(E$8:E24)),2)","v":0}]
[null,null,null,{"$f":"ROUND(IF(C25=\"\",0,SUM(C$8:C25)),2)","v":0},null,{"$f":"ROUND(IF(E25=\"\",0,SUM(E$8:E25)),2)","v":0}]
[null,null,null,{"$f":"ROUND(IF(C26=\"\",0,SUM(C$8:C26)),2)","v":0},null,{"$f":"ROUND(IF(E26=\"\",0,SUM(E$8:E26)),2)","v":0}]
[null,null,null,{"$f":"ROUND(IF(C27=\"\",0,SUM(C$8:C27)),2)","v":0},null,{"$f":"ROUND(IF(E27=\"\",0,SUM(E$8:E27)),2)","v":0}]
[null,null,null,{"$f":"ROUND(IF(C28=\"\",0,SUM(C$8:C28)),2)","v":0},null,{"$f":"ROUND(IF(E28=\"\",0,SUM(E$8:E28)),2)","v":0}]
[null,null,null,{"$f":"ROUND(IF(C29=\"\",0,SUM(C$8:C29)),2)","v":0},null,{"$f":"ROUND(IF(E29=\"\",0,SUM(E$8:E29)),2)","v":0}]
[null,null,null,{"$f":"ROUND(IF(C30=\"\",0,SUM(C$8:C30)),2)","v":0},null,{"$f":"ROUND(IF(E30=\"\",0,SUM(E$8:E30)),2)","v":0}]
[null,null,null,{"$f":"ROUND(IF(C31=\"\",0,SUM(C$8:C31)),2)","v":0},null,{"$f":"ROUND(IF(E31=\"\",0,SUM(E$8:E31)),2)","v":0}]
[null,null,null,{"$f":"ROUND(IF(C32=\"\",0,SUM(C$8:C32)),2)","v":0},null,{"$f":"ROUND(IF(E32=\"\",0,SUM(E$8:E32)),2)","v":0}]
[null,null,null,{"$f":"ROUND(IF(C33=\"\",0,SUM(C$8:C33)),2)","v":0},null,{"$f":"ROUND(IF(E33=\"\",0,SUM(E$8:E33)),2)","v":0}]
[null,null,null,{"$f":"ROUND(IF(C34=\"\",0,SUM(C$8:C34)),2)","v":0},null,{"$f":"ROUND(IF(E34=\"\",0,SUM(E$8:E34)),2)","v":0}]
[null,null,null,{"$f":"ROUND(IF(C35=\"\",0,SUM(C$8:C35)),2)","v":0},null,{"$f":"ROUND(IF(E35=\"\",0,SUM(E$8:E35)),2)","v":0}]
[null,null,null,{"$f":"ROUND(IF(C36=\"\",0,SUM(C$8:C36)),2)","v":0},null,{"$f":"ROUND(IF(E36=\"\",0,SUM(E$8:E36)),2)","v":0}]
[null,null,null,{"$f":"ROUND(IF(C37=\"\",0,SUM(C$8:C37)),2)","v":0},null,{"$f":"ROUND(IF(E37=\"\",0,SUM(E$8:E37)),2)","v":0}]
[null,null,null,{"$f":"ROUND(IF(C38=\"\",0,SUM(C$8:C38)),2)","v":0},null,{"$f":"ROUND(IF(E38=\"\",0,SUM(E$8:E38)),2)","v":0}]
[null,null,null,{"$f":"ROUND(IF(C39=\"\",0,SUM(C$8:C39)),2)","v":0},null,{"$f":"ROUND(IF(E39=\"\",0,SUM(E$8:E39)),2)","v":0}]
[null,null,null,{"$f":"ROUND(IF(C40=\"\",0,SUM(C$8:C40)),2)","v":0},null,{"$f":"ROUND(IF(E40=\"\",0,SUM(E$8:E40)),2)","v":0}]
[null,null,null,{"$f":"ROUND(IF(C41=\"\",0,SUM(C$8:C41)),2)","v":0},null,{"$f":"ROUND(IF(E41=\"\",0,SUM(E$8:E41)),2)","v":0}]
[null,null,null,{"$f":"ROUND(IF(C42=\"\",0,SUM(C$8:C42)),2)","v":0},null,{"$f":"ROUND(IF(E42=\"\",0,SUM(E$8:E42)),2)","v":0}]
[null,null,null,{"$f":"ROUND(IF(C43=\"\",0,SUM(C$8:C43)),2)","v":0},null,{"$f":"ROUND(IF(E43=\"\",0,SUM(E$8:E43)),2)","v":0}]
[null,null,null,{"$f":"ROUND(IF(C44=\"\",0,SUM(C$8:C44)),2)","v":0},null,{"$f":"ROUND(IF(E44=\"\",0,SUM(E$8:E44)),2)","v":0}]
[null,null,null,{"$f":"ROUND(IF(C45=\"\",0,SUM(C$8:C45)),2)","v":0},null,{"$f":"ROUND(IF(E45=\"\",0,SUM(E$8:E45)),2)","v":0}]
[null,null,null,{"$f":"ROUND(IF(C46=\"\",0,SUM(C$8:C46)),2)","v":0},null,{"$f":"ROUND(IF(E46=\"\",0,SUM(E$8:E46)),2)","v":0}]
[null,null,null,{"$f":"ROUND(IF(C47=\"\",0,SUM(C$8:C47)),2)","v":0},null,{"$f":"ROUND(IF(E47=\"\",0,SUM(E$8:E47)),2)","v":0}]
[null,null,null,{"$f":"ROUND(IF(C48=\"\",0,SUM(C$8:C48)),2)","v":0},null,{"$f":"ROUND(IF(E48=\"\",0,SUM(E$8:E48)),2)","v":0}]
[null,null,null,{"$f":"ROUND(IF(C49=\"\",0,SUM(C$8:C49)),2)","v":0},null,{"$f":"ROUND(IF(E49=\"\",0,SUM(E$8:E49)),2)","v":0}]
[null,null,null,{"$f":"ROUND(IF(C50=\"\",0,SUM(C$8:C50)),2)","v":0},null,{"$f":"ROUND(IF(E50=\"\",0,SUM(E$8:E50)),2)","v":0}]
[null,null,null,{"$f":"ROUND(IF(C51=\"\",0,SUM(C$8:C51)),2)","v":0},null,{"$f":"ROUND(IF(E51=\"\",0,SUM(E$8:E51)),2)","v":0}]
[null,null,null,{"$f":"ROUND(IF(C52=\"\",0,SUM(C$8:C52)),2)","v":0},null,{"$f":"ROUND(IF(E52=\"\",0,SUM(E$8:E52)),2)","v":0}]
[null,null,null,{"$f":"ROUND(IF(C53=\"\",0,SUM(C$8:C53)),2)","v":0},null,{"$f":"ROUND(IF(E53=\"\",0,SUM(E$8:E53)),2)","v":0}]
[null,null,null,{"$f":"ROUND(IF(C54=\"\",0,SUM(C$8:C54)),2)","v":0},null,{"$f":"ROUND(IF(E54=\"\",0,SUM(E$8:E54)),2)","v":0}]
[null,null,null,{"$f":"ROUND(IF(C55=\"\",0,SUM(C$8:C55)),2)","v":0},null,{"$f":"ROUND(IF(E55=\"\",0,SUM(E$8:E55)),2)","v":0}]
[null,null,null,{"$f":"ROUND(IF(C56=\"\",0,SUM(C$8:C56)),2)","v":0},null,{"$f":"ROUND(IF(E56=\"\",0,SUM(E$8:E56)),2)","v":0}]
[null,null,null,{"$f":"ROUND(IF(C57=\"\",0,SUM(C$8:C57)),2)","v":0},null,{"$f":"ROUND(IF(E57=\"\",0,SUM(E$8:E57)),2)","v":0}]
[null,null,null,{"$f":"ROUND(IF(C58=\"\",0,SUM(C$8:C58)),2)","v":0},null,{"$f":"ROUND(IF(E58=\"\",0,SUM(E$8:E58)),2)","v":0}]
[null,null,null,{"$f":"ROUND(IF(C59=\"\",0,SUM(C$8:C59)),2)","v":0},null,{"$f":"ROUND(IF(E59=\"\",0,SUM(E$8:E59)),2)","v":0}]
[null,null,null,{"$f":"ROUND(IF(C60=\"\",0,SUM(C$8:C60)),2)","v":0},null,{"$f":"ROUND(IF(E60=\"\",0,SUM(E$8:E60)),2)","v":0}]
[null,null,null,{"$f":"ROUND(IF(C61=\"\",0,SUM(C$8:C61)),2)","v":0},null,{"$f":"ROUND(IF(E61=\"\",0,SUM(E$8:E61)),2)","v":0}]
[null,null,null,{"$f":"ROUND(IF(C62=\"\",0,SUM(C$8:C62)),2)","v":0},null,{"$f":"ROUND(IF(E62=\"\",0,SUM(E$8:E62)),2)","v":0}]
[null,null,null,{"$f":"ROUND(IF(C63=\"\",0,SUM(C$8:C63)),2)","v":0},null,{"$f":"ROUND(IF(E63=\"\",0,SUM(E$8:E63)),2)","v":0}]
[null,null,null,{"$f":"ROUND(IF(C64=\"\",0,SUM(C$8:C64)),2)","v":0},null,{"$f":"ROUND(IF(E64=\"\",0,SUM(E$8:E64)),2)","v":0}]
[null,null,null,{"$f":"ROUND(IF(C65=\"\",0,SUM(C$8:C65)),2)","v":0},null,{"$f":"ROUND(IF(E65=\"\",0,SUM(E$8:E65)),2)","v":0}]
[null,null,null,{"$f":"ROUND(IF(C66=\"\",0,SUM(C$8:C66)),2)","v":0},null,{"$f":"ROUND(IF(E66=\"\",0,SUM(E$8:E66)),2)","v":0}]
[null,null,null,{"$f":"ROUND(IF(C67=\"\",0,SUM(C$8:C67)),2)","v":0},null,{"$f":"ROUND(IF(E67=\"\",0,SUM(E$8:E67)),2)","v":0}]
[null,null,null,{"$f":"ROUND(IF(C68=\"\",0,SUM(C$8:C68)),2)","v":0},null,{"$f":"ROUND(IF(E68=\"\",0,SUM(E$8:E68)),2)","v":0}]
[null,null,null,{"$f":"ROUND(IF(C69=\"\",0,SUM(C$8:C69)),2)","v":0},null,{"$f":"ROUND(IF(E69=\"\",0,SUM(E$8:E69)),2)","v":0}]
[null,null,null,{"$f":"ROUND(IF(C70=\"\",0,SUM(C$8:C70)),2)","v":0},null,{"$f":"ROUND(IF(E70=\"\",0,SUM(E$8:E70)),2)","v":0}]
[null,null,null,{"$f":"ROUND(IF(C71=\"\",0,SUM(C$8:C71)),2)","v":0},null,{"$f":"ROUND(IF(E71=\"\",0,SUM(E$8:E71)),2)","v":0}]
[null,null,null,{"$f":"ROUND(IF(C72=\"\",0,SUM(C$8:C72)),2)","v":0},null,{"$f":"ROUND(IF(E72=\"\",0,SUM(E$8:E72)),2)","v":0}]
[null,null,null,{"$f":"ROUND(IF(C73=\"\",0,SUM(C$8:C73)),2)","v":0},null,{"$f":"ROUND(IF(E73=\"\",0,SUM(E$8:E73)),2)","v":0}]
[null,null,null,{"$f":"ROUND(IF(C74=\"\",0,SUM(C$8:C74)),2)","v":0},null,{"$f":"ROUND(IF(E74=\"\",0,SUM(E$8:E74)),2)","v":0}]
[null,null,null,{"$f":"ROUND(IF(C75=\"\",0,SUM(C$8:C75)),2)","v":0},null,{"$f":"ROUND(IF(E75=\"\",0,SUM(E$8:E75)),2)","v":0}]
[null,null,null,{"$f":"ROUND(IF(C76=\"\",0,SUM(C$8:C76)),2)","v":0},null,{"$f":"ROUND(IF(E76=\"\",0,SUM(E$8:E76)),2)","v":0}]
[null,null,null,{"$f":"ROUND(IF(C77=\"\",0,SUM(C$8:C77)),2)","v":0},null,{"$f":"ROUND(IF(E77=\"\",0,SUM(E$8:E77)),2)","v":0}]
[null,null,null,{"$f":"ROUND(IF(C78=\"\",0,SUM(C$8:C78)),2)","v":0},null,{"$f":"ROUND(IF(E78=\"\",0,SUM(E$8:E78)),2)","v":0}]
[null,null,null,{"$f":"ROUND(IF(C79=\"\",0,SUM(C$8:C79)),2)","v":0},null,{"$f":"ROUND(IF(E79=\"\",0,SUM(E$8:E79)),2)","v":0}]
[null,null,null,{"$f":"ROUND(IF(C80=\"\",0,SUM(C$8:C80)),2)","v":0},null,{"$f":"ROUND(IF(E80=\"\",0,SUM(E$8:E80)),2)","v":0}]
[null,null,null,{"$f":"ROUND(IF(C81=\"\",0,SUM(C$8:C81)),2)","v":0},null,{"$f":"ROUND(IF(E81=\"\",0,SUM(E$8:E81)),2)","v":0}]
[null,null,null,{"$f":"ROUND(IF(C82=\"\",0,SUM(C$8:C82)),2)","v":0},null,{"$f":"ROUND(IF(E82=\"\",0,SUM(E$8:E82)),2)","v":0}]
[null,null,null,{"$f":"ROUND(IF(C83=\"\",0,SUM(C$8:C83)),2)","v":0},null,{"$f":"ROUND(IF(E83=\"\",0,SUM(E$8:E83)),2)","v":0}]
[null,null,null,{"$f":"ROUND(IF(C84=\"\",0,SUM(C$8:C84)),2)","v":0},null,{"$f":"ROUND(IF(E84=\"\",0,SUM(E$8:E84)),2)","v":0}]
[null,null,null,{"$f":"ROUND(IF(C85=\"\",0,SUM(C$8:C85)),2)","v":0},null,{"$f":"ROUND(IF(E85=\"\",0,SUM(E$8:E85)),2)","v":0}]
[null,null,null,{"$f":"ROUND(IF(C86=\"\",0,SUM(C$8:C86)),2)","v":0},null,{"$f":"ROUND(IF(E86=\"\",0,SUM(E$8:E86)),2)","v":0}]
[null,null,null,{"$f":"ROUND(IF(C87=\"\",0,SUM(C$8:C87)),2)","v":0},null,{"$f":"ROUND(IF(E87=\"\",0,SUM(E$8:E87)),2)","v":0}]
[null,null,null,{"$f":"ROUND(IF(C88=\"\",0,SUM(C$8:C88)),2)","v":0},null,{"$f":"ROUND(IF(E88=\"\",0,SUM(E$8:E88)),2)","v":0}]
[null,null,null,{"$f":"ROUND(IF(C89=\"\",0,SUM(C$8:C89)),2)","v":0},null,{"$f":"ROUND(IF(E89=\"\",0,SUM(E$8:E89)),2)","v":0}]
[null,null,null,{"$f":"ROUND(IF(C90=\"\",0,SUM(C$8:C90)),2)","v":0},null,{"$f":"ROUND(IF(E90=\"\",0,SUM(E$8:E90)),2)","v":0}]
[null,null,null,{"$f":"ROUND(IF(C91=\"\",0,SUM(C$8:C91)),2)","v":0},null,{"$f":"ROUND(IF(E91=\"\",0,SUM(E$8:E91)),2)","v":0}]
[null,null,null,{"$f":"ROUND(IF(C92=\"\",0,SUM(C$8:C92)),2)","v":0},null,{"$f":"ROUND(IF(E92=\"\",0,SUM(E$8:E92)),2)","v":0}]
[null,null,null,{"$f":"ROUND(IF(C93=\"\",0,SUM(C$8:C93)),2)","v":0},null,{"$f":"ROUND(IF(E93=\"\",0,SUM(E$8:E93)),2)","v":0}]
[null,null,null,{"$f":"ROUND(IF(C94=\"\",0,SUM(C$8:C94)),2)","v":0},null,{"$f":"ROUND(IF(E94=\"\",0,SUM(E$8:E94)),2)","v":0}]
[null,null,null,{"$f":"ROUND(IF(C95=\"\",0,SUM(C$8:C95)),2)","v":0},null,{"$f":"ROUND(IF(E95=\"\",0,SUM(E$8:E95)),2)","v":0}]
[null,null,null,{"$f":"ROUND(IF(C96=\"\",0,SUM(C$8:C96)),2)","v":0},null,{"$f":"ROUND(IF(E96=\"\",0,SUM(E$8:E96)),2)","v":0}]
[null,null,null,{"$f":"ROUND(IF(C97=\"\",0,SUM(C$8:C97)),2)","v":0},null,{"$f":"ROUND(IF(E97=\"\",0,SUM(E$8:E97)),2)","v":0}]
[null,null,null,{"$f":"ROUND(IF(C98=\"\",0,SUM(C$8:C98)),2)","v":0},null,{"$f":"ROUND(IF(E98=\"\",0,SUM(E$8:E98)),2)","v":0}]
[null,null,null,{"$f":"ROUND(IF(C99=\"\",0,SUM(C$8:C99)),2)","v":0},null,{"$f":"ROUND(IF(E99=\"\",0,SUM(E$8:E99)),2)","v":0}]
[null,null,null,{"$f":"ROUND(IF(C100=\"\",0,SUM(C$8:C100)),2)","v":0},null,{"$f":"ROUND(IF(E100=\"\",0,SUM(E$8:E100)),2)","v":0}]
[null,null,null,{"$f":"ROUND(IF(C101=\"\",0,SUM(C$8:C101)),2)","v":0},null,{"$f":"ROUND(IF(E101=\"\",0,SUM(E$8:E101)),2)","v":0}]
[null,null,null,{"$f":"ROUND(IF(C102=\"\",0,SUM(C$8:C102)),2)","v":0},null,{"$f":"ROUND(IF(E102=\"\",0,SUM(E$8:E102)),2)","v":0}]
[null,null,null,{"$f":"ROUND(IF(C103=\"\",0,SUM(C$8:C103)),2)","v":0},null,{"$f":"ROUND(IF(E103=\"\",0,SUM(E$8:E103)),2)","v":0}]
[null,null,null,{"$f":"ROUND(IF(C104=\"\",0,SUM(C$8:C104)),2)","v":0},null,{"$f":"ROUND(IF(E104=\"\",0,SUM(E$8:E104)),2)","v":0}]
[null,null,null,{"$f":"ROUND(IF(C105=\"\",0,SUM(C$8:C105)),2)","v":0},null,{"$f":"ROUND(IF(E105=\"\",0,SUM(E$8:E105)),2)","v":0}]
[null,null,null,{"$f":"ROUND(IF(C106=\"\",0,SUM(C$8:C106)),2)","v":0},null,{"$f":"ROUND(IF(E106=\"\",0,SUM(E$8:E106)),2)","v":0}]
[null,null,null,{"$f":"ROUND(IF(C107=\"\",0,SUM(C$8:C107)),2)","v":0},null,{"$f":"ROUND(IF(E107=\"\",0,SUM(E$8:E107)),2)","v":0}]
[null,null,null,{"$f":"ROUND(IF(C108=\"\",0,SUM(C$8:C108)),2)","v":0},null,{"$f":"ROUND(IF(E108=\"\",0,SUM(E$8:E108)),2)","v":0}]
[null,null,null,{"$f":"ROUND(IF(C109=\"\",0,SUM(C$8:C109)),2)","v":0},null,{"$f":"ROUND(IF(E109=\"\",0,SUM(E$8:E109)),2)","v":0}]
[null,null,null,{"$f":"ROUND(IF(C110=\"\",0,SUM(C$8:C110)),2)","v":0},null,{"$f":"ROUND(IF(E110=\"\",0,SUM(E$8:E110)),2)","v":0}]
[null,null,null,{"$f":"ROUND(IF(C111=\"\",0,SUM(C$8:C111)),2)","v":0},null,{"$f":"ROUND(IF(E111=\"\",0,SUM(E$8:E111)),2)","v":0}]
[null,null,null,{"$f":"ROUND(IF(C112=\"\",0,SUM(C$8:C112)),2)","v":0},null,{"$f":"ROUND(IF(E112=\"\",0,SUM(E$8:E112)),2)","v":0}]
[null,null,null,{"$f":"ROUND(IF(C113=\"\",0,SUM(C$8:C113)),2)","v":0},null,{"$f":"ROUND(IF(E113=\"\",0,SUM(E$8:E113)),2)","v":0}]
[null,null,null,{"$f":"ROUND(IF(C114=\"\",0,SUM(C$8:C114)),2)","v":0},null,{"$f":"ROUND(IF(E114=\"\",0,SUM(E$8:E114)),2)","v":0}]
[null,null,null,{"$f":"ROUND(IF(C115=\"\",0,SUM(C$8:C115)),2)","v":0},null,{"$f":"ROUND(IF(E115=\"\",0,SUM(E$8:E115)),2)","v":0}]
[null,null,null,{"$f":"ROUND(IF(C116=\"\",0,SUM(C$8:C116)),2)","v":0},null,{"$f":"ROUND(IF(E116=\"\",0,SUM(E$8:E116)),2)","v":0}]
[null,null,null,{"$f":"ROUND(IF(C117=\"\",0,SUM(C$8:C117)),2)","v":0},null,{"$f":"ROUND(IF(E117=\"\",0,SUM(E$8:E117)),2)","v":0}]
[null,null,null,{"$f":"ROUND(IF(C118=\"\",0,SUM(C$8:C118)),2)","v":0},null,{"$f":"ROUND(IF(E118=\"\",0,SUM(E$8:E118)),2)","v":0}]
[null,null,null,{"$f":"ROUND(IF(C119=\"\",0,SUM(C$8:C119)),2)","v":0},null,{"$f":"ROUND(IF(E119=\"\",0,SUM(E$8:E119)),2)","v":0}]
[null,null,null,{"$f":"ROUND(IF(C120=\"\",0,SUM(C$8:C120)),2)","v":0},null,{"$f":"ROUND(IF(E120=\"\",0,SUM(E$8:E120)),2)","v":0}]
[null,null,null,{"$f":"ROUND(IF(C121=\"\",0,SUM(C$8:C121)),2)","v":0},null,{"$f":"ROUND(IF(E121=\"\",0,SUM(E$8:E121)),2)","v":0}]
[null,null,null,{"$f":"ROUND(IF(C122=\"\",0,SUM(C$8:C122)),2)","v":0},null,{"$f":"ROUND(IF(E122=\"\",0,SUM(E$8:E122)),2)","v":0}]
[null,null,null,{"$f":"ROUND(IF(C123=\"\",0,SUM(C$8:C123)),2)","v":0},null,{"$f":"ROUND(IF(E123=\"\",0,SUM(E$8:E123)),2)","v":0}]
[null,null,null,{"$f":"ROUND(IF(C124=\"\",0,SUM(C$8:C124)),2)","v":0},null,{"$f":"ROUND(IF(E124=\"\",0,SUM(E$8:E124)),2)","v":0}]
[null,null,null,{"$f":"ROUND(IF(C125=\"\",0,SUM(C$8:C125)),2)","v":0},null,{"$f":"ROUND(IF(E125=\"\",0,SUM(E$8:E125)),2)","v":0}]
[null,null,null,{"$f":"ROUND(IF(C126=\"\",0,SUM(C$8:C126)),2)","v":0},null,{"$f":"ROUND(IF(E126=\"\",0,SUM(E$8:E126)),2)","v":0}]
[null,null,null,{"$f":"ROUND(IF(C127=\"\",0,SUM(C$8:C127)),2)","v":0},null,{"$f":"ROUND(IF(E127=\"\",0,SUM(E$8:E127)),2)","v":0}]
[null,null,null,{"$f":"ROUND(IF(C128=\"\",0,SUM(C$8:C128)),2)","v":0},null,{"$f":"ROUND(IF(E128=\"\",0,SUM(E$8:E128)),2)","v":0}]
[null,null,null,{"$f":"ROUND(IF(C129=\"\",0,SUM(C$8:C129)),2)","v":0},null,{"$f":"ROUND(IF(E129=\"\",0,SUM(E$8:E129)),2)","v":0}]
[null,null,null,{"$f":"ROUND(IF(C130=\"\",0,SUM(C$8:C130)),2)","v":0},null,{"$f":"ROUND(IF(E130=\"\",0,SUM(E$8:E130)),2)","v":0}]
[null,null,null,{"$f":"ROUND(IF(C131=\"\",0,SUM(C$8:C131)),2)","v":0},null,{"$f":"ROUND(IF(E131=\"\",0,SUM(E$8:E131)),2)","v":0}]
[null,null,null,{"$f":"ROUND(IF(C132=\"\",0,SUM(C$8:C132)),2)","v":0},null,{"$f":"ROUND(IF(E132=\"\",0,SUM(E$8:E132)),2)","v":0}]
[null,null,null,{"$f":"ROUND(IF(C133=\"\",0,SUM(C$8:C133)),2)","v":0},null,{"$f":"ROUND(IF(E133=\"\",0,SUM(E$8:E133)),2)","v":0}]
[null,null,null,{"$f":"ROUND(IF(C134=\"\",0,SUM(C$8:C134)),2)","v":0},null,{"$f":"ROUND(IF(E134=\"\",0,SUM(E$8:E134)),2)","v":0}]
[null,null,null,{"$f":"ROUND(IF(C135=\"\",0,SUM(C$8:C135)),2)","v":0},null,{"$f":"ROUND(IF(E135=\"\",0,SUM(E$8:E135)),2)","v":0}]
[null,null,null,{"$f":"ROUND(IF(C136=\"\",0,SUM(C$8:C136)),2)","v":0},null,{"$f":"ROUND(IF(E136=\"\",0,SUM(E$8:E136)),2)","v":0}]
[null,null,null,{"$f":"ROUND(IF(C137=\"\",0,SUM(C$8:C137)),2)","v":0},null,{"$f":"ROUND(IF(E137=\"\",0,SUM(E$8:E137)),2)","v":0}]
[null,null,null,{"$f":"ROUND(IF(C138=\"\",0,SUM(C$8:C138)),2)","v":0},null,{"$f":"ROUND(IF(E138=\"\",0,SUM(E$8:E138)),2)","v":0}]
[null,null,null,{"$f":"ROUND(IF(C139=\"\",0,SUM(C$8:C139)),2)","v":0},null,{"$f":"ROUND(IF(E139=\"\",0,SUM(E$8:E139)),2)","v":0}]
[null,null,null,{"$f":"ROUND(IF(C140=\"\",0,SUM(C$8:C140)),2)","v":0},null,{"$f":"ROUND(IF(E140=\"\",0,SUM(E$8:E140)),2)","v":0}]
[null,null,null,{"$f":"ROUND(IF(C141=\"\",0,SUM(C$8:C141)),2)","v":0},null,{"$f":"ROUND(IF(E141=\"\",0,SUM(E$8:E141)),2)","v":0}]
[null,null,null,{"$f":"ROUND(IF(C142=\"\",0,SUM(C$8:C142)),2)","v":0},null,{"$f":"ROUND(IF(E142=\"\",0,SUM(E$8:E142)),2)","v":0}]
[null,null,null,{"$f":"ROUND(IF(C143=\"\",0,SUM(C$8:C143)),2)","v":0},null,{"$f":"ROUND(IF(E143=\"\",0,SUM(E$8:E143)),2)","v":0}]
[null,null,null,{"$f":"ROUND(IF(C144=\"\",0,SUM(C$8:C144)),2)","v":0},null,{"$f":"ROUND(IF(E144=\"\",0,SUM(E$8:E144)),2)","v":0}]
[null,null,null,{"$f":"ROUND(IF(C145=\"\",0,SUM(C$8:C145)),2)","v":0},null,{"$f":"ROUND(IF(E145=\"\",0,SUM(E$8:E145)),2)","v":0}]
[null,null,null,{"$f":"ROUND(IF(C146=\"\",0,SUM(C$8:C146)),2)","v":0},null,{"$f":"ROUND(IF(E146=\"\",0,SUM(E$8:E146)),2)","v":0}]
[null,null,null,{"$f":"ROUND(IF(C147=\"\",0,SUM(C$8:C147)),2)","v":0},null,{"$f":"ROUND(IF(E147=\"\",0,SUM(E$8:E147)),2)","v":0}]
[null,null,null,{"$f":"ROUND(IF(C148=\"\",0,SUM(C$8:C148)),2)","v":0},null,{"$f":"ROUND(IF(E148=\"\",0,SUM(E$8:E148)),2)","v":0}]
[null,null,null,{"$f":"ROUND(IF(C149=\"\",0,SUM(C$8:C149)),2)","v":0},null,{"$f":"ROUND(IF(E149=\"\",0,SUM(E$8:E149)),2)","v":0}]
[null,null,null,{"$f":"ROUND(IF(C150=\"\",0,SUM(C$8:C150)),2)","v":0},null,{"$f":"ROUND(IF(E150=\"\",0,SUM(E$8:E150)),2)","v":0}]
[null,null,null,{"$f":"ROUND(IF(C151=\"\",0,SUM(C$8:C151)),2)","v":0},null,{"$f":"ROUND(IF(E151=\"\",0,SUM(E$8:E151)),2)","v":0}]
[null,null,null,{"$f":"ROUND(IF(C152=\"\",0,SUM(C$8:C152)),2)","v":0},null,{"$f":"ROUND(IF(E152=\"\",0,SUM(E$8:E152)),2)","v":0}]
[null,null,null,{"$f":"ROUND(IF(C153=\"\",0,SUM(C$8:C153)),2)","v":0},null,{"$f":"ROUND(IF(E153=\"\",0,SUM(E$8:E153)),2)","v":0}]
[null,null,null,{"$f":"ROUND(IF(C154=\"\",0,SUM(C$8:C154)),2)","v":0},null,{"$f":"ROUND(IF(E154=\"\",0,SUM(E$8:E154)),2)","v":0}]
[null,null,null,{"$f":"ROUND(IF(C155=\"\",0,SUM(C$8:C155)),2)","v":0},null,{"$f":"ROUND(IF(E155=\"\",0,SUM(E$8:E155)),2)","v":0}]
[null,null,null,{"$f":"ROUND(IF(C156=\"\",0,SUM(C$8:C156)),2)","v":0},null,{"$f":"ROUND(IF(E156=\"\",0,SUM(E$8:E156)),2)","v":0}]
[null,null,null,{"$f":"ROUND(IF(C157=\"\",0,SUM(C$8:C157)),2)","v":0},null,{"$f":"ROUND(IF(E157=\"\",0,SUM(E$8:E157)),2)","v":0}]
[null,null,null,{"$f":"ROUND(IF(C158=\"\",0,SUM(C$8:C158)),2)","v":0},null,{"$f":"ROUND(IF(E158=\"\",0,SUM(E$8:E158)),2)","v":0}]
[null,null,null,{"$f":"ROUND(IF(C159=\"\",0,SUM(C$8:C159)),2)","v":0},null,{"$f":"ROUND(IF(E159=\"\",0,SUM(E$8:E159)),2)","v":0}]
[null,null,null,{"$f":"ROUND(IF(C160=\"\",0,SUM(C$8:C160)),2)","v":0},null,{"$f":"ROUND(IF(E160=\"\",0,SUM(E$8:E160)),2)","v":0}]
[null,null,null,{"$f":"ROUND(IF(C161=\"\",0,SUM(C$8:C161)),2)","v":0},null,{"$f":"ROUND(IF(E161=\"\",0,SUM(E$8:E161)),2)","v":0}]
[null,null,null,{"$f":"ROUND(IF(C162=\"\",0,SUM(C$8:C162)),2)","v":0},null,{"$f":"ROUND(IF(E162=\"\",0,SUM(E$8:E162)),2)","v":0}]
[null,null,null,{"$f":"ROUND(IF(C163=\"\",0,SUM(C$8:C163)),2)","v":0},null,{"$f":"ROUND(IF(E163=\"\",0,SUM(E$8:E163)),2)","v":0}]
[null,null,null,{"$f":"ROUND(IF(C164=\"\",0,SUM(C$8:C164)),2)","v":0},null,{"$f":"ROUND(IF(E164=\"\",0,SUM(E$8:E164)),2)","v":0}]
[null,null,null,{"$f":"ROUND(IF(C165=\"\",0,SUM(C$8:C165)),2)","v":0},null,{"$f":"ROUND(IF(E165=\"\",0,SUM(E$8:E165)),2)","v":0}]
[null,null,null,{"$f":"ROUND(IF(C166=\"\",0,SUM(C$8:C166)),2)","v":0},null,{"$f":"ROUND(IF(E166=\"\",0,SUM(E$8:E166)),2)","v":0}]
[null,null,null,{"$f":"ROUND(IF(C167=\"\",0,SUM(C$8:C167)),2)","v":0},null,{"$f":"ROUND(IF(E167=\"\",0,SUM(E$8:E167)),2)","v":0}]
[null,null,null,{"$f":"ROUND(IF(C168=\"\",0,SUM(C$8:C168)),2)","v":0},null,{"$f":"ROUND(IF(E168=\"\",0,SUM(E$8:E168)),2)","v":0}]
[null,null,null,{"$f":"ROUND(IF(C169=\"\",0,SUM(C$8:C169)),2)","v":0},null,{"$f":"ROUND(IF(E169=\"\",0,SUM(E$8:E169)),2)","v":0}]
[null,null,null,{"$f":"ROUND(IF(C170=\"\",0,SUM(C$8:C170)),2)","v":0},null,{"$f":"ROUND(IF(E170=\"\",0,SUM(E$8:E170)),2)","v":0}]
[null,null,null,{"$f":"ROUND(IF(C171=\"\",0,SUM(C$8:C171)),2)","v":0},null,{"$f":"ROUND(IF(E171=\"\",0,SUM(E$8:E171)),2)","v":0}]
[null,null,null,{"$f":"ROUND(IF(C172=\"\",0,SUM(C$8:C172)),2)","v":0},null,{"$f":"ROUND(IF(E172=\"\",0,SUM(E$8:E172)),2)","v":0}]
[null,null,null,{"$f":"ROUND(IF(C173=\"\",0,SUM(C$8:C173)),2)","v":0},null,{"$f":"ROUND(IF(E173=\"\",0,SUM(E$8:E173)),2)","v":0}]
[null,null,null,{"$f":"ROUND(IF(C174=\"\",0,SUM(C$8:C174)),2)","v":0},null,{"$f":"ROUND(IF(E174=\"\",0,SUM(E$8:E174)),2)","v":0}]
[null,null,null,{"$f":"ROUND(IF(C175=\"\",0,SUM(C$8:C175)),2)","v":0},null,{"$f":"ROUND(IF(E175=\"\",0,SUM(E$8:E175)),2)","v":0}]
[null,null,null,{"$f":"ROUND(IF(C176=\"\",0,SUM(C$8:C176)),2)","v":0},null,{"$f":"ROUND(IF(E176=\"\",0,SUM(E$8:E176)),2)","v":0}]
[null,null,null,{"$f":"ROUND(IF(C177=\"\",0,SUM(C$8:C177)),2)","v":0},null,{"$f":"ROUND(IF(E177=\"\",0,SUM(E$8:E177)),2)","v":0}]
[null,null,null,{"$f":"ROUND(IF(C178=\"\",0,SUM(C$8:C178)),2)","v":0},null,{"$f":"ROUND(IF(E178=\"\",0,SUM(E$8:E178)),2)","v":0}]
[null,null,null,{"$f":"ROUND(IF(C179=\"\",0,SUM(C$8:C179)),2)","v":0},null,{"$f":"ROUND(IF(E179=\"\",0,SUM(E$8:E179)),2)","v":0}]
[null,null,null,{"$f":"ROUND(IF(C180=\"\",0,SUM(C$8:C180)),2)","v":0},null,{"$f":"ROUND(IF(E180=\"\",0,SUM(E$8:E180)),2)","v":0}]
[null,null,null,{"$f":"ROUND(IF(C181=\"\",0,SUM(C$8:C181)),2)","v":0},null,{"$f":"ROUND(IF(E181=\"\",0,SUM(E$8:E181)),2)","v":0}]
[null,null,null,{"$f":"ROUND(IF(C182=\"\",0,SUM(C$8:C182)),2)","v":0},null,{"$f":"ROUND(IF(E182=\"\",0,SUM(E$8:E182)),2)","v":0}]
[null,null,null,{"$f":"ROUND(IF(C183=\"\",0,SUM(C$8:C183)),2)","v":0},null,{"$f":"ROUND(IF(E183=\"\",0,SUM(E$8:E183)),2)","v":0}]
[null,null,null,{"$f":"ROUND(IF(C184=\"\",0,SUM(C$8:C184)),2)","v":0},null,{"$f":"ROUND(IF(E184=\"\",0,SUM(E$8:E184)),2)","v":0}]
[null,null,null,{"$f":"ROUND(IF(C185=\"\",0,SUM(C$8:C185)),2)","v":0},null,{"$f":"ROUND(IF(E185=\"\",0,SUM(E$8:E185)),2)","v":0}]
[null,null,null,{"$f":"ROUND(IF(C186=\"\",0,SUM(C$8:C186)),2)","v":0},null,{"$f":"ROUND(IF(E186=\"\",0,SUM(E$8:E186)),2)","v":0}]
[null,null,null,{"$f":"ROUND(IF(C187=\"\",0,SUM(C$8:C187)),2)","v":0},null,{"$f":"ROUND(IF(E187=\"\",0,SUM(E$8:E187)),2)","v":0}]
[null,null,null,{"$f":"ROUND(IF(C188=\"\",0,SUM(C$8:C188)),2)","v":0},null,{"$f":"ROUND(IF(E188=\"\",0,SUM(E$8:E188)),2)","v":0}]
[null,null,null,{"$f":"ROUND(IF(C189=\"\",0,SUM(C$8:C189)),2)","v":0},null,{"$f":"ROUND(IF(E189=\"\",0,SUM(E$8:E189)),2)","v":0}]
[null,null,null,{"$f":"ROUND(IF(C190=\"\",0,SUM(C$8:C190)),2)","v":0},null,{"$f":"ROUND(IF(E190=\"\",0,SUM(E$8:E190)),2)","v":0}]
[null,null,null,{"$f":"ROUND(IF(C191=\"\",0,SUM(C$8:C191)),2)","v":0},null,{"$f":"ROUND(IF(E191=\"\",0,SUM(E$8:E191)),2)","v":0}]
[null,null,null,{"$f":"ROUND(IF(C192=\"\",0,SUM(C$8:C192)),2)","v":0},null,{"$f":"ROUND(IF(E192=\"\",0,SUM(E$8:E192)),2)","v":0}]
[null,null,null,{"$f":"ROUND(IF(C193=\"\",0,SUM(C$8:C193)),2)","v":0},null,{"$f":"ROUND(IF(E193=\"\",0,SUM(E$8:E193)),2)","v":0}]
[null,null,null,{"$f":"ROUND(IF(C194=\"\",0,SUM(C$8:C194)),2)","v":0},null,{"$f":"ROUND(IF(E194=\"\",0,SUM(E$8:E194)),2)","v":0}]
[null,null,null,{"$f":"ROUND(IF(C195=\"\",0,SUM(C$8:C195)),2)","v":0},null,{"$f":"ROUND(IF(E195=\"\",0,SUM(E$8:E195)),2)","v":0}]
[null,null,null,{"$f":"ROUND(IF(C196=\"\",0,SUM(C$8:C196)),2)","v":0},null,{"$f":"ROUND(IF(E196=\"\",0,SUM(E$8:E196)),2)","v":0}]
[null,null,null,{"$f":"ROUND(IF(C197=\"\",0,SUM(C$8:C197)),2)","v":0},null,{"$f":"ROUND(IF(E197=\"\",0,SUM(E$8:E197)),2)","v":0}]
[null,null,null,{"$f":"ROUND(IF(C198=\"\",0,SUM(C$8:C198)),2)","v":0},null,{"$f":"ROUND(IF(E198=\"\",0,SUM(E$8:E198)),2)","v":0}]
[null,null,null,{"$f":"ROUND(IF(C199=\"\",0,SUM(C$8:C199)),2)","v":0},null,{"$f":"ROUND(IF(E199=\"\",0,SUM(E$8:E199)),2)","v":0}]
[null,null,null,{"$f":"ROUND(IF(C200=\"\",0,SUM(C$8:C200)),2)","v":0},null,{"$f":"ROUND(IF(E200=\"\",0,SUM(E$8:E200)),2)","v":0}]
[null,null,null,{"$f":"ROUND(IF(C201=\"\",0,SUM(C$8:C201)),2)","v":0},null,{"$f":"ROUND(IF(E201=\"\",0,SUM(E$8:E201)),2)","v":0}]
[null,null,null,{"$f":"ROUND(IF(C202=\"\",0,SUM(C$8:C202)),2)","v":0},null,{"$f":"ROUND(IF(E202=\"\",0,SUM(E$8:E202)),2)","v":0}]
[null,null,null,{"$f":"ROUND(IF(C203=\"\",0,SUM(C$8:C203)),2)","v":0},null,{"$f":"ROUND(IF(E203=\"\",0,SUM(E$8:E203)),2)","v":0}]
[null,null,null,{"$f":"ROUND(IF(C204=\"\",0,SUM(C$8:C204)),2)","v":0},null,{"$f":"ROUND(IF(E204=\"\",0,SUM(E$8:E204)),2)","v":0}]
[null,null,null,{"$f":"ROUND(IF(C205=\"\",0,SUM(C$8:C205)),2)","v":0},null,{"$f":"ROUND(IF(E205=\"\",0,SUM(E$8:E205)),2)","v":0}]
[null,null,null,{"$f":"ROUND(IF(C206=\"\",0,SUM(C$8:C206)),2)","v":0},null,{"$f":"ROUND(IF(E206=\"\",0,SUM(E$8:E206)),2)","v":0}]
[null,null,null,{"$f":"ROUND(IF(C207=\"\",0,SUM(C$8:C207)),2)","v":0},null,{"$f":"ROUND(IF(E207=\"\",0,SUM(E$8:E207)),2)","v":0}]
[null,null,null,{"$f":"ROUND(IF(C208=\"\",0,SUM(C$8:C208)),2)","v":0},null,{"$f":"ROUND(IF(E208=\"\",0,SUM(E$8:E208)),2)","v":0}]
[null,null,null,{"$f":"ROUND(IF(C209=\"\",0,SUM(C$8:C209)),2)","v":0},null,{"$f":"ROUND(IF(E209=\"\",0,SUM(E$8:E209)),2)","v":0}]
[null,null,null,{"$f":"ROUND(IF(C210=\"\",0,SUM(C$8:C210)),2)","v":0},null,{"$f":"ROUND(IF(E210=\"\",0,SUM(E$8:E210)),2)","v":0}]
[null,null,null,{"$f":"ROUND(IF(C211=\"\",0,SUM(C$8:C211)),2)","v":0},null,{"$f":"ROUND(IF(E211=\"\",0,SUM(E$8:E211)),2)","v":0}]
[null,null,null,{"$f":"ROUND(IF(C212=\"\",0,SUM(C$8:C212)),2)","v":0},null,{"$f":"ROUND(IF(E212=\"\",0,SUM(E$8:E212)),2)","v":0}]
[null,null,null,{"$f":"ROUND(IF(C213=\"\",0,SUM(C$8:C213)),2)","v":0},null,{"$f":"ROUND(IF(E213=\"\",0,SUM(E$8:E213)),2)","v":0}]
[null,null,null,{"$f":"ROUND(IF(C214=\"\",0,SUM(C$8:C214)),2)","v":0},null,{"$f":"ROUND(IF(E214=\"\",0,SUM(E$8:E214)),2)","v":0}]
[null,null,null,{"$f":"ROUND(IF(C215=\"\",0,SUM(C$8:C215)),2)","v":0},null,{"$f":"ROUND(IF(E215=\"\",0,SUM(E$8:E215)),2)","v":0}]
[null,null,null,{"$f":"ROUND(IF(C216=\"\",0,SUM(C$8:C216)),2)","v":0},null,{"$f":"ROUND(IF(E216=\"\",0,SUM(E$8:E216)),2)","v":0}]
[null,null,null,{"$f":"ROUND(IF(C217=\"\",0,SUM(C$8:C217)),2)","v":0},null,{"$f":"ROUND(IF(E217=\"\",0,SUM(E$8:E217)),2)","v":0}]
[null,null,null,{"$f":"ROUND(IF(C218=\"\",0,SUM(C$8:C218)),2)","v":0},null,{"$f":"ROUND(IF(E218=\"\",0,SUM(E$8:E218)),2)","v":0}]
[null,null,null,{"$f":"ROUND(IF(C219=\"\",0,SUM(C$8:C219)),2)","v":0},null,{"$f":"ROUND(IF(E219=\"\",0,SUM(E$8:E219)),2)","v":0}]
[null,null,null,{"$f":"ROUND(IF(C220=\"\",0,SUM(C$8:C220)),2)","v":0},null,{"$f":"ROUND(IF(E220=\"\",0,SUM(E$8:E220)),2)","v":0}]
[null,null,null,{"$f":"ROUND(IF(C221=\"\",0,SUM(C$8:C221)),2)","v":0},null,{"$f":"ROUND(IF(E221=\"\",0,SUM(E$8:E221)),2)","v":0}]
[null,null,null,{"$f":"ROUND(IF(C222=\"\",0,SUM(C$8:C222)),2)","v":0},null,{"$f":"ROUND(IF(E222=\"\",0,SUM(E$8:E222)),2)","v":0}]
[null,null,null,{"$f":"ROUND(IF(C223=\"\",0,SUM(C$8:C223)),2)","v":0},null,{"$f":"ROUND(IF(E223=\"\",0,SUM(E$8:E223)),2)","v":0}]
[null,null,null,{"$f":"ROUND(IF(C224=\"\",0,SUM(C$8:C224)),2)","v":0},null,{"$f":"ROUND(IF(E224=\"\",0,SUM(E$8:E224)),2)","v":0}]
[null,null,null,{"$f":"ROUND(IF(C225=\"\",0,SUM(C$8:C225)),2)","v":0},null,{"$f":"ROUND(IF(E225=\"\",0,SUM(E$8:E225)),2)","v":0}]
[null,null,null,{"$f":"ROUND(IF(C226=\"\",0,SUM(C$8:C226)),2)","v":0},null,{"$f":"ROUND(IF(E226=\"\",0,SUM(E$8:E226)),2)","v":0}]
[null,null,null,{"$f":"ROUND(IF(C227=\"\",0,SUM(C$8:C227)),2)","v":0},null,{"$f":"ROUND(IF(E227=\"\",0,SUM(E$8:E227)),2)","v":0}]
[null,null,null,{"$f":"ROUND(IF(C228=\"\",0,SUM(C$8:C228)),2)","v":0},null,{"$f":"ROUND(IF(E228=\"\",0,SUM(E$8:E228)),2)","v":0}]
[null,null,null,{"$f":"ROUND(IF(C229=\"\",0,SUM(C$8:C229)),2)","v":0},null,{"$f":"ROUND(IF(E229=\"\",0,SUM(E$8:E229)),2)","v":0}]
[null,null,null,{"$f":"ROUND(IF(C230=\"\",0,SUM(C$8:C230)),2)","v":0},null,{"$f":"ROUND(IF(E230=\"\",0,SUM(E$8:E230)),2)","v":0}]
[null,null,null,{"$f":"ROUND(IF(C231=\"\",0,SUM(C$8:C231)),2)","v":0},null,{"$f":"ROUND(IF(E231=\"\",0,SUM(E$8:E231)),2)","v":0}]
[null,null,null,{"$f":"ROUND(IF(C232=\"\",0,SUM(C$8:C232)),2)","v":0},null,{"$f":"ROUND(IF(E232=\"\",0,SUM(E$8:E232)),2)","v":0}]
[null,null,null,{"$f":"ROUND(IF(C233=\"\",0,SUM(C$8:C233)),2)","v":0},null,{"$f":"ROUND(IF(E233=\"\",0,SUM(E$8:E233)),2)","v":0}]
[null,null,null,{"$f":"ROUND(IF(C234=\"\",0,SUM(C$8:C234)),2)","v":0},null,{"$f":"ROUND(IF(E234=\"\",0,SUM(E$8:E234)),2)","v":0}]
[null,null,null,{"$f":"ROUND(IF(C235=\"\",0,SUM(C$8:C235)),2)","v":0},null,{"$f":"ROUND(IF(E235=\"\",0,SUM(E$8:E235)),2)","v":0}]
[null,null,null,{"$f":"ROUND(IF(C236=\"\",0,SUM(C$8:C236)),2)","v":0},null,{"$f":"ROUND(IF(E236=\"\",0,SUM(E$8:E236)),2)","v":0}]
[null,null,null,{"$f":"ROUND(IF(C237=\"\",0,SUM(C$8:C237)),2)","v":0},null,{"$f":"ROUND(IF(E237=\"\",0,SUM(E$8:E237)),2)","v":0}]
[null,null,null,{"$f":"ROUND(IF(C238=\"\",0,SUM(C$8:C238)),2)","v":0},null,{"$f":"ROUND(IF(E238=\"\",0,SUM(E$8:E238)),2)","v":0}]
[null,null,null,{"$f":"ROUND(IF(C239=\"\",0,SUM(C$8:C239)),2)","v":0},null,{"$f":"ROUND(IF(E239=\"\",0,SUM(E$8:E239)),2)","v":0}]
[null,null,null,{"$f":"ROUND(IF(C240=\"\",0,SUM(C$8:C240)),2)","v":0},null,{"$f":"ROUND(IF(E240=\"\",0,SUM(E$8:E240)),2)","v":0}]
[null,null,null,{"$f":"ROUND(IF(C241=\"\",0,SUM(C$8:C241)),2)","v":0},null,{"$f":"ROUND(IF(E241=\"\",0,SUM(E$8:E241)),2)","v":0}]
[null,null,null,{"$f":"ROUND(IF(C242=\"\",0,SUM(C$8:C242)),2)","v":0},null,{"$f":"ROUND(IF(E242=\"\",0,SUM(E$8:E242)),2)","v":0}]
[null,null,null,{"$f":"ROUND(IF(C243=\"\",0,SUM(C$8:C243)),2)","v":0},null,{"$f":"ROUND(IF(E243=\"\",0,SUM(E$8:E243)),2)","v":0}]
[null,null,null,{"$f":"ROUND(IF(C244=\"\",0,SUM(C$8:C244)),2)","v":0},null,{"$f":"ROUND(IF(E244=\"\",0,SUM(E$8:E244)),2)","v":0}]
[null,null,null,{"$f":"ROUND(IF(C245=\"\",0,SUM(C$8:C245)),2)","v":0},null,{"$f":"ROUND(IF(E245=\"\",0,SUM(E$8:E245)),2)","v":0}]
[null,null,null,{"$f":"ROUND(IF(C246=\"\",0,SUM(C$8:C246)),2)","v":0},null,{"$f":"ROUND(IF(E246=\"\",0,SUM(E$8:E246)),2)","v":0}]
[null,null,null,{"$f":"ROUND(IF(C247=\"\",0,SUM(C$8:C247)),2)","v":0},null,{"$f":"ROUND(IF(E247=\"\",0,SUM(E$8:E247)),2)","v":0}]
[null,null,null,{"$f":"ROUND(IF(C248=\"\",0,SUM(C$8:C248)),2)","v":0},null,{"$f":"ROUND(IF(E248=\"\",0,SUM(E$8:E248)),2)","v":0}]
[null,null,null,{"$f":"ROUND(IF(C249=\"\",0,SUM(C$8:C249)),2)","v":0},null,{"$f":"ROUND(IF(E249=\"\",0,SUM(E$8:E249)),2)","v":0}]
[null,null,null,{"$f":"ROUND(IF(C250=\"\",0,SUM(C$8:C250)),2)","v":0},null,{"$f":"ROUND(IF(E250=\"\",0,SUM(E$8:E250)),2)","v":0}]
[null,null,null,{"$f":"ROUND(IF(C251=\"\",0,SUM(C$8:C251)),2)","v":0},null,{"$f":"ROUND(IF(E251=\"\",0,SUM(E$8:E251)),2)","v":0}]
[null,null,null,{"$f":"ROUND(IF(C252=\"\",0,SUM(C$8:C252)),2)","v":0},null,{"$f":"ROUND(IF(E252=\"\",0,SUM(E$8:E252)),2)","v":0}]
[null,null,null,{"$f":"ROUND(IF(C253=\"\",0,SUM(C$8:C253)),2)","v":0},null,{"$f":"ROUND(IF(E253=\"\",0,SUM(E$8:E253)),2)","v":0}]
[null,null,null,{"$f":"ROUND(IF(C254=\"\",0,SUM(C$8:C254)),2)","v":0},null,{"$f":"ROUND(IF(E254=\"\",0,SUM(E$8:E254)),2)","v":0}]
[null,null,null,{"$f":"ROUND(IF(C255=\"\",0,SUM(C$8:C255)),2)","v":0},null,{"$f":"ROUND(IF(E255=\"\",0,SUM(E$8:E255)),2)","v":0}]
[null,null,null,{"$f":"ROUND(IF(C256=\"\",0,SUM(C$8:C256)),2)","v":0},null,{"$f":"ROUND(IF(E256=\"\",0,SUM(E$8:E256)),2)","v":0}]
[null,null,null,{"$f":"ROUND(IF(C257=\"\",0,SUM(C$8:C257)),2)","v":0},null,{"$f":"ROUND(IF(E257=\"\",0,SUM(E$8:E257)),2)","v":0}]
[null,null,null,{"$f":"ROUND(IF(C258=\"\",0,SUM(C$8:C258)),2)","v":0},null,{"$f":"ROUND(IF(E258=\"\",0,SUM(E$8:E258)),2)","v":0}]
[null,null,null,{"$f":"ROUND(IF(C259=\"\",0,SUM(C$8:C259)),2)","v":0},null,{"$f":"ROUND(IF(E259=\"\",0,SUM(E$8:E259)),2)","v":0}]
[null,null,null,{"$f":"ROUND(IF(C260=\"\",0,SUM(C$8:C260)),2)","v":0},null,{"$f":"ROUND(IF(E260=\"\",0,SUM(E$8:E260)),2)","v":0}]
[null,null,null,{"$f":"ROUND(IF(C261=\"\",0,SUM(C$8:C261)),2)","v":0},null,{"$f":"ROUND(IF(E261=\"\",0,SUM(E$8:E261)),2)","v":0}]
[null,null,null,{"$f":"ROUND(IF(C262=\"\",0,SUM(C$8:C262)),2)","v":0},null,{"$f":"ROUND(IF(E262=\"\",0,SUM(E$8:E262)),2)","v":0}]
[null,null,null,{"$f":"ROUND(IF(C263=\"\",0,SUM(C$8:C263)),2)","v":0},null,{"$f":"ROUND(IF(E263=\"\",0,SUM(E$8:E263)),2)","v":0}]
[null,null,null,{"$f":"ROUND(IF(C264=\"\",0,SUM(C$8:C264)),2)","v":0},null,{"$f":"ROUND(IF(E264=\"\",0,SUM(E$8:E264)),2)","v":0}]
[null,null,null,{"$f":"ROUND(IF(C265=\"\",0,SUM(C$8:C265)),2)","v":0},null,{"$f":"ROUND(IF(E265=\"\",0,SUM(E$8:E265)),2)","v":0}]
[null,null,null,{"$f":"ROUND(IF(C266=\"\",0,SUM(C$8:C266)),2)","v":0},null,{"$f":"ROUND(IF(E266=\"\",0,SUM(E$8:E266)),2)","v":0}]
[null,null,null,{"$f":"ROUND(IF(C267=\"\",0,SUM(C$8:C267)),2)","v":0},null,{"$f":"ROUND(IF(E267=\"\",0,SUM(E$8:E267)),2)","v":0}]
[null,null,null,{"$f":"ROUND(IF(C268=\"\",0,SUM(C$8:C268)),2)","v":0},null,{"$f":"ROUND(IF(E268=\"\",0,SUM(E$8:E268)),2)","v":0}]
[null,null,null,{"$f":"ROUND(IF(C269=\"\",0,SUM(C$8:C269)),2)","v":0},null,{"$f":"ROUND(IF(E269=\"\",0,SUM(E$8:E269)),2)","v":0}]
[null,null,null,{"$f":"ROUND(IF(C270=\"\",0,SUM(C$8:C270)),2)","v":0},null,{"$f":"ROUND(IF(E270=\"\",0,SUM(E$8:E270)),2)","v":0}]
[null,null,null,{"$f":"ROUND(IF(C271=\"\",0,SUM(C$8:C271)),2)","v":0},null,{"$f":"ROUND(IF(E271=\"\",0,SUM(E$8:E271)),2)","v":0}]
[null,null,null,{"$f":"ROUND(IF(C272=\"\",0,SUM(C$8:C272)),2)","v":0},null,{"$f":"ROUND(IF(E272=\"\",0,SUM(E$8:E272)),2)","v":0}]
[null,null,null,{"$f":"ROUND(IF(C273=\"\",0,SUM(C$8:C273)),2)","v":0},null,{"$f":"ROUND(IF(E273=\"\",0,SUM(E$8:E273)),2)","v":0}]
[null,null,null,{"$f":"ROUND(IF(C274=\"\",0,SUM(C$8:C274)),2)","v":0},null,{"$f":"ROUND(IF(E274=\"\",0,SUM(E$8:E274)),2)","v":0}]
[null,null,null,{"$f":"ROUND(IF(C275=\"\",0,SUM(C$8:C275)),2)","v":0},null,{"$f":"ROUND(IF(E275=\"\",0,SUM(E$8:E275)),2)","v":0}]
[null,null,null,{"$f":"ROUND(IF(C276=\"\",0,SUM(C$8:C276)),2)","v":0},null,{"$f":"ROUND(IF(E276=\"\",0,SUM(E$8:E276)),2)","v":0}]
[null,null,null,{"$f":"ROUND(IF(C277=\"\",0,SUM(C$8:C277)),2)","v":0},null,{"$f":"ROUND(IF(E277=\"\",0,SUM(E$8:E277)),2)","v":0}]
[null,null,null,{"$f":"ROUND(IF(C278=\"\",0,SUM(C$8:C278)),2)","v":0},null,{"$f":"ROUND(IF(E278=\"\",0,SUM(E$8:E278)),2)","v":0}]
[null,null,null,{"$f":"ROUND(IF(C279=\"\",0,SUM(C$8:C279)),2)","v":0},null,{"$f":"ROUND(IF(E279=\"\",0,SUM(E$8:E279)),2)","v":0}]
[null,null,null,{"$f":"ROUND(IF(C280=\"\",0,SUM(C$8:C280)),2)","v":0},null,{"$f":"ROUND(IF(E280=\"\",0,SUM(E$8:E280)),2)","v":0}]
[null,null,null,{"$f":"ROUND(IF(C281=\"\",0,SUM(C$8:C281)),2)","v":0},null,{"$f":"ROUND(IF(E281=\"\",0,SUM(E$8:E281)),2)","v":0}]
[null,null,null,{"$f":"ROUND(IF(C282=\"\",0,SUM(C$8:C282)),2)","v":0},null,{"$f":"ROUND(IF(E282=\"\",0,SUM(E$8:E282)),2)","v":0}]
[null,null,null,{"$f":"ROUND(IF(C283=\"\",0,SUM(C$8:C283)),2)","v":0},null,{"$f":"ROUND(IF(E283=\"\",0,SUM(E$8:E283)),2)","v":0}]
[null,null,null,{"$f":"ROUND(IF(C284=\"\",0,SUM(C$8:C284)),2)","v":0},null,{"$f":"ROUND(IF(E284=\"\",0,SUM(E$8:E284)),2)","v":0}]
[null,null,null,{"$f":"ROUND(IF(C285=\"\",0,SUM(C$8:C285)),2)","v":0},null,{"$f":"ROUND(IF(E285=\"\",0,SUM(E$8:E285)),2)","v":0}]
[null,null,null,{"$f":"ROUND(IF(C286=\"\",0,SUM(C$8:C286)),2)","v":0},null,{"$f":"ROUND(IF(E286=\"\",0,SUM(E$8:E286)),2)","v":0}]
[null,null,null,{"$f":"ROUND(IF(C287=\"\",0,SUM(C$8:C287)),2)","v":0},null,{"$f":"ROUND(IF(E287=\"\",0,SUM(E$8:E287)),2)","v":0}]
[null,null,null,{"$f":"ROUND(IF(C288=\"\",0,SUM(C$8:C288)),2)","v":0},null,{"$f":"ROUND(IF(E288=\"\",0,SUM(E$8:E288)),2)","v":0}]
[null,null,null,{"$f":"ROUND(IF(C289=\"\",0,SUM(C$8:C289)),2)","v":0},null,{"$f":"ROUND(IF(E289=\"\",0,SUM(E$8:E289)),2)","v":0}]
[null,null,null,{"$f":"ROUND(IF(C290=\"\",0,SUM(C$8:C290)),2)","v":0},null,{"$f":"ROUND(IF(E290=\"\",0,SUM(E$8:E290)),2)","v":0}]
[null,null,null,{"$f":"ROUND(IF(C291=\"\",0,SUM(C$8:C291)),2)","v":0},null,{"$f":"ROUND(IF(E291=\"\",0,SUM(E$8:E291)),2)","v":0}]
[null,null,null,{"$f":"ROUND(IF(C292=\"\",0,SUM(C$8:C292)),2)","v":0},null,{"$f":"ROUND(IF(E292=\"\",0,SUM(E$8:E292)),2)","v":0}]
[null,null,null,{"$f":"ROUND(IF(C293=\"\",0,SUM(C$8:C293)),2)","v":0},null,{"$f":"ROUND(IF(E293=\"\",0,SUM(E$8:E293)),2)","v":0}]
[null,null,null,{"$f":"ROUND(IF(C294=\"\",0,SUM(C$8:C294)),2)","v":0},null,{"$f":"ROUND(IF(E294=\"\",0,SUM(E$8:E294)),2)","v":0}]
[null,null,null,{"$f":"ROUND(IF(C295=\"\",0,SUM(C$8:C295)),2)","v":0},null,{"$f":"ROUND(IF(E295=\"\",0,SUM(E$8:E295)),2)","v":0}]
[null,null,null,{"$f":"ROUND(IF(C296=\"\",0,SUM(C$8:C296)),2)","v":0},null,{"$f":"ROUND(IF(E296=\"\",0,SUM(E$8:E296)),2)","v":0}]
[null,null,null,{"$f":"ROUND(IF(C297=\"\",0,SUM(C$8:C297)),2)","v":0},null,{"$f":"ROUND(IF(E297=\"\",0,SUM(E$8:E297)),2)","v":0}]
[null,null,null,{"$f":"ROUND(IF(C298=\"\",0,SUM(C$8:C298)),2)","v":0},null,{"$f":"ROUND(IF(E298=\"\",0,SUM(E$8:E298)),2)","v":0}]
[null,null,null,{"$f":"ROUND(IF(C299=\"\",0,SUM(C$8:C299)),2)","v":0},null,{"$f":"ROUND(IF(E299=\"\",0,SUM(E$8:E299)),2)","v":0}]
[null,null,null,{"$f":"ROUND(IF(C300=\"\",0,SUM(C$8:C300)),2)","v":0},null,{"$f":"ROUND(IF(E300=\"\",0,SUM(E$8:E300)),2)","v":0}]
[null,null,null,{"$f":"ROUND(IF(C301=\"\",0,SUM(C$8:C301)),2)","v":0},null,{"$f":"ROUND(IF(E301=\"\",0,SUM(E$8:E301)),2)","v":0}]
[null,null,null,{"$f":"ROUND(IF(C302=\"\",0,SUM(C$8:C302)),2)","v":0},null,{"$f":"ROUND(IF(E302=\"\",0,SUM(E$8:E302)),2)","v":0}]
[null,null,null,{"$f":"ROUND(IF(C303=\"\",0,SUM(C$8:C303)),2)","v":0},null,{"$f":"ROUND(IF(E303=\"\",0,SUM(E$8:E303)),2)","v":0}]
[null,null,null,{"$f":"ROUND(IF(C304=\"\",0,SUM(C$8:C304)),2)","v":0},null,{"$f":"ROUND(IF(E304=\"\",0,SUM(E$8:E304)),2)","v":0}]
[null,null,null,{"$f":"ROUND(IF(C305=\"\",0,SUM(C$8:C305)),2)","v":0},null,{"$f":"ROUND(IF(E305=\"\",0,SUM(E$8:E305)),2)","v":0}]
[null,null,null,{"$f":"ROUND(IF(C306=\"\",0,SUM(C$8:C306)),2)","v":0},null,{"$f":"ROUND(IF(E306=\"\",0,SUM(E$8:E306)),2)","v":0}]
[null,null,null,{"$f":"ROUND(IF(C307=\"\",0,SUM(C$8:C307)),2)","v":0},null,{"$f":"ROUND(IF(E307=\"\",0,SUM(E$8:E307)),2)","v":0}]
[null,null,null,{"$f":"ROUND(IF(C308=\"\",0,SUM(C$8:C308)),2)","v":0},null,{"$f":"ROUND(IF(E308=\"\",0,SUM(E$8:E308)),2)","v":0}]
[null,null,null,{"$f":"ROUND(IF(C309=\"\",0,SUM(C$8:C309)),2)","v":0},null,{"$f":"ROUND(IF(E309=\"\",0,SUM(E$8:E309)),2)","v":0}]
[null,null,null,{"$f":"ROUND(IF(C310=\"\",0,SUM(C$8:C310)),2)","v":0},null,{"$f":"ROUND(IF(E310=\"\",0,SUM(E$8:E310)),2)","v":0}]
[null,null,null,{"$f":"ROUND(IF(C311=\"\",0,SUM(C$8:C311)),2)","v":0},null,{"$f":"ROUND(IF(E311=\"\",0,SUM(E$8:E311)),2)","v":0}]
[null,null,null,{"$f":"ROUND(IF(C312=\"\",0,SUM(C$8:C312)),2)","v":0},null,{"$f":"ROUND(IF(E312=\"\",0,SUM(E$8:E312)),2)","v":0}]
[null,null,null,{"$f":"ROUND(IF(C313=\"\",0,SUM(C$8:C313)),2)","v":0},null,{"$f":"ROUND(IF(E313=\"\",0,SUM(E$8:E313)),2)","v":0}]
[null,null,null,{"$f":"ROUND(IF(C314=\"\",0,SUM(C$8:C314)),2)","v":0},null,{"$f":"ROUND(IF(E314=\"\",0,SUM(E$8:E314)),2)","v":0}]
[null,null,null,{"$f":"ROUND(IF(C315=\"\",0,SUM(C$8:C315)),2)","v":0},null,{"$f":"ROUND(IF(E315=\"\",0,SUM(E$8:E315)),2)","v":0}]
[null,null,null,{"$f":"ROUND(IF(C316=\"\",0,SUM(C$8:C316)),2)","v":0},null,{"$f":"ROUND(IF(E316=\"\",0,SUM(E$8:E316)),2)","v":0}]
[null,null,null,{"$f":"ROUND(IF(C317=\"\",0,SUM(C$8:C317)),2)","v":0},null,{"$f":"ROUND(IF(E317=\"\",0,SUM(E$8:E317)),2)","v":0}]
[null,null,null,{"$f":"ROUND(IF(C318=\"\",0,SUM(C$8:C318)),2)","v":0},null,{"$f":"ROUND(IF(E318=\"\",0,SUM(E$8:E318)),2)","v":0}]
[null,null,null,{"$f":"ROUND(IF(C319=\"\",0,SUM(C$8:C319)),2)","v":0},null,{"$f":"ROUND(IF(E319=\"\",0,SUM(E$8:E319)),2)","v":0}]
[null,null,null,{"$f":"ROUND(IF(C320=\"\",0,SUM(C$8:C320)),2)","v":0},null,{"$f":"ROUND(IF(E320=\"\",0,SUM(E$8:E320)),2)","v":0}]
[null,null,null,{"$f":"ROUND(IF(C321=\"\",0,SUM(C$8:C321)),2)","v":0},null,{"$f":"ROUND(IF(E321=\"\",0,SUM(E$8:E321)),2)","v":0}]
[null,null,null,{"$f":"ROUND(IF(C322=\"\",0,SUM(C$8:C322)),2)","v":0},null,{"$f":"ROUND(IF(E322=\"\",0,SUM(E$8:E322)),2)","v":0}]
[null,null,null,{"$f":"ROUND(IF(C323=\"\",0,SUM(C$8:C323)),2)","v":0},null,{"$f":"ROUND(IF(E323=\"\",0,SUM(E$8:E323)),2)","v":0}]
[null,null,null,{"$f":"ROUND(IF(C324=\"\",0,SUM(C$8:C324)),2)","v":0},null,{"$f":"ROUND(IF(E324=\"\",0,SUM(E$8:E324)),2)","v":0}]
[null,null,null,{"$f":"ROUND(IF(C325=\"\",0,SUM(C$8:C325)),2)","v":0},null,{"$f":"ROUND(IF(E325=\"\",0,SUM(E$8:E325)),2)","v":0}]
[null,null,null,{"$f":"ROUND(IF(C326=\"\",0,SUM(C$8:C326)),2)","v":0},null,{"$f":"ROUND(IF(E326=\"\",0,SUM(E$8:E326)),2)","v":0}]
[null,null,null,{"$f":"ROUND(IF(C327=\"\",0,SUM(C$8:C327)),2)","v":0},null,{"$f":"ROUND(IF(E327=\"\",0,SUM(E$8:E327)),2)","v":0}]
[null,null,null,{"$f":"ROUND(IF(C328=\"\",0,SUM(C$8:C328)),2)","v":0},null,{"$f":"ROUND(IF(E328=\"\",0,SUM(E$8:E328)),2)","v":0}]
[null,null,null,{"$f":"ROUND(IF(C329=\"\",0,SUM(C$8:C329)),2)","v":0},null,{"$f":"ROUND(IF(E329=\"\",0,SUM(E$8:E329)),2)","v":0}]
[null,null,null,{"$f":"ROUND(IF(C330=\"\",0,SUM(C$8:C330)),2)","v":0},null,{"$f":"ROUND(IF(E330=\"\",0,SUM(E$8:E330)),2)","v":0}]
[null,null,null,{"$f":"ROUND(IF(C331=\"\",0,SUM(C$8:C331)),2)","v":0},null,{"$f":"ROUND(IF(E331=\"\",0,SUM(E$8:E331)),2)","v":0}]
[null,null,null,{"$f":"ROUND(IF(C332=\"\",0,SUM(C$8:C332)),2)","v":0},null,{"$f":"ROUND(IF(E332=\"\",0,SUM(E$8:E332)),2)","v":0}]
[null,null,null,{"$f":"ROUND(IF(C333=\"\",0,SUM(C$8:C333)),2)","v":0},null,{"$f":"ROUND(IF(E333=\"\",0,SUM(E$8:E333)),2)","v":0}]
[null,null,null,{"$f":"ROUND(IF(C334=\"\",0,SUM(C$8:C334)),2)","v":0},null,{"$f":"ROUND(IF(E334=\"\",0,SUM(E$8:E334)),2)","v":0}]
[null,null,null,{"$f":"ROUND(IF(C335=\"\",0,SUM(C$8:C335)),2)","v":0},null,{"$f":"ROUND(IF(E335=\"\",0,SUM(E$8:E335)),2)","v":0}]
[null,null,null,{"$f":"ROUND(IF(C336=\"\",0,SUM(C$8:C336)),2)","v":0},null,{"$f":"ROUND(IF(E336=\"\",0,SUM(E$8:E336)),2)","v":0}]
[null,null,null,{"$f":"ROUND(IF(C337=\"\",0,SUM(C$8:C337)),2)","v":0},null,{"$f":"ROUND(IF(E337=\"\",0,SUM(E$8:E337)),2)","v":0}]
[null,null,null,{"$f":"ROUND(IF(C338=\"\",0,SUM(C$8:C338)),2)","v":0},null,{"$f":"ROUND(IF(E338=\"\",0,SUM(E$8:E338)),2)","v":0}]
[null,null,null,{"$f":"ROUND(IF(C339=\"\",0,SUM(C$8:C339)),2)","v":0},null,{"$f":"ROUND(IF(E339=\"\",0,SUM(E$8:E339)),2)","v":0}]
[null,null,null,{"$f":"ROUND(IF(C340=\"\",0,SUM(C$8:C340)),2)","v":0},null,{"$f":"ROUND(IF(E340=\"\",0,SUM(E$8:E340)),2)","v":0}]
[null,null,null,{"$f":"ROUND(IF(C341=\"\",0,SUM(C$8:C341)),2)","v":0},null,{"$f":"ROUND(IF(E341=\"\",0,SUM(E$8:E341)),2)","v":0}]
[null,null,null,{"$f":"ROUND(IF(C342=\"\",0,SUM(C$8:C342)),2)","v":0},null,{"$f":"ROUND(IF(E342=\"\",0,SUM(E$8:E342)),2)","v":0}]
[null,null,null,{"$f":"ROUND(IF(C343=\"\",0,SUM(C$8:C343)),2)","v":0},null,{"$f":"ROUND(IF(E343=\"\",0,SUM(E$8:E343)),2)","v":0}]
[null,null,null,{"$f":"ROUND(IF(C344=\"\",0,SUM(C$8:C344)),2)","v":0},null,{"$f":"ROUND(IF(E344=\"\",0,SUM(E$8:E344)),2)","v":0}]
[null,null,null,{"$f":"ROUND(IF(C345=\"\",0,SUM(C$8:C345)),2)","v":0},null,{"$f":"ROUND(IF(E345=\"\",0,SUM(E$8:E345)),2)","v":0}]
[null,null,null,{"$f":"ROUND(IF(C346=\"\",0,SUM(C$8:C346)),2)","v":0},null,{"$f":"ROUND(IF(E346=\"\",0,SUM(E$8:E346)),2)","v":0}]
[null,null,null,{"$f":"ROUND(IF(C347=\"\",0,SUM(C$8:C347)),2)","v":0},null,{"$f":"ROUND(IF(E347=\"\",0,SUM(E$8:E347)),2)","v":0}]
[null,null,null,{"$f":"ROUND(IF(C348=\"\",0,SUM(C$8:C348)),2)","v":0},null,{"$f":"ROUND(IF(E348=\"\",0,SUM(E$8:E348)),2)","v":0}]
[null,null,null,{"$f":"ROUND(IF(C349=\"\",0,SUM(C$8:C349)),2)","v":0},null,{"$f":"ROUND(IF(E349=\"\",0,SUM(E$8:E349)),2)","v":0}]
[null,null,null,{"$f":"ROUND(IF(C350=\"\",0,SUM(C$8:C350)),2)","v":0},null,{"$f":"ROUND(IF(E350=\"\",0,SUM(E$8:E350)),2)","v":0}]
[null,null,null,{"$f":"ROUND(IF(C351=\"\",0,SUM(C$8:C351)),2)","v":0},null,{"$f":"ROUND(IF(E351=\"\",0,SUM(E$8:E351)),2)","v":0}]
[null,null,null,{"$f":"ROUND(IF(C352=\"\",0,SUM(C$8:C352)),2)","v":0},null,{"$f":"ROUND(IF(E352=\"\",0,SUM(E$8:E352)),2)","v":0}]
[null,null,null,{"$f":"ROUND(IF(C353=\"\",0,SUM(C$8:C353)),2)","v":0},null,{"$f":"ROUND(IF(E353=\"\",0,SUM(E$8:E353)),2)","v":0}]
[null,null,null,{"$f":"ROUND(IF(C354=\"\",0,SUM(C$8:C354)),2)","v":0},null,{"$f":"ROUND(IF(E354=\"\",0,SUM(E$8:E354)),2)","v":0}]
[null,null,null,{"$f":"ROUND(IF(C355=\"\",0,SUM(C$8:C355)),2)","v":0},null,{"$f":"ROUND(IF(E355=\"\",0,SUM(E$8:E355)),2)","v":0}]
[null,null,null,{"$f":"ROUND(IF(C356=\"\",0,SUM(C$8:C356)),2)","v":0},null,{"$f":"ROUND(IF(E356=\"\",0,SUM(E$8:E356)),2)","v":0}]
[null,null,null,{"$f":"ROUND(IF(C357=\"\",0,SUM(C$8:C357)),2)","v":0},null,{"$f":"ROUND(IF(E357=\"\",0,SUM(E$8:E357)),2)","v":0}]
[null,null,null,{"$f":"ROUND(IF(C358=\"\",0,SUM(C$8:C358)),2)","v":0},null,{"$f":"ROUND(IF(E358=\"\",0,SUM(E$8:E358)),2)","v":0}]
[null,null,null,{"$f":"ROUND(IF(C359=\"\",0,SUM(C$8:C359)),2)","v":0},null,{"$f":"ROUND(IF(E359=\"\",0,SUM(E$8:E359)),2)","v":0}]
[null,null,null,{"$f":"ROUND(IF(C360=\"\",0,SUM(C$8:C360)),2)","v":0},null,{"$f":"ROUND(IF(E360=\"\",0,SUM(E$8:E360)),2)","v":0}]
[null,null,null,{"$f":"ROUND(IF(C361=\"\",0,SUM(C$8:C361)),2)","v":0},null,{"$f":"ROUND(IF(E361=\"\",0,SUM(E$8:E361)),2)","v":0}]
[null,null,null,{"$f":"ROUND(IF(C362=\"\",0,SUM(C$8:C362)),2)","v":0},null,{"$f":"ROUND(IF(E362=\"\",0,SUM(E$8:E362)),2)","v":0}]
[null,null,null,{"$f":"ROUND(IF(C363=\"\",0,SUM(C$8:C363)),2)","v":0},null,{"$f":"ROUND(IF(E363=\"\",0,SUM(E$8:E363)),2)","v":0}]
[null,null,null,{"$f":"ROUND(IF(C364=\"\",0,SUM(C$8:C364)),2)","v":0},null,{"$f":"ROUND(IF(E364=\"\",0,SUM(E$8:E364)),2)","v":0}]
[null,null,null,{"$f":"ROUND(IF(C365=\"\",0,SUM(C$8:C365)),2)","v":0},null,{"$f":"ROUND(IF(E365=\"\",0,SUM(E$8:E365)),2)","v":0}]
[null,null,null,{"$f":"ROUND(IF(C366=\"\",0,SUM(C$8:C366)),2)","v":0},null,{"$f":"ROUND(IF(E366=\"\",0,SUM(E$8:E366)),2)","v":0}]
[null,null,null,{"$f":"ROUND(IF(C367=\"\",0,SUM(C$8:C367)),2)","v":0},null,{"$f":"ROUND(IF(E367=\"\",0,SUM(E$8:E367)),2)","v":0}]
[null,null,null,{"$f":"ROUND(IF(C368=\"\",0,SUM(C$8:C368)),2)","v":0},null,{"$f":"ROUND(IF(E368=\"\",0,SUM(E$8:E368)),2)","v":0}]
[null,null,null,{"$f":"ROUND(IF(C369=\"\",0,SUM(C$8:C369)),2)","v":0},null,{"$f":"ROUND(IF(E369=\"\",0,SUM(E$8:E369)),2)","v":0}]
[null,null,null,{"$f":"ROUND(IF(C370=\"\",0,SUM(C$8:C370)),2)","v":0},null,{"$f":"ROUND(IF(E370=\"\",0,SUM(E$8:E370)),2)","v":0}]
[null,null,null,{"$f":"ROUND(IF(C371=\"\",0,SUM(C$8:C371)),2)","v":0},null,{"$f":"ROUND(IF(E371=\"\",0,SUM(E$8:E371)),2)","v":0}]
[null,null,null,{"$f":"ROUND(IF(C372=\"\",0,SUM(C$8:C372)),2)","v":0},null,{"$f":"ROUND(IF(E372=\"\",0,SUM(E$8:E372)),2)","v":0}]
[null,null,null,{"$f":"ROUND(IF(C373=\"\",0,SUM(C$8:C373)),2)","v":0},null,{"$f":"ROUND(IF(E373=\"\",0,SUM(E$8:E373)),2)","v":0}]
[null,null,null,{"$f":"ROUND(IF(C374=\"\",0,SUM(C$8:C374)),2)","v":0},null,{"$f":"ROUND(IF(E374=\"\",0,SUM(E$8:E374)),2)","v":0}]
[null,null,null,{"$f":"ROUND(IF(C375=\"\",0,SUM(C$8:C375)),2)","v":0},null,{"$f":"ROUND(IF(E375=\"\",0,SUM(E$8:E375)),2)","v":0}]
[null,null,null,{"$f":"ROUND(IF(C376=\"\",0,SUM(C$8:C376)),2)","v":0},null,{"$f":"ROUND(IF(E376=\"\",0,SUM(E$8:E376)),2)","v":0}]
[null,null,null,{"$f":"ROUND(IF(C377=\"\",0,SUM(C$8:C377)),2)","v":0},null,{"$f":"ROUND(IF(E377=\"\",0,SUM(E$8:E377)),2)","v":0}]
[null,null,null,{"$f":"ROUND(IF(C378=\"\",0,SUM(C$8:C378)),2)","v":0},null,{"$f":"ROUND(IF(E378=\"\",0,SUM(E$8:E378)),2)","v":0}]
[null,null,null,{"$f":"ROUND(IF(C379=\"\",0,SUM(C$8:C379)),2)","v":0},null,{"$f":"ROUND(IF(E379=\"\",0,SUM(E$8:E379)),2)","v":0}]
[null,null,null,{"$f":"ROUND(IF(C380=\"\",0,SUM(C$8:C380)),2)","v":0},null,{"$f":"ROUND(IF(E380=\"\",0,SUM(E$8:E380)),2)","v":0}]
[null,null,null,{"$f":"ROUND(IF(C381=\"\",0,SUM(C$8:C381)),2)","v":0},null,{"$f":"ROUND(IF(E381=\"\",0,SUM(E$8:E381)),2)","v":0}]
[null,null,null,{"$f":"ROUND(IF(C382=\"\",0,SUM(C$8:C382)),2)","v":0},null,{"$f":"ROUND(IF(E382=\"\",0,SUM(E$8:E382)),2)","v":0}]
[null,null,null,{"$f":"ROUND(IF(C383=\"\",0,SUM(C$8:C383)),2)","v":0},null,{"$f":"ROUND(IF(E383=\"\",0,SUM(E$8:E383)),2)","v":0}]
[null,null,null,{"$f":"ROUND(IF(C384=\"\",0,SUM(C$8:C384)),2)","v":0},null,{"$f":"ROUND(IF(E384=\"\",0,SUM(E$8:E384)),2)","v":0}]
[null,null,null,{"$f":"ROUND(IF(C385=\"\",0,SUM(C$8:C385)),2)","v":0},null,{"$f":"ROUND(IF(E385=\"\",0,SUM(E$8:E385)),2)","v":0}]
[null,null,null,{"$f":"ROUND(IF(C386=\"\",0,SUM(C$8:C386)),2)","v":0},null,{"$f":"ROUND(IF(E386=\"\",0,SUM(E$8:E386)),2)","v":0}]
[null,null,null,{"$f":"ROUND(IF(C387=\"\",0,SUM(C$8:C387)),2)","v":0},null,{"$f":"ROUND(IF(E387=\"\",0,SUM(E$8:E387)),2)","v":0}]
[null,null,null,{"$f":"ROUND(IF(C388=\"\",0,SUM(C$8:C388)),2)","v":0},null,{"$f":"ROUND(IF(E388=\"\",0,SUM(E$8:E388)),2)","v":0}]
[null,null,null,{"$f":"ROUND(IF(C389=\"\",0,SUM(C$8:C389)),2)","v":0},null,{"$f":"ROUND(IF(E389=\"\",0,SUM(E$8:E389)),2)","v":0}]
[null,null,null,{"$f":"ROUND(IF(C390=\"\",0,SUM(C$8:C390)),2)","v":0},null,{"$f":"ROUND(IF(E390=\"\",0,SUM(E$8:E390)),2)","v":0}]
[null,null,null,{"$f":"ROUND(IF(C391=\"\",0,SUM(C$8:C391)),2)","v":0},null,{"$f":"ROUND(IF(E391=\"\",0,SUM(E$8:E391)),2)","v":0}]
[null,null,null,{"$f":"ROUND(IF(C392=\"\",0,SUM(C$8:C392)),2)","v":0},null,{"$f":"ROUND(IF(E392=\"\",0,SUM(E$8:E392)),2)","v":0}]
[null,null,null,{"$f":"ROUND(IF(C393=\"\",0,SUM(C$8:C393)),2)","v":0},null,{"$f":"ROUND(IF(E393=\"\",0,SUM(E$8:E393)),2)","v":0}]
[null,null,null,{"$f":"ROUND(IF(C394=\"\",0,SUM(C$8:C394)),2)","v":0},null,{"$f":"ROUND(IF(E394=\"\",0,SUM(E$8:E394)),2)","v":0}]
[null,null,null,{"$f":"ROUND(IF(C395=\"\",0,SUM(C$8:C395)),2)","v":0},null,{"$f":"ROUND(IF(E395=\"\",0,SUM(E$8:E395)),2)","v":0}]
[null,null,null,{"$f":"ROUND(IF(C396=\"\",0,SUM(C$8:C396)),2)","v":0},null,{"$f":"ROUND(IF(E396=\"\",0,SUM(E$8:E396)),2)","v":0}]
[null,null,null,{"$f":"ROUND(IF(C397=\"\",0,SUM(C$8:C397)),2)","v":0},null,{"$f":"ROUND(IF(E397=\"\",0,SUM(E$8:E397)),2)","v":0}]
[null,null,null,{"$f":"ROUND(IF(C398=\"\",0,SUM(C$8:C398)),2)","v":0},null,{"$f":"ROUND(IF(E398=\"\",0,SUM(E$8:E398)),2)","v":0}]
[null,null,null,{"$f":"ROUND(IF(C399=\"\",0,SUM(C$8:C399)),2)","v":0},null,{"$f":"ROUND(IF(E399=\"\",0,SUM(E$8:E399)),2)","v":0}]
[null,null,null,{"$f":"ROUND(IF(C400=\"\",0,SUM(C$8:C400)),2)","v":0},null,{"$f":"ROUND(IF(E400=\"\",0,SUM(E$8:E400)),2)","v":0}]
[null,null,null,{"$f":"ROUND(IF(C401=\"\",0,SUM(C$8:C401)),2)","v":0},null,{"$f":"ROUND(IF(E401=\"\",0,SUM(E$8:E401)),2)","v":0}]
[null,null,null,{"$f":"ROUND(IF(C402=\"\",0,SUM(C$8:C402)),2)","v":0},null,{"$f":"ROUND(IF(E402=\"\",0,SUM(E$8:E402)),2)","v":0}]
[null,null,null,{"$f":"ROUND(IF(C403=\"\",0,SUM(C$8:C403)),2)","v":0},null,{"$f":"ROUND(IF(E403=\"\",0,SUM(E$8:E403)),2)","v":0}]
[null,null,null,{"$f":"ROUND(IF(C404=\"\",0,SUM(C$8:C404)),2)","v":0},null,{"$f":"ROUND(IF(E404=\"\",0,SUM(E$8:E404)),2)","v":0}]
[null,null,null,{"$f":"ROUND(IF(C405=\"\",0,SUM(C$8:C405)),2)","v":0},null,{"$f":"ROUND(IF(E405=\"\",0,SUM(E$8:E405)),2)","v":0}]
[null,null,null,{"$f":"ROUND(IF(C406=\"\",0,SUM(C$8:C406)),2)","v":0},null,{"$f":"ROUND(IF(E406=\"\",0,SUM(E$8:E406)),2)","v":0}]
[null,null,null,{"$f":"ROUND(IF(C407=\"\",0,SUM(C$8:C407)),2)","v":0},null,{"$f":"ROUND(IF(E407=\"\",0,SUM(E$8:E407)),2)","v":0}]
[null,null,null,{"$f":"ROUND(IF(C408=\"\",0,SUM(C$8:C408)),2)","v":0},null,{"$f":"ROUND(IF(E408=\"\",0,SUM(E$8:E408)),2)","v":0}]
[null,null,null,{"$f":"ROUND(IF(C409=\"\",0,SUM(C$8:C409)),2)","v":0},null,{"$f":"ROUND(IF(E409=\"\",0,SUM(E$8:E409)),2)","v":0}]
[null,null,null,{"$f":"ROUND(IF(C410=\"\",0,SUM(C$8:C410)),2)","v":0},null,{"$f":"ROUND(IF(E410=\"\",0,SUM(E$8:E410)),2)","v":0}]
[null,null,null,{"$f":"ROUND(IF(C411=\"\",0,SUM(C$8:C411)),2)","v":0},null,{"$f":"ROUND(IF(E411=\"\",0,SUM(E$8:E411)),2)","v":0}]
[null,null,null,{"$f":"ROUND(IF(C412=\"\",0,SUM(C$8:C412)),2)","v":0},null,{"$f":"ROUND(IF(E412=\"\",0,SUM(E$8:E412)),2)","v":0}]
[null,null,null,{"$f":"ROUND(IF(C413=\"\",0,SUM(C$8:C413)),2)","v":0},null,{"$f":"ROUND(IF(E413=\"\",0,SUM(E$8:E413)),2)","v":0}]
[null,null,null,{"$f":"ROUND(IF(C414=\"\",0,SUM(C$8:C414)),2)","v":0},null,{"$f":"ROUND(IF(E414=\"\",0,SUM(E$8:E414)),2)","v":0}]
[null,null,null,{"$f":"ROUND(IF(C415=\"\",0,SUM(C$8:C415)),2)","v":0},null,{"$f":"ROUND(IF(E415=\"\",0,SUM(E$8:E415)),2)","v":0}]
[null,null,null,{"$f":"ROUND(IF(C416=\"\",0,SUM(C$8:C416)),2)","v":0},null,{"$f":"ROUND(IF(E416=\"\",0,SUM(E$8:E416)),2)","v":0}]
[null,null,null,{"$f":"ROUND(IF(C417=\"\",0,SUM(C$8:C417)),2)","v":0},null,{"$f":"ROUND(IF(E417=\"\",0,SUM(E$8:E417)),2)","v":0}]
[null,null,null,{"$f":"ROUND(IF(C418=\"\",0,SUM(C$8:C418)),2)","v":0},null,{"$f":"ROUND(IF(E418=\"\",0,SUM(E$8:E418)),2)","v":0}]
[null,null,null,{"$f":"ROUND(IF(C419=\"\",0,SUM(C$8:C419)),2)","v":0},null,{"$f":"ROUND(IF(E419=\"\",0,SUM(E$8:E419)),2)","v":0}]
[null,null,null,{"$f":"ROUND(IF(C420=\"\",0,SUM(C$8:C420)),2)","v":0},null,{"$f":"ROUND(IF(E420=\"\",0,SUM(E$8:E420)),2)","v":0}]
[null,null,null,{"$f":"ROUND(IF(C421=\"\",0,SUM(C$8:C421)),2)","v":0},null,{"$f":"ROUND(IF(E421=\"\",0,SUM(E$8:E421)),2)","v":0}]
[null,null,null,{"$f":"ROUND(IF(C422=\"\",0,SUM(C$8:C422)),2)","v":0},null,{"$f":"ROUND(IF(E422=\"\",0,SUM(E$8:E422)),2)","v":0}]
[null,null,null,{"$f":"ROUND(IF(C423=\"\",0,SUM(C$8:C423)),2)","v":0},null,{"$f":"ROUND(IF(E423=\"\",0,SUM(E$8:E423)),2)","v":0}]
[null,null,null,{"$f":"ROUND(IF(C424=\"\",0,SUM(C$8:C424)),2)","v":0},null,{"$f":"ROUND(IF(E424=\"\",0,SUM(E$8:E424)),2)","v":0}]
[null,null,null,{"$f":"ROUND(IF(C425=\"\",0,SUM(C$8:C425)),2)","v":0},null,{"$f":"ROUND(IF(E425=\"\",0,SUM(E$8:E425)),2)","v":0}]
[null,null,null,{"$f":"ROUND(IF(C426=\"\",0,SUM(C$8:C426)),2)","v":0},null,{"$f":"ROUND(IF(E426=\"\",0,SUM(E$8:E426)),2)","v":0}]
[null,null,null,{"$f":"ROUND(IF(C427=\"\",0,SUM(C$8:C427)),2)","v":0},null,{"$f":"ROUND(IF(E427=\"\",0,SUM(E$8:E427)),2)","v":0}]
[null,null,null,{"$f":"ROUND(IF(C428=\"\",0,SUM(C$8:C428)),2)","v":0},null,{"$f":"ROUND(IF(E428=\"\",0,SUM(E$8:E428)),2)","v":0}]
[null,null,null,{"$f":"ROUND(IF(C429=\"\",0,SUM(C$8:C429)),2)","v":0},null,{"$f":"ROUND(IF(E429=\"\",0,SUM(E$8:E429)),2)","v":0}]
[null,null,null,{"$f":"ROUND(IF(C430=\"\",0,SUM(C$8:C430)),2)","v":0},null,{"$f":"ROUND(IF(E430=\"\",0,SUM(E$8:E430)),2)","v":0}]
[null,null,null,{"$f":"ROUND(IF(C431=\"\",0,SUM(C$8:C431)),2)","v":0},null,{"$f":"ROUND(IF(E431=\"\",0,SUM(E$8:E431)),2)","v":0}]
[null,null,null,{"$f":"ROUND(IF(C432=\"\",0,SUM(C$8:C432)),2)","v":0},null,{"$f":"ROUND(IF(E432=\"\",0,SUM(E$8:E432)),2)","v":0}]
[null,null,null,{"$f":"ROUND(IF(C433=\"\",0,SUM(C$8:C433)),2)","v":0},null,{"$f":"ROUND(IF(E433=\"\",0,SUM(E$8:E433)),2)","v":0}]
[null,null,null,{"$f":"ROUND(IF(C434=\"\",0,SUM(C$8:C434)),2)","v":0},null,{"$f":"ROUND(IF(E434=\"\",0,SUM(E$8:E434)),2)","v":0}]
[null,null,null,{"$f":"ROUND(IF(C435=\"\",0,SUM(C$8:C435)),2)","v":0},null,{"$f":"ROUND(IF(E435=\"\",0,SUM(E$8:E435)),2)","v":0}]
[null,null,null,{"$f":"ROUND(IF(C436=\"\",0,SUM(C$8:C436)),2)","v":0},null,{"$f":"ROUND(IF(E436=\"\",0,SUM(E$8:E436)),2)","v":0}]
[null,null,null,{"$f":"ROUND(IF(C437=\"\",0,SUM(C$8:C437)),2)","v":0},null,{"$f":"ROUND(IF(E437=\"\",0,SUM(E$8:E437)),2)","v":0}]
[null,null,null,{"$f":"ROUND(IF(C438=\"\",0,SUM(C$8:C438)),2)","v":0},null,{"$f":"ROUND(IF(E438=\"\",0,SUM(E$8:E438)),2)","v":0}]
[null,null,null,{"$f":"ROUND(IF(C439=\"\",0,SUM(C$8:C439)),2)","v":0},null,{"$f":"ROUND(IF(E439=\"\",0,SUM(E$8:E439)),2)","v":0}]
[null,null,null,{"$f":"ROUND(IF(C440=\"\",0,SUM(C$8:C440)),2)","v":0},null,{"$f":"ROUND(IF(E440=\"\",0,SUM(E$8:E440)),2)","v":0}]
[null,null,null,{"$f":"ROUND(IF(C441=\"\",0,SUM(C$8:C441)),2)","v":0},null,{"$f":"ROUND(IF(E441=\"\",0,SUM(E$8:E441)),2)","v":0}]
[null,null,null,{"$f":"ROUND(IF(C442=\"\",0,SUM(C$8:C442)),2)","v":0},null,{"$f":"ROUND(IF(E442=\"\",0,SUM(E$8:E442)),2)","v":0}]
[null,null,null,{"$f":"ROUND(IF(C443=\"\",0,SUM(C$8:C443)),2)","v":0},null,{"$f":"ROUND(IF(E443=\"\",0,SUM(E$8:E443)),2)","v":0}]
[null,null,null,{"$f":"ROUND(IF(C444=\"\",0,SUM(C$8:C444)),2)","v":0},null,{"$f":"ROUND(IF(E444=\"\",0,SUM(E$8:E444)),2)","v":0}]
[null,null,null,{"$f":"ROUND(IF(C445=\"\",0,SUM(C$8:C445)),2)","v":0},null,{"$f":"ROUND(IF(E445=\"\",0,SUM(E$8:E445)),2)","v":0}]
[null,null,null,{"$f":"ROUND(IF(C446=\"\",0,SUM(C$8:C446)),2)","v":0},null,{"$f":"ROUND(IF(E446=\"\",0,SUM(E$8:E446)),2)","v":0}]
[null,null,null,{"$f":"ROUND(IF(C447=\"\",0,SUM(C$8:C447)),2)","v":0},null,{"$f":"ROUND(IF(E447=\"\",0,SUM(E$8:E447)),2)","v":0}]
[null,null,null,{"$f":"ROUND(IF(C448=\"\",0,SUM(C$8:C448)),2)","v":0},null,{"$f":"ROUND(IF(E448=\"\",0,SUM(E$8:E448)),2)","v":0}]
[null,null,null,{"$f":"ROUND(IF(C449=\"\",0,SUM(C$8:C449)),2)","v":0},null,{"$f":"ROUND(IF(E449=\"\",0,SUM(E$8:E449)),2)","v":0}]
[null,null,null,{"$f":"ROUND(IF(C450=\"\",0,SUM(C$8:C450)),2)","v":0},null,{"$f":"ROUND(IF(E450=\"\",0,SUM(E$8:E450)),2)","v":0}]
[null,null,null,{"$f":"ROUND(IF(C451=\"\",0,SUM(C$8:C451)),2)","v":0},null,{"$f":"ROUND(IF(E451=\"\",0,SUM(E$8:E451)),2)","v":0}]
[null,null,null,{"$f":"ROUND(IF(C452=\"\",0,SUM(C$8:C452)),2)","v":0},null,{"$f":"ROUND(IF(E452=\"\",0,SUM(E$8:E452)),2)","v":0}]
[null,null,null,{"$f":"ROUND(IF(C453=\"\",0,SUM(C$8:C453)),2)","v":0},null,{"$f":"ROUND(IF(E453=\"\",0,SUM(E$8:E453)),2)","v":0}]
[null,null,null,{"$f":"ROUND(IF(C454=\"\",0,SUM(C$8:C454)),2)","v":0},null,{"$f":"ROUND(IF(E454=\"\",0,SUM(E$8:E454)),2)","v":0}]
[null,null,null,{"$f":"ROUND(IF(C455=\"\",0,SUM(C$8:C455)),2)","v":0},null,{"$f":"ROUND(IF(E455=\"\",0,SUM(E$8:E455)),2)","v":0}]
[null,null,null,{"$f":"ROUND(IF(C456=\"\",0,SUM(C$8:C456)),2)","v":0},null,{"$f":"ROUND(IF(E456=\"\",0,SUM(E$8:E456)),2)","v":0}]
[null,null,null,{"$f":"ROUND(IF(C457=\"\",0,SUM(C$8:C457)),2)","v":0},null,{"$f":"ROUND(IF(E457=\"\",0,SUM(E$8:E457)),2)","v":0}]
[null,null,null,{"$f":"ROUND(IF(C458=\"\",0,SUM(C$8:C458)),2)","v":0},null,{"$f":"ROUND(IF(E458=\"\",0,SUM(E$8:E458)),2)","v":0}]
[null,null,null,{"$f":"ROUND(IF(C459=\"\",0,SUM(C$8:C459)),2)","v":0},null,{"$f":"ROUND(IF(E459=\"\",0,SUM(E$8:E459)),2)","v":0}]
[null,null,null,{"$f":"ROUND(IF(C460=\"\",0,SUM(C$8:C460)),2)","v":0},null,{"$f":"ROUND(IF(E460=\"\",0,SUM(E$8:E460)),2)","v":0}]
[null,null,null,{"$f":"ROUND(IF(C461=\"\",0,SUM(C$8:C461)),2)","v":0},null,{"$f":"ROUND(IF(E461=\"\",0,SUM(E$8:E461)),2)","v":0}]
[null,null,null,{"$f":"ROUND(IF(C462=\"\",0,SUM(C$8:C462)),2)","v":0},null,{"$f":"ROUND(IF(E462=\"\",0,SUM(E$8:E462)),2)","v":0}]
[null,null,null,{"$f":"ROUND(IF(C463=\"\",0,SUM(C$8:C463)),2)","v":0},null,{"$f":"ROUND(IF(E463=\"\",0,SUM(E$8:E463)),2)","v":0}]
[null,null,null,{"$f":"ROUND(IF(C464=\"\",0,SUM(C$8:C464)),2)","v":0},null,{"$f":"ROUND(IF(E464=\"\",0,SUM(E$8:E464)),2)","v":0}]
[null,null,null,{"$f":"ROUND(IF(C465=\"\",0,SUM(C$8:C465)),2)","v":0},null,{"$f":"ROUND(IF(E465=\"\",0,SUM(E$8:E465)),2)","v":0}]
[null,null,null,{"$f":"ROUND(IF(C466=\"\",0,SUM(C$8:C466)),2)","v":0},null,{"$f":"ROUND(IF(E466=\"\",0,SUM(E$8:E466)),2)","v":0}]
[null,null,null,{"$f":"ROUND(IF(C467=\"\",0,SUM(C$8:C467)),2)","v":0},null,{"$f":"ROUND(IF(E467=\"\",0,SUM(E$8:E467)),2)","v":0}]
[null,null,null,{"$f":"ROUND(IF(C468=\"\",0,SUM(C$8:C468)),2)","v":0},null,{"$f":"ROUND(IF(E468=\"\",0,SUM(E$8:E468)),2)","v":0}]
[null,null,null,{"$f":"ROUND(IF(C469=\"\",0,SUM(C$8:C469)),2)","v":0},null,{"$f":"ROUND(IF(E469=\"\",0,SUM(E$8:E469)),2)","v":0}]
[null,null,null,{"$f":"ROUND(IF(C470=\"\",0,SUM(C$8:C470)),2)","v":0},null,{"$f":"ROUND(IF(E470=\"\",0,SUM(E$8:E470)),2)","v":0}]
[null,null,null,{"$f":"ROUND(IF(C471=\"\",0,SUM(C$8:C471)),2)","v":0},null,{"$f":"ROUND(IF(E471=\"\",0,SUM(E$8:E471)),2)","v":0}]
[null,null,null,{"$f":"ROUND(IF(C472=\"\",0,SUM(C$8:C472)),2)","v":0},null,{"$f":"ROUND(IF(E472=\"\",0,SUM(E$8:E472)),2)","v":0}]
[null,null,null,{"$f":"ROUND(IF(C473=\"\",0,SUM(C$8:C473)),2)","v":0},null,{"$f":"ROUND(IF(E473=\"\",0,SUM(E$8:E473)),2)","v":0}]
[null,null,null,{"$f":"ROUND(IF(C474=\"\",0,SUM(C$8:C474)),2)","v":0},null,{"$f":"ROUND(IF(E474=\"\",0,SUM(E$8:E474)),2)","v":0}]
[null,null,null,{"$f":"ROUND(IF(C475=\"\",0,SUM(C$8:C475)),2)","v":0},null,{"$f":"ROUND(IF(E475=\"\",0,SUM(E$8:E475)),2)","v":0}]
[null,null,null,{"$f":"ROUND(IF(C476=\"\",0,SUM(C$8:C476)),2)","v":0},null,{"$f":"ROUND(IF(E476=\"\",0,SUM(E$8:E476)),2)","v":0}]
[null,null,null,{"$f":"ROUND(IF(C477=\"\",0,SUM(C$8:C477)),2)","v":0},null,{"$f":"ROUND(IF(E477=\"\",0,SUM(E$8:E477)),2)","v":0}]
[null,null,null,{"$f":"ROUND(IF(C478=\"\",0,SUM(C$8:C478)),2)","v":0},null,{"$f":"ROUND(IF(E478=\"\",0,SUM(E$8:E478)),2)","v":0}]
[null,null,null,{"$f":"ROUND(IF(C479=\"\",0,SUM(C$8:C479)),2)","v":0},null,{"$f":"ROUND(IF(E479=\"\",0,SUM(E$8:E479)),2)","v":0}]
[null,null,null,{"$f":"ROUND(IF(C480=\"\",0,SUM(C$8:C480)),2)","v":0},null,{"$f":"ROUND(IF(E480=\"\",0,SUM(E$8:E480)),2)","v":0}]
[null,null,null,{"$f":"ROUND(IF(C481=\"\",0,SUM(C$8:C481)),2)","v":0},null,{"$f":"ROUND(IF(E481=\"\",0,SUM(E$8:E481)),2)","v":0}]
[null,null,null,{"$f":"ROUND(IF(C482=\"\",0,SUM(C$8:C482)),2)","v":0},null,{"$f":"ROUND(IF(E482=\"\",0,SUM(E$8:E482)),2)","v":0}]
[null,null,null,{"$f":"ROUND(IF(C483=\"\",0,SUM(C$8:C483)),2)","v":0},null,{"$f":"ROUND(IF(E483=\"\",0,SUM(E$8:E483)),2)","v":0}]
[null,null,null,{"$f":"ROUND(IF(C484=\"\",0,SUM(C$8:C484)),2)","v":0},null,{"$f":"ROUND(IF(E484=\"\",0,SUM(E$8:E484)),2)","v":0}]
[null,null,null,{"$f":"ROUND(IF(C485=\"\",0,SUM(C$8:C485)),2)","v":0},null,{"$f":"ROUND(IF(E485=\"\",0,SUM(E$8:E485)),2)","v":0}]
[null,null,null,{"$f":"ROUND(IF(C486=\"\",0,SUM(C$8:C486)),2)","v":0},null,{"$f":"ROUND(IF(E486=\"\",0,SUM(E$8:E486)),2)","v":0}]
[null,null,null,{"$f":"ROUND(IF(C487=\"\",0,SUM(C$8:C487)),2)","v":0},null,{"$f":"ROUND(IF(E487=\"\",0,SUM(E$8:E487)),2)","v":0}]
[null,null,null,{"$f":"ROUND(IF(C488=\"\",0,SUM(C$8:C488)),2)","v":0},null,{"$f":"ROUND(IF(E488=\"\",0,SUM(E$8:E488)),2)","v":0}]
[null,null,null,{"$f":"ROUND(IF(C489=\"\",0,SUM(C$8:C489)),2)","v":0},null,{"$f":"ROUND(IF(E489=\"\",0,SUM(E$8:E489)),2)","v":0}]
[null,null,null,{"$f":"ROUND(IF(C490=\"\",0,SUM(C$8:C490)),2)","v":0},null,{"$f":"ROUND(IF(E490=\"\",0,SUM(E$8:E490)),2)","v":0}]
[null,null,null,{"$f":"ROUND(IF(C491=\"\",0,SUM(C$8:C491)),2)","v":0},null,{"$f":"ROUND(IF(E491=\"\",0,SUM(E$8:E491)),2)","v":0}]
[null,null,null,{"$f":"ROUND(IF(C492=\"\",0,SUM(C$8:C492)),2)","v":0},null,{"$f":"ROUND(IF(E492=\"\",0,SUM(E$8:E492)),2)","v":0}]
[null,null,null,{"$f":"ROUND(IF(C493=\"\",0,SUM(C$8:C493)),2)","v":0},null,{"$f":"ROUND(IF(E493=\"\",0,SUM(E$8:E493)),2)","v":0}]
[null,null,null,{"$f":"ROUND(IF(C494=\"\",0,SUM(C$8:C494)),2)","v":0},null,{"$f":"ROUND(IF(E494=\"\",0,SUM(E$8:E494)),2)","v":0}]
[null,null,null,{"$f":"ROUND(IF(C495=\"\",0,SUM(C$8:C495)),2)","v":0},null,{"$f":"ROUND(IF(E495=\"\",0,SUM(E$8:E495)),2)","v":0}]
[null,null,null,{"$f":"ROUND(IF(C496=\"\",0,SUM(C$8:C496)),2)","v":0},null,{"$f":"ROUND(IF(E496=\"\",0,SUM(E$8:E496)),2)","v":0}]
[null,null,null,{"$f":"ROUND(IF(C497=\"\",0,SUM(C$8:C497)),2)","v":0},null,{"$f":"ROUND(IF(E497=\"\",0,SUM(E$8:E497)),2)","v":0}]
[null,null,null,{"$f":"ROUND(IF(C498=\"\",0,SUM(C$8:C498)),2)","v":0},null,{"$f":"ROUND(IF(E498=\"\",0,SUM(E$8:E498)),2)","v":0}]
[null,null,null,{"$f":"ROUND(IF(C499=\"\",0,SUM(C$8:C499)),2)","v":0},null,{"$f":"ROUND(IF(E499=\"\",0,SUM(E$8:E499)),2)","v":0}]
[null,null,null,{"$f":"ROUND(IF(C500=\"\",0,SUM(C$8:C500)),2)","v":0},null,{"$f":"ROUND(IF(E500=\"\",0,SUM(E$8:E500)),2)","v":0}]
[null,null,null,{"$f":"ROUND(IF(C501=\"\",0,SUM(C$8:C501)),2)","v":0},null,{"$f":"ROUND(IF(E501=\"\",0,SUM(E$8:E501)),2)","v":0}]
[null,null,null,{"$f":"ROUND(IF(C502=\"\",0,SUM(C$8:C502)),2)","v":0},null,{"$f":"ROUND(IF(E502=\"\",0,SUM(E$8:E502)),2)","v":0}]
[null,null,null,{"$f":"ROUND(IF(C503=\"\",0,SUM(C$8:C503)),2)","v":0},null,{"$f":"ROUND(IF(E503=\"\",0,SUM(E$8:E503)),2)","v":0}]
[null,null,null,{"$f":"ROUND(IF(C504=\"\",0,SUM(C$8:C504)),2)","v":0},null,{"$f":"ROUND(IF(E504=\"\",0,SUM(E$8:E504)),2)","v":0}]
[null,null,null,{"$f":"ROUND(IF(C505=\"\",0,SUM(C$8:C505)),2)","v":0},null,{"$f":"ROUND(IF(E505=\"\",0,SUM(E$8:E505)),2)","v":0}]
[null,null,null,{"$f":"ROUND(IF(C506=\"\",0,SUM(C$8:C506)),2)","v":0},null,{"$f":"ROUND(IF(E506=\"\",0,SUM(E$8:E506)),2)","v":0}]
[null,null,null,{"$f":"ROUND(IF(C507=\"\",0,SUM(C$8:C507)),2)","v":0},null,{"$f":"ROUND(IF(E507=\"\",0,SUM(E$8:E507)),2)","v":0}]
[null,null,null,{"$f":"ROUND(IF(C508=\"\",0,SUM(C$8:C508)),2)","v":0},null,{"$f":"ROUND(IF(E508=\"\",0,SUM(E$8:E508)),2)","v":0}]
[null,null,null,{"$f":"ROUND(IF(C509=\"\",0,SUM(C$8:C509)),2)","v":0},null,{"$f":"ROUND(IF(E509=\"\",0,SUM(E$8:E509)),2)","v":0}]
[null,null,null,{"$f":"ROUND(IF(C510=\"\",0,SUM(C$8:C510)),2)","v":0},null,{"$f":"ROUND(IF(E510=\"\",0,SUM(E$8:E510)),2)","v":0}]
[null,null,null,{"$f":"ROUND(IF(C511=\"\",0,SUM(C$8:C511)),2)","v":0},null,{"$f":"ROUND(IF(E511=\"\",0,SUM(E$8:E511)),2)","v":0}]
[null,null,null,{"$f":"ROUND(IF(C512=\"\",0,SUM(C$8:C512)),2)","v":0},null,{"$f":"ROUND(IF(E512=\"\",0,SUM(E$8:E512)),2)","v":0}]
[null,null,null,{"$f":"ROUND(IF(C513=\"\",0,SUM(C$8:C513)),2)","v":0},null,{"$f":"ROUND(IF(E513=\"\",0,SUM(E$8:E513)),2)","v":0}]
[null,null,null,{"$f":"ROUND(IF(C514=\"\",0,SUM(C$8:C514)),2)","v":0},null,{"$f":"ROUND(IF(E514=\"\",0,SUM(E$8:E514)),2)","v":0}]
[null,null,null,{"$f":"ROUND(IF(C515=\"\",0,SUM(C$8:C515)),2)","v":0},null,{"$f":"ROUND(IF(E515=\"\",0,SUM(E$8:E515)),2)","v":0}]
[null,null,null,{"$f":"ROUND(IF(C516=\"\",0,SUM(C$8:C516)),2)","v":0},null,{"$f":"ROUND(IF(E516=\"\",0,SUM(E$8:E516)),2)","v":0}]
[null,null,null,{"$f":"ROUND(IF(C517=\"\",0,SUM(C$8:C517)),2)","v":0},null,{"$f":"ROUND(IF(E517=\"\",0,SUM(E$8:E517)),2)","v":0}]
[null,null,null,{"$f":"ROUND(IF(C518=\"\",0,SUM(C$8:C518)),2)","v":0},null,{"$f":"ROUND(IF(E518=\"\",0,SUM(E$8:E518)),2)","v":0}]
[null,null,null,{"$f":"ROUND(IF(C519=\"\",0,SUM(C$8:C519)),2)","v":0},null,{"$f":"ROUND(IF(E519=\"\",0,SUM(E$8:E519)),2)","v":0}]
[null,null,null,{"$f":"ROUND(IF(C520=\"\",0,SUM(C$8:C520)),2)","v":0},null,{"$f":"ROUND(IF(E520=\"\",0,SUM(E$8:E520)),2)","v":0}]
[null,null,null,{"$f":"ROUND(IF(C521=\"\",0,SUM(C$8:C521)),2)","v":0},null,{"$f":"ROUND(IF(E521=\"\",0,SUM(E$8:E521)),2)","v":0}]
[null,null,null,{"$f":"ROUND(IF(C522=\"\",0,SUM(C$8:C522)),2)","v":0},null,{"$f":"ROUND(IF(E522=\"\",0,SUM(E$8:E522)),2)","v":0}]
[null,null,null,{"$f":"ROUND(IF(C523=\"\",0,SUM(C$8:C523)),2)","v":0},null,{"$f":"ROUND(IF(E523=\"\",0,SUM(E$8:E523)),2)","v":0}]
[null,null,null,{"$f":"ROUND(IF(C524=\"\",0,SUM(C$8:C524)),2)","v":0},null,{"$f":"ROUND(IF(E524=\"\",0,SUM(E$8:E524)),2)","v":0}]
[null,null,null,{"$f":"ROUND(IF(C525=\"\",0,SUM(C$8:C525)),2)","v":0},null,{"$f":"ROUND(IF(E525=\"\",0,SUM(E$8:E525)),2)","v":0}]
[null,null,null,{"$f":"ROUND(IF(C526=\"\",0,SUM(C$8:C526)),2)","v":0},null,{"$f":"ROUND(IF(E526=\"\",0,SUM(E$8:E526)),2)","v":0}]
[null,null,null,{"$f":"ROUND(IF(C527=\"\",0,SUM(C$8:C527)),2)","v":0},null,{"$f":"ROUND(IF(E527=\"\",0,SUM(E$8:E527)),2)","v":0}]
[null,null,null,{"$f":"ROUND(IF(C528=\"\",0,SUM(C$8:C528)),2)","v":0},null,{"$f":"ROUND(IF(E528=\"\",0,SUM(E$8:E528)),2)","v":0}]
[null,null,null,{"$f":"ROUND(IF(C529=\"\",0,SUM(C$8:C529)),2)","v":0},null,{"$f":"ROUND(IF(E529=\"\",0,SUM(E$8:E529)),2)","v":0}]
[null,null,null,{"$f":"ROUND(IF(C530=\"\",0,SUM(C$8:C530)),2)","v":0},null,{"$f":"ROUND(IF(E530=\"\",0,SUM(E$8:E530)),2)","v":0}]
[null,null,null,{"$f":"ROUND(IF(C531=\"\",0,SUM(C$8:C531)),2)","v":0},null,{"$f":"ROUND(IF(E531=\"\",0,SUM(E$8:E531)),2)","v":0}]
[null,null,null,{"$f":"ROUND(IF(C532=\"\",0,SUM(C$8:C532)),2)","v":0},null,{"$f":"ROUND(IF(E532=\"\",0,SUM(E$8:E532)),2)","v":0}]
[null,null,null,{"$f":"ROUND(IF(C533=\"\",0,SUM(C$8:C533)),2)","v":0},null,{"$f":"ROUND(IF(E533=\"\",0,SUM(E$8:E533)),2)","v":0}]
[null,null,null,{"$f":"ROUND(IF(C534=\"\",0,SUM(C$8:C534)),2)","v":0},null,{"$f":"ROUND(IF(E534=\"\",0,SUM(E$8:E534)),2)","v":0}]
[null,null,null,{"$f":"ROUND(IF(C535=\"\",0,SUM(C$8:C535)),2)","v":0},null,{"$f":"ROUND(IF(E535=\"\",0,SUM(E$8:E535)),2)","v":0}]
[null,null,null,{"$f":"ROUND(IF(C536=\"\",0,SUM(C$8:C536)),2)","v":0},null,{"$f":"ROUND(IF(E536=\"\",0,SUM(E$8:E536)),2)","v":0}]
[null,null,null,{"$f":"ROUND(IF(C537=\"\",0,SUM(C$8:C537)),2)","v":0},null,{"$f":"ROUND(IF(E537=\"\",0,SUM(E$8:E537)),2)","v":0}]
[null,null,null,{"$f":"ROUND(IF(C538=\"\",0,SUM(C$8:C538)),2)","v":0},null,{"$f":"ROUND(IF(E538=\"\",0,SUM(E$8:E538)),2)","v":0}]
[null,null,null,{"$f":"ROUND(IF(C539=\"\",0,SUM(C$8:C539)),2)","v":0},null,{"$f":"ROUND(IF(E539=\"\",0,SUM(E$8:E539)),2)","v":0}]
[null,null,null,{"$f":"ROUND(IF(C540=\"\",0,SUM(C$8:C540)),2)","v":0},null,{"$f":"ROUND(IF(E540=\"\",0,SUM(E$8:E540)),2)","v":0}]
[null,null,null,{"$f":"ROUND(IF(C541=\"\",0,SUM(C$8:C541)),2)","v":0},null,{"$f":"ROUND(IF(E541=\"\",0,SUM(E$8:E541)),2)","v":0}]
[null,null,null,{"$f":"ROUND(IF(C542=\"\",0,SUM(C$8:C542)),2)","v":0},null,{"$f":"ROUND(IF(E542=\"\",0,SUM(E$8:E542)),2)","v":0}]
[null,null,null,{"$f":"ROUND(IF(C543=\"\",0,SUM(C$8:C543)),2)","v":0},null,{"$f":"ROUND(IF(E543=\"\",0,SUM(E$8:E543)),2)","v":0}]
[null,null,null,{"$f":"ROUND(IF(C544=\"\",0,SUM(C$8:C544)),2)","v":0},null,{"$f":"ROUND(IF(E544=\"\",0,SUM(E$8:E544)),2)","v":0}]
[null,null,null,{"$f":"ROUND(IF(C545=\"\",0,SUM(C$8:C545)),2)","v":0},null,{"$f":"ROUND(IF(E545=\"\",0,SUM(E$8:E545)),2)","v":0}]
[null,null,null,{"$f":"ROUND(IF(C546=\"\",0,SUM(C$8:C546)),2)","v":0},null,{"$f":"ROUND(IF(E546=\"\",0,SUM(E$8:E546)),2)","v":0}]
[null,null,null,{"$f":"ROUND(IF(C547=\"\",0,SUM(C$8:C547)),2)","v":0},null,{"$f":"ROUND(IF(E547=\"\",0,SUM(E$8:E547)),2)","v":0}]
[null,null,null,{"$f":"ROUND(IF(C548=\"\",0,SUM(C$8:C548)),2)","v":0},null,{"$f":"ROUND(IF(E548=\"\",0,SUM(E$8:E548)),2)","v":0}]
[null,null,null,{"$f":"ROUND(IF(C549=\"\",0,SUM(C$8:C549)),2)","v":0},null,{"$f":"ROUND(IF(E549=\"\",0,SUM(E$8:E549)),2)","v":0}]
[null,null,null,{"$f":"ROUND(IF(C550=\"\",0,SUM(C$8:C550)),2)","v":0},null,{"$f":"ROUND(IF(E550=\"\",0,SUM(E$8:E550)),2)","v":0}]
[null,null,null,{"$f":"ROUND(IF(C551=\"\",0,SUM(C$8:C551)),2)","v":0},null,{"$f":"ROUND(IF(E551=\"\",0,SUM(E$8:E551)),2)","v":0}]
[null,null,null,{"$f":"ROUND(IF(C552=\"\",0,SUM(C$8:C552)),2)","v":0},null,{"$f":"ROUND(IF(E552=\"\",0,SUM(E$8:E552)),2)","v":0}]
[null,null,null,{"$f":"ROUND(IF(C553=\"\",0,SUM(C$8:C553)),2)","v":0},null,{"$f":"ROUND(IF(E553=\"\",0,SUM(E$8:E553)),2)","v":0}]
[null,null,null,{"$f":"ROUND(IF(C554=\"\",0,SUM(C$8:C554)),2)","v":0},null,{"$f":"ROUND(IF(E554=\"\",0,SUM(E$8:E554)),2)","v":0}]
[null,null,null,{"$f":"ROUND(IF(C555=\"\",0,SUM(C$8:C555)),2)","v":0},null,{"$f":"ROUND(IF(E555=\"\",0,SUM(E$8:E555)),2)","v":0}]
[null,null,null,{"$f":"ROUND(IF(C556=\"\",0,SUM(C$8:C556)),2)","v":0},null,{"$f":"ROUND(IF(E556=\"\",0,SUM(E$8:E556)),2)","v":0}]
[null,null,null,{"$f":"ROUND(IF(C557=\"\",0,SUM(C$8:C557)),2)","v":0},null,{"$f":"ROUND(IF(E557=\"\",0,SUM(E$8:E557)),2)","v":0}]
[null,null,null,{"$f":"ROUND(IF(C558=\"\",0,SUM(C$8:C558)),2)","v":0},null,{"$f":"ROUND(IF(E558=\"\",0,SUM(E$8:E558)),2)","v":0}]
[null,null,null,{"$f":"ROUND(IF(C559=\"\",0,SUM(C$8:C559)),2)","v":0},null,{"$f":"ROUND(IF(E559=\"\",0,SUM(E$8:E559)),2)","v":0}]
[null,null,null,{"$f":"ROUND(IF(C560=\"\",0,SUM(C$8:C560)),2)","v":0},null,{"$f":"ROUND(IF(E560=\"\",0,SUM(E$8:E560)),2)","v":0}]
[null,null,null,{"$f":"ROUND(IF(C561=\"\",0,SUM(C$8:C561)),2)","v":0},null,{"$f":"ROUND(IF(E561=\"\",0,SUM(E$8:E561)),2)","v":0}]
[null,null,null,{"$f":"ROUND(IF(C562=\"\",0,SUM(C$8:C562)),2)","v":0},null,{"$f":"ROUND(IF(E562=\"\",0,SUM(E$8:E562)),2)","v":0}]
[null,null,null,{"$f":"ROUND(IF(C563=\"\",0,SUM(C$8:C563)),2)","v":0},null,{"$f":"ROUND(IF(E563=\"\",0,SUM(E$8:E563)),2)","v":0}]
[null,null,null,{"$f":"ROUND(IF(C564=\"\",0,SUM(C$8:C564)),2)","v":0},null,{"$f":"ROUND(IF(E564=\"\",0,SUM(E$8:E564)),2)","v":0}]
[null,null,null,{"$f":"ROUND(IF(C565=\"\",0,SUM(C$8:C565)),2)","v":0},null,{"$f":"ROUND(IF(E565=\"\",0,SUM(E$8:E565)),2)","v":0}]
[null,null,null,{"$f":"ROUND(IF(C566=\"\",0,SUM(C$8:C566)),2)","v":0},null,{"$f":"ROUND(IF(E566=\"\",0,SUM(E$8:E566)),2)","v":0}]
[null,null,null,{"$f":"ROUND(IF(C567=\"\",0,SUM(C$8:C567)),2)","v":0},null,{"$f":"ROUND(IF(E567=\"\",0,SUM(E$8:E567)),2)","v":0}]
[null,null,null,{"$f":"ROUND(IF(C568=\"\",0,SUM(C$8:C568)),2)","v":0},null,{"$f":"ROUND(IF(E568=\"\",0,SUM(E$8:E568)),2)","v":0}]
[null,null,null,{"$f":"ROUND(IF(C569=\"\",0,SUM(C$8:C569)),2)","v":0},null,{"$f":"ROUND(IF(E569=\"\",0,SUM(E$8:E569)),2)","v":0}]
[null,null,null,{"$f":"ROUND(IF(C570=\"\",0,SUM(C$8:C570)),2)","v":0},null,{"$f":"ROUND(IF(E570=\"\",0,SUM(E$8:E570)),2)","v":0}]
[null,null,null,{"$f":"ROUND(IF(C571=\"\",0,SUM(C$8:C571)),2)","v":0},null,{"$f":"ROUND(IF(E571=\"\",0,SUM(E$8:E571)),2)","v":0}]
[null,null,null,{"$f":"ROUND(IF(C572=\"\",0,SUM(C$8:C572)),2)","v":0},null,{"$f":"ROUND(IF(E572=\"\",0,SUM(E$8:E572)),2)","v":0}]
[null,null,null,{"$f":"ROUND(IF(C573=\"\",0,SUM(C$8:C573)),2)","v":0},null,{"$f":"ROUND(IF(E573=\"\",0,SUM(E$8:E573)),2)","v":0}]
[null,null,null,{"$f":"ROUND(IF(C574=\"\",0,SUM(C$8:C574)),2)","v":0},null,{"$f":"ROUND(IF(E574=\"\",0,SUM(E$8:E574)),2)","v":0}]
[null,null,null,{"$f":"ROUND(IF(C575=\"\",0,SUM(C$8:C575)),2)","v":0},null,{"$f":"ROUND(IF(E575=\"\",0,SUM(E$8:E575)),2)","v":0}]
[null,null,null,{"$f":"ROUND(IF(C576=\"\",0,SUM(C$8:C576)),2)","v":0},null,{"$f":"ROUND(IF(E576=\"\",0,SUM(E$8:E576)),2)","v":0}]
[null,null,null,{"$f":"ROUND(IF(C577=\"\",0,SUM(C$8:C577)),2)","v":0},null,{"$f":"ROUND(IF(E577=\"\",0,SUM(E$8:E577)),2)","v":0}]
[null,null,null,{"$f":"ROUND(IF(C578=\"\",0,SUM(C$8:C578)),2)","v":0},null,{"$f":"ROUND(IF(E578=\"\",0,SUM(E$8:E578)),2)","v":0}]
[null,null,null,{"$f":"ROUND(IF(C579=\"\",0,SUM(C$8:C579)),2)","v":0},null,{"$f":"ROUND(IF(E579=\"\",0,SUM(E$8:E579)),2)","v":0}]
[null,null,null,{"$f":"ROUND(IF(C580=\"\",0,SUM(C$8:C580)),2)","v":0},null,{"$f":"ROUND(IF(E580=\"\",0,SUM(E$8:E580)),2)","v":0}]
[null,null,null,{"$f":"ROUND(IF(C581=\"\",0,SUM(C$8:C581)),2)","v":0},null,{"$f":"ROUND(IF(E581=\"\",0,SUM(E$8:E581)),2)","v":0}]
[null,null,null,{"$f":"ROUND(IF(C582=\"\",0,SUM(C$8:C582)),2)","v":0},null,{"$f":"ROUND(IF(E582=\"\",0,SUM(E$8:E582)),2)","v":0}]
[null,null,null,{"$f":"ROUND(IF(C583=\"\",0,SUM(C$8:C583)),2)","v":0},null,{"$f":"ROUND(IF(E583=\"\",0,SUM(E$8:E583)),2)","v":0}]
[null,null,null,{"$f":"ROUND(IF(C584=\"\",0,SUM(C$8:C584)),2)","v":0},null,{"$f":"ROUND(IF(E584=\"\",0,SUM(E$8:E584)),2)","v":0}]
[null,null,null,{"$f":"ROUND(IF(C585=\"\",0,SUM(C$8:C585)),2)","v":0},null,{"$f":"ROUND(IF(E585=\"\",0,SUM(E$8:E585)),2)","v":0}]
[null,null,null,{"$f":"ROUND(IF(C586=\"\",0,SUM(C$8:C586)),2)","v":0},null,{"$f":"ROUND(IF(E586=\"\",0,SUM(E$8:E586)),2)","v":0}]
[null,null,null,{"$f":"ROUND(IF(C587=\"\",0,SUM(C$8:C587)),2)","v":0},null,{"$f":"ROUND(IF(E587=\"\",0,SUM(E$8:E587)),2)","v":0}]
[null,null,null,{"$f":"ROUND(IF(C588=\"\",0,SUM(C$8:C588)),2)","v":0},null,{"$f":"ROUND(IF(E588=\"\",0,SUM(E$8:E588)),2)","v":0}]
[null,null,null,{"$f":"ROUND(IF(C589=\"\",0,SUM(C$8:C589)),2)","v":0},null,{"$f":"ROUND(IF(E589=\"\",0,SUM(E$8:E589)),2)","v":0}]
[null,null,null,{"$f":"ROUND(IF(C590=\"\",0,SUM(C$8:C590)),2)","v":0},null,{"$f":"ROUND(IF(E590=\"\",0,SUM(E$8:E590)),2)","v":0}]
[null,null,null,{"$f":"ROUND(IF(C591=\"\",0,SUM(C$8:C591)),2)","v":0},null,{"$f":"ROUND(IF(E591=\"\",0,SUM(E$8:E591)),2)","v":0}]
[null,null,null,{"$f":"ROUND(IF(C592=\"\",0,SUM(C$8:C592)),2)","v":0},null,{"$f":"ROUND(IF(E592=\"\",0,SUM(E$8:E592)),2)","v":0}]
[null,null,null,{"$f":"ROUND(IF(C593=\"\",0,SUM(C$8:C593)),2)","v":0},null,{"$f":"ROUND(IF(E593=\"\",0,SUM(E$8:E593)),2)","v":0}]
[null,null,null,{"$f":"ROUND(IF(C594=\"\",0,SUM(C$8:C594)),2)","v":0},null,{"$f":"ROUND(IF(E594=\"\",0,SUM(E$8:E594)),2)","v":0}]
[null,null,null,{"$f":"ROUND(IF(C595=\"\",0,SUM(C$8:C595)),2)","v":0},null,{"$f":"ROUND(IF(E595=\"\",0,SUM(E$8:E595)),2)","v":0}]
[null,null,null,{"$f":"ROUND(IF(C596=\"\",0,SUM(C$8:C596)),2)","v":0},null,{"$f":"ROUND(IF(E596=\"\",0,SUM(E$8:E596)),2)","v":0}]
[null,null,null,{"$f":"ROUND(IF(C597=\"\",0,SUM(C$8:C597)),2)","v":0},null,{"$f":"ROUND(IF(E597=\"\",0,SUM(E$8:E597)),2)","v":0}]
[null,null,null,{"$f":"ROUND(IF(C598=\"\",0,SUM(C$8:C598)),2)","v":0},null,{"$f":"ROUND(IF(E598=\"\",0,SUM(E$8:E598)),2)","v":0}]
[null,null,null,{"$f":"ROUND(IF(C599=\"\",0,SUM(C$8:C599)),2)","v":0},null,{"$f":"ROUND(IF(E599=\"\",0,SUM(E$8:E599)),2)","v":0}]
[null,null,null,{"$f":"ROUND(IF(C600=\"\",0,SUM(C$8:C600)),2)","v":0},null,{"$f":"ROUND(IF(E600=\"\",0,SUM(E$8:E600)),2)","v":0}]
[null,null,null,{"$f":"ROUND(IF(C601=\"\",0,SUM(C$8:C601)),2)","v":0},null,{"$f":"ROUND(IF(E601=\"\",0,SUM(E$8:E601)),2)","v":0}]
[null,null,null,{"$f":"ROUND(IF(C602=\"\",0,SUM(C$8:C602)),2)","v":0},null,{"$f":"ROUND(IF(E602=\"\",0,SUM(E$8:E602)),2)","v":0}]
[null,null,null,{"$f":"ROUND(IF(C603=\"\",0,SUM(C$8:C603)),2)","v":0},null,{"$f":"ROUND(IF(E603=\"\",0,SUM(E$8:E603)),2)","v":0}]
[null,null,null,{"$f":"ROUND(IF(C604=\"\",0,SUM(C$8:C604)),2)","v":0},null,{"$f":"ROUND(IF(E604=\"\",0,SUM(E$8:E604)),2)","v":0}]
[null,null,null,{"$f":"ROUND(IF(C605=\"\",0,SUM(C$8:C605)),2)","v":0},null,{"$f":"ROUND(IF(E605=\"\",0,SUM(E$8:E605)),2)","v":0}]
[null,null,null,{"$f":"ROUND(IF(C606=\"\",0,SUM(C$8:C606)),2)","v":0},null,{"$f":"ROUND(IF(E606=\"\",0,SUM(E$8:E606)),2)","v":0}]
[null,null,null,{"$f":"ROUND(IF(C607=\"\",0,SUM(C$8:C607)),2)","v":0},null,{"$f":"ROUND(IF(E607=\"\",0,SUM(E$8:E607)),2)","v":0}]

{"sheet":"Slag 1","index":10,"n_rows":607,"n_cols":9,"rows_kept":607,"cut":false,"hidden":false,"merged":[]}
["GGBFS 1 Shipments",null,null,null,null,null,null,null,{"$f":"Info!B2","v":"E"}]
["Spec. Grav.: ",{"$f":"IF(AND(Info!B38=\"\", Info!C38=\"\"),\"\", IF(Info!B38<>\"\", Info!B38, Info!C38))","v":""},null,null,null,null,"Page No.: "]
["Source: ",{"$f":"IF(AND(Info!B36=\"\", Info!C36=\"\"),\"\", IF(Info!B36<>\"\", Info!B36, Info!C36))","v":""},null,null,null,null,"Grade: ",{"$f":"IF(AND(Info!B37=\"\", Info!C37=\"\"),\"\", IF(Info!B37<>\"\", Info!B37, Info!C37))","v":""}]
["Project No.: ",{"$f":"IF(Info!B3=\"\",\"\",(Info!B3))","v":""},null,null,null,null,"Contract ID.: ",{"$f":"IF(Info!B4=\"\",\"\",(Info!B4))","v":""}]
[]
[null,"Ticket","Certified","To  Date","Used","To  Date",null,null," "]
["Date","No.",{"$f":"IF(Info!$B$2=\"M\",\"(Mg's)\",\"(Tons)\")","v":"(Tons)"},{"$f":"IF(Info!$B$2=\"M\",\"(Mg's)\",\"(Tons)\")","v":"(Tons)"},{"$f":"IF(Info!$B$2=\"M\",\"(Mg's)\",\"(Tons)\")","v":"(Tons)"},{"$f":"IF(Info!$B$2=\"M\",\"(Mg's)\",\"(Tons)\")","v":"(Tons)"},"Remarks",null,"By"]
[null,null,null,{"$f":"SUM(C8)","v":0},null,{"$f":"SUM(E8)","v":0}]
[null,null,null,{"$f":"ROUND(IF(C9=\"\",0,SUM(C$8:C9)),2)","v":0},null,{"$f":"ROUND(IF(E9=\"\",0,SUM(E$8:E9)),2)","v":0}]
[null,null,null,{"$f":"ROUND(IF(C10=\"\",0,SUM(C$8:C10)),2)","v":0},null,{"$f":"ROUND(IF(E10=\"\",0,SUM(E$8:E10)),2)","v":0}]
[null,null,null,{"$f":"ROUND(IF(C11=\"\",0,SUM(C$8:C11)),2)","v":0},null,{"$f":"ROUND(IF(E11=\"\",0,SUM(E$8:E11)),2)","v":0}]
[null,null,null,{"$f":"ROUND(IF(C12=\"\",0,SUM(C$8:C12)),2)","v":0},null,{"$f":"ROUND(IF(E12=\"\",0,SUM(E$8:E12)),2)","v":0}]
[null,null,null,{"$f":"ROUND(IF(C13=\"\",0,SUM(C$8:C13)),2)","v":0},null,{"$f":"ROUND(IF(E13=\"\",0,SUM(E$8:E13)),2)","v":0}]
[null,null,null,{"$f":"ROUND(IF(C14=\"\",0,SUM(C$8:C14)),2)","v":0},null,{"$f":"ROUND(IF(E14=\"\",0,SUM(E$8:E14)),2)","v":0}]
[null,null,null,{"$f":"ROUND(IF(C15=\"\",0,SUM(C$8:C15)),2)","v":0},null,{"$f":"ROUND(IF(E15=\"\",0,SUM(E$8:E15)),2)","v":0}]
[null,null,null,{"$f":"ROUND(IF(C16=\"\",0,SUM(C$8:C16)),2)","v":0},null,{"$f":"ROUND(IF(E16=\"\",0,SUM(E$8:E16)),2)","v":0}]
[null,null,null,{"$f":"ROUND(IF(C17=\"\",0,SUM(C$8:C17)),2)","v":0},null,{"$f":"ROUND(IF(E17=\"\",0,SUM(E$8:E17)),2)","v":0}]
[null,null,null,{"$f":"ROUND(IF(C18=\"\",0,SUM(C$8:C18)),2)","v":0},null,{"$f":"ROUND(IF(E18=\"\",0,SUM(E$8:E18)),2)","v":0}]
[null,null,null,{"$f":"ROUND(IF(C19=\"\",0,SUM(C$8:C19)),2)","v":0},null,{"$f":"ROUND(IF(E19=\"\",0,SUM(E$8:E19)),2)","v":0}]
[null,null,null,{"$f":"ROUND(IF(C20=\"\",0,SUM(C$8:C20)),2)","v":0},null,{"$f":"ROUND(IF(E20=\"\",0,SUM(E$8:E20)),2)","v":0}]
[null,null,null,{"$f":"ROUND(IF(C21=\"\",0,SUM(C$8:C21)),2)","v":0},null,{"$f":"ROUND(IF(E21=\"\",0,SUM(E$8:E21)),2)","v":0}]
[null,null,null,{"$f":"ROUND(IF(C22=\"\",0,SUM(C$8:C22)),2)","v":0},null,{"$f":"ROUND(IF(E22=\"\",0,SUM(E$8:E22)),2)","v":0}]
[null,null,null,{"$f":"ROUND(IF(C23=\"\",0,SUM(C$8:C23)),2)","v":0},null,{"$f":"ROUND(IF(E23=\"\",0,SUM(E$8:E23)),2)","v":0}]
[null,null,null,{"$f":"ROUND(IF(C24=\"\",0,SUM(C$8:C24)),2)","v":0},null,{"$f":"ROUND(IF(E24=\"\",0,SUM(E$8:E24)),2)","v":0}]
[null,null,null,{"$f":"ROUND(IF(C25=\"\",0,SUM(C$8:C25)),2)","v":0},null,{"$f":"ROUND(IF(E25=\"\",0,SUM(E$8:E25)),2)","v":0}]
[null,null,null,{"$f":"ROUND(IF(C26=\"\",0,SUM(C$8:C26)),2)","v":0},null,{"$f":"ROUND(IF(E26=\"\",0,SUM(E$8:E26)),2)","v":0}]
[null,null,null,{"$f":"ROUND(IF(C27=\"\",0,SUM(C$8:C27)),2)","v":0},null,{"$f":"ROUND(IF(E27=\"\",0,SUM(E$8:E27)),2)","v":0}]
[null,null,null,{"$f":"ROUND(IF(C28=\"\",0,SUM(C$8:C28)),2)","v":0},null,{"$f":"ROUND(IF(E28=\"\",0,SUM(E$8:E28)),2)","v":0}]
[null,null,null,{"$f":"ROUND(IF(C29=\"\",0,SUM(C$8:C29)),2)","v":0},null,{"$f":"ROUND(IF(E29=\"\",0,SUM(E$8:E29)),2)","v":0}]
[null,null,null,{"$f":"ROUND(IF(C30=\"\",0,SUM(C$8:C30)),2)","v":0},null,{"$f":"ROUND(IF(E30=\"\",0,SUM(E$8:E30)),2)","v":0}]
[null,null,null,{"$f":"ROUND(IF(C31=\"\",0,SUM(C$8:C31)),2)","v":0},null,{"$f":"ROUND(IF(E31=\"\",0,SUM(E$8:E31)),2)","v":0}]
[null,null,null,{"$f":"ROUND(IF(C32=\"\",0,SUM(C$8:C32)),2)","v":0},null,{"$f":"ROUND(IF(E32=\"\",0,SUM(E$8:E32)),2)","v":0}]
[null,null,null,{"$f":"ROUND(IF(C33=\"\",0,SUM(C$8:C33)),2)","v":0},null,{"$f":"ROUND(IF(E33=\"\",0,SUM(E$8:E33)),2)","v":0}]
[null,null,null,{"$f":"ROUND(IF(C34=\"\",0,SUM(C$8:C34)),2)","v":0},null,{"$f":"ROUND(IF(E34=\"\",0,SUM(E$8:E34)),2)","v":0}]
[null,null,null,{"$f":"ROUND(IF(C35=\"\",0,SUM(C$8:C35)),2)","v":0},null,{"$f":"ROUND(IF(E35=\"\",0,SUM(E$8:E35)),2)","v":0}]
[null,null,null,{"$f":"ROUND(IF(C36=\"\",0,SUM(C$8:C36)),2)","v":0},null,{"$f":"ROUND(IF(E36=\"\",0,SUM(E$8:E36)),2)","v":0}]
[null,null,null,{"$f":"ROUND(IF(C37=\"\",0,SUM(C$8:C37)),2)","v":0},null,{"$f":"ROUND(IF(E37=\"\",0,SUM(E$8:E37)),2)","v":0}]
[null,null,null,{"$f":"ROUND(IF(C38=\"\",0,SUM(C$8:C38)),2)","v":0},null,{"$f":"ROUND(IF(E38=\"\",0,SUM(E$8:E38)),2)","v":0}]
[null,null,null,{"$f":"ROUND(IF(C39=\"\",0,SUM(C$8:C39)),2)","v":0},null,{"$f":"ROUND(IF(E39=\"\",0,SUM(E$8:E39)),2)","v":0}]
[null,null,null,{"$f":"ROUND(IF(C40=\"\",0,SUM(C$8:C40)),2)","v":0},null,{"$f":"ROUND(IF(E40=\"\",0,SUM(E$8:E40)),2)","v":0}]
[null,null,null,{"$f":"ROUND(IF(C41=\"\",0,SUM(C$8:C41)),2)","v":0},null,{"$f":"ROUND(IF(E41=\"\",0,SUM(E$8:E41)),2)","v":0}]
[null,null,null,{"$f":"ROUND(IF(C42=\"\",0,SUM(C$8:C42)),2)","v":0},null,{"$f":"ROUND(IF(E42=\"\",0,SUM(E$8:E42)),2)","v":0}]
[null,null,null,{"$f":"ROUND(IF(C43=\"\",0,SUM(C$8:C43)),2)","v":0},null,{"$f":"ROUND(IF(E43=\"\",0,SUM(E$8:E43)),2)","v":0}]
[null,null,null,{"$f":"ROUND(IF(C44=\"\",0,SUM(C$8:C44)),2)","v":0},null,{"$f":"ROUND(IF(E44=\"\",0,SUM(E$8:E44)),2)","v":0}]
[null,null,null,{"$f":"ROUND(IF(C45=\"\",0,SUM(C$8:C45)),2)","v":0},null,{"$f":"ROUND(IF(E45=\"\",0,SUM(E$8:E45)),2)","v":0}]
[null,null,null,{"$f":"ROUND(IF(C46=\"\",0,SUM(C$8:C46)),2)","v":0},null,{"$f":"ROUND(IF(E46=\"\",0,SUM(E$8:E46)),2)","v":0}]
[null,null,null,{"$f":"ROUND(IF(C47=\"\",0,SUM(C$8:C47)),2)","v":0},null,{"$f":"ROUND(IF(E47=\"\",0,SUM(E$8:E47)),2)","v":0}]
[null,null,null,{"$f":"ROUND(IF(C48=\"\",0,SUM(C$8:C48)),2)","v":0},null,{"$f":"ROUND(IF(E48=\"\",0,SUM(E$8:E48)),2)","v":0}]
[null,null,null,{"$f":"ROUND(IF(C49=\"\",0,SUM(C$8:C49)),2)","v":0},null,{"$f":"ROUND(IF(E49=\"\",0,SUM(E$8:E49)),2)","v":0}]
[null,null,null,{"$f":"ROUND(IF(C50=\"\",0,SUM(C$8:C50)),2)","v":0},null,{"$f":"ROUND(IF(E50=\"\",0,SUM(E$8:E50)),2)","v":0}]
[null,null,null,{"$f":"ROUND(IF(C51=\"\",0,SUM(C$8:C51)),2)","v":0},null,{"$f":"ROUND(IF(E51=\"\",0,SUM(E$8:E51)),2)","v":0}]
[null,null,null,{"$f":"ROUND(IF(C52=\"\",0,SUM(C$8:C52)),2)","v":0},null,{"$f":"ROUND(IF(E52=\"\",0,SUM(E$8:E52)),2)","v":0}]
[null,null,null,{"$f":"ROUND(IF(C53=\"\",0,SUM(C$8:C53)),2)","v":0},null,{"$f":"ROUND(IF(E53=\"\",0,SUM(E$8:E53)),2)","v":0}]
[null,null,null,{"$f":"ROUND(IF(C54=\"\",0,SUM(C$8:C54)),2)","v":0},null,{"$f":"ROUND(IF(E54=\"\",0,SUM(E$8:E54)),2)","v":0}]
[null,null,null,{"$f":"ROUND(IF(C55=\"\",0,SUM(C$8:C55)),2)","v":0},null,{"$f":"ROUND(IF(E55=\"\",0,SUM(E$8:E55)),2)","v":0}]
[null,null,null,{"$f":"ROUND(IF(C56=\"\",0,SUM(C$8:C56)),2)","v":0},null,{"$f":"ROUND(IF(E56=\"\",0,SUM(E$8:E56)),2)","v":0}]
[null,null,null,{"$f":"ROUND(IF(C57=\"\",0,SUM(C$8:C57)),2)","v":0},null,{"$f":"ROUND(IF(E57=\"\",0,SUM(E$8:E57)),2)","v":0}]
[null,null,null,{"$f":"ROUND(IF(C58=\"\",0,SUM(C$8:C58)),2)","v":0},null,{"$f":"ROUND(IF(E58=\"\",0,SUM(E$8:E58)),2)","v":0}]
[null,null,null,{"$f":"ROUND(IF(C59=\"\",0,SUM(C$8:C59)),2)","v":0},null,{"$f":"ROUND(IF(E59=\"\",0,SUM(E$8:E59)),2)","v":0}]
[null,null,null,{"$f":"ROUND(IF(C60=\"\",0,SUM(C$8:C60)),2)","v":0},null,{"$f":"ROUND(IF(E60=\"\",0,SUM(E$8:E60)),2)","v":0}]
[null,null,null,{"$f":"ROUND(IF(C61=\"\",0,SUM(C$8:C61)),2)","v":0},null,{"$f":"ROUND(IF(E61=\"\",0,SUM(E$8:E61)),2)","v":0}]
[null,null,null,{"$f":"ROUND(IF(C62=\"\",0,SUM(C$8:C62)),2)","v":0},null,{"$f":"ROUND(IF(E62=\"\",0,SUM(E$8:E62)),2)","v":0}]
[null,null,null,{"$f":"ROUND(IF(C63=\"\",0,SUM(C$8:C63)),2)","v":0},null,{"$f":"ROUND(IF(E63=\"\",0,SUM(E$8:E63)),2)","v":0}]
[null,null,null,{"$f":"ROUND(IF(C64=\"\",0,SUM(C$8:C64)),2)","v":0},null,{"$f":"ROUND(IF(E64=\"\",0,SUM(E$8:E64)),2)","v":0}]
[null,null,null,{"$f":"ROUND(IF(C65=\"\",0,SUM(C$8:C65)),2)","v":0},null,{"$f":"ROUND(IF(E65=\"\",0,SUM(E$8:E65)),2)","v":0}]
[null,null,null,{"$f":"ROUND(IF(C66=\"\",0,SUM(C$8:C66)),2)","v":0},null,{"$f":"ROUND(IF(E66=\"\",0,SUM(E$8:E66)),2)","v":0}]
[null,null,null,{"$f":"ROUND(IF(C67=\"\",0,SUM(C$8:C67)),2)","v":0},null,{"$f":"ROUND(IF(E67=\"\",0,SUM(E$8:E67)),2)","v":0}]
[null,null,null,{"$f":"ROUND(IF(C68=\"\",0,SUM(C$8:C68)),2)","v":0},null,{"$f":"ROUND(IF(E68=\"\",0,SUM(E$8:E68)),2)","v":0}]
[null,null,null,{"$f":"ROUND(IF(C69=\"\",0,SUM(C$8:C69)),2)","v":0},null,{"$f":"ROUND(IF(E69=\"\",0,SUM(E$8:E69)),2)","v":0}]
[null,null,null,{"$f":"ROUND(IF(C70=\"\",0,SUM(C$8:C70)),2)","v":0},null,{"$f":"ROUND(IF(E70=\"\",0,SUM(E$8:E70)),2)","v":0}]
[null,null,null,{"$f":"ROUND(IF(C71=\"\",0,SUM(C$8:C71)),2)","v":0},null,{"$f":"ROUND(IF(E71=\"\",0,SUM(E$8:E71)),2)","v":0}]
[null,null,null,{"$f":"ROUND(IF(C72=\"\",0,SUM(C$8:C72)),2)","v":0},null,{"$f":"ROUND(IF(E72=\"\",0,SUM(E$8:E72)),2)","v":0}]
[null,null,null,{"$f":"ROUND(IF(C73=\"\",0,SUM(C$8:C73)),2)","v":0},null,{"$f":"ROUND(IF(E73=\"\",0,SUM(E$8:E73)),2)","v":0}]
[null,null,null,{"$f":"ROUND(IF(C74=\"\",0,SUM(C$8:C74)),2)","v":0},null,{"$f":"ROUND(IF(E74=\"\",0,SUM(E$8:E74)),2)","v":0}]
[null,null,null,{"$f":"ROUND(IF(C75=\"\",0,SUM(C$8:C75)),2)","v":0},null,{"$f":"ROUND(IF(E75=\"\",0,SUM(E$8:E75)),2)","v":0}]
[null,null,null,{"$f":"ROUND(IF(C76=\"\",0,SUM(C$8:C76)),2)","v":0},null,{"$f":"ROUND(IF(E76=\"\",0,SUM(E$8:E76)),2)","v":0}]
[null,null,null,{"$f":"ROUND(IF(C77=\"\",0,SUM(C$8:C77)),2)","v":0},null,{"$f":"ROUND(IF(E77=\"\",0,SUM(E$8:E77)),2)","v":0}]
[null,null,null,{"$f":"ROUND(IF(C78=\"\",0,SUM(C$8:C78)),2)","v":0},null,{"$f":"ROUND(IF(E78=\"\",0,SUM(E$8:E78)),2)","v":0}]
[null,null,null,{"$f":"ROUND(IF(C79=\"\",0,SUM(C$8:C79)),2)","v":0},null,{"$f":"ROUND(IF(E79=\"\",0,SUM(E$8:E79)),2)","v":0}]
[null,null,null,{"$f":"ROUND(IF(C80=\"\",0,SUM(C$8:C80)),2)","v":0},null,{"$f":"ROUND(IF(E80=\"\",0,SUM(E$8:E80)),2)","v":0}]
[null,null,null,{"$f":"ROUND(IF(C81=\"\",0,SUM(C$8:C81)),2)","v":0},null,{"$f":"ROUND(IF(E81=\"\",0,SUM(E$8:E81)),2)","v":0}]
[null,null,null,{"$f":"ROUND(IF(C82=\"\",0,SUM(C$8:C82)),2)","v":0},null,{"$f":"ROUND(IF(E82=\"\",0,SUM(E$8:E82)),2)","v":0}]
[null,null,null,{"$f":"ROUND(IF(C83=\"\",0,SUM(C$8:C83)),2)","v":0},null,{"$f":"ROUND(IF(E83=\"\",0,SUM(E$8:E83)),2)","v":0}]
[null,null,null,{"$f":"ROUND(IF(C84=\"\",0,SUM(C$8:C84)),2)","v":0},null,{"$f":"ROUND(IF(E84=\"\",0,SUM(E$8:E84)),2)","v":0}]
[null,null,null,{"$f":"ROUND(IF(C85=\"\",0,SUM(C$8:C85)),2)","v":0},null,{"$f":"ROUND(IF(E85=\"\",0,SUM(E$8:E85)),2)","v":0}]
[null,null,null,{"$f":"ROUND(IF(C86=\"\",0,SUM(C$8:C86)),2)","v":0},null,{"$f":"ROUND(IF(E86=\"\",0,SUM(E$8:E86)),2)","v":0}]
[null,null,null,{"$f":"ROUND(IF(C87=\"\",0,SUM(C$8:C87)),2)","v":0},null,{"$f":"ROUND(IF(E87=\"\",0,SUM(E$8:E87)),2)","v":0}]
[null,null,null,{"$f":"ROUND(IF(C88=\"\",0,SUM(C$8:C88)),2)","v":0},null,{"$f":"ROUND(IF(E88=\"\",0,SUM(E$8:E88)),2)","v":0}]
[null,null,null,{"$f":"ROUND(IF(C89=\"\",0,SUM(C$8:C89)),2)","v":0},null,{"$f":"ROUND(IF(E89=\"\",0,SUM(E$8:E89)),2)","v":0}]
[null,null,null,{"$f":"ROUND(IF(C90=\"\",0,SUM(C$8:C90)),2)","v":0},null,{"$f":"ROUND(IF(E90=\"\",0,SUM(E$8:E90)),2)","v":0}]
[null,null,null,{"$f":"ROUND(IF(C91=\"\",0,SUM(C$8:C91)),2)","v":0},null,{"$f":"ROUND(IF(E91=\"\",0,SUM(E$8:E91)),2)","v":0}]
[null,null,null,{"$f":"ROUND(IF(C92=\"\",0,SUM(C$8:C92)),2)","v":0},null,{"$f":"ROUND(IF(E92=\"\",0,SUM(E$8:E92)),2)","v":0}]
[null,null,null,{"$f":"ROUND(IF(C93=\"\",0,SUM(C$8:C93)),2)","v":0},null,{"$f":"ROUND(IF(E93=\"\",0,SUM(E$8:E93)),2)","v":0}]
[null,null,null,{"$f":"ROUND(IF(C94=\"\",0,SUM(C$8:C94)),2)","v":0},null,{"$f":"ROUND(IF(E94=\"\",0,SUM(E$8:E94)),2)","v":0}]
[null,null,null,{"$f":"ROUND(IF(C95=\"\",0,SUM(C$8:C95)),2)","v":0},null,{"$f":"ROUND(IF(E95=\"\",0,SUM(E$8:E95)),2)","v":0}]
[null,null,null,{"$f":"ROUND(IF(C96=\"\",0,SUM(C$8:C96)),2)","v":0},null,{"$f":"ROUND(IF(E96=\"\",0,SUM(E$8:E96)),2)","v":0}]
[null,null,null,{"$f":"ROUND(IF(C97=\"\",0,SUM(C$8:C97)),2)","v":0},null,{"$f":"ROUND(IF(E97=\"\",0,SUM(E$8:E97)),2)","v":0}]
[null,null,null,{"$f":"ROUND(IF(C98=\"\",0,SUM(C$8:C98)),2)","v":0},null,{"$f":"ROUND(IF(E98=\"\",0,SUM(E$8:E98)),2)","v":0}]
[null,null,null,{"$f":"ROUND(IF(C99=\"\",0,SUM(C$8:C99)),2)","v":0},null,{"$f":"ROUND(IF(E99=\"\",0,SUM(E$8:E99)),2)","v":0}]
[null,null,null,{"$f":"ROUND(IF(C100=\"\",0,SUM(C$8:C100)),2)","v":0},null,{"$f":"ROUND(IF(E100=\"\",0,SUM(E$8:E100)),2)","v":0}]
[null,null,null,{"$f":"ROUND(IF(C101=\"\",0,SUM(C$8:C101)),2)","v":0},null,{"$f":"ROUND(IF(E101=\"\",0,SUM(E$8:E101)),2)","v":0}]
[null,null,null,{"$f":"ROUND(IF(C102=\"\",0,SUM(C$8:C102)),2)","v":0},null,{"$f":"ROUND(IF(E102=\"\",0,SUM(E$8:E102)),2)","v":0}]
[null,null,null,{"$f":"ROUND(IF(C103=\"\",0,SUM(C$8:C103)),2)","v":0},null,{"$f":"ROUND(IF(E103=\"\",0,SUM(E$8:E103)),2)","v":0}]
[null,null,null,{"$f":"ROUND(IF(C104=\"\",0,SUM(C$8:C104)),2)","v":0},null,{"$f":"ROUND(IF(E104=\"\",0,SUM(E$8:E104)),2)","v":0}]
[null,null,null,{"$f":"ROUND(IF(C105=\"\",0,SUM(C$8:C105)),2)","v":0},null,{"$f":"ROUND(IF(E105=\"\",0,SUM(E$8:E105)),2)","v":0}]
[null,null,null,{"$f":"ROUND(IF(C106=\"\",0,SUM(C$8:C106)),2)","v":0},null,{"$f":"ROUND(IF(E106=\"\",0,SUM(E$8:E106)),2)","v":0}]
[null,null,null,{"$f":"ROUND(IF(C107=\"\",0,SUM(C$8:C107)),2)","v":0},null,{"$f":"ROUND(IF(E107=\"\",0,SUM(E$8:E107)),2)","v":0}]
[null,null,null,{"$f":"ROUND(IF(C108=\"\",0,SUM(C$8:C108)),2)","v":0},null,{"$f":"ROUND(IF(E108=\"\",0,SUM(E$8:E108)),2)","v":0}]
[null,null,null,{"$f":"ROUND(IF(C109=\"\",0,SUM(C$8:C109)),2)","v":0},null,{"$f":"ROUND(IF(E109=\"\",0,SUM(E$8:E109)),2)","v":0}]
[null,null,null,{"$f":"ROUND(IF(C110=\"\",0,SUM(C$8:C110)),2)","v":0},null,{"$f":"ROUND(IF(E110=\"\",0,SUM(E$8:E110)),2)","v":0}]
[null,null,null,{"$f":"ROUND(IF(C111=\"\",0,SUM(C$8:C111)),2)","v":0},null,{"$f":"ROUND(IF(E111=\"\",0,SUM(E$8:E111)),2)","v":0}]
[null,null,null,{"$f":"ROUND(IF(C112=\"\",0,SUM(C$8:C112)),2)","v":0},null,{"$f":"ROUND(IF(E112=\"\",0,SUM(E$8:E112)),2)","v":0}]
[null,null,null,{"$f":"ROUND(IF(C113=\"\",0,SUM(C$8:C113)),2)","v":0},null,{"$f":"ROUND(IF(E113=\"\",0,SUM(E$8:E113)),2)","v":0}]
[null,null,null,{"$f":"ROUND(IF(C114=\"\",0,SUM(C$8:C114)),2)","v":0},null,{"$f":"ROUND(IF(E114=\"\",0,SUM(E$8:E114)),2)","v":0}]
[null,null,null,{"$f":"ROUND(IF(C115=\"\",0,SUM(C$8:C115)),2)","v":0},null,{"$f":"ROUND(IF(E115=\"\",0,SUM(E$8:E115)),2)","v":0}]
[null,null,null,{"$f":"ROUND(IF(C116=\"\",0,SUM(C$8:C116)),2)","v":0},null,{"$f":"ROUND(IF(E116=\"\",0,SUM(E$8:E116)),2)","v":0}]
[null,null,null,{"$f":"ROUND(IF(C117=\"\",0,SUM(C$8:C117)),2)","v":0},null,{"$f":"ROUND(IF(E117=\"\",0,SUM(E$8:E117)),2)","v":0}]
[null,null,null,{"$f":"ROUND(IF(C118=\"\",0,SUM(C$8:C118)),2)","v":0},null,{"$f":"ROUND(IF(E118=\"\",0,SUM(E$8:E118)),2)","v":0}]
[null,null,null,{"$f":"ROUND(IF(C119=\"\",0,SUM(C$8:C119)),2)","v":0},null,{"$f":"ROUND(IF(E119=\"\",0,SUM(E$8:E119)),2)","v":0}]
[null,null,null,{"$f":"ROUND(IF(C120=\"\",0,SUM(C$8:C120)),2)","v":0},null,{"$f":"ROUND(IF(E120=\"\",0,SUM(E$8:E120)),2)","v":0}]
[null,null,null,{"$f":"ROUND(IF(C121=\"\",0,SUM(C$8:C121)),2)","v":0},null,{"$f":"ROUND(IF(E121=\"\",0,SUM(E$8:E121)),2)","v":0}]
[null,null,null,{"$f":"ROUND(IF(C122=\"\",0,SUM(C$8:C122)),2)","v":0},null,{"$f":"ROUND(IF(E122=\"\",0,SUM(E$8:E122)),2)","v":0}]
[null,null,null,{"$f":"ROUND(IF(C123=\"\",0,SUM(C$8:C123)),2)","v":0},null,{"$f":"ROUND(IF(E123=\"\",0,SUM(E$8:E123)),2)","v":0}]
[null,null,null,{"$f":"ROUND(IF(C124=\"\",0,SUM(C$8:C124)),2)","v":0},null,{"$f":"ROUND(IF(E124=\"\",0,SUM(E$8:E124)),2)","v":0}]
[null,null,null,{"$f":"ROUND(IF(C125=\"\",0,SUM(C$8:C125)),2)","v":0},null,{"$f":"ROUND(IF(E125=\"\",0,SUM(E$8:E125)),2)","v":0}]
[null,null,null,{"$f":"ROUND(IF(C126=\"\",0,SUM(C$8:C126)),2)","v":0},null,{"$f":"ROUND(IF(E126=\"\",0,SUM(E$8:E126)),2)","v":0}]
[null,null,null,{"$f":"ROUND(IF(C127=\"\",0,SUM(C$8:C127)),2)","v":0},null,{"$f":"ROUND(IF(E127=\"\",0,SUM(E$8:E127)),2)","v":0}]
[null,null,null,{"$f":"ROUND(IF(C128=\"\",0,SUM(C$8:C128)),2)","v":0},null,{"$f":"ROUND(IF(E128=\"\",0,SUM(E$8:E128)),2)","v":0}]
[null,null,null,{"$f":"ROUND(IF(C129=\"\",0,SUM(C$8:C129)),2)","v":0},null,{"$f":"ROUND(IF(E129=\"\",0,SUM(E$8:E129)),2)","v":0}]
[null,null,null,{"$f":"ROUND(IF(C130=\"\",0,SUM(C$8:C130)),2)","v":0},null,{"$f":"ROUND(IF(E130=\"\",0,SUM(E$8:E130)),2)","v":0}]
[null,null,null,{"$f":"ROUND(IF(C131=\"\",0,SUM(C$8:C131)),2)","v":0},null,{"$f":"ROUND(IF(E131=\"\",0,SUM(E$8:E131)),2)","v":0}]
[null,null,null,{"$f":"ROUND(IF(C132=\"\",0,SUM(C$8:C132)),2)","v":0},null,{"$f":"ROUND(IF(E132=\"\",0,SUM(E$8:E132)),2)","v":0}]
[null,null,null,{"$f":"ROUND(IF(C133=\"\",0,SUM(C$8:C133)),2)","v":0},null,{"$f":"ROUND(IF(E133=\"\",0,SUM(E$8:E133)),2)","v":0}]
[null,null,null,{"$f":"ROUND(IF(C134=\"\",0,SUM(C$8:C134)),2)","v":0},null,{"$f":"ROUND(IF(E134=\"\",0,SUM(E$8:E134)),2)","v":0}]
[null,null,null,{"$f":"ROUND(IF(C135=\"\",0,SUM(C$8:C135)),2)","v":0},null,{"$f":"ROUND(IF(E135=\"\",0,SUM(E$8:E135)),2)","v":0}]
[null,null,null,{"$f":"ROUND(IF(C136=\"\",0,SUM(C$8:C136)),2)","v":0},null,{"$f":"ROUND(IF(E136=\"\",0,SUM(E$8:E136)),2)","v":0}]
[null,null,null,{"$f":"ROUND(IF(C137=\"\",0,SUM(C$8:C137)),2)","v":0},null,{"$f":"ROUND(IF(E137=\"\",0,SUM(E$8:E137)),2)","v":0}]
[null,null,null,{"$f":"ROUND(IF(C138=\"\",0,SUM(C$8:C138)),2)","v":0},null,{"$f":"ROUND(IF(E138=\"\",0,SUM(E$8:E138)),2)","v":0}]
[null,null,null,{"$f":"ROUND(IF(C139=\"\",0,SUM(C$8:C139)),2)","v":0},null,{"$f":"ROUND(IF(E139=\"\",0,SUM(E$8:E139)),2)","v":0}]
[null,null,null,{"$f":"ROUND(IF(C140=\"\",0,SUM(C$8:C140)),2)","v":0},null,{"$f":"ROUND(IF(E140=\"\",0,SUM(E$8:E140)),2)","v":0}]
[null,null,null,{"$f":"ROUND(IF(C141=\"\",0,SUM(C$8:C141)),2)","v":0},null,{"$f":"ROUND(IF(E141=\"\",0,SUM(E$8:E141)),2)","v":0}]
[null,null,null,{"$f":"ROUND(IF(C142=\"\",0,SUM(C$8:C142)),2)","v":0},null,{"$f":"ROUND(IF(E142=\"\",0,SUM(E$8:E142)),2)","v":0}]
[null,null,null,{"$f":"ROUND(IF(C143=\"\",0,SUM(C$8:C143)),2)","v":0},null,{"$f":"ROUND(IF(E143=\"\",0,SUM(E$8:E143)),2)","v":0}]
[null,null,null,{"$f":"ROUND(IF(C144=\"\",0,SUM(C$8:C144)),2)","v":0},null,{"$f":"ROUND(IF(E144=\"\",0,SUM(E$8:E144)),2)","v":0}]
[null,null,null,{"$f":"ROUND(IF(C145=\"\",0,SUM(C$8:C145)),2)","v":0},null,{"$f":"ROUND(IF(E145=\"\",0,SUM(E$8:E145)),2)","v":0}]
[null,null,null,{"$f":"ROUND(IF(C146=\"\",0,SUM(C$8:C146)),2)","v":0},null,{"$f":"ROUND(IF(E146=\"\",0,SUM(E$8:E146)),2)","v":0}]
[null,null,null,{"$f":"ROUND(IF(C147=\"\",0,SUM(C$8:C147)),2)","v":0},null,{"$f":"ROUND(IF(E147=\"\",0,SUM(E$8:E147)),2)","v":0}]
[null,null,null,{"$f":"ROUND(IF(C148=\"\",0,SUM(C$8:C148)),2)","v":0},null,{"$f":"ROUND(IF(E148=\"\",0,SUM(E$8:E148)),2)","v":0}]
[null,null,null,{"$f":"ROUND(IF(C149=\"\",0,SUM(C$8:C149)),2)","v":0},null,{"$f":"ROUND(IF(E149=\"\",0,SUM(E$8:E149)),2)","v":0}]
[null,null,null,{"$f":"ROUND(IF(C150=\"\",0,SUM(C$8:C150)),2)","v":0},null,{"$f":"ROUND(IF(E150=\"\",0,SUM(E$8:E150)),2)","v":0}]
[null,null,null,{"$f":"ROUND(IF(C151=\"\",0,SUM(C$8:C151)),2)","v":0},null,{"$f":"ROUND(IF(E151=\"\",0,SUM(E$8:E151)),2)","v":0}]
[null,null,null,{"$f":"ROUND(IF(C152=\"\",0,SUM(C$8:C152)),2)","v":0},null,{"$f":"ROUND(IF(E152=\"\",0,SUM(E$8:E152)),2)","v":0}]
[null,null,null,{"$f":"ROUND(IF(C153=\"\",0,SUM(C$8:C153)),2)","v":0},null,{"$f":"ROUND(IF(E153=\"\",0,SUM(E$8:E153)),2)","v":0}]
[null,null,null,{"$f":"ROUND(IF(C154=\"\",0,SUM(C$8:C154)),2)","v":0},null,{"$f":"ROUND(IF(E154=\"\",0,SUM(E$8:E154)),2)","v":0}]
[null,null,null,{"$f":"ROUND(IF(C155=\"\",0,SUM(C$8:C155)),2)","v":0},null,{"$f":"ROUND(IF(E155=\"\",0,SUM(E$8:E155)),2)","v":0}]
[null,null,null,{"$f":"ROUND(IF(C156=\"\",0,SUM(C$8:C156)),2)","v":0},null,{"$f":"ROUND(IF(E156=\"\",0,SUM(E$8:E156)),2)","v":0}]
[null,null,null,{"$f":"ROUND(IF(C157=\"\",0,SUM(C$8:C157)),2)","v":0},null,{"$f":"ROUND(IF(E157=\"\",0,SUM(E$8:E157)),2)","v":0}]
[null,null,null,{"$f":"ROUND(IF(C158=\"\",0,SUM(C$8:C158)),2)","v":0},null,{"$f":"ROUND(IF(E158=\"\",0,SUM(E$8:E158)),2)","v":0}]
[null,null,null,{"$f":"ROUND(IF(C159=\"\",0,SUM(C$8:C159)),2)","v":0},null,{"$f":"ROUND(IF(E159=\"\",0,SUM(E$8:E159)),2)","v":0}]
[null,null,null,{"$f":"ROUND(IF(C160=\"\",0,SUM(C$8:C160)),2)","v":0},null,{"$f":"ROUND(IF(E160=\"\",0,SUM(E$8:E160)),2)","v":0}]
[null,null,null,{"$f":"ROUND(IF(C161=\"\",0,SUM(C$8:C161)),2)","v":0},null,{"$f":"ROUND(IF(E161=\"\",0,SUM(E$8:E161)),2)","v":0}]
[null,null,null,{"$f":"ROUND(IF(C162=\"\",0,SUM(C$8:C162)),2)","v":0},null,{"$f":"ROUND(IF(E162=\"\",0,SUM(E$8:E162)),2)","v":0}]
[null,null,null,{"$f":"ROUND(IF(C163=\"\",0,SUM(C$8:C163)),2)","v":0},null,{"$f":"ROUND(IF(E163=\"\",0,SUM(E$8:E163)),2)","v":0}]
[null,null,null,{"$f":"ROUND(IF(C164=\"\",0,SUM(C$8:C164)),2)","v":0},null,{"$f":"ROUND(IF(E164=\"\",0,SUM(E$8:E164)),2)","v":0}]
[null,null,null,{"$f":"ROUND(IF(C165=\"\",0,SUM(C$8:C165)),2)","v":0},null,{"$f":"ROUND(IF(E165=\"\",0,SUM(E$8:E165)),2)","v":0}]
[null,null,null,{"$f":"ROUND(IF(C166=\"\",0,SUM(C$8:C166)),2)","v":0},null,{"$f":"ROUND(IF(E166=\"\",0,SUM(E$8:E166)),2)","v":0}]
[null,null,null,{"$f":"ROUND(IF(C167=\"\",0,SUM(C$8:C167)),2)","v":0},null,{"$f":"ROUND(IF(E167=\"\",0,SUM(E$8:E167)),2)","v":0}]
[null,null,null,{"$f":"ROUND(IF(C168=\"\",0,SUM(C$8:C168)),2)","v":0},null,{"$f":"ROUND(IF(E168=\"\",0,SUM(E$8:E168)),2)","v":0}]
[null,null,null,{"$f":"ROUND(IF(C169=\"\",0,SUM(C$8:C169)),2)","v":0},null,{"$f":"ROUND(IF(E169=\"\",0,SUM(E$8:E169)),2)","v":0}]
[null,null,null,{"$f":"ROUND(IF(C170=\"\",0,SUM(C$8:C170)),2)","v":0},null,{"$f":"ROUND(IF(E170=\"\",0,SUM(E$8:E170)),2)","v":0}]
[null,null,null,{"$f":"ROUND(IF(C171=\"\",0,SUM(C$8:C171)),2)","v":0},null,{"$f":"ROUND(IF(E171=\"\",0,SUM(E$8:E171)),2)","v":0}]
[null,null,null,{"$f":"ROUND(IF(C172=\"\",0,SUM(C$8:C172)),2)","v":0},null,{"$f":"ROUND(IF(E172=\"\",0,SUM(E$8:E172)),2)","v":0}]
[null,null,null,{"$f":"ROUND(IF(C173=\"\",0,SUM(C$8:C173)),2)","v":0},null,{"$f":"ROUND(IF(E173=\"\",0,SUM(E$8:E173)),2)","v":0}]
[null,null,null,{"$f":"ROUND(IF(C174=\"\",0,SUM(C$8:C174)),2)","v":0},null,{"$f":"ROUND(IF(E174=\"\",0,SUM(E$8:E174)),2)","v":0}]
[null,null,null,{"$f":"ROUND(IF(C175=\"\",0,SUM(C$8:C175)),2)","v":0},null,{"$f":"ROUND(IF(E175=\"\",0,SUM(E$8:E175)),2)","v":0}]
[null,null,null,{"$f":"ROUND(IF(C176=\"\",0,SUM(C$8:C176)),2)","v":0},null,{"$f":"ROUND(IF(E176=\"\",0,SUM(E$8:E176)),2)","v":0}]
[null,null,null,{"$f":"ROUND(IF(C177=\"\",0,SUM(C$8:C177)),2)","v":0},null,{"$f":"ROUND(IF(E177=\"\",0,SUM(E$8:E177)),2)","v":0}]
[null,null,null,{"$f":"ROUND(IF(C178=\"\",0,SUM(C$8:C178)),2)","v":0},null,{"$f":"ROUND(IF(E178=\"\",0,SUM(E$8:E178)),2)","v":0}]
[null,null,null,{"$f":"ROUND(IF(C179=\"\",0,SUM(C$8:C179)),2)","v":0},null,{"$f":"ROUND(IF(E179=\"\",0,SUM(E$8:E179)),2)","v":0}]
[null,null,null,{"$f":"ROUND(IF(C180=\"\",0,SUM(C$8:C180)),2)","v":0},null,{"$f":"ROUND(IF(E180=\"\",0,SUM(E$8:E180)),2)","v":0}]
[null,null,null,{"$f":"ROUND(IF(C181=\"\",0,SUM(C$8:C181)),2)","v":0},null,{"$f":"ROUND(IF(E181=\"\",0,SUM(E$8:E181)),2)","v":0}]
[null,null,null,{"$f":"ROUND(IF(C182=\"\",0,SUM(C$8:C182)),2)","v":0},null,{"$f":"ROUND(IF(E182=\"\",0,SUM(E$8:E182)),2)","v":0}]
[null,null,null,{"$f":"ROUND(IF(C183=\"\",0,SUM(C$8:C183)),2)","v":0},null,{"$f":"ROUND(IF(E183=\"\",0,SUM(E$8:E183)),2)","v":0}]
[null,null,null,{"$f":"ROUND(IF(C184=\"\",0,SUM(C$8:C184)),2)","v":0},null,{"$f":"ROUND(IF(E184=\"\",0,SUM(E$8:E184)),2)","v":0}]
[null,null,null,{"$f":"ROUND(IF(C185=\"\",0,SUM(C$8:C185)),2)","v":0},null,{"$f":"ROUND(IF(E185=\"\",0,SUM(E$8:E185)),2)","v":0}]
[null,null,null,{"$f":"ROUND(IF(C186=\"\",0,SUM(C$8:C186)),2)","v":0},null,{"$f":"ROUND(IF(E186=\"\",0,SUM(E$8:E186)),2)","v":0}]
[null,null,null,{"$f":"ROUND(IF(C187=\"\",0,SUM(C$8:C187)),2)","v":0},null,{"$f":"ROUND(IF(E187=\"\",0,SUM(E$8:E187)),2)","v":0}]
[null,null,null,{"$f":"ROUND(IF(C188=\"\",0,SUM(C$8:C188)),2)","v":0},null,{"$f":"ROUND(IF(E188=\"\",0,SUM(E$8:E188)),2)","v":0}]
[null,null,null,{"$f":"ROUND(IF(C189=\"\",0,SUM(C$8:C189)),2)","v":0},null,{"$f":"ROUND(IF(E189=\"\",0,SUM(E$8:E189)),2)","v":0}]
[null,null,null,{"$f":"ROUND(IF(C190=\"\",0,SUM(C$8:C190)),2)","v":0},null,{"$f":"ROUND(IF(E190=\"\",0,SUM(E$8:E190)),2)","v":0}]
[null,null,null,{"$f":"ROUND(IF(C191=\"\",0,SUM(C$8:C191)),2)","v":0},null,{"$f":"ROUND(IF(E191=\"\",0,SUM(E$8:E191)),2)","v":0}]
[null,null,null,{"$f":"ROUND(IF(C192=\"\",0,SUM(C$8:C192)),2)","v":0},null,{"$f":"ROUND(IF(E192=\"\",0,SUM(E$8:E192)),2)","v":0}]
[null,null,null,{"$f":"ROUND(IF(C193=\"\",0,SUM(C$8:C193)),2)","v":0},null,{"$f":"ROUND(IF(E193=\"\",0,SUM(E$8:E193)),2)","v":0}]
[null,null,null,{"$f":"ROUND(IF(C194=\"\",0,SUM(C$8:C194)),2)","v":0},null,{"$f":"ROUND(IF(E194=\"\",0,SUM(E$8:E194)),2)","v":0}]
[null,null,null,{"$f":"ROUND(IF(C195=\"\",0,SUM(C$8:C195)),2)","v":0},null,{"$f":"ROUND(IF(E195=\"\",0,SUM(E$8:E195)),2)","v":0}]
[null,null,null,{"$f":"ROUND(IF(C196=\"\",0,SUM(C$8:C196)),2)","v":0},null,{"$f":"ROUND(IF(E196=\"\",0,SUM(E$8:E196)),2)","v":0}]
[null,null,null,{"$f":"ROUND(IF(C197=\"\",0,SUM(C$8:C197)),2)","v":0},null,{"$f":"ROUND(IF(E197=\"\",0,SUM(E$8:E197)),2)","v":0}]
[null,null,null,{"$f":"ROUND(IF(C198=\"\",0,SUM(C$8:C198)),2)","v":0},null,{"$f":"ROUND(IF(E198=\"\",0,SUM(E$8:E198)),2)","v":0}]
[null,null,null,{"$f":"ROUND(IF(C199=\"\",0,SUM(C$8:C199)),2)","v":0},null,{"$f":"ROUND(IF(E199=\"\",0,SUM(E$8:E199)),2)","v":0}]
[null,null,null,{"$f":"ROUND(IF(C200=\"\",0,SUM(C$8:C200)),2)","v":0},null,{"$f":"ROUND(IF(E200=\"\",0,SUM(E$8:E200)),2)","v":0}]
[null,null,null,{"$f":"ROUND(IF(C201=\"\",0,SUM(C$8:C201)),2)","v":0},null,{"$f":"ROUND(IF(E201=\"\",0,SUM(E$8:E201)),2)","v":0}]
[null,null,null,{"$f":"ROUND(IF(C202=\"\",0,SUM(C$8:C202)),2)","v":0},null,{"$f":"ROUND(IF(E202=\"\",0,SUM(E$8:E202)),2)","v":0}]
[null,null,null,{"$f":"ROUND(IF(C203=\"\",0,SUM(C$8:C203)),2)","v":0},null,{"$f":"ROUND(IF(E203=\"\",0,SUM(E$8:E203)),2)","v":0}]
[null,null,null,{"$f":"ROUND(IF(C204=\"\",0,SUM(C$8:C204)),2)","v":0},null,{"$f":"ROUND(IF(E204=\"\",0,SUM(E$8:E204)),2)","v":0}]
[null,null,null,{"$f":"ROUND(IF(C205=\"\",0,SUM(C$8:C205)),2)","v":0},null,{"$f":"ROUND(IF(E205=\"\",0,SUM(E$8:E205)),2)","v":0}]
[null,null,null,{"$f":"ROUND(IF(C206=\"\",0,SUM(C$8:C206)),2)","v":0},null,{"$f":"ROUND(IF(E206=\"\",0,SUM(E$8:E206)),2)","v":0}]
[null,null,null,{"$f":"ROUND(IF(C207=\"\",0,SUM(C$8:C207)),2)","v":0},null,{"$f":"ROUND(IF(E207=\"\",0,SUM(E$8:E207)),2)","v":0}]
[null,null,null,{"$f":"ROUND(IF(C208=\"\",0,SUM(C$8:C208)),2)","v":0},null,{"$f":"ROUND(IF(E208=\"\",0,SUM(E$8:E208)),2)","v":0}]
[null,null,null,{"$f":"ROUND(IF(C209=\"\",0,SUM(C$8:C209)),2)","v":0},null,{"$f":"ROUND(IF(E209=\"\",0,SUM(E$8:E209)),2)","v":0}]
[null,null,null,{"$f":"ROUND(IF(C210=\"\",0,SUM(C$8:C210)),2)","v":0},null,{"$f":"ROUND(IF(E210=\"\",0,SUM(E$8:E210)),2)","v":0}]
[null,null,null,{"$f":"ROUND(IF(C211=\"\",0,SUM(C$8:C211)),2)","v":0},null,{"$f":"ROUND(IF(E211=\"\",0,SUM(E$8:E211)),2)","v":0}]
[null,null,null,{"$f":"ROUND(IF(C212=\"\",0,SUM(C$8:C212)),2)","v":0},null,{"$f":"ROUND(IF(E212=\"\",0,SUM(E$8:E212)),2)","v":0}]
[null,null,null,{"$f":"ROUND(IF(C213=\"\",0,SUM(C$8:C213)),2)","v":0},null,{"$f":"ROUND(IF(E213=\"\",0,SUM(E$8:E213)),2)","v":0}]
[null,null,null,{"$f":"ROUND(IF(C214=\"\",0,SUM(C$8:C214)),2)","v":0},null,{"$f":"ROUND(IF(E214=\"\",0,SUM(E$8:E214)),2)","v":0}]
[null,null,null,{"$f":"ROUND(IF(C215=\"\",0,SUM(C$8:C215)),2)","v":0},null,{"$f":"ROUND(IF(E215=\"\",0,SUM(E$8:E215)),2)","v":0}]
[null,null,null,{"$f":"ROUND(IF(C216=\"\",0,SUM(C$8:C216)),2)","v":0},null,{"$f":"ROUND(IF(E216=\"\",0,SUM(E$8:E216)),2)","v":0}]
[null,null,null,{"$f":"ROUND(IF(C217=\"\",0,SUM(C$8:C217)),2)","v":0},null,{"$f":"ROUND(IF(E217=\"\",0,SUM(E$8:E217)),2)","v":0}]
[null,null,null,{"$f":"ROUND(IF(C218=\"\",0,SUM(C$8:C218)),2)","v":0},null,{"$f":"ROUND(IF(E218=\"\",0,SUM(E$8:E218)),2)","v":0}]
[null,null,null,{"$f":"ROUND(IF(C219=\"\",0,SUM(C$8:C219)),2)","v":0},null,{"$f":"ROUND(IF(E219=\"\",0,SUM(E$8:E219)),2)","v":0}]
[null,null,null,{"$f":"ROUND(IF(C220=\"\",0,SUM(C$8:C220)),2)","v":0},null,{"$f":"ROUND(IF(E220=\"\",0,SUM(E$8:E220)),2)","v":0}]
[null,null,null,{"$f":"ROUND(IF(C221=\"\",0,SUM(C$8:C221)),2)","v":0},null,{"$f":"ROUND(IF(E221=\"\",0,SUM(E$8:E221)),2)","v":0}]
[null,null,null,{"$f":"ROUND(IF(C222=\"\",0,SUM(C$8:C222)),2)","v":0},null,{"$f":"ROUND(IF(E222=\"\",0,SUM(E$8:E222)),2)","v":0}]
[null,null,null,{"$f":"ROUND(IF(C223=\"\",0,SUM(C$8:C223)),2)","v":0},null,{"$f":"ROUND(IF(E223=\"\",0,SUM(E$8:E223)),2)","v":0}]
[null,null,null,{"$f":"ROUND(IF(C224=\"\",0,SUM(C$8:C224)),2)","v":0},null,{"$f":"ROUND(IF(E224=\"\",0,SUM(E$8:E224)),2)","v":0}]
[null,null,null,{"$f":"ROUND(IF(C225=\"\",0,SUM(C$8:C225)),2)","v":0},null,{"$f":"ROUND(IF(E225=\"\",0,SUM(E$8:E225)),2)","v":0}]
[null,null,null,{"$f":"ROUND(IF(C226=\"\",0,SUM(C$8:C226)),2)","v":0},null,{"$f":"ROUND(IF(E226=\"\",0,SUM(E$8:E226)),2)","v":0}]
[null,null,null,{"$f":"ROUND(IF(C227=\"\",0,SUM(C$8:C227)),2)","v":0},null,{"$f":"ROUND(IF(E227=\"\",0,SUM(E$8:E227)),2)","v":0}]
[null,null,null,{"$f":"ROUND(IF(C228=\"\",0,SUM(C$8:C228)),2)","v":0},null,{"$f":"ROUND(IF(E228=\"\",0,SUM(E$8:E228)),2)","v":0}]
[null,null,null,{"$f":"ROUND(IF(C229=\"\",0,SUM(C$8:C229)),2)","v":0},null,{"$f":"ROUND(IF(E229=\"\",0,SUM(E$8:E229)),2)","v":0}]
[null,null,null,{"$f":"ROUND(IF(C230=\"\",0,SUM(C$8:C230)),2)","v":0},null,{"$f":"ROUND(IF(E230=\"\",0,SUM(E$8:E230)),2)","v":0}]
[null,null,null,{"$f":"ROUND(IF(C231=\"\",0,SUM(C$8:C231)),2)","v":0},null,{"$f":"ROUND(IF(E231=\"\",0,SUM(E$8:E231)),2)","v":0}]
[null,null,null,{"$f":"ROUND(IF(C232=\"\",0,SUM(C$8:C232)),2)","v":0},null,{"$f":"ROUND(IF(E232=\"\",0,SUM(E$8:E232)),2)","v":0}]
[null,null,null,{"$f":"ROUND(IF(C233=\"\",0,SUM(C$8:C233)),2)","v":0},null,{"$f":"ROUND(IF(E233=\"\",0,SUM(E$8:E233)),2)","v":0}]
[null,null,null,{"$f":"ROUND(IF(C234=\"\",0,SUM(C$8:C234)),2)","v":0},null,{"$f":"ROUND(IF(E234=\"\",0,SUM(E$8:E234)),2)","v":0}]
[null,null,null,{"$f":"ROUND(IF(C235=\"\",0,SUM(C$8:C235)),2)","v":0},null,{"$f":"ROUND(IF(E235=\"\",0,SUM(E$8:E235)),2)","v":0}]
[null,null,null,{"$f":"ROUND(IF(C236=\"\",0,SUM(C$8:C236)),2)","v":0},null,{"$f":"ROUND(IF(E236=\"\",0,SUM(E$8:E236)),2)","v":0}]
[null,null,null,{"$f":"ROUND(IF(C237=\"\",0,SUM(C$8:C237)),2)","v":0},null,{"$f":"ROUND(IF(E237=\"\",0,SUM(E$8:E237)),2)","v":0}]
[null,null,null,{"$f":"ROUND(IF(C238=\"\",0,SUM(C$8:C238)),2)","v":0},null,{"$f":"ROUND(IF(E238=\"\",0,SUM(E$8:E238)),2)","v":0}]
[null,null,null,{"$f":"ROUND(IF(C239=\"\",0,SUM(C$8:C239)),2)","v":0},null,{"$f":"ROUND(IF(E239=\"\",0,SUM(E$8:E239)),2)","v":0}]
[null,null,null,{"$f":"ROUND(IF(C240=\"\",0,SUM(C$8:C240)),2)","v":0},null,{"$f":"ROUND(IF(E240=\"\",0,SUM(E$8:E240)),2)","v":0}]
[null,null,null,{"$f":"ROUND(IF(C241=\"\",0,SUM(C$8:C241)),2)","v":0},null,{"$f":"ROUND(IF(E241=\"\",0,SUM(E$8:E241)),2)","v":0}]
[null,null,null,{"$f":"ROUND(IF(C242=\"\",0,SUM(C$8:C242)),2)","v":0},null,{"$f":"ROUND(IF(E242=\"\",0,SUM(E$8:E242)),2)","v":0}]
[null,null,null,{"$f":"ROUND(IF(C243=\"\",0,SUM(C$8:C243)),2)","v":0},null,{"$f":"ROUND(IF(E243=\"\",0,SUM(E$8:E243)),2)","v":0}]
[null,null,null,{"$f":"ROUND(IF(C244=\"\",0,SUM(C$8:C244)),2)","v":0},null,{"$f":"ROUND(IF(E244=\"\",0,SUM(E$8:E244)),2)","v":0}]
[null,null,null,{"$f":"ROUND(IF(C245=\"\",0,SUM(C$8:C245)),2)","v":0},null,{"$f":"ROUND(IF(E245=\"\",0,SUM(E$8:E245)),2)","v":0}]
[null,null,null,{"$f":"ROUND(IF(C246=\"\",0,SUM(C$8:C246)),2)","v":0},null,{"$f":"ROUND(IF(E246=\"\",0,SUM(E$8:E246)),2)","v":0}]
[null,null,null,{"$f":"ROUND(IF(C247=\"\",0,SUM(C$8:C247)),2)","v":0},null,{"$f":"ROUND(IF(E247=\"\",0,SUM(E$8:E247)),2)","v":0}]
[null,null,null,{"$f":"ROUND(IF(C248=\"\",0,SUM(C$8:C248)),2)","v":0},null,{"$f":"ROUND(IF(E248=\"\",0,SUM(E$8:E248)),2)","v":0}]
[null,null,null,{"$f":"ROUND(IF(C249=\"\",0,SUM(C$8:C249)),2)","v":0},null,{"$f":"ROUND(IF(E249=\"\",0,SUM(E$8:E249)),2)","v":0}]
[null,null,null,{"$f":"ROUND(IF(C250=\"\",0,SUM(C$8:C250)),2)","v":0},null,{"$f":"ROUND(IF(E250=\"\",0,SUM(E$8:E250)),2)","v":0}]
[null,null,null,{"$f":"ROUND(IF(C251=\"\",0,SUM(C$8:C251)),2)","v":0},null,{"$f":"ROUND(IF(E251=\"\",0,SUM(E$8:E251)),2)","v":0}]
[null,null,null,{"$f":"ROUND(IF(C252=\"\",0,SUM(C$8:C252)),2)","v":0},null,{"$f":"ROUND(IF(E252=\"\",0,SUM(E$8:E252)),2)","v":0}]
[null,null,null,{"$f":"ROUND(IF(C253=\"\",0,SUM(C$8:C253)),2)","v":0},null,{"$f":"ROUND(IF(E253=\"\",0,SUM(E$8:E253)),2)","v":0}]
[null,null,null,{"$f":"ROUND(IF(C254=\"\",0,SUM(C$8:C254)),2)","v":0},null,{"$f":"ROUND(IF(E254=\"\",0,SUM(E$8:E254)),2)","v":0}]
[null,null,null,{"$f":"ROUND(IF(C255=\"\",0,SUM(C$8:C255)),2)","v":0},null,{"$f":"ROUND(IF(E255=\"\",0,SUM(E$8:E255)),2)","v":0}]
[null,null,null,{"$f":"ROUND(IF(C256=\"\",0,SUM(C$8:C256)),2)","v":0},null,{"$f":"ROUND(IF(E256=\"\",0,SUM(E$8:E256)),2)","v":0}]
[null,null,null,{"$f":"ROUND(IF(C257=\"\",0,SUM(C$8:C257)),2)","v":0},null,{"$f":"ROUND(IF(E257=\"\",0,SUM(E$8:E257)),2)","v":0}]
[null,null,null,{"$f":"ROUND(IF(C258=\"\",0,SUM(C$8:C258)),2)","v":0},null,{"$f":"ROUND(IF(E258=\"\",0,SUM(E$8:E258)),2)","v":0}]
[null,null,null,{"$f":"ROUND(IF(C259=\"\",0,SUM(C$8:C259)),2)","v":0},null,{"$f":"ROUND(IF(E259=\"\",0,SUM(E$8:E259)),2)","v":0}]
[null,null,null,{"$f":"ROUND(IF(C260=\"\",0,SUM(C$8:C260)),2)","v":0},null,{"$f":"ROUND(IF(E260=\"\",0,SUM(E$8:E260)),2)","v":0}]
[null,null,null,{"$f":"ROUND(IF(C261=\"\",0,SUM(C$8:C261)),2)","v":0},null,{"$f":"ROUND(IF(E261=\"\",0,SUM(E$8:E261)),2)","v":0}]
[null,null,null,{"$f":"ROUND(IF(C262=\"\",0,SUM(C$8:C262)),2)","v":0},null,{"$f":"ROUND(IF(E262=\"\",0,SUM(E$8:E262)),2)","v":0}]
[null,null,null,{"$f":"ROUND(IF(C263=\"\",0,SUM(C$8:C263)),2)","v":0},null,{"$f":"ROUND(IF(E263=\"\",0,SUM(E$8:E263)),2)","v":0}]
[null,null,null,{"$f":"ROUND(IF(C264=\"\",0,SUM(C$8:C264)),2)","v":0},null,{"$f":"ROUND(IF(E264=\"\",0,SUM(E$8:E264)),2)","v":0}]
[null,null,null,{"$f":"ROUND(IF(C265=\"\",0,SUM(C$8:C265)),2)","v":0},null,{"$f":"ROUND(IF(E265=\"\",0,SUM(E$8:E265)),2)","v":0}]
[null,null,null,{"$f":"ROUND(IF(C266=\"\",0,SUM(C$8:C266)),2)","v":0},null,{"$f":"ROUND(IF(E266=\"\",0,SUM(E$8:E266)),2)","v":0}]
[null,null,null,{"$f":"ROUND(IF(C267=\"\",0,SUM(C$8:C267)),2)","v":0},null,{"$f":"ROUND(IF(E267=\"\",0,SUM(E$8:E267)),2)","v":0}]
[null,null,null,{"$f":"ROUND(IF(C268=\"\",0,SUM(C$8:C268)),2)","v":0},null,{"$f":"ROUND(IF(E268=\"\",0,SUM(E$8:E268)),2)","v":0}]
[null,null,null,{"$f":"ROUND(IF(C269=\"\",0,SUM(C$8:C269)),2)","v":0},null,{"$f":"ROUND(IF(E269=\"\",0,SUM(E$8:E269)),2)","v":0}]
[null,null,null,{"$f":"ROUND(IF(C270=\"\",0,SUM(C$8:C270)),2)","v":0},null,{"$f":"ROUND(IF(E270=\"\",0,SUM(E$8:E270)),2)","v":0}]
[null,null,null,{"$f":"ROUND(IF(C271=\"\",0,SUM(C$8:C271)),2)","v":0},null,{"$f":"ROUND(IF(E271=\"\",0,SUM(E$8:E271)),2)","v":0}]
[null,null,null,{"$f":"ROUND(IF(C272=\"\",0,SUM(C$8:C272)),2)","v":0},null,{"$f":"ROUND(IF(E272=\"\",0,SUM(E$8:E272)),2)","v":0}]
[null,null,null,{"$f":"ROUND(IF(C273=\"\",0,SUM(C$8:C273)),2)","v":0},null,{"$f":"ROUND(IF(E273=\"\",0,SUM(E$8:E273)),2)","v":0}]
[null,null,null,{"$f":"ROUND(IF(C274=\"\",0,SUM(C$8:C274)),2)","v":0},null,{"$f":"ROUND(IF(E274=\"\",0,SUM(E$8:E274)),2)","v":0}]
[null,null,null,{"$f":"ROUND(IF(C275=\"\",0,SUM(C$8:C275)),2)","v":0},null,{"$f":"ROUND(IF(E275=\"\",0,SUM(E$8:E275)),2)","v":0}]
[null,null,null,{"$f":"ROUND(IF(C276=\"\",0,SUM(C$8:C276)),2)","v":0},null,{"$f":"ROUND(IF(E276=\"\",0,SUM(E$8:E276)),2)","v":0}]
[null,null,null,{"$f":"ROUND(IF(C277=\"\",0,SUM(C$8:C277)),2)","v":0},null,{"$f":"ROUND(IF(E277=\"\",0,SUM(E$8:E277)),2)","v":0}]
[null,null,null,{"$f":"ROUND(IF(C278=\"\",0,SUM(C$8:C278)),2)","v":0},null,{"$f":"ROUND(IF(E278=\"\",0,SUM(E$8:E278)),2)","v":0}]
[null,null,null,{"$f":"ROUND(IF(C279=\"\",0,SUM(C$8:C279)),2)","v":0},null,{"$f":"ROUND(IF(E279=\"\",0,SUM(E$8:E279)),2)","v":0}]
[null,null,null,{"$f":"ROUND(IF(C280=\"\",0,SUM(C$8:C280)),2)","v":0},null,{"$f":"ROUND(IF(E280=\"\",0,SUM(E$8:E280)),2)","v":0}]
[null,null,null,{"$f":"ROUND(IF(C281=\"\",0,SUM(C$8:C281)),2)","v":0},null,{"$f":"ROUND(IF(E281=\"\",0,SUM(E$8:E281)),2)","v":0}]
[null,null,null,{"$f":"ROUND(IF(C282=\"\",0,SUM(C$8:C282)),2)","v":0},null,{"$f":"ROUND(IF(E282=\"\",0,SUM(E$8:E282)),2)","v":0}]
[null,null,null,{"$f":"ROUND(IF(C283=\"\",0,SUM(C$8:C283)),2)","v":0},null,{"$f":"ROUND(IF(E283=\"\",0,SUM(E$8:E283)),2)","v":0}]
[null,null,null,{"$f":"ROUND(IF(C284=\"\",0,SUM(C$8:C284)),2)","v":0},null,{"$f":"ROUND(IF(E284=\"\",0,SUM(E$8:E284)),2)","v":0}]
[null,null,null,{"$f":"ROUND(IF(C285=\"\",0,SUM(C$8:C285)),2)","v":0},null,{"$f":"ROUND(IF(E285=\"\",0,SUM(E$8:E285)),2)","v":0}]
[null,null,null,{"$f":"ROUND(IF(C286=\"\",0,SUM(C$8:C286)),2)","v":0},null,{"$f":"ROUND(IF(E286=\"\",0,SUM(E$8:E286)),2)","v":0}]
[null,null,null,{"$f":"ROUND(IF(C287=\"\",0,SUM(C$8:C287)),2)","v":0},null,{"$f":"ROUND(IF(E287=\"\",0,SUM(E$8:E287)),2)","v":0}]
[null,null,null,{"$f":"ROUND(IF(C288=\"\",0,SUM(C$8:C288)),2)","v":0},null,{"$f":"ROUND(IF(E288=\"\",0,SUM(E$8:E288)),2)","v":0}]
[null,null,null,{"$f":"ROUND(IF(C289=\"\",0,SUM(C$8:C289)),2)","v":0},null,{"$f":"ROUND(IF(E289=\"\",0,SUM(E$8:E289)),2)","v":0}]
[null,null,null,{"$f":"ROUND(IF(C290=\"\",0,SUM(C$8:C290)),2)","v":0},null,{"$f":"ROUND(IF(E290=\"\",0,SUM(E$8:E290)),2)","v":0}]
[null,null,null,{"$f":"ROUND(IF(C291=\"\",0,SUM(C$8:C291)),2)","v":0},null,{"$f":"ROUND(IF(E291=\"\",0,SUM(E$8:E291)),2)","v":0}]
[null,null,null,{"$f":"ROUND(IF(C292=\"\",0,SUM(C$8:C292)),2)","v":0},null,{"$f":"ROUND(IF(E292=\"\",0,SUM(E$8:E292)),2)","v":0}]
[null,null,null,{"$f":"ROUND(IF(C293=\"\",0,SUM(C$8:C293)),2)","v":0},null,{"$f":"ROUND(IF(E293=\"\",0,SUM(E$8:E293)),2)","v":0}]
[null,null,null,{"$f":"ROUND(IF(C294=\"\",0,SUM(C$8:C294)),2)","v":0},null,{"$f":"ROUND(IF(E294=\"\",0,SUM(E$8:E294)),2)","v":0}]
[null,null,null,{"$f":"ROUND(IF(C295=\"\",0,SUM(C$8:C295)),2)","v":0},null,{"$f":"ROUND(IF(E295=\"\",0,SUM(E$8:E295)),2)","v":0}]
[null,null,null,{"$f":"ROUND(IF(C296=\"\",0,SUM(C$8:C296)),2)","v":0},null,{"$f":"ROUND(IF(E296=\"\",0,SUM(E$8:E296)),2)","v":0}]
[null,null,null,{"$f":"ROUND(IF(C297=\"\",0,SUM(C$8:C297)),2)","v":0},null,{"$f":"ROUND(IF(E297=\"\",0,SUM(E$8:E297)),2)","v":0}]
[null,null,null,{"$f":"ROUND(IF(C298=\"\",0,SUM(C$8:C298)),2)","v":0},null,{"$f":"ROUND(IF(E298=\"\",0,SUM(E$8:E298)),2)","v":0}]
[null,null,null,{"$f":"ROUND(IF(C299=\"\",0,SUM(C$8:C299)),2)","v":0},null,{"$f":"ROUND(IF(E299=\"\",0,SUM(E$8:E299)),2)","v":0}]
[null,null,null,{"$f":"ROUND(IF(C300=\"\",0,SUM(C$8:C300)),2)","v":0},null,{"$f":"ROUND(IF(E300=\"\",0,SUM(E$8:E300)),2)","v":0}]
[null,null,null,{"$f":"ROUND(IF(C301=\"\",0,SUM(C$8:C301)),2)","v":0},null,{"$f":"ROUND(IF(E301=\"\",0,SUM(E$8:E301)),2)","v":0}]
[null,null,null,{"$f":"ROUND(IF(C302=\"\",0,SUM(C$8:C302)),2)","v":0},null,{"$f":"ROUND(IF(E302=\"\",0,SUM(E$8:E302)),2)","v":0}]
[null,null,null,{"$f":"ROUND(IF(C303=\"\",0,SUM(C$8:C303)),2)","v":0},null,{"$f":"ROUND(IF(E303=\"\",0,SUM(E$8:E303)),2)","v":0}]
[null,null,null,{"$f":"ROUND(IF(C304=\"\",0,SUM(C$8:C304)),2)","v":0},null,{"$f":"ROUND(IF(E304=\"\",0,SUM(E$8:E304)),2)","v":0}]
[null,null,null,{"$f":"ROUND(IF(C305=\"\",0,SUM(C$8:C305)),2)","v":0},null,{"$f":"ROUND(IF(E305=\"\",0,SUM(E$8:E305)),2)","v":0}]
[null,null,null,{"$f":"ROUND(IF(C306=\"\",0,SUM(C$8:C306)),2)","v":0},null,{"$f":"ROUND(IF(E306=\"\",0,SUM(E$8:E306)),2)","v":0}]
[null,null,null,{"$f":"ROUND(IF(C307=\"\",0,SUM(C$8:C307)),2)","v":0},null,{"$f":"ROUND(IF(E307=\"\",0,SUM(E$8:E307)),2)","v":0}]
[null,null,null,{"$f":"ROUND(IF(C308=\"\",0,SUM(C$8:C308)),2)","v":0},null,{"$f":"ROUND(IF(E308=\"\",0,SUM(E$8:E308)),2)","v":0}]
[null,null,null,{"$f":"ROUND(IF(C309=\"\",0,SUM(C$8:C309)),2)","v":0},null,{"$f":"ROUND(IF(E309=\"\",0,SUM(E$8:E309)),2)","v":0}]
[null,null,null,{"$f":"ROUND(IF(C310=\"\",0,SUM(C$8:C310)),2)","v":0},null,{"$f":"ROUND(IF(E310=\"\",0,SUM(E$8:E310)),2)","v":0}]
[null,null,null,{"$f":"ROUND(IF(C311=\"\",0,SUM(C$8:C311)),2)","v":0},null,{"$f":"ROUND(IF(E311=\"\",0,SUM(E$8:E311)),2)","v":0}]
[null,null,null,{"$f":"ROUND(IF(C312=\"\",0,SUM(C$8:C312)),2)","v":0},null,{"$f":"ROUND(IF(E312=\"\",0,SUM(E$8:E312)),2)","v":0}]
[null,null,null,{"$f":"ROUND(IF(C313=\"\",0,SUM(C$8:C313)),2)","v":0},null,{"$f":"ROUND(IF(E313=\"\",0,SUM(E$8:E313)),2)","v":0}]
[null,null,null,{"$f":"ROUND(IF(C314=\"\",0,SUM(C$8:C314)),2)","v":0},null,{"$f":"ROUND(IF(E314=\"\",0,SUM(E$8:E314)),2)","v":0}]
[null,null,null,{"$f":"ROUND(IF(C315=\"\",0,SUM(C$8:C315)),2)","v":0},null,{"$f":"ROUND(IF(E315=\"\",0,SUM(E$8:E315)),2)","v":0}]
[null,null,null,{"$f":"ROUND(IF(C316=\"\",0,SUM(C$8:C316)),2)","v":0},null,{"$f":"ROUND(IF(E316=\"\",0,SUM(E$8:E316)),2)","v":0}]
[null,null,null,{"$f":"ROUND(IF(C317=\"\",0,SUM(C$8:C317)),2)","v":0},null,{"$f":"ROUND(IF(E317=\"\",0,SUM(E$8:E317)),2)","v":0}]
[null,null,null,{"$f":"ROUND(IF(C318=\"\",0,SUM(C$8:C318)),2)","v":0},null,{"$f":"ROUND(IF(E318=\"\",0,SUM(E$8:E318)),2)","v":0}]
[null,null,null,{"$f":"ROUND(IF(C319=\"\",0,SUM(C$8:C319)),2)","v":0},null,{"$f":"ROUND(IF(E319=\"\",0,SUM(E$8:E319)),2)","v":0}]
[null,null,null,{"$f":"ROUND(IF(C320=\"\",0,SUM(C$8:C320)),2)","v":0},null,{"$f":"ROUND(IF(E320=\"\",0,SUM(E$8:E320)),2)","v":0}]
[null,null,null,{"$f":"ROUND(IF(C321=\"\",0,SUM(C$8:C321)),2)","v":0},null,{"$f":"ROUND(IF(E321=\"\",0,SUM(E$8:E321)),2)","v":0}]
[null,null,null,{"$f":"ROUND(IF(C322=\"\",0,SUM(C$8:C322)),2)","v":0},null,{"$f":"ROUND(IF(E322=\"\",0,SUM(E$8:E322)),2)","v":0}]
[null,null,null,{"$f":"ROUND(IF(C323=\"\",0,SUM(C$8:C323)),2)","v":0},null,{"$f":"ROUND(IF(E323=\"\",0,SUM(E$8:E323)),2)","v":0}]
[null,null,null,{"$f":"ROUND(IF(C324=\"\",0,SUM(C$8:C324)),2)","v":0},null,{"$f":"ROUND(IF(E324=\"\",0,SUM(E$8:E324)),2)","v":0}]
[null,null,null,{"$f":"ROUND(IF(C325=\"\",0,SUM(C$8:C325)),2)","v":0},null,{"$f":"ROUND(IF(E325=\"\",0,SUM(E$8:E325)),2)","v":0}]
[null,null,null,{"$f":"ROUND(IF(C326=\"\",0,SUM(C$8:C326)),2)","v":0},null,{"$f":"ROUND(IF(E326=\"\",0,SUM(E$8:E326)),2)","v":0}]
[null,null,null,{"$f":"ROUND(IF(C327=\"\",0,SUM(C$8:C327)),2)","v":0},null,{"$f":"ROUND(IF(E327=\"\",0,SUM(E$8:E327)),2)","v":0}]
[null,null,null,{"$f":"ROUND(IF(C328=\"\",0,SUM(C$8:C328)),2)","v":0},null,{"$f":"ROUND(IF(E328=\"\",0,SUM(E$8:E328)),2)","v":0}]
[null,null,null,{"$f":"ROUND(IF(C329=\"\",0,SUM(C$8:C329)),2)","v":0},null,{"$f":"ROUND(IF(E329=\"\",0,SUM(E$8:E329)),2)","v":0}]
[null,null,null,{"$f":"ROUND(IF(C330=\"\",0,SUM(C$8:C330)),2)","v":0},null,{"$f":"ROUND(IF(E330=\"\",0,SUM(E$8:E330)),2)","v":0}]
[null,null,null,{"$f":"ROUND(IF(C331=\"\",0,SUM(C$8:C331)),2)","v":0},null,{"$f":"ROUND(IF(E331=\"\",0,SUM(E$8:E331)),2)","v":0}]
[null,null,null,{"$f":"ROUND(IF(C332=\"\",0,SUM(C$8:C332)),2)","v":0},null,{"$f":"ROUND(IF(E332=\"\",0,SUM(E$8:E332)),2)","v":0}]
[null,null,null,{"$f":"ROUND(IF(C333=\"\",0,SUM(C$8:C333)),2)","v":0},null,{"$f":"ROUND(IF(E333=\"\",0,SUM(E$8:E333)),2)","v":0}]
[null,null,null,{"$f":"ROUND(IF(C334=\"\",0,SUM(C$8:C334)),2)","v":0},null,{"$f":"ROUND(IF(E334=\"\",0,SUM(E$8:E334)),2)","v":0}]
[null,null,null,{"$f":"ROUND(IF(C335=\"\",0,SUM(C$8:C335)),2)","v":0},null,{"$f":"ROUND(IF(E335=\"\",0,SUM(E$8:E335)),2)","v":0}]
[null,null,null,{"$f":"ROUND(IF(C336=\"\",0,SUM(C$8:C336)),2)","v":0},null,{"$f":"ROUND(IF(E336=\"\",0,SUM(E$8:E336)),2)","v":0}]
[null,null,null,{"$f":"ROUND(IF(C337=\"\",0,SUM(C$8:C337)),2)","v":0},null,{"$f":"ROUND(IF(E337=\"\",0,SUM(E$8:E337)),2)","v":0}]
[null,null,null,{"$f":"ROUND(IF(C338=\"\",0,SUM(C$8:C338)),2)","v":0},null,{"$f":"ROUND(IF(E338=\"\",0,SUM(E$8:E338)),2)","v":0}]
[null,null,null,{"$f":"ROUND(IF(C339=\"\",0,SUM(C$8:C339)),2)","v":0},null,{"$f":"ROUND(IF(E339=\"\",0,SUM(E$8:E339)),2)","v":0}]
[null,null,null,{"$f":"ROUND(IF(C340=\"\",0,SUM(C$8:C340)),2)","v":0},null,{"$f":"ROUND(IF(E340=\"\",0,SUM(E$8:E340)),2)","v":0}]
[null,null,null,{"$f":"ROUND(IF(C341=\"\",0,SUM(C$8:C341)),2)","v":0},null,{"$f":"ROUND(IF(E341=\"\",0,SUM(E$8:E341)),2)","v":0}]
[null,null,null,{"$f":"ROUND(IF(C342=\"\",0,SUM(C$8:C342)),2)","v":0},null,{"$f":"ROUND(IF(E342=\"\",0,SUM(E$8:E342)),2)","v":0}]
[null,null,null,{"$f":"ROUND(IF(C343=\"\",0,SUM(C$8:C343)),2)","v":0},null,{"$f":"ROUND(IF(E343=\"\",0,SUM(E$8:E343)),2)","v":0}]
[null,null,null,{"$f":"ROUND(IF(C344=\"\",0,SUM(C$8:C344)),2)","v":0},null,{"$f":"ROUND(IF(E344=\"\",0,SUM(E$8:E344)),2)","v":0}]
[null,null,null,{"$f":"ROUND(IF(C345=\"\",0,SUM(C$8:C345)),2)","v":0},null,{"$f":"ROUND(IF(E345=\"\",0,SUM(E$8:E345)),2)","v":0}]
[null,null,null,{"$f":"ROUND(IF(C346=\"\",0,SUM(C$8:C346)),2)","v":0},null,{"$f":"ROUND(IF(E346=\"\",0,SUM(E$8:E346)),2)","v":0}]
[null,null,null,{"$f":"ROUND(IF(C347=\"\",0,SUM(C$8:C347)),2)","v":0},null,{"$f":"ROUND(IF(E347=\"\",0,SUM(E$8:E347)),2)","v":0}]
[null,null,null,{"$f":"ROUND(IF(C348=\"\",0,SUM(C$8:C348)),2)","v":0},null,{"$f":"ROUND(IF(E348=\"\",0,SUM(E$8:E348)),2)","v":0}]
[null,null,null,{"$f":"ROUND(IF(C349=\"\",0,SUM(C$8:C349)),2)","v":0},null,{"$f":"ROUND(IF(E349=\"\",0,SUM(E$8:E349)),2)","v":0}]
[null,null,null,{"$f":"ROUND(IF(C350=\"\",0,SUM(C$8:C350)),2)","v":0},null,{"$f":"ROUND(IF(E350=\"\",0,SUM(E$8:E350)),2)","v":0}]
[null,null,null,{"$f":"ROUND(IF(C351=\"\",0,SUM(C$8:C351)),2)","v":0},null,{"$f":"ROUND(IF(E351=\"\",0,SUM(E$8:E351)),2)","v":0}]
[null,null,null,{"$f":"ROUND(IF(C352=\"\",0,SUM(C$8:C352)),2)","v":0},null,{"$f":"ROUND(IF(E352=\"\",0,SUM(E$8:E352)),2)","v":0}]
[null,null,null,{"$f":"ROUND(IF(C353=\"\",0,SUM(C$8:C353)),2)","v":0},null,{"$f":"ROUND(IF(E353=\"\",0,SUM(E$8:E353)),2)","v":0}]
[null,null,null,{"$f":"ROUND(IF(C354=\"\",0,SUM(C$8:C354)),2)","v":0},null,{"$f":"ROUND(IF(E354=\"\",0,SUM(E$8:E354)),2)","v":0}]
[null,null,null,{"$f":"ROUND(IF(C355=\"\",0,SUM(C$8:C355)),2)","v":0},null,{"$f":"ROUND(IF(E355=\"\",0,SUM(E$8:E355)),2)","v":0}]
[null,null,null,{"$f":"ROUND(IF(C356=\"\",0,SUM(C$8:C356)),2)","v":0},null,{"$f":"ROUND(IF(E356=\"\",0,SUM(E$8:E356)),2)","v":0}]
[null,null,null,{"$f":"ROUND(IF(C357=\"\",0,SUM(C$8:C357)),2)","v":0},null,{"$f":"ROUND(IF(E357=\"\",0,SUM(E$8:E357)),2)","v":0}]
[null,null,null,{"$f":"ROUND(IF(C358=\"\",0,SUM(C$8:C358)),2)","v":0},null,{"$f":"ROUND(IF(E358=\"\",0,SUM(E$8:E358)),2)","v":0}]
[null,null,null,{"$f":"ROUND(IF(C359=\"\",0,SUM(C$8:C359)),2)","v":0},null,{"$f":"ROUND(IF(E359=\"\",0,SUM(E$8:E359)),2)","v":0}]
[null,null,null,{"$f":"ROUND(IF(C360=\"\",0,SUM(C$8:C360)),2)","v":0},null,{"$f":"ROUND(IF(E360=\"\",0,SUM(E$8:E360)),2)","v":0}]
[null,null,null,{"$f":"ROUND(IF(C361=\"\",0,SUM(C$8:C361)),2)","v":0},null,{"$f":"ROUND(IF(E361=\"\",0,SUM(E$8:E361)),2)","v":0}]
[null,null,null,{"$f":"ROUND(IF(C362=\"\",0,SUM(C$8:C362)),2)","v":0},null,{"$f":"ROUND(IF(E362=\"\",0,SUM(E$8:E362)),2)","v":0}]
[null,null,null,{"$f":"ROUND(IF(C363=\"\",0,SUM(C$8:C363)),2)","v":0},null,{"$f":"ROUND(IF(E363=\"\",0,SUM(E$8:E363)),2)","v":0}]
[null,null,null,{"$f":"ROUND(IF(C364=\"\",0,SUM(C$8:C364)),2)","v":0},null,{"$f":"ROUND(IF(E364=\"\",0,SUM(E$8:E364)),2)","v":0}]
[null,null,null,{"$f":"ROUND(IF(C365=\"\",0,SUM(C$8:C365)),2)","v":0},null,{"$f":"ROUND(IF(E365=\"\",0,SUM(E$8:E365)),2)","v":0}]
[null,null,null,{"$f":"ROUND(IF(C366=\"\",0,SUM(C$8:C366)),2)","v":0},null,{"$f":"ROUND(IF(E366=\"\",0,SUM(E$8:E366)),2)","v":0}]
[null,null,null,{"$f":"ROUND(IF(C367=\"\",0,SUM(C$8:C367)),2)","v":0},null,{"$f":"ROUND(IF(E367=\"\",0,SUM(E$8:E367)),2)","v":0}]
[null,null,null,{"$f":"ROUND(IF(C368=\"\",0,SUM(C$8:C368)),2)","v":0},null,{"$f":"ROUND(IF(E368=\"\",0,SUM(E$8:E368)),2)","v":0}]
[null,null,null,{"$f":"ROUND(IF(C369=\"\",0,SUM(C$8:C369)),2)","v":0},null,{"$f":"ROUND(IF(E369=\"\",0,SUM(E$8:E369)),2)","v":0}]
[null,null,null,{"$f":"ROUND(IF(C370=\"\",0,SUM(C$8:C370)),2)","v":0},null,{"$f":"ROUND(IF(E370=\"\",0,SUM(E$8:E370)),2)","v":0}]
[null,null,null,{"$f":"ROUND(IF(C371=\"\",0,SUM(C$8:C371)),2)","v":0},null,{"$f":"ROUND(IF(E371=\"\",0,SUM(E$8:E371)),2)","v":0}]
[null,null,null,{"$f":"ROUND(IF(C372=\"\",0,SUM(C$8:C372)),2)","v":0},null,{"$f":"ROUND(IF(E372=\"\",0,SUM(E$8:E372)),2)","v":0}]
[null,null,null,{"$f":"ROUND(IF(C373=\"\",0,SUM(C$8:C373)),2)","v":0},null,{"$f":"ROUND(IF(E373=\"\",0,SUM(E$8:E373)),2)","v":0}]
[null,null,null,{"$f":"ROUND(IF(C374=\"\",0,SUM(C$8:C374)),2)","v":0},null,{"$f":"ROUND(IF(E374=\"\",0,SUM(E$8:E374)),2)","v":0}]
[null,null,null,{"$f":"ROUND(IF(C375=\"\",0,SUM(C$8:C375)),2)","v":0},null,{"$f":"ROUND(IF(E375=\"\",0,SUM(E$8:E375)),2)","v":0}]
[null,null,null,{"$f":"ROUND(IF(C376=\"\",0,SUM(C$8:C376)),2)","v":0},null,{"$f":"ROUND(IF(E376=\"\",0,SUM(E$8:E376)),2)","v":0}]
[null,null,null,{"$f":"ROUND(IF(C377=\"\",0,SUM(C$8:C377)),2)","v":0},null,{"$f":"ROUND(IF(E377=\"\",0,SUM(E$8:E377)),2)","v":0}]
[null,null,null,{"$f":"ROUND(IF(C378=\"\",0,SUM(C$8:C378)),2)","v":0},null,{"$f":"ROUND(IF(E378=\"\",0,SUM(E$8:E378)),2)","v":0}]
[null,null,null,{"$f":"ROUND(IF(C379=\"\",0,SUM(C$8:C379)),2)","v":0},null,{"$f":"ROUND(IF(E379=\"\",0,SUM(E$8:E379)),2)","v":0}]
[null,null,null,{"$f":"ROUND(IF(C380=\"\",0,SUM(C$8:C380)),2)","v":0},null,{"$f":"ROUND(IF(E380=\"\",0,SUM(E$8:E380)),2)","v":0}]
[null,null,null,{"$f":"ROUND(IF(C381=\"\",0,SUM(C$8:C381)),2)","v":0},null,{"$f":"ROUND(IF(E381=\"\",0,SUM(E$8:E381)),2)","v":0}]
[null,null,null,{"$f":"ROUND(IF(C382=\"\",0,SUM(C$8:C382)),2)","v":0},null,{"$f":"ROUND(IF(E382=\"\",0,SUM(E$8:E382)),2)","v":0}]
[null,null,null,{"$f":"ROUND(IF(C383=\"\",0,SUM(C$8:C383)),2)","v":0},null,{"$f":"ROUND(IF(E383=\"\",0,SUM(E$8:E383)),2)","v":0}]
[null,null,null,{"$f":"ROUND(IF(C384=\"\",0,SUM(C$8:C384)),2)","v":0},null,{"$f":"ROUND(IF(E384=\"\",0,SUM(E$8:E384)),2)","v":0}]
[null,null,null,{"$f":"ROUND(IF(C385=\"\",0,SUM(C$8:C385)),2)","v":0},null,{"$f":"ROUND(IF(E385=\"\",0,SUM(E$8:E385)),2)","v":0}]
[null,null,null,{"$f":"ROUND(IF(C386=\"\",0,SUM(C$8:C386)),2)","v":0},null,{"$f":"ROUND(IF(E386=\"\",0,SUM(E$8:E386)),2)","v":0}]
[null,null,null,{"$f":"ROUND(IF(C387=\"\",0,SUM(C$8:C387)),2)","v":0},null,{"$f":"ROUND(IF(E387=\"\",0,SUM(E$8:E387)),2)","v":0}]
[null,null,null,{"$f":"ROUND(IF(C388=\"\",0,SUM(C$8:C388)),2)","v":0},null,{"$f":"ROUND(IF(E388=\"\",0,SUM(E$8:E388)),2)","v":0}]
[null,null,null,{"$f":"ROUND(IF(C389=\"\",0,SUM(C$8:C389)),2)","v":0},null,{"$f":"ROUND(IF(E389=\"\",0,SUM(E$8:E389)),2)","v":0}]
[null,null,null,{"$f":"ROUND(IF(C390=\"\",0,SUM(C$8:C390)),2)","v":0},null,{"$f":"ROUND(IF(E390=\"\",0,SUM(E$8:E390)),2)","v":0}]
[null,null,null,{"$f":"ROUND(IF(C391=\"\",0,SUM(C$8:C391)),2)","v":0},null,{"$f":"ROUND(IF(E391=\"\",0,SUM(E$8:E391)),2)","v":0}]
[null,null,null,{"$f":"ROUND(IF(C392=\"\",0,SUM(C$8:C392)),2)","v":0},null,{"$f":"ROUND(IF(E392=\"\",0,SUM(E$8:E392)),2)","v":0}]
[null,null,null,{"$f":"ROUND(IF(C393=\"\",0,SUM(C$8:C393)),2)","v":0},null,{"$f":"ROUND(IF(E393=\"\",0,SUM(E$8:E393)),2)","v":0}]
[null,null,null,{"$f":"ROUND(IF(C394=\"\",0,SUM(C$8:C394)),2)","v":0},null,{"$f":"ROUND(IF(E394=\"\",0,SUM(E$8:E394)),2)","v":0}]
[null,null,null,{"$f":"ROUND(IF(C395=\"\",0,SUM(C$8:C395)),2)","v":0},null,{"$f":"ROUND(IF(E395=\"\",0,SUM(E$8:E395)),2)","v":0}]
[null,null,null,{"$f":"ROUND(IF(C396=\"\",0,SUM(C$8:C396)),2)","v":0},null,{"$f":"ROUND(IF(E396=\"\",0,SUM(E$8:E396)),2)","v":0}]
[null,null,null,{"$f":"ROUND(IF(C397=\"\",0,SUM(C$8:C397)),2)","v":0},null,{"$f":"ROUND(IF(E397=\"\",0,SUM(E$8:E397)),2)","v":0}]
[null,null,null,{"$f":"ROUND(IF(C398=\"\",0,SUM(C$8:C398)),2)","v":0},null,{"$f":"ROUND(IF(E398=\"\",0,SUM(E$8:E398)),2)","v":0}]
[null,null,null,{"$f":"ROUND(IF(C399=\"\",0,SUM(C$8:C399)),2)","v":0},null,{"$f":"ROUND(IF(E399=\"\",0,SUM(E$8:E399)),2)","v":0}]
[null,null,null,{"$f":"ROUND(IF(C400=\"\",0,SUM(C$8:C400)),2)","v":0},null,{"$f":"ROUND(IF(E400=\"\",0,SUM(E$8:E400)),2)","v":0}]
[null,null,null,{"$f":"ROUND(IF(C401=\"\",0,SUM(C$8:C401)),2)","v":0},null,{"$f":"ROUND(IF(E401=\"\",0,SUM(E$8:E401)),2)","v":0}]
[null,null,null,{"$f":"ROUND(IF(C402=\"\",0,SUM(C$8:C402)),2)","v":0},null,{"$f":"ROUND(IF(E402=\"\",0,SUM(E$8:E402)),2)","v":0}]
[null,null,null,{"$f":"ROUND(IF(C403=\"\",0,SUM(C$8:C403)),2)","v":0},null,{"$f":"ROUND(IF(E403=\"\",0,SUM(E$8:E403)),2)","v":0}]
[null,null,null,{"$f":"ROUND(IF(C404=\"\",0,SUM(C$8:C404)),2)","v":0},null,{"$f":"ROUND(IF(E404=\"\",0,SUM(E$8:E404)),2)","v":0}]
[null,null,null,{"$f":"ROUND(IF(C405=\"\",0,SUM(C$8:C405)),2)","v":0},null,{"$f":"ROUND(IF(E405=\"\",0,SUM(E$8:E405)),2)","v":0}]
[null,null,null,{"$f":"ROUND(IF(C406=\"\",0,SUM(C$8:C406)),2)","v":0},null,{"$f":"ROUND(IF(E406=\"\",0,SUM(E$8:E406)),2)","v":0}]
[null,null,null,{"$f":"ROUND(IF(C407=\"\",0,SUM(C$8:C407)),2)","v":0},null,{"$f":"ROUND(IF(E407=\"\",0,SUM(E$8:E407)),2)","v":0}]
[null,null,null,{"$f":"ROUND(IF(C408=\"\",0,SUM(C$8:C408)),2)","v":0},null,{"$f":"ROUND(IF(E408=\"\",0,SUM(E$8:E408)),2)","v":0}]
[null,null,null,{"$f":"ROUND(IF(C409=\"\",0,SUM(C$8:C409)),2)","v":0},null,{"$f":"ROUND(IF(E409=\"\",0,SUM(E$8:E409)),2)","v":0}]
[null,null,null,{"$f":"ROUND(IF(C410=\"\",0,SUM(C$8:C410)),2)","v":0},null,{"$f":"ROUND(IF(E410=\"\",0,SUM(E$8:E410)),2)","v":0}]
[null,null,null,{"$f":"ROUND(IF(C411=\"\",0,SUM(C$8:C411)),2)","v":0},null,{"$f":"ROUND(IF(E411=\"\",0,SUM(E$8:E411)),2)","v":0}]
[null,null,null,{"$f":"ROUND(IF(C412=\"\",0,SUM(C$8:C412)),2)","v":0},null,{"$f":"ROUND(IF(E412=\"\",0,SUM(E$8:E412)),2)","v":0}]
[null,null,null,{"$f":"ROUND(IF(C413=\"\",0,SUM(C$8:C413)),2)","v":0},null,{"$f":"ROUND(IF(E413=\"\",0,SUM(E$8:E413)),2)","v":0}]
[null,null,null,{"$f":"ROUND(IF(C414=\"\",0,SUM(C$8:C414)),2)","v":0},null,{"$f":"ROUND(IF(E414=\"\",0,SUM(E$8:E414)),2)","v":0}]
[null,null,null,{"$f":"ROUND(IF(C415=\"\",0,SUM(C$8:C415)),2)","v":0},null,{"$f":"ROUND(IF(E415=\"\",0,SUM(E$8:E415)),2)","v":0}]
[null,null,null,{"$f":"ROUND(IF(C416=\"\",0,SUM(C$8:C416)),2)","v":0},null,{"$f":"ROUND(IF(E416=\"\",0,SUM(E$8:E416)),2)","v":0}]
[null,null,null,{"$f":"ROUND(IF(C417=\"\",0,SUM(C$8:C417)),2)","v":0},null,{"$f":"ROUND(IF(E417=\"\",0,SUM(E$8:E417)),2)","v":0}]
[null,null,null,{"$f":"ROUND(IF(C418=\"\",0,SUM(C$8:C418)),2)","v":0},null,{"$f":"ROUND(IF(E418=\"\",0,SUM(E$8:E418)),2)","v":0}]
[null,null,null,{"$f":"ROUND(IF(C419=\"\",0,SUM(C$8:C419)),2)","v":0},null,{"$f":"ROUND(IF(E419=\"\",0,SUM(E$8:E419)),2)","v":0}]
[null,null,null,{"$f":"ROUND(IF(C420=\"\",0,SUM(C$8:C420)),2)","v":0},null,{"$f":"ROUND(IF(E420=\"\",0,SUM(E$8:E420)),2)","v":0}]
[null,null,null,{"$f":"ROUND(IF(C421=\"\",0,SUM(C$8:C421)),2)","v":0},null,{"$f":"ROUND(IF(E421=\"\",0,SUM(E$8:E421)),2)","v":0}]
[null,null,null,{"$f":"ROUND(IF(C422=\"\",0,SUM(C$8:C422)),2)","v":0},null,{"$f":"ROUND(IF(E422=\"\",0,SUM(E$8:E422)),2)","v":0}]
[null,null,null,{"$f":"ROUND(IF(C423=\"\",0,SUM(C$8:C423)),2)","v":0},null,{"$f":"ROUND(IF(E423=\"\",0,SUM(E$8:E423)),2)","v":0}]
[null,null,null,{"$f":"ROUND(IF(C424=\"\",0,SUM(C$8:C424)),2)","v":0},null,{"$f":"ROUND(IF(E424=\"\",0,SUM(E$8:E424)),2)","v":0}]
[null,null,null,{"$f":"ROUND(IF(C425=\"\",0,SUM(C$8:C425)),2)","v":0},null,{"$f":"ROUND(IF(E425=\"\",0,SUM(E$8:E425)),2)","v":0}]
[null,null,null,{"$f":"ROUND(IF(C426=\"\",0,SUM(C$8:C426)),2)","v":0},null,{"$f":"ROUND(IF(E426=\"\",0,SUM(E$8:E426)),2)","v":0}]
[null,null,null,{"$f":"ROUND(IF(C427=\"\",0,SUM(C$8:C427)),2)","v":0},null,{"$f":"ROUND(IF(E427=\"\",0,SUM(E$8:E427)),2)","v":0}]
[null,null,null,{"$f":"ROUND(IF(C428=\"\",0,SUM(C$8:C428)),2)","v":0},null,{"$f":"ROUND(IF(E428=\"\",0,SUM(E$8:E428)),2)","v":0}]
[null,null,null,{"$f":"ROUND(IF(C429=\"\",0,SUM(C$8:C429)),2)","v":0},null,{"$f":"ROUND(IF(E429=\"\",0,SUM(E$8:E429)),2)","v":0}]
[null,null,null,{"$f":"ROUND(IF(C430=\"\",0,SUM(C$8:C430)),2)","v":0},null,{"$f":"ROUND(IF(E430=\"\",0,SUM(E$8:E430)),2)","v":0}]
[null,null,null,{"$f":"ROUND(IF(C431=\"\",0,SUM(C$8:C431)),2)","v":0},null,{"$f":"ROUND(IF(E431=\"\",0,SUM(E$8:E431)),2)","v":0}]
[null,null,null,{"$f":"ROUND(IF(C432=\"\",0,SUM(C$8:C432)),2)","v":0},null,{"$f":"ROUND(IF(E432=\"\",0,SUM(E$8:E432)),2)","v":0}]
[null,null,null,{"$f":"ROUND(IF(C433=\"\",0,SUM(C$8:C433)),2)","v":0},null,{"$f":"ROUND(IF(E433=\"\",0,SUM(E$8:E433)),2)","v":0}]
[null,null,null,{"$f":"ROUND(IF(C434=\"\",0,SUM(C$8:C434)),2)","v":0},null,{"$f":"ROUND(IF(E434=\"\",0,SUM(E$8:E434)),2)","v":0}]
[null,null,null,{"$f":"ROUND(IF(C435=\"\",0,SUM(C$8:C435)),2)","v":0},null,{"$f":"ROUND(IF(E435=\"\",0,SUM(E$8:E435)),2)","v":0}]
[null,null,null,{"$f":"ROUND(IF(C436=\"\",0,SUM(C$8:C436)),2)","v":0},null,{"$f":"ROUND(IF(E436=\"\",0,SUM(E$8:E436)),2)","v":0}]
[null,null,null,{"$f":"ROUND(IF(C437=\"\",0,SUM(C$8:C437)),2)","v":0},null,{"$f":"ROUND(IF(E437=\"\",0,SUM(E$8:E437)),2)","v":0}]
[null,null,null,{"$f":"ROUND(IF(C438=\"\",0,SUM(C$8:C438)),2)","v":0},null,{"$f":"ROUND(IF(E438=\"\",0,SUM(E$8:E438)),2)","v":0}]
[null,null,null,{"$f":"ROUND(IF(C439=\"\",0,SUM(C$8:C439)),2)","v":0},null,{"$f":"ROUND(IF(E439=\"\",0,SUM(E$8:E439)),2)","v":0}]
[null,null,null,{"$f":"ROUND(IF(C440=\"\",0,SUM(C$8:C440)),2)","v":0},null,{"$f":"ROUND(IF(E440=\"\",0,SUM(E$8:E440)),2)","v":0}]
[null,null,null,{"$f":"ROUND(IF(C441=\"\",0,SUM(C$8:C441)),2)","v":0},null,{"$f":"ROUND(IF(E441=\"\",0,SUM(E$8:E441)),2)","v":0}]
[null,null,null,{"$f":"ROUND(IF(C442=\"\",0,SUM(C$8:C442)),2)","v":0},null,{"$f":"ROUND(IF(E442=\"\",0,SUM(E$8:E442)),2)","v":0}]
[null,null,null,{"$f":"ROUND(IF(C443=\"\",0,SUM(C$8:C443)),2)","v":0},null,{"$f":"ROUND(IF(E443=\"\",0,SUM(E$8:E443)),2)","v":0}]
[null,null,null,{"$f":"ROUND(IF(C444=\"\",0,SUM(C$8:C444)),2)","v":0},null,{"$f":"ROUND(IF(E444=\"\",0,SUM(E$8:E444)),2)","v":0}]
[null,null,null,{"$f":"ROUND(IF(C445=\"\",0,SUM(C$8:C445)),2)","v":0},null,{"$f":"ROUND(IF(E445=\"\",0,SUM(E$8:E445)),2)","v":0}]
[null,null,null,{"$f":"ROUND(IF(C446=\"\",0,SUM(C$8:C446)),2)","v":0},null,{"$f":"ROUND(IF(E446=\"\",0,SUM(E$8:E446)),2)","v":0}]
[null,null,null,{"$f":"ROUND(IF(C447=\"\",0,SUM(C$8:C447)),2)","v":0},null,{"$f":"ROUND(IF(E447=\"\",0,SUM(E$8:E447)),2)","v":0}]
[null,null,null,{"$f":"ROUND(IF(C448=\"\",0,SUM(C$8:C448)),2)","v":0},null,{"$f":"ROUND(IF(E448=\"\",0,SUM(E$8:E448)),2)","v":0}]
[null,null,null,{"$f":"ROUND(IF(C449=\"\",0,SUM(C$8:C449)),2)","v":0},null,{"$f":"ROUND(IF(E449=\"\",0,SUM(E$8:E449)),2)","v":0}]
[null,null,null,{"$f":"ROUND(IF(C450=\"\",0,SUM(C$8:C450)),2)","v":0},null,{"$f":"ROUND(IF(E450=\"\",0,SUM(E$8:E450)),2)","v":0}]
[null,null,null,{"$f":"ROUND(IF(C451=\"\",0,SUM(C$8:C451)),2)","v":0},null,{"$f":"ROUND(IF(E451=\"\",0,SUM(E$8:E451)),2)","v":0}]
[null,null,null,{"$f":"ROUND(IF(C452=\"\",0,SUM(C$8:C452)),2)","v":0},null,{"$f":"ROUND(IF(E452=\"\",0,SUM(E$8:E452)),2)","v":0}]
[null,null,null,{"$f":"ROUND(IF(C453=\"\",0,SUM(C$8:C453)),2)","v":0},null,{"$f":"ROUND(IF(E453=\"\",0,SUM(E$8:E453)),2)","v":0}]
[null,null,null,{"$f":"ROUND(IF(C454=\"\",0,SUM(C$8:C454)),2)","v":0},null,{"$f":"ROUND(IF(E454=\"\",0,SUM(E$8:E454)),2)","v":0}]
[null,null,null,{"$f":"ROUND(IF(C455=\"\",0,SUM(C$8:C455)),2)","v":0},null,{"$f":"ROUND(IF(E455=\"\",0,SUM(E$8:E455)),2)","v":0}]
[null,null,null,{"$f":"ROUND(IF(C456=\"\",0,SUM(C$8:C456)),2)","v":0},null,{"$f":"ROUND(IF(E456=\"\",0,SUM(E$8:E456)),2)","v":0}]
[null,null,null,{"$f":"ROUND(IF(C457=\"\",0,SUM(C$8:C457)),2)","v":0},null,{"$f":"ROUND(IF(E457=\"\",0,SUM(E$8:E457)),2)","v":0}]
[null,null,null,{"$f":"ROUND(IF(C458=\"\",0,SUM(C$8:C458)),2)","v":0},null,{"$f":"ROUND(IF(E458=\"\",0,SUM(E$8:E458)),2)","v":0}]
[null,null,null,{"$f":"ROUND(IF(C459=\"\",0,SUM(C$8:C459)),2)","v":0},null,{"$f":"ROUND(IF(E459=\"\",0,SUM(E$8:E459)),2)","v":0}]
[null,null,null,{"$f":"ROUND(IF(C460=\"\",0,SUM(C$8:C460)),2)","v":0},null,{"$f":"ROUND(IF(E460=\"\",0,SUM(E$8:E460)),2)","v":0}]
[null,null,null,{"$f":"ROUND(IF(C461=\"\",0,SUM(C$8:C461)),2)","v":0},null,{"$f":"ROUND(IF(E461=\"\",0,SUM(E$8:E461)),2)","v":0}]
[null,null,null,{"$f":"ROUND(IF(C462=\"\",0,SUM(C$8:C462)),2)","v":0},null,{"$f":"ROUND(IF(E462=\"\",0,SUM(E$8:E462)),2)","v":0}]
[null,null,null,{"$f":"ROUND(IF(C463=\"\",0,SUM(C$8:C463)),2)","v":0},null,{"$f":"ROUND(IF(E463=\"\",0,SUM(E$8:E463)),2)","v":0}]
[null,null,null,{"$f":"ROUND(IF(C464=\"\",0,SUM(C$8:C464)),2)","v":0},null,{"$f":"ROUND(IF(E464=\"\",0,SUM(E$8:E464)),2)","v":0}]
[null,null,null,{"$f":"ROUND(IF(C465=\"\",0,SUM(C$8:C465)),2)","v":0},null,{"$f":"ROUND(IF(E465=\"\",0,SUM(E$8:E465)),2)","v":0}]
[null,null,null,{"$f":"ROUND(IF(C466=\"\",0,SUM(C$8:C466)),2)","v":0},null,{"$f":"ROUND(IF(E466=\"\",0,SUM(E$8:E466)),2)","v":0}]
[null,null,null,{"$f":"ROUND(IF(C467=\"\",0,SUM(C$8:C467)),2)","v":0},null,{"$f":"ROUND(IF(E467=\"\",0,SUM(E$8:E467)),2)","v":0}]
[null,null,null,{"$f":"ROUND(IF(C468=\"\",0,SUM(C$8:C468)),2)","v":0},null,{"$f":"ROUND(IF(E468=\"\",0,SUM(E$8:E468)),2)","v":0}]
[null,null,null,{"$f":"ROUND(IF(C469=\"\",0,SUM(C$8:C469)),2)","v":0},null,{"$f":"ROUND(IF(E469=\"\",0,SUM(E$8:E469)),2)","v":0}]
[null,null,null,{"$f":"ROUND(IF(C470=\"\",0,SUM(C$8:C470)),2)","v":0},null,{"$f":"ROUND(IF(E470=\"\",0,SUM(E$8:E470)),2)","v":0}]
[null,null,null,{"$f":"ROUND(IF(C471=\"\",0,SUM(C$8:C471)),2)","v":0},null,{"$f":"ROUND(IF(E471=\"\",0,SUM(E$8:E471)),2)","v":0}]
[null,null,null,{"$f":"ROUND(IF(C472=\"\",0,SUM(C$8:C472)),2)","v":0},null,{"$f":"ROUND(IF(E472=\"\",0,SUM(E$8:E472)),2)","v":0}]
[null,null,null,{"$f":"ROUND(IF(C473=\"\",0,SUM(C$8:C473)),2)","v":0},null,{"$f":"ROUND(IF(E473=\"\",0,SUM(E$8:E473)),2)","v":0}]
[null,null,null,{"$f":"ROUND(IF(C474=\"\",0,SUM(C$8:C474)),2)","v":0},null,{"$f":"ROUND(IF(E474=\"\",0,SUM(E$8:E474)),2)","v":0}]
[null,null,null,{"$f":"ROUND(IF(C475=\"\",0,SUM(C$8:C475)),2)","v":0},null,{"$f":"ROUND(IF(E475=\"\",0,SUM(E$8:E475)),2)","v":0}]
[null,null,null,{"$f":"ROUND(IF(C476=\"\",0,SUM(C$8:C476)),2)","v":0},null,{"$f":"ROUND(IF(E476=\"\",0,SUM(E$8:E476)),2)","v":0}]
[null,null,null,{"$f":"ROUND(IF(C477=\"\",0,SUM(C$8:C477)),2)","v":0},null,{"$f":"ROUND(IF(E477=\"\",0,SUM(E$8:E477)),2)","v":0}]
[null,null,null,{"$f":"ROUND(IF(C478=\"\",0,SUM(C$8:C478)),2)","v":0},null,{"$f":"ROUND(IF(E478=\"\",0,SUM(E$8:E478)),2)","v":0}]
[null,null,null,{"$f":"ROUND(IF(C479=\"\",0,SUM(C$8:C479)),2)","v":0},null,{"$f":"ROUND(IF(E479=\"\",0,SUM(E$8:E479)),2)","v":0}]
[null,null,null,{"$f":"ROUND(IF(C480=\"\",0,SUM(C$8:C480)),2)","v":0},null,{"$f":"ROUND(IF(E480=\"\",0,SUM(E$8:E480)),2)","v":0}]
[null,null,null,{"$f":"ROUND(IF(C481=\"\",0,SUM(C$8:C481)),2)","v":0},null,{"$f":"ROUND(IF(E481=\"\",0,SUM(E$8:E481)),2)","v":0}]
[null,null,null,{"$f":"ROUND(IF(C482=\"\",0,SUM(C$8:C482)),2)","v":0},null,{"$f":"ROUND(IF(E482=\"\",0,SUM(E$8:E482)),2)","v":0}]
[null,null,null,{"$f":"ROUND(IF(C483=\"\",0,SUM(C$8:C483)),2)","v":0},null,{"$f":"ROUND(IF(E483=\"\",0,SUM(E$8:E483)),2)","v":0}]
[null,null,null,{"$f":"ROUND(IF(C484=\"\",0,SUM(C$8:C484)),2)","v":0},null,{"$f":"ROUND(IF(E484=\"\",0,SUM(E$8:E484)),2)","v":0}]
[null,null,null,{"$f":"ROUND(IF(C485=\"\",0,SUM(C$8:C485)),2)","v":0},null,{"$f":"ROUND(IF(E485=\"\",0,SUM(E$8:E485)),2)","v":0}]
[null,null,null,{"$f":"ROUND(IF(C486=\"\",0,SUM(C$8:C486)),2)","v":0},null,{"$f":"ROUND(IF(E486=\"\",0,SUM(E$8:E486)),2)","v":0}]
[null,null,null,{"$f":"ROUND(IF(C487=\"\",0,SUM(C$8:C487)),2)","v":0},null,{"$f":"ROUND(IF(E487=\"\",0,SUM(E$8:E487)),2)","v":0}]
[null,null,null,{"$f":"ROUND(IF(C488=\"\",0,SUM(C$8:C488)),2)","v":0},null,{"$f":"ROUND(IF(E488=\"\",0,SUM(E$8:E488)),2)","v":0}]
[null,null,null,{"$f":"ROUND(IF(C489=\"\",0,SUM(C$8:C489)),2)","v":0},null,{"$f":"ROUND(IF(E489=\"\",0,SUM(E$8:E489)),2)","v":0}]
[null,null,null,{"$f":"ROUND(IF(C490=\"\",0,SUM(C$8:C490)),2)","v":0},null,{"$f":"ROUND(IF(E490=\"\",0,SUM(E$8:E490)),2)","v":0}]
[null,null,null,{"$f":"ROUND(IF(C491=\"\",0,SUM(C$8:C491)),2)","v":0},null,{"$f":"ROUND(IF(E491=\"\",0,SUM(E$8:E491)),2)","v":0}]
[null,null,null,{"$f":"ROUND(IF(C492=\"\",0,SUM(C$8:C492)),2)","v":0},null,{"$f":"ROUND(IF(E492=\"\",0,SUM(E$8:E492)),2)","v":0}]
[null,null,null,{"$f":"ROUND(IF(C493=\"\",0,SUM(C$8:C493)),2)","v":0},null,{"$f":"ROUND(IF(E493=\"\",0,SUM(E$8:E493)),2)","v":0}]
[null,null,null,{"$f":"ROUND(IF(C494=\"\",0,SUM(C$8:C494)),2)","v":0},null,{"$f":"ROUND(IF(E494=\"\",0,SUM(E$8:E494)),2)","v":0}]
[null,null,null,{"$f":"ROUND(IF(C495=\"\",0,SUM(C$8:C495)),2)","v":0},null,{"$f":"ROUND(IF(E495=\"\",0,SUM(E$8:E495)),2)","v":0}]
[null,null,null,{"$f":"ROUND(IF(C496=\"\",0,SUM(C$8:C496)),2)","v":0},null,{"$f":"ROUND(IF(E496=\"\",0,SUM(E$8:E496)),2)","v":0}]
[null,null,null,{"$f":"ROUND(IF(C497=\"\",0,SUM(C$8:C497)),2)","v":0},null,{"$f":"ROUND(IF(E497=\"\",0,SUM(E$8:E497)),2)","v":0}]
[null,null,null,{"$f":"ROUND(IF(C498=\"\",0,SUM(C$8:C498)),2)","v":0},null,{"$f":"ROUND(IF(E498=\"\",0,SUM(E$8:E498)),2)","v":0}]
[null,null,null,{"$f":"ROUND(IF(C499=\"\",0,SUM(C$8:C499)),2)","v":0},null,{"$f":"ROUND(IF(E499=\"\",0,SUM(E$8:E499)),2)","v":0}]
[null,null,null,{"$f":"ROUND(IF(C500=\"\",0,SUM(C$8:C500)),2)","v":0},null,{"$f":"ROUND(IF(E500=\"\",0,SUM(E$8:E500)),2)","v":0}]
[null,null,null,{"$f":"ROUND(IF(C501=\"\",0,SUM(C$8:C501)),2)","v":0},null,{"$f":"ROUND(IF(E501=\"\",0,SUM(E$8:E501)),2)","v":0}]
[null,null,null,{"$f":"ROUND(IF(C502=\"\",0,SUM(C$8:C502)),2)","v":0},null,{"$f":"ROUND(IF(E502=\"\",0,SUM(E$8:E502)),2)","v":0}]
[null,null,null,{"$f":"ROUND(IF(C503=\"\",0,SUM(C$8:C503)),2)","v":0},null,{"$f":"ROUND(IF(E503=\"\",0,SUM(E$8:E503)),2)","v":0}]
[null,null,null,{"$f":"ROUND(IF(C504=\"\",0,SUM(C$8:C504)),2)","v":0},null,{"$f":"ROUND(IF(E504=\"\",0,SUM(E$8:E504)),2)","v":0}]
[null,null,null,{"$f":"ROUND(IF(C505=\"\",0,SUM(C$8:C505)),2)","v":0},null,{"$f":"ROUND(IF(E505=\"\",0,SUM(E$8:E505)),2)","v":0}]
[null,null,null,{"$f":"ROUND(IF(C506=\"\",0,SUM(C$8:C506)),2)","v":0},null,{"$f":"ROUND(IF(E506=\"\",0,SUM(E$8:E506)),2)","v":0}]
[null,null,null,{"$f":"ROUND(IF(C507=\"\",0,SUM(C$8:C507)),2)","v":0},null,{"$f":"ROUND(IF(E507=\"\",0,SUM(E$8:E507)),2)","v":0}]
[null,null,null,{"$f":"ROUND(IF(C508=\"\",0,SUM(C$8:C508)),2)","v":0},null,{"$f":"ROUND(IF(E508=\"\",0,SUM(E$8:E508)),2)","v":0}]
[null,null,null,{"$f":"ROUND(IF(C509=\"\",0,SUM(C$8:C509)),2)","v":0},null,{"$f":"ROUND(IF(E509=\"\",0,SUM(E$8:E509)),2)","v":0}]
[null,null,null,{"$f":"ROUND(IF(C510=\"\",0,SUM(C$8:C510)),2)","v":0},null,{"$f":"ROUND(IF(E510=\"\",0,SUM(E$8:E510)),2)","v":0}]
[null,null,null,{"$f":"ROUND(IF(C511=\"\",0,SUM(C$8:C511)),2)","v":0},null,{"$f":"ROUND(IF(E511=\"\",0,SUM(E$8:E511)),2)","v":0}]
[null,null,null,{"$f":"ROUND(IF(C512=\"\",0,SUM(C$8:C512)),2)","v":0},null,{"$f":"ROUND(IF(E512=\"\",0,SUM(E$8:E512)),2)","v":0}]
[null,null,null,{"$f":"ROUND(IF(C513=\"\",0,SUM(C$8:C513)),2)","v":0},null,{"$f":"ROUND(IF(E513=\"\",0,SUM(E$8:E513)),2)","v":0}]
[null,null,null,{"$f":"ROUND(IF(C514=\"\",0,SUM(C$8:C514)),2)","v":0},null,{"$f":"ROUND(IF(E514=\"\",0,SUM(E$8:E514)),2)","v":0}]
[null,null,null,{"$f":"ROUND(IF(C515=\"\",0,SUM(C$8:C515)),2)","v":0},null,{"$f":"ROUND(IF(E515=\"\",0,SUM(E$8:E515)),2)","v":0}]
[null,null,null,{"$f":"ROUND(IF(C516=\"\",0,SUM(C$8:C516)),2)","v":0},null,{"$f":"ROUND(IF(E516=\"\",0,SUM(E$8:E516)),2)","v":0}]
[null,null,null,{"$f":"ROUND(IF(C517=\"\",0,SUM(C$8:C517)),2)","v":0},null,{"$f":"ROUND(IF(E517=\"\",0,SUM(E$8:E517)),2)","v":0}]
[null,null,null,{"$f":"ROUND(IF(C518=\"\",0,SUM(C$8:C518)),2)","v":0},null,{"$f":"ROUND(IF(E518=\"\",0,SUM(E$8:E518)),2)","v":0}]
[null,null,null,{"$f":"ROUND(IF(C519=\"\",0,SUM(C$8:C519)),2)","v":0},null,{"$f":"ROUND(IF(E519=\"\",0,SUM(E$8:E519)),2)","v":0}]
[null,null,null,{"$f":"ROUND(IF(C520=\"\",0,SUM(C$8:C520)),2)","v":0},null,{"$f":"ROUND(IF(E520=\"\",0,SUM(E$8:E520)),2)","v":0}]
[null,null,null,{"$f":"ROUND(IF(C521=\"\",0,SUM(C$8:C521)),2)","v":0},null,{"$f":"ROUND(IF(E521=\"\",0,SUM(E$8:E521)),2)","v":0}]
[null,null,null,{"$f":"ROUND(IF(C522=\"\",0,SUM(C$8:C522)),2)","v":0},null,{"$f":"ROUND(IF(E522=\"\",0,SUM(E$8:E522)),2)","v":0}]
[null,null,null,{"$f":"ROUND(IF(C523=\"\",0,SUM(C$8:C523)),2)","v":0},null,{"$f":"ROUND(IF(E523=\"\",0,SUM(E$8:E523)),2)","v":0}]
[null,null,null,{"$f":"ROUND(IF(C524=\"\",0,SUM(C$8:C524)),2)","v":0},null,{"$f":"ROUND(IF(E524=\"\",0,SUM(E$8:E524)),2)","v":0}]
[null,null,null,{"$f":"ROUND(IF(C525=\"\",0,SUM(C$8:C525)),2)","v":0},null,{"$f":"ROUND(IF(E525=\"\",0,SUM(E$8:E525)),2)","v":0}]
[null,null,null,{"$f":"ROUND(IF(C526=\"\",0,SUM(C$8:C526)),2)","v":0},null,{"$f":"ROUND(IF(E526=\"\",0,SUM(E$8:E526)),2)","v":0}]
[null,null,null,{"$f":"ROUND(IF(C527=\"\",0,SUM(C$8:C527)),2)","v":0},null,{"$f":"ROUND(IF(E527=\"\",0,SUM(E$8:E527)),2)","v":0}]
[null,null,null,{"$f":"ROUND(IF(C528=\"\",0,SUM(C$8:C528)),2)","v":0},null,{"$f":"ROUND(IF(E528=\"\",0,SUM(E$8:E528)),2)","v":0}]
[null,null,null,{"$f":"ROUND(IF(C529=\"\",0,SUM(C$8:C529)),2)","v":0},null,{"$f":"ROUND(IF(E529=\"\",0,SUM(E$8:E529)),2)","v":0}]
[null,null,null,{"$f":"ROUND(IF(C530=\"\",0,SUM(C$8:C530)),2)","v":0},null,{"$f":"ROUND(IF(E530=\"\",0,SUM(E$8:E530)),2)","v":0}]
[null,null,null,{"$f":"ROUND(IF(C531=\"\",0,SUM(C$8:C531)),2)","v":0},null,{"$f":"ROUND(IF(E531=\"\",0,SUM(E$8:E531)),2)","v":0}]
[null,null,null,{"$f":"ROUND(IF(C532=\"\",0,SUM(C$8:C532)),2)","v":0},null,{"$f":"ROUND(IF(E532=\"\",0,SUM(E$8:E532)),2)","v":0}]
[null,null,null,{"$f":"ROUND(IF(C533=\"\",0,SUM(C$8:C533)),2)","v":0},null,{"$f":"ROUND(IF(E533=\"\",0,SUM(E$8:E533)),2)","v":0}]
[null,null,null,{"$f":"ROUND(IF(C534=\"\",0,SUM(C$8:C534)),2)","v":0},null,{"$f":"ROUND(IF(E534=\"\",0,SUM(E$8:E534)),2)","v":0}]
[null,null,null,{"$f":"ROUND(IF(C535=\"\",0,SUM(C$8:C535)),2)","v":0},null,{"$f":"ROUND(IF(E535=\"\",0,SUM(E$8:E535)),2)","v":0}]
[null,null,null,{"$f":"ROUND(IF(C536=\"\",0,SUM(C$8:C536)),2)","v":0},null,{"$f":"ROUND(IF(E536=\"\",0,SUM(E$8:E536)),2)","v":0}]
[null,null,null,{"$f":"ROUND(IF(C537=\"\",0,SUM(C$8:C537)),2)","v":0},null,{"$f":"ROUND(IF(E537=\"\",0,SUM(E$8:E537)),2)","v":0}]
[null,null,null,{"$f":"ROUND(IF(C538=\"\",0,SUM(C$8:C538)),2)","v":0},null,{"$f":"ROUND(IF(E538=\"\",0,SUM(E$8:E538)),2)","v":0}]
[null,null,null,{"$f":"ROUND(IF(C539=\"\",0,SUM(C$8:C539)),2)","v":0},null,{"$f":"ROUND(IF(E539=\"\",0,SUM(E$8:E539)),2)","v":0}]
[null,null,null,{"$f":"ROUND(IF(C540=\"\",0,SUM(C$8:C540)),2)","v":0},null,{"$f":"ROUND(IF(E540=\"\",0,SUM(E$8:E540)),2)","v":0}]
[null,null,null,{"$f":"ROUND(IF(C541=\"\",0,SUM(C$8:C541)),2)","v":0},null,{"$f":"ROUND(IF(E541=\"\",0,SUM(E$8:E541)),2)","v":0}]
[null,null,null,{"$f":"ROUND(IF(C542=\"\",0,SUM(C$8:C542)),2)","v":0},null,{"$f":"ROUND(IF(E542=\"\",0,SUM(E$8:E542)),2)","v":0}]
[null,null,null,{"$f":"ROUND(IF(C543=\"\",0,SUM(C$8:C543)),2)","v":0},null,{"$f":"ROUND(IF(E543=\"\",0,SUM(E$8:E543)),2)","v":0}]
[null,null,null,{"$f":"ROUND(IF(C544=\"\",0,SUM(C$8:C544)),2)","v":0},null,{"$f":"ROUND(IF(E544=\"\",0,SUM(E$8:E544)),2)","v":0}]
[null,null,null,{"$f":"ROUND(IF(C545=\"\",0,SUM(C$8:C545)),2)","v":0},null,{"$f":"ROUND(IF(E545=\"\",0,SUM(E$8:E545)),2)","v":0}]
[null,null,null,{"$f":"ROUND(IF(C546=\"\",0,SUM(C$8:C546)),2)","v":0},null,{"$f":"ROUND(IF(E546=\"\",0,SUM(E$8:E546)),2)","v":0}]
[null,null,null,{"$f":"ROUND(IF(C547=\"\",0,SUM(C$8:C547)),2)","v":0},null,{"$f":"ROUND(IF(E547=\"\",0,SUM(E$8:E547)),2)","v":0}]
[null,null,null,{"$f":"ROUND(IF(C548=\"\",0,SUM(C$8:C548)),2)","v":0},null,{"$f":"ROUND(IF(E548=\"\",0,SUM(E$8:E548)),2)","v":0}]
[null,null,null,{"$f":"ROUND(IF(C549=\"\",0,SUM(C$8:C549)),2)","v":0},null,{"$f":"ROUND(IF(E549=\"\",0,SUM(E$8:E549)),2)","v":0}]
[null,null,null,{"$f":"ROUND(IF(C550=\"\",0,SUM(C$8:C550)),2)","v":0},null,{"$f":"ROUND(IF(E550=\"\",0,SUM(E$8:E550)),2)","v":0}]
[null,null,null,{"$f":"ROUND(IF(C551=\"\",0,SUM(C$8:C551)),2)","v":0},null,{"$f":"ROUND(IF(E551=\"\",0,SUM(E$8:E551)),2)","v":0}]
[null,null,null,{"$f":"ROUND(IF(C552=\"\",0,SUM(C$8:C552)),2)","v":0},null,{"$f":"ROUND(IF(E552=\"\",0,SUM(E$8:E552)),2)","v":0}]
[null,null,null,{"$f":"ROUND(IF(C553=\"\",0,SUM(C$8:C553)),2)","v":0},null,{"$f":"ROUND(IF(E553=\"\",0,SUM(E$8:E553)),2)","v":0}]
[null,null,null,{"$f":"ROUND(IF(C554=\"\",0,SUM(C$8:C554)),2)","v":0},null,{"$f":"ROUND(IF(E554=\"\",0,SUM(E$8:E554)),2)","v":0}]
[null,null,null,{"$f":"ROUND(IF(C555=\"\",0,SUM(C$8:C555)),2)","v":0},null,{"$f":"ROUND(IF(E555=\"\",0,SUM(E$8:E555)),2)","v":0}]
[null,null,null,{"$f":"ROUND(IF(C556=\"\",0,SUM(C$8:C556)),2)","v":0},null,{"$f":"ROUND(IF(E556=\"\",0,SUM(E$8:E556)),2)","v":0}]
[null,null,null,{"$f":"ROUND(IF(C557=\"\",0,SUM(C$8:C557)),2)","v":0},null,{"$f":"ROUND(IF(E557=\"\",0,SUM(E$8:E557)),2)","v":0}]
[null,null,null,{"$f":"ROUND(IF(C558=\"\",0,SUM(C$8:C558)),2)","v":0},null,{"$f":"ROUND(IF(E558=\"\",0,SUM(E$8:E558)),2)","v":0}]
[null,null,null,{"$f":"ROUND(IF(C559=\"\",0,SUM(C$8:C559)),2)","v":0},null,{"$f":"ROUND(IF(E559=\"\",0,SUM(E$8:E559)),2)","v":0}]
[null,null,null,{"$f":"ROUND(IF(C560=\"\",0,SUM(C$8:C560)),2)","v":0},null,{"$f":"ROUND(IF(E560=\"\",0,SUM(E$8:E560)),2)","v":0}]
[null,null,null,{"$f":"ROUND(IF(C561=\"\",0,SUM(C$8:C561)),2)","v":0},null,{"$f":"ROUND(IF(E561=\"\",0,SUM(E$8:E561)),2)","v":0}]
[null,null,null,{"$f":"ROUND(IF(C562=\"\",0,SUM(C$8:C562)),2)","v":0},null,{"$f":"ROUND(IF(E562=\"\",0,SUM(E$8:E562)),2)","v":0}]
[null,null,null,{"$f":"ROUND(IF(C563=\"\",0,SUM(C$8:C563)),2)","v":0},null,{"$f":"ROUND(IF(E563=\"\",0,SUM(E$8:E563)),2)","v":0}]
[null,null,null,{"$f":"ROUND(IF(C564=\"\",0,SUM(C$8:C564)),2)","v":0},null,{"$f":"ROUND(IF(E564=\"\",0,SUM(E$8:E564)),2)","v":0}]
[null,null,null,{"$f":"ROUND(IF(C565=\"\",0,SUM(C$8:C565)),2)","v":0},null,{"$f":"ROUND(IF(E565=\"\",0,SUM(E$8:E565)),2)","v":0}]
[null,null,null,{"$f":"ROUND(IF(C566=\"\",0,SUM(C$8:C566)),2)","v":0},null,{"$f":"ROUND(IF(E566=\"\",0,SUM(E$8:E566)),2)","v":0}]
[null,null,null,{"$f":"ROUND(IF(C567=\"\",0,SUM(C$8:C567)),2)","v":0},null,{"$f":"ROUND(IF(E567=\"\",0,SUM(E$8:E567)),2)","v":0}]
[null,null,null,{"$f":"ROUND(IF(C568=\"\",0,SUM(C$8:C568)),2)","v":0},null,{"$f":"ROUND(IF(E568=\"\",0,SUM(E$8:E568)),2)","v":0}]
[null,null,null,{"$f":"ROUND(IF(C569=\"\",0,SUM(C$8:C569)),2)","v":0},null,{"$f":"ROUND(IF(E569=\"\",0,SUM(E$8:E569)),2)","v":0}]
[null,null,null,{"$f":"ROUND(IF(C570=\"\",0,SUM(C$8:C570)),2)","v":0},null,{"$f":"ROUND(IF(E570=\"\",0,SUM(E$8:E570)),2)","v":0}]
[null,null,null,{"$f":"ROUND(IF(C571=\"\",0,SUM(C$8:C571)),2)","v":0},null,{"$f":"ROUND(IF(E571=\"\",0,SUM(E$8:E571)),2)","v":0}]
[null,null,null,{"$f":"ROUND(IF(C572=\"\",0,SUM(C$8:C572)),2)","v":0},null,{"$f":"ROUND(IF(E572=\"\",0,SUM(E$8:E572)),2)","v":0}]
[null,null,null,{"$f":"ROUND(IF(C573=\"\",0,SUM(C$8:C573)),2)","v":0},null,{"$f":"ROUND(IF(E573=\"\",0,SUM(E$8:E573)),2)","v":0}]
[null,null,null,{"$f":"ROUND(IF(C574=\"\",0,SUM(C$8:C574)),2)","v":0},null,{"$f":"ROUND(IF(E574=\"\",0,SUM(E$8:E574)),2)","v":0}]
[null,null,null,{"$f":"ROUND(IF(C575=\"\",0,SUM(C$8:C575)),2)","v":0},null,{"$f":"ROUND(IF(E575=\"\",0,SUM(E$8:E575)),2)","v":0}]
[null,null,null,{"$f":"ROUND(IF(C576=\"\",0,SUM(C$8:C576)),2)","v":0},null,{"$f":"ROUND(IF(E576=\"\",0,SUM(E$8:E576)),2)","v":0}]
[null,null,null,{"$f":"ROUND(IF(C577=\"\",0,SUM(C$8:C577)),2)","v":0},null,{"$f":"ROUND(IF(E577=\"\",0,SUM(E$8:E577)),2)","v":0}]
[null,null,null,{"$f":"ROUND(IF(C578=\"\",0,SUM(C$8:C578)),2)","v":0},null,{"$f":"ROUND(IF(E578=\"\",0,SUM(E$8:E578)),2)","v":0}]
[null,null,null,{"$f":"ROUND(IF(C579=\"\",0,SUM(C$8:C579)),2)","v":0},null,{"$f":"ROUND(IF(E579=\"\",0,SUM(E$8:E579)),2)","v":0}]
[null,null,null,{"$f":"ROUND(IF(C580=\"\",0,SUM(C$8:C580)),2)","v":0},null,{"$f":"ROUND(IF(E580=\"\",0,SUM(E$8:E580)),2)","v":0}]
[null,null,null,{"$f":"ROUND(IF(C581=\"\",0,SUM(C$8:C581)),2)","v":0},null,{"$f":"ROUND(IF(E581=\"\",0,SUM(E$8:E581)),2)","v":0}]
[null,null,null,{"$f":"ROUND(IF(C582=\"\",0,SUM(C$8:C582)),2)","v":0},null,{"$f":"ROUND(IF(E582=\"\",0,SUM(E$8:E582)),2)","v":0}]
[null,null,null,{"$f":"ROUND(IF(C583=\"\",0,SUM(C$8:C583)),2)","v":0},null,{"$f":"ROUND(IF(E583=\"\",0,SUM(E$8:E583)),2)","v":0}]
[null,null,null,{"$f":"ROUND(IF(C584=\"\",0,SUM(C$8:C584)),2)","v":0},null,{"$f":"ROUND(IF(E584=\"\",0,SUM(E$8:E584)),2)","v":0}]
[null,null,null,{"$f":"ROUND(IF(C585=\"\",0,SUM(C$8:C585)),2)","v":0},null,{"$f":"ROUND(IF(E585=\"\",0,SUM(E$8:E585)),2)","v":0}]
[null,null,null,{"$f":"ROUND(IF(C586=\"\",0,SUM(C$8:C586)),2)","v":0},null,{"$f":"ROUND(IF(E586=\"\",0,SUM(E$8:E586)),2)","v":0}]
[null,null,null,{"$f":"ROUND(IF(C587=\"\",0,SUM(C$8:C587)),2)","v":0},null,{"$f":"ROUND(IF(E587=\"\",0,SUM(E$8:E587)),2)","v":0}]
[null,null,null,{"$f":"ROUND(IF(C588=\"\",0,SUM(C$8:C588)),2)","v":0},null,{"$f":"ROUND(IF(E588=\"\",0,SUM(E$8:E588)),2)","v":0}]
[null,null,null,{"$f":"ROUND(IF(C589=\"\",0,SUM(C$8:C589)),2)","v":0},null,{"$f":"ROUND(IF(E589=\"\",0,SUM(E$8:E589)),2)","v":0}]
[null,null,null,{"$f":"ROUND(IF(C590=\"\",0,SUM(C$8:C590)),2)","v":0},null,{"$f":"ROUND(IF(E590=\"\",0,SUM(E$8:E590)),2)","v":0}]
[null,null,null,{"$f":"ROUND(IF(C591=\"\",0,SUM(C$8:C591)),2)","v":0},null,{"$f":"ROUND(IF(E591=\"\",0,SUM(E$8:E591)),2)","v":0}]
[null,null,null,{"$f":"ROUND(IF(C592=\"\",0,SUM(C$8:C592)),2)","v":0},null,{"$f":"ROUND(IF(E592=\"\",0,SUM(E$8:E592)),2)","v":0}]
[null,null,null,{"$f":"ROUND(IF(C593=\"\",0,SUM(C$8:C593)),2)","v":0},null,{"$f":"ROUND(IF(E593=\"\",0,SUM(E$8:E593)),2)","v":0}]
[null,null,null,{"$f":"ROUND(IF(C594=\"\",0,SUM(C$8:C594)),2)","v":0},null,{"$f":"ROUND(IF(E594=\"\",0,SUM(E$8:E594)),2)","v":0}]
[null,null,null,{"$f":"ROUND(IF(C595=\"\",0,SUM(C$8:C595)),2)","v":0},null,{"$f":"ROUND(IF(E595=\"\",0,SUM(E$8:E595)),2)","v":0}]
[null,null,null,{"$f":"ROUND(IF(C596=\"\",0,SUM(C$8:C596)),2)","v":0},null,{"$f":"ROUND(IF(E596=\"\",0,SUM(E$8:E596)),2)","v":0}]
[null,null,null,{"$f":"ROUND(IF(C597=\"\",0,SUM(C$8:C597)),2)","v":0},null,{"$f":"ROUND(IF(E597=\"\",0,SUM(E$8:E597)),2)","v":0}]
[null,null,null,{"$f":"ROUND(IF(C598=\"\",0,SUM(C$8:C598)),2)","v":0},null,{"$f":"ROUND(IF(E598=\"\",0,SUM(E$8:E598)),2)","v":0}]
[null,null,null,{"$f":"ROUND(IF(C599=\"\",0,SUM(C$8:C599)),2)","v":0},null,{"$f":"ROUND(IF(E599=\"\",0,SUM(E$8:E599)),2)","v":0}]
[null,null,null,{"$f":"ROUND(IF(C600=\"\",0,SUM(C$8:C600)),2)","v":0},null,{"$f":"ROUND(IF(E600=\"\",0,SUM(E$8:E600)),2)","v":0}]
[null,null,null,{"$f":"ROUND(IF(C601=\"\",0,SUM(C$8:C601)),2)","v":0},null,{"$f":"ROUND(IF(E601=\"\",0,SUM(E$8:E601)),2)","v":0}]
[null,null,null,{"$f":"ROUND(IF(C602=\"\",0,SUM(C$8:C602)),2)","v":0},null,{"$f":"ROUND(IF(E602=\"\",0,SUM(E$8:E602)),2)","v":0}]
[null,null,null,{"$f":"ROUND(IF(C603=\"\",0,SUM(C$8:C603)),2)","v":0},null,{"$f":"ROUND(IF(E603=\"\",0,SUM(E$8:E603)),2)","v":0}]
[null,null,null,{"$f":"ROUND(IF(C604=\"\",0,SUM(C$8:C604)),2)","v":0},null,{"$f":"ROUND(IF(E604=\"\",0,SUM(E$8:E604)),2)","v":0}]
[null,null,null,{"$f":"ROUND(IF(C605=\"\",0,SUM(C$8:C605)),2)","v":0},null,{"$f":"ROUND(IF(E605=\"\",0,SUM(E$8:E605)),2)","v":0}]
[null,null,null,{"$f":"ROUND(IF(C606=\"\",0,SUM(C$8:C606)),2)","v":0},null,{"$f":"ROUND(IF(E606=\"\",0,SUM(E$8:E606)),2)","v":0}]
[null,null,null,{"$f":"ROUND(IF(C607=\"\",0,SUM(C$8:C607)),2)","v":0},null,{"$f":"ROUND(IF(E607=\"\",0,SUM(E$8:E607)),2)","v":0}]

{"sheet":"Slag 2","index":11,"n_rows":606,"n_cols":9,"rows_kept":606,"cut":false,"hidden":false,"merged":[]}
["GGBFS 2 Shipments",null,null,null,null,null,null,null,{"$f":"Info!B2","v":"E"}]
["Spec. Grav.: ",{"$f":"IF(AND(Info!B41=\"\", Info!C41=\"\"),\"\", IF(Info!B41<>\"\", Info!B41, Info!C41))","v":""},null,null,null,null,"Page No.: "]
["Source: ",{"$f":"IF(AND(Info!B39=\"\", Info!C39=\"\"),\"\", IF(Info!B39<>\"\", Info!B39, Info!C39))","v":""},null,null,null,null,"Grade: ",{"$f":"IF(AND(Info!B40=\"\", Info!C40=\"\"),\"\", IF(Info!B40<>\"\", Info!B40, Info!C40))","v":""}]
["Project No.: ",{"$f":"IF(Info!B3=\"\",\"\",(Info!B3))","v":""},null,null,null,null,"Contract ID.: ",{"$f":"IF(Info!B4=\"\",\"\",(Info!B4))","v":""}]
[]
[null,"Ticket","Certified","To  Date","Used","To  Date",null,null," "]
["Date","No.",{"$f":"IF(Info!$B$2=\"M\",\"(Mg's)\",\"(Tons)\")","v":"(Tons)"},{"$f":"IF(Info!$B$2=\"M\",\"(Mg's)\",\"(Tons)\")","v":"(Tons)"},{"$f":"IF(Info!$B$2=\"M\",\"(Mg's)\",\"(Tons)\")","v":"(Tons)"},{"$f":"IF(Info!$B$2=\"M\",\"(Mg's)\",\"(Tons)\")","v":"(Tons)"},"Remarks",null,"By"]
[null,null,null,{"$f":"SUM(C8)","v":0},null,{"$f":"SUM(E8)","v":0}]
[null,null,null,{"$f":"ROUND(IF(C9=\"\",0,SUM(C$8:C9)),2)","v":0},null,{"$f":"ROUND(IF(E9=\"\",0,SUM(E$8:E9)),2)","v":0}]
[null,null,null,{"$f":"ROUND(IF(C10=\"\",0,SUM(C$8:C10)),2)","v":0},null,{"$f":"ROUND(IF(E10=\"\",0,SUM(E$8:E10)),2)","v":0}]
[null,null,null,{"$f":"ROUND(IF(C11=\"\",0,SUM(C$8:C11)),2)","v":0},null,{"$f":"ROUND(IF(E11=\"\",0,SUM(E$8:E11)),2)","v":0}]
[null,null,null,{"$f":"ROUND(IF(C12=\"\",0,SUM(C$8:C12)),2)","v":0},null,{"$f":"ROUND(IF(E12=\"\",0,SUM(E$8:E12)),2)","v":0}]
[null,null,null,{"$f":"ROUND(IF(C13=\"\",0,SUM(C$8:C13)),2)","v":0},null,{"$f":"ROUND(IF(E13=\"\",0,SUM(E$8:E13)),2)","v":0}]
[null,null,null,{"$f":"ROUND(IF(C14=\"\",0,SUM(C$8:C14)),2)","v":0},null,{"$f":"ROUND(IF(E14=\"\",0,SUM(E$8:E14)),2)","v":0}]
[null,null,null,{"$f":"ROUND(IF(C15=\"\",0,SUM(C$8:C15)),2)","v":0},null,{"$f":"ROUND(IF(E15=\"\",0,SUM(E$8:E15)),2)","v":0}]
[null,null,null,{"$f":"ROUND(IF(C16=\"\",0,SUM(C$8:C16)),2)","v":0},null,{"$f":"ROUND(IF(E16=\"\",0,SUM(E$8:E16)),2)","v":0}]
[null,null,null,{"$f":"ROUND(IF(C17=\"\",0,SUM(C$8:C17)),2)","v":0},null,{"$f":"ROUND(IF(E17=\"\",0,SUM(E$8:E17)),2)","v":0}]
[null,null,null,{"$f":"ROUND(IF(C18=\"\",0,SUM(C$8:C18)),2)","v":0},null,{"$f":"ROUND(IF(E18=\"\",0,SUM(E$8:E18)),2)","v":0}]
[null,null,null,{"$f":"ROUND(IF(C19=\"\",0,SUM(C$8:C19)),2)","v":0},null,{"$f":"ROUND(IF(E19=\"\",0,SUM(E$8:E19)),2)","v":0}]
[null,null,null,{"$f":"ROUND(IF(C20=\"\",0,SUM(C$8:C20)),2)","v":0},null,{"$f":"ROUND(IF(E20=\"\",0,SUM(E$8:E20)),2)","v":0}]
[null,null,null,{"$f":"ROUND(IF(C21=\"\",0,SUM(C$8:C21)),2)","v":0},null,{"$f":"ROUND(IF(E21=\"\",0,SUM(E$8:E21)),2)","v":0}]
[null,null,null,{"$f":"ROUND(IF(C22=\"\",0,SUM(C$8:C22)),2)","v":0},null,{"$f":"ROUND(IF(E22=\"\",0,SUM(E$8:E22)),2)","v":0}]
[null,null,null,{"$f":"ROUND(IF(C23=\"\",0,SUM(C$8:C23)),2)","v":0},null,{"$f":"ROUND(IF(E23=\"\",0,SUM(E$8:E23)),2)","v":0}]
[null,null,null,{"$f":"ROUND(IF(C24=\"\",0,SUM(C$8:C24)),2)","v":0},null,{"$f":"ROUND(IF(E24=\"\",0,SUM(E$8:E24)),2)","v":0}]
[null,null,null,{"$f":"ROUND(IF(C25=\"\",0,SUM(C$8:C25)),2)","v":0},null,{"$f":"ROUND(IF(E25=\"\",0,SUM(E$8:E25)),2)","v":0}]
[null,null,null,{"$f":"ROUND(IF(C26=\"\",0,SUM(C$8:C26)),2)","v":0},null,{"$f":"ROUND(IF(E26=\"\",0,SUM(E$8:E26)),2)","v":0}]
[null,null,null,{"$f":"ROUND(IF(C27=\"\",0,SUM(C$8:C27)),2)","v":0},null,{"$f":"ROUND(IF(E27=\"\",0,SUM(E$8:E27)),2)","v":0}]
[null,null,null,{"$f":"ROUND(IF(C28=\"\",0,SUM(C$8:C28)),2)","v":0},null,{"$f":"ROUND(IF(E28=\"\",0,SUM(E$8:E28)),2)","v":0}]
[null,null,null,{"$f":"ROUND(IF(C29=\"\",0,SUM(C$8:C29)),2)","v":0},null,{"$f":"ROUND(IF(E29=\"\",0,SUM(E$8:E29)),2)","v":0}]
[null,null,null,{"$f":"ROUND(IF(C30=\"\",0,SUM(C$8:C30)),2)","v":0},null,{"$f":"ROUND(IF(E30=\"\",0,SUM(E$8:E30)),2)","v":0}]
[null,null,null,{"$f":"ROUND(IF(C31=\"\",0,SUM(C$8:C31)),2)","v":0},null,{"$f":"ROUND(IF(E31=\"\",0,SUM(E$8:E31)),2)","v":0}]
[null,null,null,{"$f":"ROUND(IF(C32=\"\",0,SUM(C$8:C32)),2)","v":0},null,{"$f":"ROUND(IF(E32=\"\",0,SUM(E$8:E32)),2)","v":0}]
[null,null,null,{"$f":"ROUND(IF(C33=\"\",0,SUM(C$8:C33)),2)","v":0},null,{"$f":"ROUND(IF(E33=\"\",0,SUM(E$8:E33)),2)","v":0}]
[null,null,null,{"$f":"ROUND(IF(C34=\"\",0,SUM(C$8:C34)),2)","v":0},null,{"$f":"ROUND(IF(E34=\"\",0,SUM(E$8:E34)),2)","v":0}]
[null,null,null,{"$f":"ROUND(IF(C35=\"\",0,SUM(C$8:C35)),2)","v":0},null,{"$f":"ROUND(IF(E35=\"\",0,SUM(E$8:E35)),2)","v":0}]
[null,null,null,{"$f":"ROUND(IF(C36=\"\",0,SUM(C$8:C36)),2)","v":0},null,{"$f":"ROUND(IF(E36=\"\",0,SUM(E$8:E36)),2)","v":0}]
[null,null,null,{"$f":"ROUND(IF(C37=\"\",0,SUM(C$8:C37)),2)","v":0},null,{"$f":"ROUND(IF(E37=\"\",0,SUM(E$8:E37)),2)","v":0}]
[null,null,null,{"$f":"ROUND(IF(C38=\"\",0,SUM(C$8:C38)),2)","v":0},null,{"$f":"ROUND(IF(E38=\"\",0,SUM(E$8:E38)),2)","v":0}]
[null,null,null,{"$f":"ROUND(IF(C39=\"\",0,SUM(C$8:C39)),2)","v":0},null,{"$f":"ROUND(IF(E39=\"\",0,SUM(E$8:E39)),2)","v":0}]
[null,null,null,{"$f":"ROUND(IF(C40=\"\",0,SUM(C$8:C40)),2)","v":0},null,{"$f":"ROUND(IF(E40=\"\",0,SUM(E$8:E40)),2)","v":0}]
[null,null,null,{"$f":"ROUND(IF(C41=\"\",0,SUM(C$8:C41)),2)","v":0},null,{"$f":"ROUND(IF(E41=\"\",0,SUM(E$8:E41)),2)","v":0}]
[null,null,null,{"$f":"ROUND(IF(C42=\"\",0,SUM(C$8:C42)),2)","v":0},null,{"$f":"ROUND(IF(E42=\"\",0,SUM(E$8:E42)),2)","v":0}]
[null,null,null,{"$f":"ROUND(IF(C43=\"\",0,SUM(C$8:C43)),2)","v":0},null,{"$f":"ROUND(IF(E43=\"\",0,SUM(E$8:E43)),2)","v":0}]
[null,null,null,{"$f":"ROUND(IF(C44=\"\",0,SUM(C$8:C44)),2)","v":0},null,{"$f":"ROUND(IF(E44=\"\",0,SUM(E$8:E44)),2)","v":0}]
[null,null,null,{"$f":"ROUND(IF(C45=\"\",0,SUM(C$8:C45)),2)","v":0},null,{"$f":"ROUND(IF(E45=\"\",0,SUM(E$8:E45)),2)","v":0}]
[null,null,null,{"$f":"ROUND(IF(C46=\"\",0,SUM(C$8:C46)),2)","v":0},null,{"$f":"ROUND(IF(E46=\"\",0,SUM(E$8:E46)),2)","v":0}]
[null,null,null,{"$f":"ROUND(IF(C47=\"\",0,SUM(C$8:C47)),2)","v":0},null,{"$f":"ROUND(IF(E47=\"\",0,SUM(E$8:E47)),2)","v":0}]
[null,null,null,{"$f":"ROUND(IF(C48=\"\",0,SUM(C$8:C48)),2)","v":0},null,{"$f":"ROUND(IF(E48=\"\",0,SUM(E$8:E48)),2)","v":0}]
[null,null,null,{"$f":"ROUND(IF(C49=\"\",0,SUM(C$8:C49)),2)","v":0},null,{"$f":"ROUND(IF(E49=\"\",0,SUM(E$8:E49)),2)","v":0}]
[null,null,null,{"$f":"ROUND(IF(C50=\"\",0,SUM(C$8:C50)),2)","v":0},null,{"$f":"ROUND(IF(E50=\"\",0,SUM(E$8:E50)),2)","v":0}]
[null,null,null,{"$f":"ROUND(IF(C51=\"\",0,SUM(C$8:C51)),2)","v":0},null,{"$f":"ROUND(IF(E51=\"\",0,SUM(E$8:E51)),2)","v":0}]
[null,null,null,{"$f":"ROUND(IF(C52=\"\",0,SUM(C$8:C52)),2)","v":0},null,{"$f":"ROUND(IF(E52=\"\",0,SUM(E$8:E52)),2)","v":0}]
[null,null,null,{"$f":"ROUND(IF(C53=\"\",0,SUM(C$8:C53)),2)","v":0},null,{"$f":"ROUND(IF(E53=\"\",0,SUM(E$8:E53)),2)","v":0}]
[null,null,null,{"$f":"ROUND(IF(C54=\"\",0,SUM(C$8:C54)),2)","v":0},null,{"$f":"ROUND(IF(E54=\"\",0,SUM(E$8:E54)),2)","v":0}]
[null,null,null,{"$f":"ROUND(IF(C55=\"\",0,SUM(C$8:C55)),2)","v":0},null,{"$f":"ROUND(IF(E55=\"\",0,SUM(E$8:E55)),2)","v":0}]
[null,null,null,{"$f":"ROUND(IF(C56=\"\",0,SUM(C$8:C56)),2)","v":0},null,{"$f":"ROUND(IF(E56=\"\",0,SUM(E$8:E56)),2)","v":0}]
[null,null,null,{"$f":"ROUND(IF(C57=\"\",0,SUM(C$8:C57)),2)","v":0},null,{"$f":"ROUND(IF(E57=\"\",0,SUM(E$8:E57)),2)","v":0}]
[null,null,null,{"$f":"ROUND(IF(C58=\"\",0,SUM(C$8:C58)),2)","v":0},null,{"$f":"ROUND(IF(E58=\"\",0,SUM(E$8:E58)),2)","v":0}]
[null,null,null,{"$f":"ROUND(IF(C59=\"\",0,SUM(C$8:C59)),2)","v":0},null,{"$f":"ROUND(IF(E59=\"\",0,SUM(E$8:E59)),2)","v":0}]
[null,null,null,{"$f":"ROUND(IF(C60=\"\",0,SUM(C$8:C60)),2)","v":0},null,{"$f":"ROUND(IF(E60=\"\",0,SUM(E$8:E60)),2)","v":0}]
[null,null,null,{"$f":"ROUND(IF(C61=\"\",0,SUM(C$8:C61)),2)","v":0},null,{"$f":"ROUND(IF(E61=\"\",0,SUM(E$8:E61)),2)","v":0}]
[null,null,null,{"$f":"ROUND(IF(C62=\"\",0,SUM(C$8:C62)),2)","v":0},null,{"$f":"ROUND(IF(E62=\"\",0,SUM(E$8:E62)),2)","v":0}]
[null,null,null,{"$f":"ROUND(IF(C63=\"\",0,SUM(C$8:C63)),2)","v":0},null,{"$f":"ROUND(IF(E63=\"\",0,SUM(E$8:E63)),2)","v":0}]
[null,null,null,{"$f":"ROUND(IF(C64=\"\",0,SUM(C$8:C64)),2)","v":0},null,{"$f":"ROUND(IF(E64=\"\",0,SUM(E$8:E64)),2)","v":0}]
[null,null,null,{"$f":"ROUND(IF(C65=\"\",0,SUM(C$8:C65)),2)","v":0},null,{"$f":"ROUND(IF(E65=\"\",0,SUM(E$8:E65)),2)","v":0}]
[null,null,null,{"$f":"ROUND(IF(C66=\"\",0,SUM(C$8:C66)),2)","v":0},null,{"$f":"ROUND(IF(E66=\"\",0,SUM(E$8:E66)),2)","v":0}]
[null,null,null,{"$f":"ROUND(IF(C67=\"\",0,SUM(C$8:C67)),2)","v":0},null,{"$f":"ROUND(IF(E67=\"\",0,SUM(E$8:E67)),2)","v":0}]
[null,null,null,{"$f":"ROUND(IF(C68=\"\",0,SUM(C$8:C68)),2)","v":0},null,{"$f":"ROUND(IF(E68=\"\",0,SUM(E$8:E68)),2)","v":0}]
[null,null,null,{"$f":"ROUND(IF(C69=\"\",0,SUM(C$8:C69)),2)","v":0},null,{"$f":"ROUND(IF(E69=\"\",0,SUM(E$8:E69)),2)","v":0}]
[null,null,null,{"$f":"ROUND(IF(C70=\"\",0,SUM(C$8:C70)),2)","v":0},null,{"$f":"ROUND(IF(E70=\"\",0,SUM(E$8:E70)),2)","v":0}]
[null,null,null,{"$f":"ROUND(IF(C71=\"\",0,SUM(C$8:C71)),2)","v":0},null,{"$f":"ROUND(IF(E71=\"\",0,SUM(E$8:E71)),2)","v":0}]
[null,null,null,{"$f":"ROUND(IF(C72=\"\",0,SUM(C$8:C72)),2)","v":0},null,{"$f":"ROUND(IF(E72=\"\",0,SUM(E$8:E72)),2)","v":0}]
[null,null,null,{"$f":"ROUND(IF(C73=\"\",0,SUM(C$8:C73)),2)","v":0},null,{"$f":"ROUND(IF(E73=\"\",0,SUM(E$8:E73)),2)","v":0}]
[null,null,null,{"$f":"ROUND(IF(C74=\"\",0,SUM(C$8:C74)),2)","v":0},null,{"$f":"ROUND(IF(E74=\"\",0,SUM(E$8:E74)),2)","v":0}]
[null,null,null,{"$f":"ROUND(IF(C75=\"\",0,SUM(C$8:C75)),2)","v":0},null,{"$f":"ROUND(IF(E75=\"\",0,SUM(E$8:E75)),2)","v":0}]
[null,null,null,{"$f":"ROUND(IF(C76=\"\",0,SUM(C$8:C76)),2)","v":0},null,{"$f":"ROUND(IF(E76=\"\",0,SUM(E$8:E76)),2)","v":0}]
[null,null,null,{"$f":"ROUND(IF(C77=\"\",0,SUM(C$8:C77)),2)","v":0},null,{"$f":"ROUND(IF(E77=\"\",0,SUM(E$8:E77)),2)","v":0}]
[null,null,null,{"$f":"ROUND(IF(C78=\"\",0,SUM(C$8:C78)),2)","v":0},null,{"$f":"ROUND(IF(E78=\"\",0,SUM(E$8:E78)),2)","v":0}]
[null,null,null,{"$f":"ROUND(IF(C79=\"\",0,SUM(C$8:C79)),2)","v":0},null,{"$f":"ROUND(IF(E79=\"\",0,SUM(E$8:E79)),2)","v":0}]
[null,null,null,{"$f":"ROUND(IF(C80=\"\",0,SUM(C$8:C80)),2)","v":0},null,{"$f":"ROUND(IF(E80=\"\",0,SUM(E$8:E80)),2)","v":0}]
[null,null,null,{"$f":"ROUND(IF(C81=\"\",0,SUM(C$8:C81)),2)","v":0},null,{"$f":"ROUND(IF(E81=\"\",0,SUM(E$8:E81)),2)","v":0}]
[null,null,null,{"$f":"ROUND(IF(C82=\"\",0,SUM(C$8:C82)),2)","v":0},null,{"$f":"ROUND(IF(E82=\"\",0,SUM(E$8:E82)),2)","v":0}]
[null,null,null,{"$f":"ROUND(IF(C83=\"\",0,SUM(C$8:C83)),2)","v":0},null,{"$f":"ROUND(IF(E83=\"\",0,SUM(E$8:E83)),2)","v":0}]
[null,null,null,{"$f":"ROUND(IF(C84=\"\",0,SUM(C$8:C84)),2)","v":0},null,{"$f":"ROUND(IF(E84=\"\",0,SUM(E$8:E84)),2)","v":0}]
[null,null,null,{"$f":"ROUND(IF(C85=\"\",0,SUM(C$8:C85)),2)","v":0},null,{"$f":"ROUND(IF(E85=\"\",0,SUM(E$8:E85)),2)","v":0}]
[null,null,null,{"$f":"ROUND(IF(C86=\"\",0,SUM(C$8:C86)),2)","v":0},null,{"$f":"ROUND(IF(E86=\"\",0,SUM(E$8:E86)),2)","v":0}]
[null,null,null,{"$f":"ROUND(IF(C87=\"\",0,SUM(C$8:C87)),2)","v":0},null,{"$f":"ROUND(IF(E87=\"\",0,SUM(E$8:E87)),2)","v":0}]
[null,null,null,{"$f":"ROUND(IF(C88=\"\",0,SUM(C$8:C88)),2)","v":0},null,{"$f":"ROUND(IF(E88=\"\",0,SUM(E$8:E88)),2)","v":0}]
[null,null,null,{"$f":"ROUND(IF(C89=\"\",0,SUM(C$8:C89)),2)","v":0},null,{"$f":"ROUND(IF(E89=\"\",0,SUM(E$8:E89)),2)","v":0}]
[null,null,null,{"$f":"ROUND(IF(C90=\"\",0,SUM(C$8:C90)),2)","v":0},null,{"$f":"ROUND(IF(E90=\"\",0,SUM(E$8:E90)),2)","v":0}]
[null,null,null,{"$f":"ROUND(IF(C91=\"\",0,SUM(C$8:C91)),2)","v":0},null,{"$f":"ROUND(IF(E91=\"\",0,SUM(E$8:E91)),2)","v":0}]
[null,null,null,{"$f":"ROUND(IF(C92=\"\",0,SUM(C$8:C92)),2)","v":0},null,{"$f":"ROUND(IF(E92=\"\",0,SUM(E$8:E92)),2)","v":0}]
[null,null,null,{"$f":"ROUND(IF(C93=\"\",0,SUM(C$8:C93)),2)","v":0},null,{"$f":"ROUND(IF(E93=\"\",0,SUM(E$8:E93)),2)","v":0}]
[null,null,null,{"$f":"ROUND(IF(C94=\"\",0,SUM(C$8:C94)),2)","v":0},null,{"$f":"ROUND(IF(E94=\"\",0,SUM(E$8:E94)),2)","v":0}]
[null,null,null,{"$f":"ROUND(IF(C95=\"\",0,SUM(C$8:C95)),2)","v":0},null,{"$f":"ROUND(IF(E95=\"\",0,SUM(E$8:E95)),2)","v":0}]
[null,null,null,{"$f":"ROUND(IF(C96=\"\",0,SUM(C$8:C96)),2)","v":0},null,{"$f":"ROUND(IF(E96=\"\",0,SUM(E$8:E96)),2)","v":0}]
[null,null,null,{"$f":"ROUND(IF(C97=\"\",0,SUM(C$8:C97)),2)","v":0},null,{"$f":"ROUND(IF(E97=\"\",0,SUM(E$8:E97)),2)","v":0}]
[null,null,null,{"$f":"ROUND(IF(C98=\"\",0,SUM(C$8:C98)),2)","v":0},null,{"$f":"ROUND(IF(E98=\"\",0,SUM(E$8:E98)),2)","v":0}]
[null,null,null,{"$f":"ROUND(IF(C99=\"\",0,SUM(C$8:C99)),2)","v":0},null,{"$f":"ROUND(IF(E99=\"\",0,SUM(E$8:E99)),2)","v":0}]
[null,null,null,{"$f":"ROUND(IF(C100=\"\",0,SUM(C$8:C100)),2)","v":0},null,{"$f":"ROUND(IF(E100=\"\",0,SUM(E$8:E100)),2)","v":0}]
[null,null,null,{"$f":"ROUND(IF(C101=\"\",0,SUM(C$8:C101)),2)","v":0},null,{"$f":"ROUND(IF(E101=\"\",0,SUM(E$8:E101)),2)","v":0}]
[null,null,null,{"$f":"ROUND(IF(C102=\"\",0,SUM(C$8:C102)),2)","v":0},null,{"$f":"ROUND(IF(E102=\"\",0,SUM(E$8:E102)),2)","v":0}]
[null,null,null,{"$f":"ROUND(IF(C103=\"\",0,SUM(C$8:C103)),2)","v":0},null,{"$f":"ROUND(IF(E103=\"\",0,SUM(E$8:E103)),2)","v":0}]
[null,null,null,{"$f":"ROUND(IF(C104=\"\",0,SUM(C$8:C104)),2)","v":0},null,{"$f":"ROUND(IF(E104=\"\",0,SUM(E$8:E104)),2)","v":0}]
[null,null,null,{"$f":"ROUND(IF(C105=\"\",0,SUM(C$8:C105)),2)","v":0},null,{"$f":"ROUND(IF(E105=\"\",0,SUM(E$8:E105)),2)","v":0}]
[null,null,null,{"$f":"ROUND(IF(C106=\"\",0,SUM(C$8:C106)),2)","v":0},null,{"$f":"ROUND(IF(E106=\"\",0,SUM(E$8:E106)),2)","v":0}]
[null,null,null,{"$f":"ROUND(IF(C107=\"\",0,SUM(C$8:C107)),2)","v":0},null,{"$f":"ROUND(IF(E107=\"\",0,SUM(E$8:E107)),2)","v":0}]
[null,null,null,{"$f":"ROUND(IF(C108=\"\",0,SUM(C$8:C108)),2)","v":0},null,{"$f":"ROUND(IF(E108=\"\",0,SUM(E$8:E108)),2)","v":0}]
[null,null,null,{"$f":"ROUND(IF(C109=\"\",0,SUM(C$8:C109)),2)","v":0},null,{"$f":"ROUND(IF(E109=\"\",0,SUM(E$8:E109)),2)","v":0}]
[null,null,null,{"$f":"ROUND(IF(C110=\"\",0,SUM(C$8:C110)),2)","v":0},null,{"$f":"ROUND(IF(E110=\"\",0,SUM(E$8:E110)),2)","v":0}]
[null,null,null,{"$f":"ROUND(IF(C111=\"\",0,SUM(C$8:C111)),2)","v":0},null,{"$f":"ROUND(IF(E111=\"\",0,SUM(E$8:E111)),2)","v":0}]
[null,null,null,{"$f":"ROUND(IF(C112=\"\",0,SUM(C$8:C112)),2)","v":0},null,{"$f":"ROUND(IF(E112=\"\",0,SUM(E$8:E112)),2)","v":0}]
[null,null,null,{"$f":"ROUND(IF(C113=\"\",0,SUM(C$8:C113)),2)","v":0},null,{"$f":"ROUND(IF(E113=\"\",0,SUM(E$8:E113)),2)","v":0}]
[null,null,null,{"$f":"ROUND(IF(C114=\"\",0,SUM(C$8:C114)),2)","v":0},null,{"$f":"ROUND(IF(E114=\"\",0,SUM(E$8:E114)),2)","v":0}]
[null,null,null,{"$f":"ROUND(IF(C115=\"\",0,SUM(C$8:C115)),2)","v":0},null,{"$f":"ROUND(IF(E115=\"\",0,SUM(E$8:E115)),2)","v":0}]
[null,null,null,{"$f":"ROUND(IF(C116=\"\",0,SUM(C$8:C116)),2)","v":0},null,{"$f":"ROUND(IF(E116=\"\",0,SUM(E$8:E116)),2)","v":0}]
[null,null,null,{"$f":"ROUND(IF(C117=\"\",0,SUM(C$8:C117)),2)","v":0},null,{"$f":"ROUND(IF(E117=\"\",0,SUM(E$8:E117)),2)","v":0}]
[null,null,null,{"$f":"ROUND(IF(C118=\"\",0,SUM(C$8:C118)),2)","v":0},null,{"$f":"ROUND(IF(E118=\"\",0,SUM(E$8:E118)),2)","v":0}]
[null,null,null,{"$f":"ROUND(IF(C119=\"\",0,SUM(C$8:C119)),2)","v":0},null,{"$f":"ROUND(IF(E119=\"\",0,SUM(E$8:E119)),2)","v":0}]
[null,null,null,{"$f":"ROUND(IF(C120=\"\",0,SUM(C$8:C120)),2)","v":0},null,{"$f":"ROUND(IF(E120=\"\",0,SUM(E$8:E120)),2)","v":0}]
[null,null,null,{"$f":"ROUND(IF(C121=\"\",0,SUM(C$8:C121)),2)","v":0},null,{"$f":"ROUND(IF(E121=\"\",0,SUM(E$8:E121)),2)","v":0}]
[null,null,null,{"$f":"ROUND(IF(C122=\"\",0,SUM(C$8:C122)),2)","v":0},null,{"$f":"ROUND(IF(E122=\"\",0,SUM(E$8:E122)),2)","v":0}]
[null,null,null,{"$f":"ROUND(IF(C123=\"\",0,SUM(C$8:C123)),2)","v":0},null,{"$f":"ROUND(IF(E123=\"\",0,SUM(E$8:E123)),2)","v":0}]
[null,null,null,{"$f":"ROUND(IF(C124=\"\",0,SUM(C$8:C124)),2)","v":0},null,{"$f":"ROUND(IF(E124=\"\",0,SUM(E$8:E124)),2)","v":0}]
[null,null,null,{"$f":"ROUND(IF(C125=\"\",0,SUM(C$8:C125)),2)","v":0},null,{"$f":"ROUND(IF(E125=\"\",0,SUM(E$8:E125)),2)","v":0}]
[null,null,null,{"$f":"ROUND(IF(C126=\"\",0,SUM(C$8:C126)),2)","v":0},null,{"$f":"ROUND(IF(E126=\"\",0,SUM(E$8:E126)),2)","v":0}]
[null,null,null,{"$f":"ROUND(IF(C127=\"\",0,SUM(C$8:C127)),2)","v":0},null,{"$f":"ROUND(IF(E127=\"\",0,SUM(E$8:E127)),2)","v":0}]
[null,null,null,{"$f":"ROUND(IF(C128=\"\",0,SUM(C$8:C128)),2)","v":0},null,{"$f":"ROUND(IF(E128=\"\",0,SUM(E$8:E128)),2)","v":0}]
[null,null,null,{"$f":"ROUND(IF(C129=\"\",0,SUM(C$8:C129)),2)","v":0},null,{"$f":"ROUND(IF(E129=\"\",0,SUM(E$8:E129)),2)","v":0}]
[null,null,null,{"$f":"ROUND(IF(C130=\"\",0,SUM(C$8:C130)),2)","v":0},null,{"$f":"ROUND(IF(E130=\"\",0,SUM(E$8:E130)),2)","v":0}]
[null,null,null,{"$f":"ROUND(IF(C131=\"\",0,SUM(C$8:C131)),2)","v":0},null,{"$f":"ROUND(IF(E131=\"\",0,SUM(E$8:E131)),2)","v":0}]
[null,null,null,{"$f":"ROUND(IF(C132=\"\",0,SUM(C$8:C132)),2)","v":0},null,{"$f":"ROUND(IF(E132=\"\",0,SUM(E$8:E132)),2)","v":0}]
[null,null,null,{"$f":"ROUND(IF(C133=\"\",0,SUM(C$8:C133)),2)","v":0},null,{"$f":"ROUND(IF(E133=\"\",0,SUM(E$8:E133)),2)","v":0}]
[null,null,null,{"$f":"ROUND(IF(C134=\"\",0,SUM(C$8:C134)),2)","v":0},null,{"$f":"ROUND(IF(E134=\"\",0,SUM(E$8:E134)),2)","v":0}]
[null,null,null,{"$f":"ROUND(IF(C135=\"\",0,SUM(C$8:C135)),2)","v":0},null,{"$f":"ROUND(IF(E135=\"\",0,SUM(E$8:E135)),2)","v":0}]
[null,null,null,{"$f":"ROUND(IF(C136=\"\",0,SUM(C$8:C136)),2)","v":0},null,{"$f":"ROUND(IF(E136=\"\",0,SUM(E$8:E136)),2)","v":0}]
[null,null,null,{"$f":"ROUND(IF(C137=\"\",0,SUM(C$8:C137)),2)","v":0},null,{"$f":"ROUND(IF(E137=\"\",0,SUM(E$8:E137)),2)","v":0}]
[null,null,null,{"$f":"ROUND(IF(C138=\"\",0,SUM(C$8:C138)),2)","v":0},null,{"$f":"ROUND(IF(E138=\"\",0,SUM(E$8:E138)),2)","v":0}]
[null,null,null,{"$f":"ROUND(IF(C139=\"\",0,SUM(C$8:C139)),2)","v":0},null,{"$f":"ROUND(IF(E139=\"\",0,SUM(E$8:E139)),2)","v":0}]
[null,null,null,{"$f":"ROUND(IF(C140=\"\",0,SUM(C$8:C140)),2)","v":0},null,{"$f":"ROUND(IF(E140=\"\",0,SUM(E$8:E140)),2)","v":0}]
[null,null,null,{"$f":"ROUND(IF(C141=\"\",0,SUM(C$8:C141)),2)","v":0},null,{"$f":"ROUND(IF(E141=\"\",0,SUM(E$8:E141)),2)","v":0}]
[null,null,null,{"$f":"ROUND(IF(C142=\"\",0,SUM(C$8:C142)),2)","v":0},null,{"$f":"ROUND(IF(E142=\"\",0,SUM(E$8:E142)),2)","v":0}]
[null,null,null,{"$f":"ROUND(IF(C143=\"\",0,SUM(C$8:C143)),2)","v":0},null,{"$f":"ROUND(IF(E143=\"\",0,SUM(E$8:E143)),2)","v":0}]
[null,null,null,{"$f":"ROUND(IF(C144=\"\",0,SUM(C$8:C144)),2)","v":0},null,{"$f":"ROUND(IF(E144=\"\",0,SUM(E$8:E144)),2)","v":0}]
[null,null,null,{"$f":"ROUND(IF(C145=\"\",0,SUM(C$8:C145)),2)","v":0},null,{"$f":"ROUND(IF(E145=\"\",0,SUM(E$8:E145)),2)","v":0}]
[null,null,null,{"$f":"ROUND(IF(C146=\"\",0,SUM(C$8:C146)),2)","v":0},null,{"$f":"ROUND(IF(E146=\"\",0,SUM(E$8:E146)),2)","v":0}]
[null,null,null,{"$f":"ROUND(IF(C147=\"\",0,SUM(C$8:C147)),2)","v":0},null,{"$f":"ROUND(IF(E147=\"\",0,SUM(E$8:E147)),2)","v":0}]
[null,null,null,{"$f":"ROUND(IF(C148=\"\",0,SUM(C$8:C148)),2)","v":0},null,{"$f":"ROUND(IF(E148=\"\",0,SUM(E$8:E148)),2)","v":0}]
[null,null,null,{"$f":"ROUND(IF(C149=\"\",0,SUM(C$8:C149)),2)","v":0},null,{"$f":"ROUND(IF(E149=\"\",0,SUM(E$8:E149)),2)","v":0}]
[null,null,null,{"$f":"ROUND(IF(C150=\"\",0,SUM(C$8:C150)),2)","v":0},null,{"$f":"ROUND(IF(E150=\"\",0,SUM(E$8:E150)),2)","v":0}]
[null,null,null,{"$f":"ROUND(IF(C151=\"\",0,SUM(C$8:C151)),2)","v":0},null,{"$f":"ROUND(IF(E151=\"\",0,SUM(E$8:E151)),2)","v":0}]
[null,null,null,{"$f":"ROUND(IF(C152=\"\",0,SUM(C$8:C152)),2)","v":0},null,{"$f":"ROUND(IF(E152=\"\",0,SUM(E$8:E152)),2)","v":0}]
[null,null,null,{"$f":"ROUND(IF(C153=\"\",0,SUM(C$8:C153)),2)","v":0},null,{"$f":"ROUND(IF(E153=\"\",0,SUM(E$8:E153)),2)","v":0}]
[null,null,null,{"$f":"ROUND(IF(C154=\"\",0,SUM(C$8:C154)),2)","v":0},null,{"$f":"ROUND(IF(E154=\"\",0,SUM(E$8:E154)),2)","v":0}]
[null,null,null,{"$f":"ROUND(IF(C155=\"\",0,SUM(C$8:C155)),2)","v":0},null,{"$f":"ROUND(IF(E155=\"\",0,SUM(E$8:E155)),2)","v":0}]
[null,null,null,{"$f":"ROUND(IF(C156=\"\",0,SUM(C$8:C156)),2)","v":0},null,{"$f":"ROUND(IF(E156=\"\",0,SUM(E$8:E156)),2)","v":0}]
[null,null,null,{"$f":"ROUND(IF(C157=\"\",0,SUM(C$8:C157)),2)","v":0},null,{"$f":"ROUND(IF(E157=\"\",0,SUM(E$8:E157)),2)","v":0}]
[null,null,null,{"$f":"ROUND(IF(C158=\"\",0,SUM(C$8:C158)),2)","v":0},null,{"$f":"ROUND(IF(E158=\"\",0,SUM(E$8:E158)),2)","v":0}]
[null,null,null,{"$f":"ROUND(IF(C159=\"\",0,SUM(C$8:C159)),2)","v":0},null,{"$f":"ROUND(IF(E159=\"\",0,SUM(E$8:E159)),2)","v":0}]
[null,null,null,{"$f":"ROUND(IF(C160=\"\",0,SUM(C$8:C160)),2)","v":0},null,{"$f":"ROUND(IF(E160=\"\",0,SUM(E$8:E160)),2)","v":0}]
[null,null,null,{"$f":"ROUND(IF(C161=\"\",0,SUM(C$8:C161)),2)","v":0},null,{"$f":"ROUND(IF(E161=\"\",0,SUM(E$8:E161)),2)","v":0}]
[null,null,null,{"$f":"ROUND(IF(C162=\"\",0,SUM(C$8:C162)),2)","v":0},null,{"$f":"ROUND(IF(E162=\"\",0,SUM(E$8:E162)),2)","v":0}]
[null,null,null,{"$f":"ROUND(IF(C163=\"\",0,SUM(C$8:C163)),2)","v":0},null,{"$f":"ROUND(IF(E163=\"\",0,SUM(E$8:E163)),2)","v":0}]
[null,null,null,{"$f":"ROUND(IF(C164=\"\",0,SUM(C$8:C164)),2)","v":0},null,{"$f":"ROUND(IF(E164=\"\",0,SUM(E$8:E164)),2)","v":0}]
[null,null,null,{"$f":"ROUND(IF(C165=\"\",0,SUM(C$8:C165)),2)","v":0},null,{"$f":"ROUND(IF(E165=\"\",0,SUM(E$8:E165)),2)","v":0}]
[null,null,null,{"$f":"ROUND(IF(C166=\"\",0,SUM(C$8:C166)),2)","v":0},null,{"$f":"ROUND(IF(E166=\"\",0,SUM(E$8:E166)),2)","v":0}]
[null,null,null,{"$f":"ROUND(IF(C167=\"\",0,SUM(C$8:C167)),2)","v":0},null,{"$f":"ROUND(IF(E167=\"\",0,SUM(E$8:E167)),2)","v":0}]
[null,null,null,{"$f":"ROUND(IF(C168=\"\",0,SUM(C$8:C168)),2)","v":0},null,{"$f":"ROUND(IF(E168=\"\",0,SUM(E$8:E168)),2)","v":0}]
[null,null,null,{"$f":"ROUND(IF(C169=\"\",0,SUM(C$8:C169)),2)","v":0},null,{"$f":"ROUND(IF(E169=\"\",0,SUM(E$8:E169)),2)","v":0}]
[null,null,null,{"$f":"ROUND(IF(C170=\"\",0,SUM(C$8:C170)),2)","v":0},null,{"$f":"ROUND(IF(E170=\"\",0,SUM(E$8:E170)),2)","v":0}]
[null,null,null,{"$f":"ROUND(IF(C171=\"\",0,SUM(C$8:C171)),2)","v":0},null,{"$f":"ROUND(IF(E171=\"\",0,SUM(E$8:E171)),2)","v":0}]
[null,null,null,{"$f":"ROUND(IF(C172=\"\",0,SUM(C$8:C172)),2)","v":0},null,{"$f":"ROUND(IF(E172=\"\",0,SUM(E$8:E172)),2)","v":0}]
[null,null,null,{"$f":"ROUND(IF(C173=\"\",0,SUM(C$8:C173)),2)","v":0},null,{"$f":"ROUND(IF(E173=\"\",0,SUM(E$8:E173)),2)","v":0}]
[null,null,null,{"$f":"ROUND(IF(C174=\"\",0,SUM(C$8:C174)),2)","v":0},null,{"$f":"ROUND(IF(E174=\"\",0,SUM(E$8:E174)),2)","v":0}]
[null,null,null,{"$f":"ROUND(IF(C175=\"\",0,SUM(C$8:C175)),2)","v":0},null,{"$f":"ROUND(IF(E175=\"\",0,SUM(E$8:E175)),2)","v":0}]
[null,null,null,{"$f":"ROUND(IF(C176=\"\",0,SUM(C$8:C176)),2)","v":0},null,{"$f":"ROUND(IF(E176=\"\",0,SUM(E$8:E176)),2)","v":0}]
[null,null,null,{"$f":"ROUND(IF(C177=\"\",0,SUM(C$8:C177)),2)","v":0},null,{"$f":"ROUND(IF(E177=\"\",0,SUM(E$8:E177)),2)","v":0}]
[null,null,null,{"$f":"ROUND(IF(C178=\"\",0,SUM(C$8:C178)),2)","v":0},null,{"$f":"ROUND(IF(E178=\"\",0,SUM(E$8:E178)),2)","v":0}]
[null,null,null,{"$f":"ROUND(IF(C179=\"\",0,SUM(C$8:C179)),2)","v":0},null,{"$f":"ROUND(IF(E179=\"\",0,SUM(E$8:E179)),2)","v":0}]
[null,null,null,{"$f":"ROUND(IF(C180=\"\",0,SUM(C$8:C180)),2)","v":0},null,{"$f":"ROUND(IF(E180=\"\",0,SUM(E$8:E180)),2)","v":0}]
[null,null,null,{"$f":"ROUND(IF(C181=\"\",0,SUM(C$8:C181)),2)","v":0},null,{"$f":"ROUND(IF(E181=\"\",0,SUM(E$8:E181)),2)","v":0}]
[null,null,null,{"$f":"ROUND(IF(C182=\"\",0,SUM(C$8:C182)),2)","v":0},null,{"$f":"ROUND(IF(E182=\"\",0,SUM(E$8:E182)),2)","v":0}]
[null,null,null,{"$f":"ROUND(IF(C183=\"\",0,SUM(C$8:C183)),2)","v":0},null,{"$f":"ROUND(IF(E183=\"\",0,SUM(E$8:E183)),2)","v":0}]
[null,null,null,{"$f":"ROUND(IF(C184=\"\",0,SUM(C$8:C184)),2)","v":0},null,{"$f":"ROUND(IF(E184=\"\",0,SUM(E$8:E184)),2)","v":0}]
[null,null,null,{"$f":"ROUND(IF(C185=\"\",0,SUM(C$8:C185)),2)","v":0},null,{"$f":"ROUND(IF(E185=\"\",0,SUM(E$8:E185)),2)","v":0}]
[null,null,null,{"$f":"ROUND(IF(C186=\"\",0,SUM(C$8:C186)),2)","v":0},null,{"$f":"ROUND(IF(E186=\"\",0,SUM(E$8:E186)),2)","v":0}]
[null,null,null,{"$f":"ROUND(IF(C187=\"\",0,SUM(C$8:C187)),2)","v":0},null,{"$f":"ROUND(IF(E187=\"\",0,SUM(E$8:E187)),2)","v":0}]
[null,null,null,{"$f":"ROUND(IF(C188=\"\",0,SUM(C$8:C188)),2)","v":0},null,{"$f":"ROUND(IF(E188=\"\",0,SUM(E$8:E188)),2)","v":0}]
[null,null,null,{"$f":"ROUND(IF(C189=\"\",0,SUM(C$8:C189)),2)","v":0},null,{"$f":"ROUND(IF(E189=\"\",0,SUM(E$8:E189)),2)","v":0}]
[null,null,null,{"$f":"ROUND(IF(C190=\"\",0,SUM(C$8:C190)),2)","v":0},null,{"$f":"ROUND(IF(E190=\"\",0,SUM(E$8:E190)),2)","v":0}]
[null,null,null,{"$f":"ROUND(IF(C191=\"\",0,SUM(C$8:C191)),2)","v":0},null,{"$f":"ROUND(IF(E191=\"\",0,SUM(E$8:E191)),2)","v":0}]
[null,null,null,{"$f":"ROUND(IF(C192=\"\",0,SUM(C$8:C192)),2)","v":0},null,{"$f":"ROUND(IF(E192=\"\",0,SUM(E$8:E192)),2)","v":0}]
[null,null,null,{"$f":"ROUND(IF(C193=\"\",0,SUM(C$8:C193)),2)","v":0},null,{"$f":"ROUND(IF(E193=\"\",0,SUM(E$8:E193)),2)","v":0}]
[null,null,null,{"$f":"ROUND(IF(C194=\"\",0,SUM(C$8:C194)),2)","v":0},null,{"$f":"ROUND(IF(E194=\"\",0,SUM(E$8:E194)),2)","v":0}]
[null,null,null,{"$f":"ROUND(IF(C195=\"\",0,SUM(C$8:C195)),2)","v":0},null,{"$f":"ROUND(IF(E195=\"\",0,SUM(E$8:E195)),2)","v":0}]
[null,null,null,{"$f":"ROUND(IF(C196=\"\",0,SUM(C$8:C196)),2)","v":0},null,{"$f":"ROUND(IF(E196=\"\",0,SUM(E$8:E196)),2)","v":0}]
[null,null,null,{"$f":"ROUND(IF(C197=\"\",0,SUM(C$8:C197)),2)","v":0},null,{"$f":"ROUND(IF(E197=\"\",0,SUM(E$8:E197)),2)","v":0}]
[null,null,null,{"$f":"ROUND(IF(C198=\"\",0,SUM(C$8:C198)),2)","v":0},null,{"$f":"ROUND(IF(E198=\"\",0,SUM(E$8:E198)),2)","v":0}]
[null,null,null,{"$f":"ROUND(IF(C199=\"\",0,SUM(C$8:C199)),2)","v":0},null,{"$f":"ROUND(IF(E199=\"\",0,SUM(E$8:E199)),2)","v":0}]
[null,null,null,{"$f":"ROUND(IF(C200=\"\",0,SUM(C$8:C200)),2)","v":0},null,{"$f":"ROUND(IF(E200=\"\",0,SUM(E$8:E200)),2)","v":0}]
[null,null,null,{"$f":"ROUND(IF(C201=\"\",0,SUM(C$8:C201)),2)","v":0},null,{"$f":"ROUND(IF(E201=\"\",0,SUM(E$8:E201)),2)","v":0}]
[null,null,null,{"$f":"ROUND(IF(C202=\"\",0,SUM(C$8:C202)),2)","v":0},null,{"$f":"ROUND(IF(E202=\"\",0,SUM(E$8:E202)),2)","v":0}]
[null,null,null,{"$f":"ROUND(IF(C203=\"\",0,SUM(C$8:C203)),2)","v":0},null,{"$f":"ROUND(IF(E203=\"\",0,SUM(E$8:E203)),2)","v":0}]
[null,null,null,{"$f":"ROUND(IF(C204=\"\",0,SUM(C$8:C204)),2)","v":0},null,{"$f":"ROUND(IF(E204=\"\",0,SUM(E$8:E204)),2)","v":0}]
[null,null,null,{"$f":"ROUND(IF(C205=\"\",0,SUM(C$8:C205)),2)","v":0},null,{"$f":"ROUND(IF(E205=\"\",0,SUM(E$8:E205)),2)","v":0}]
[null,null,null,{"$f":"ROUND(IF(C206=\"\",0,SUM(C$8:C206)),2)","v":0},null,{"$f":"ROUND(IF(E206=\"\",0,SUM(E$8:E206)),2)","v":0}]
[null,null,null,{"$f":"ROUND(IF(C207=\"\",0,SUM(C$8:C207)),2)","v":0},null,{"$f":"ROUND(IF(E207=\"\",0,SUM(E$8:E207)),2)","v":0}]
[null,null,null,{"$f":"ROUND(IF(C208=\"\",0,SUM(C$8:C208)),2)","v":0},null,{"$f":"ROUND(IF(E208=\"\",0,SUM(E$8:E208)),2)","v":0}]
[null,null,null,{"$f":"ROUND(IF(C209=\"\",0,SUM(C$8:C209)),2)","v":0},null,{"$f":"ROUND(IF(E209=\"\",0,SUM(E$8:E209)),2)","v":0}]
[null,null,null,{"$f":"ROUND(IF(C210=\"\",0,SUM(C$8:C210)),2)","v":0},null,{"$f":"ROUND(IF(E210=\"\",0,SUM(E$8:E210)),2)","v":0}]
[null,null,null,{"$f":"ROUND(IF(C211=\"\",0,SUM(C$8:C211)),2)","v":0},null,{"$f":"ROUND(IF(E211=\"\",0,SUM(E$8:E211)),2)","v":0}]
[null,null,null,{"$f":"ROUND(IF(C212=\"\",0,SUM(C$8:C212)),2)","v":0},null,{"$f":"ROUND(IF(E212=\"\",0,SUM(E$8:E212)),2)","v":0}]
[null,null,null,{"$f":"ROUND(IF(C213=\"\",0,SUM(C$8:C213)),2)","v":0},null,{"$f":"ROUND(IF(E213=\"\",0,SUM(E$8:E213)),2)","v":0}]
[null,null,null,{"$f":"ROUND(IF(C214=\"\",0,SUM(C$8:C214)),2)","v":0},null,{"$f":"ROUND(IF(E214=\"\",0,SUM(E$8:E214)),2)","v":0}]
[null,null,null,{"$f":"ROUND(IF(C215=\"\",0,SUM(C$8:C215)),2)","v":0},null,{"$f":"ROUND(IF(E215=\"\",0,SUM(E$8:E215)),2)","v":0}]
[null,null,null,{"$f":"ROUND(IF(C216=\"\",0,SUM(C$8:C216)),2)","v":0},null,{"$f":"ROUND(IF(E216=\"\",0,SUM(E$8:E216)),2)","v":0}]
[null,null,null,{"$f":"ROUND(IF(C217=\"\",0,SUM(C$8:C217)),2)","v":0},null,{"$f":"ROUND(IF(E217=\"\",0,SUM(E$8:E217)),2)","v":0}]
[null,null,null,{"$f":"ROUND(IF(C218=\"\",0,SUM(C$8:C218)),2)","v":0},null,{"$f":"ROUND(IF(E218=\"\",0,SUM(E$8:E218)),2)","v":0}]
[null,null,null,{"$f":"ROUND(IF(C219=\"\",0,SUM(C$8:C219)),2)","v":0},null,{"$f":"ROUND(IF(E219=\"\",0,SUM(E$8:E219)),2)","v":0}]
[null,null,null,{"$f":"ROUND(IF(C220=\"\",0,SUM(C$8:C220)),2)","v":0},null,{"$f":"ROUND(IF(E220=\"\",0,SUM(E$8:E220)),2)","v":0}]
[null,null,null,{"$f":"ROUND(IF(C221=\"\",0,SUM(C$8:C221)),2)","v":0},null,{"$f":"ROUND(IF(E221=\"\",0,SUM(E$8:E221)),2)","v":0}]
[null,null,null,{"$f":"ROUND(IF(C222=\"\",0,SUM(C$8:C222)),2)","v":0},null,{"$f":"ROUND(IF(E222=\"\",0,SUM(E$8:E222)),2)","v":0}]
[null,null,null,{"$f":"ROUND(IF(C223=\"\",0,SUM(C$8:C223)),2)","v":0},null,{"$f":"ROUND(IF(E223=\"\",0,SUM(E$8:E223)),2)","v":0}]
[null,null,null,{"$f":"ROUND(IF(C224=\"\",0,SUM(C$8:C224)),2)","v":0},null,{"$f":"ROUND(IF(E224=\"\",0,SUM(E$8:E224)),2)","v":0}]
[null,null,null,{"$f":"ROUND(IF(C225=\"\",0,SUM(C$8:C225)),2)","v":0},null,{"$f":"ROUND(IF(E225=\"\",0,SUM(E$8:E225)),2)","v":0}]
[null,null,null,{"$f":"ROUND(IF(C226=\"\",0,SUM(C$8:C226)),2)","v":0},null,{"$f":"ROUND(IF(E226=\"\",0,SUM(E$8:E226)),2)","v":0}]
[null,null,null,{"$f":"ROUND(IF(C227=\"\",0,SUM(C$8:C227)),2)","v":0},null,{"$f":"ROUND(IF(E227=\"\",0,SUM(E$8:E227)),2)","v":0}]
[null,null,null,{"$f":"ROUND(IF(C228=\"\",0,SUM(C$8:C228)),2)","v":0},null,{"$f":"ROUND(IF(E228=\"\",0,SUM(E$8:E228)),2)","v":0}]
[null,null,null,{"$f":"ROUND(IF(C229=\"\",0,SUM(C$8:C229)),2)","v":0},null,{"$f":"ROUND(IF(E229=\"\",0,SUM(E$8:E229)),2)","v":0}]
[null,null,null,{"$f":"ROUND(IF(C230=\"\",0,SUM(C$8:C230)),2)","v":0},null,{"$f":"ROUND(IF(E230=\"\",0,SUM(E$8:E230)),2)","v":0}]
[null,null,null,{"$f":"ROUND(IF(C231=\"\",0,SUM(C$8:C231)),2)","v":0},null,{"$f":"ROUND(IF(E231=\"\",0,SUM(E$8:E231)),2)","v":0}]
[null,null,null,{"$f":"ROUND(IF(C232=\"\",0,SUM(C$8:C232)),2)","v":0},null,{"$f":"ROUND(IF(E232=\"\",0,SUM(E$8:E232)),2)","v":0}]
[null,null,null,{"$f":"ROUND(IF(C233=\"\",0,SUM(C$8:C233)),2)","v":0},null,{"$f":"ROUND(IF(E233=\"\",0,SUM(E$8:E233)),2)","v":0}]
[null,null,null,{"$f":"ROUND(IF(C234=\"\",0,SUM(C$8:C234)),2)","v":0},null,{"$f":"ROUND(IF(E234=\"\",0,SUM(E$8:E234)),2)","v":0}]
[null,null,null,{"$f":"ROUND(IF(C235=\"\",0,SUM(C$8:C235)),2)","v":0},null,{"$f":"ROUND(IF(E235=\"\",0,SUM(E$8:E235)),2)","v":0}]
[null,null,null,{"$f":"ROUND(IF(C236=\"\",0,SUM(C$8:C236)),2)","v":0},null,{"$f":"ROUND(IF(E236=\"\",0,SUM(E$8:E236)),2)","v":0}]
[null,null,null,{"$f":"ROUND(IF(C237=\"\",0,SUM(C$8:C237)),2)","v":0},null,{"$f":"ROUND(IF(E237=\"\",0,SUM(E$8:E237)),2)","v":0}]
[null,null,null,{"$f":"ROUND(IF(C238=\"\",0,SUM(C$8:C238)),2)","v":0},null,{"$f":"ROUND(IF(E238=\"\",0,SUM(E$8:E238)),2)","v":0}]
[null,null,null,{"$f":"ROUND(IF(C239=\"\",0,SUM(C$8:C239)),2)","v":0},null,{"$f":"ROUND(IF(E239=\"\",0,SUM(E$8:E239)),2)","v":0}]
[null,null,null,{"$f":"ROUND(IF(C240=\"\",0,SUM(C$8:C240)),2)","v":0},null,{"$f":"ROUND(IF(E240=\"\",0,SUM(E$8:E240)),2)","v":0}]
[null,null,null,{"$f":"ROUND(IF(C241=\"\",0,SUM(C$8:C241)),2)","v":0},null,{"$f":"ROUND(IF(E241=\"\",0,SUM(E$8:E241)),2)","v":0}]
[null,null,null,{"$f":"ROUND(IF(C242=\"\",0,SUM(C$8:C242)),2)","v":0},null,{"$f":"ROUND(IF(E242=\"\",0,SUM(E$8:E242)),2)","v":0}]
[null,null,null,{"$f":"ROUND(IF(C243=\"\",0,SUM(C$8:C243)),2)","v":0},null,{"$f":"ROUND(IF(E243=\"\",0,SUM(E$8:E243)),2)","v":0}]
[null,null,null,{"$f":"ROUND(IF(C244=\"\",0,SUM(C$8:C244)),2)","v":0},null,{"$f":"ROUND(IF(E244=\"\",0,SUM(E$8:E244)),2)","v":0}]
[null,null,null,{"$f":"ROUND(IF(C245=\"\",0,SUM(C$8:C245)),2)","v":0},null,{"$f":"ROUND(IF(E245=\"\",0,SUM(E$8:E245)),2)","v":0}]
[null,null,null,{"$f":"ROUND(IF(C246=\"\",0,SUM(C$8:C246)),2)","v":0},null,{"$f":"ROUND(IF(E246=\"\",0,SUM(E$8:E246)),2)","v":0}]
[null,null,null,{"$f":"ROUND(IF(C247=\"\",0,SUM(C$8:C247)),2)","v":0},null,{"$f":"ROUND(IF(E247=\"\",0,SUM(E$8:E247)),2)","v":0}]
[null,null,null,{"$f":"ROUND(IF(C248=\"\",0,SUM(C$8:C248)),2)","v":0},null,{"$f":"ROUND(IF(E248=\"\",0,SUM(E$8:E248)),2)","v":0}]
[null,null,null,{"$f":"ROUND(IF(C249=\"\",0,SUM(C$8:C249)),2)","v":0},null,{"$f":"ROUND(IF(E249=\"\",0,SUM(E$8:E249)),2)","v":0}]
[null,null,null,{"$f":"ROUND(IF(C250=\"\",0,SUM(C$8:C250)),2)","v":0},null,{"$f":"ROUND(IF(E250=\"\",0,SUM(E$8:E250)),2)","v":0}]
[null,null,null,{"$f":"ROUND(IF(C251=\"\",0,SUM(C$8:C251)),2)","v":0},null,{"$f":"ROUND(IF(E251=\"\",0,SUM(E$8:E251)),2)","v":0}]
[null,null,null,{"$f":"ROUND(IF(C252=\"\",0,SUM(C$8:C252)),2)","v":0},null,{"$f":"ROUND(IF(E252=\"\",0,SUM(E$8:E252)),2)","v":0}]
[null,null,null,{"$f":"ROUND(IF(C253=\"\",0,SUM(C$8:C253)),2)","v":0},null,{"$f":"ROUND(IF(E253=\"\",0,SUM(E$8:E253)),2)","v":0}]
[null,null,null,{"$f":"ROUND(IF(C254=\"\",0,SUM(C$8:C254)),2)","v":0},null,{"$f":"ROUND(IF(E254=\"\",0,SUM(E$8:E254)),2)","v":0}]
[null,null,null,{"$f":"ROUND(IF(C255=\"\",0,SUM(C$8:C255)),2)","v":0},null,{"$f":"ROUND(IF(E255=\"\",0,SUM(E$8:E255)),2)","v":0}]
[null,null,null,{"$f":"ROUND(IF(C256=\"\",0,SUM(C$8:C256)),2)","v":0},null,{"$f":"ROUND(IF(E256=\"\",0,SUM(E$8:E256)),2)","v":0}]
[null,null,null,{"$f":"ROUND(IF(C257=\"\",0,SUM(C$8:C257)),2)","v":0},null,{"$f":"ROUND(IF(E257=\"\",0,SUM(E$8:E257)),2)","v":0}]
[null,null,null,{"$f":"ROUND(IF(C258=\"\",0,SUM(C$8:C258)),2)","v":0},null,{"$f":"ROUND(IF(E258=\"\",0,SUM(E$8:E258)),2)","v":0}]
[null,null,null,{"$f":"ROUND(IF(C259=\"\",0,SUM(C$8:C259)),2)","v":0},null,{"$f":"ROUND(IF(E259=\"\",0,SUM(E$8:E259)),2)","v":0}]
[null,null,null,{"$f":"ROUND(IF(C260=\"\",0,SUM(C$8:C260)),2)","v":0},null,{"$f":"ROUND(IF(E260=\"\",0,SUM(E$8:E260)),2)","v":0}]
[null,null,null,{"$f":"ROUND(IF(C261=\"\",0,SUM(C$8:C261)),2)","v":0},null,{"$f":"ROUND(IF(E261=\"\",0,SUM(E$8:E261)),2)","v":0}]
[null,null,null,{"$f":"ROUND(IF(C262=\"\",0,SUM(C$8:C262)),2)","v":0},null,{"$f":"ROUND(IF(E262=\"\",0,SUM(E$8:E262)),2)","v":0}]
[null,null,null,{"$f":"ROUND(IF(C263=\"\",0,SUM(C$8:C263)),2)","v":0},null,{"$f":"ROUND(IF(E263=\"\",0,SUM(E$8:E263)),2)","v":0}]
[null,null,null,{"$f":"ROUND(IF(C264=\"\",0,SUM(C$8:C264)),2)","v":0},null,{"$f":"ROUND(IF(E264=\"\",0,SUM(E$8:E264)),2)","v":0}]
[null,null,null,{"$f":"ROUND(IF(C265=\"\",0,SUM(C$8:C265)),2)","v":0},null,{"$f":"ROUND(IF(E265=\"\",0,SUM(E$8:E265)),2)","v":0}]
[null,null,null,{"$f":"ROUND(IF(C266=\"\",0,SUM(C$8:C266)),2)","v":0},null,{"$f":"ROUND(IF(E266=\"\",0,SUM(E$8:E266)),2)","v":0}]
[null,null,null,{"$f":"ROUND(IF(C267=\"\",0,SUM(C$8:C267)),2)","v":0},null,{"$f":"ROUND(IF(E267=\"\",0,SUM(E$8:E267)),2)","v":0}]
[null,null,null,{"$f":"ROUND(IF(C268=\"\",0,SUM(C$8:C268)),2)","v":0},null,{"$f":"ROUND(IF(E268=\"\",0,SUM(E$8:E268)),2)","v":0}]
[null,null,null,{"$f":"ROUND(IF(C269=\"\",0,SUM(C$8:C269)),2)","v":0},null,{"$f":"ROUND(IF(E269=\"\",0,SUM(E$8:E269)),2)","v":0}]
[null,null,null,{"$f":"ROUND(IF(C270=\"\",0,SUM(C$8:C270)),2)","v":0},null,{"$f":"ROUND(IF(E270=\"\",0,SUM(E$8:E270)),2)","v":0}]
[null,null,null,{"$f":"ROUND(IF(C271=\"\",0,SUM(C$8:C271)),2)","v":0},null,{"$f":"ROUND(IF(E271=\"\",0,SUM(E$8:E271)),2)","v":0}]
[null,null,null,{"$f":"ROUND(IF(C272=\"\",0,SUM(C$8:C272)),2)","v":0},null,{"$f":"ROUND(IF(E272=\"\",0,SUM(E$8:E272)),2)","v":0}]
[null,null,null,{"$f":"ROUND(IF(C273=\"\",0,SUM(C$8:C273)),2)","v":0},null,{"$f":"ROUND(IF(E273=\"\",0,SUM(E$8:E273)),2)","v":0}]
[null,null,null,{"$f":"ROUND(IF(C274=\"\",0,SUM(C$8:C274)),2)","v":0},null,{"$f":"ROUND(IF(E274=\"\",0,SUM(E$8:E274)),2)","v":0}]
[null,null,null,{"$f":"ROUND(IF(C275=\"\",0,SUM(C$8:C275)),2)","v":0},null,{"$f":"ROUND(IF(E275=\"\",0,SUM(E$8:E275)),2)","v":0}]
[null,null,null,{"$f":"ROUND(IF(C276=\"\",0,SUM(C$8:C276)),2)","v":0},null,{"$f":"ROUND(IF(E276=\"\",0,SUM(E$8:E276)),2)","v":0}]
[null,null,null,{"$f":"ROUND(IF(C277=\"\",0,SUM(C$8:C277)),2)","v":0},null,{"$f":"ROUND(IF(E277=\"\",0,SUM(E$8:E277)),2)","v":0}]
[null,null,null,{"$f":"ROUND(IF(C278=\"\",0,SUM(C$8:C278)),2)","v":0},null,{"$f":"ROUND(IF(E278=\"\",0,SUM(E$8:E278)),2)","v":0}]
[null,null,null,{"$f":"ROUND(IF(C279=\"\",0,SUM(C$8:C279)),2)","v":0},null,{"$f":"ROUND(IF(E279=\"\",0,SUM(E$8:E279)),2)","v":0}]
[null,null,null,{"$f":"ROUND(IF(C280=\"\",0,SUM(C$8:C280)),2)","v":0},null,{"$f":"ROUND(IF(E280=\"\",0,SUM(E$8:E280)),2)","v":0}]
[null,null,null,{"$f":"ROUND(IF(C281=\"\",0,SUM(C$8:C281)),2)","v":0},null,{"$f":"ROUND(IF(E281=\"\",0,SUM(E$8:E281)),2)","v":0}]
[null,null,null,{"$f":"ROUND(IF(C282=\"\",0,SUM(C$8:C282)),2)","v":0},null,{"$f":"ROUND(IF(E282=\"\",0,SUM(E$8:E282)),2)","v":0}]
[null,null,null,{"$f":"ROUND(IF(C283=\"\",0,SUM(C$8:C283)),2)","v":0},null,{"$f":"ROUND(IF(E283=\"\",0,SUM(E$8:E283)),2)","v":0}]
[null,null,null,{"$f":"ROUND(IF(C284=\"\",0,SUM(C$8:C284)),2)","v":0},null,{"$f":"ROUND(IF(E284=\"\",0,SUM(E$8:E284)),2)","v":0}]
[null,null,null,{"$f":"ROUND(IF(C285=\"\",0,SUM(C$8:C285)),2)","v":0},null,{"$f":"ROUND(IF(E285=\"\",0,SUM(E$8:E285)),2)","v":0}]
[null,null,null,{"$f":"ROUND(IF(C286=\"\",0,SUM(C$8:C286)),2)","v":0},null,{"$f":"ROUND(IF(E286=\"\",0,SUM(E$8:E286)),2)","v":0}]
[null,null,null,{"$f":"ROUND(IF(C287=\"\",0,SUM(C$8:C287)),2)","v":0},null,{"$f":"ROUND(IF(E287=\"\",0,SUM(E$8:E287)),2)","v":0}]
[null,null,null,{"$f":"ROUND(IF(C288=\"\",0,SUM(C$8:C288)),2)","v":0},null,{"$f":"ROUND(IF(E288=\"\",0,SUM(E$8:E288)),2)","v":0}]
[null,null,null,{"$f":"ROUND(IF(C289=\"\",0,SUM(C$8:C289)),2)","v":0},null,{"$f":"ROUND(IF(E289=\"\",0,SUM(E$8:E289)),2)","v":0}]
[null,null,null,{"$f":"ROUND(IF(C290=\"\",0,SUM(C$8:C290)),2)","v":0},null,{"$f":"ROUND(IF(E290=\"\",0,SUM(E$8:E290)),2)","v":0}]
[null,null,null,{"$f":"ROUND(IF(C291=\"\",0,SUM(C$8:C291)),2)","v":0},null,{"$f":"ROUND(IF(E291=\"\",0,SUM(E$8:E291)),2)","v":0}]
[null,null,null,{"$f":"ROUND(IF(C292=\"\",0,SUM(C$8:C292)),2)","v":0},null,{"$f":"ROUND(IF(E292=\"\",0,SUM(E$8:E292)),2)","v":0}]
[null,null,null,{"$f":"ROUND(IF(C293=\"\",0,SUM(C$8:C293)),2)","v":0},null,{"$f":"ROUND(IF(E293=\"\",0,SUM(E$8:E293)),2)","v":0}]
[null,null,null,{"$f":"ROUND(IF(C294=\"\",0,SUM(C$8:C294)),2)","v":0},null,{"$f":"ROUND(IF(E294=\"\",0,SUM(E$8:E294)),2)","v":0}]
[null,null,null,{"$f":"ROUND(IF(C295=\"\",0,SUM(C$8:C295)),2)","v":0},null,{"$f":"ROUND(IF(E295=\"\",0,SUM(E$8:E295)),2)","v":0}]
[null,null,null,{"$f":"ROUND(IF(C296=\"\",0,SUM(C$8:C296)),2)","v":0},null,{"$f":"ROUND(IF(E296=\"\",0,SUM(E$8:E296)),2)","v":0}]
[null,null,null,{"$f":"ROUND(IF(C297=\"\",0,SUM(C$8:C297)),2)","v":0},null,{"$f":"ROUND(IF(E297=\"\",0,SUM(E$8:E297)),2)","v":0}]
[null,null,null,{"$f":"ROUND(IF(C298=\"\",0,SUM(C$8:C298)),2)","v":0},null,{"$f":"ROUND(IF(E298=\"\",0,SUM(E$8:E298)),2)","v":0}]
[null,null,null,{"$f":"ROUND(IF(C299=\"\",0,SUM(C$8:C299)),2)","v":0},null,{"$f":"ROUND(IF(E299=\"\",0,SUM(E$8:E299)),2)","v":0}]
[null,null,null,{"$f":"ROUND(IF(C300=\"\",0,SUM(C$8:C300)),2)","v":0},null,{"$f":"ROUND(IF(E300=\"\",0,SUM(E$8:E300)),2)","v":0}]
[null,null,null,{"$f":"ROUND(IF(C301=\"\",0,SUM(C$8:C301)),2)","v":0},null,{"$f":"ROUND(IF(E301=\"\",0,SUM(E$8:E301)),2)","v":0}]
[null,null,null,{"$f":"ROUND(IF(C302=\"\",0,SUM(C$8:C302)),2)","v":0},null,{"$f":"ROUND(IF(E302=\"\",0,SUM(E$8:E302)),2)","v":0}]
[null,null,null,{"$f":"ROUND(IF(C303=\"\",0,SUM(C$8:C303)),2)","v":0},null,{"$f":"ROUND(IF(E303=\"\",0,SUM(E$8:E303)),2)","v":0}]
[null,null,null,{"$f":"ROUND(IF(C304=\"\",0,SUM(C$8:C304)),2)","v":0},null,{"$f":"ROUND(IF(E304=\"\",0,SUM(E$8:E304)),2)","v":0}]
[null,null,null,{"$f":"ROUND(IF(C305=\"\",0,SUM(C$8:C305)),2)","v":0},null,{"$f":"ROUND(IF(E305=\"\",0,SUM(E$8:E305)),2)","v":0}]
[null,null,null,{"$f":"ROUND(IF(C306=\"\",0,SUM(C$8:C306)),2)","v":0},null,{"$f":"ROUND(IF(E306=\"\",0,SUM(E$8:E306)),2)","v":0}]
[null,null,null,{"$f":"ROUND(IF(C307=\"\",0,SUM(C$8:C307)),2)","v":0},null,{"$f":"ROUND(IF(E307=\"\",0,SUM(E$8:E307)),2)","v":0}]
[null,null,null,{"$f":"ROUND(IF(C308=\"\",0,SUM(C$8:C308)),2)","v":0},null,{"$f":"ROUND(IF(E308=\"\",0,SUM(E$8:E308)),2)","v":0}]
[null,null,null,{"$f":"ROUND(IF(C309=\"\",0,SUM(C$8:C309)),2)","v":0},null,{"$f":"ROUND(IF(E309=\"\",0,SUM(E$8:E309)),2)","v":0}]
[null,null,null,{"$f":"ROUND(IF(C310=\"\",0,SUM(C$8:C310)),2)","v":0},null,{"$f":"ROUND(IF(E310=\"\",0,SUM(E$8:E310)),2)","v":0}]
[null,null,null,{"$f":"ROUND(IF(C311=\"\",0,SUM(C$8:C311)),2)","v":0},null,{"$f":"ROUND(IF(E311=\"\",0,SUM(E$8:E311)),2)","v":0}]
[null,null,null,{"$f":"ROUND(IF(C312=\"\",0,SUM(C$8:C312)),2)","v":0},null,{"$f":"ROUND(IF(E312=\"\",0,SUM(E$8:E312)),2)","v":0}]
[null,null,null,{"$f":"ROUND(IF(C313=\"\",0,SUM(C$8:C313)),2)","v":0},null,{"$f":"ROUND(IF(E313=\"\",0,SUM(E$8:E313)),2)","v":0}]
[null,null,null,{"$f":"ROUND(IF(C314=\"\",0,SUM(C$8:C314)),2)","v":0},null,{"$f":"ROUND(IF(E314=\"\",0,SUM(E$8:E314)),2)","v":0}]
[null,null,null,{"$f":"ROUND(IF(C315=\"\",0,SUM(C$8:C315)),2)","v":0},null,{"$f":"ROUND(IF(E315=\"\",0,SUM(E$8:E315)),2)","v":0}]
[null,null,null,{"$f":"ROUND(IF(C316=\"\",0,SUM(C$8:C316)),2)","v":0},null,{"$f":"ROUND(IF(E316=\"\",0,SUM(E$8:E316)),2)","v":0}]
[null,null,null,{"$f":"ROUND(IF(C317=\"\",0,SUM(C$8:C317)),2)","v":0},null,{"$f":"ROUND(IF(E317=\"\",0,SUM(E$8:E317)),2)","v":0}]
[null,null,null,{"$f":"ROUND(IF(C318=\"\",0,SUM(C$8:C318)),2)","v":0},null,{"$f":"ROUND(IF(E318=\"\",0,SUM(E$8:E318)),2)","v":0}]
[null,null,null,{"$f":"ROUND(IF(C319=\"\",0,SUM(C$8:C319)),2)","v":0},null,{"$f":"ROUND(IF(E319=\"\",0,SUM(E$8:E319)),2)","v":0}]
[null,null,null,{"$f":"ROUND(IF(C320=\"\",0,SUM(C$8:C320)),2)","v":0},null,{"$f":"ROUND(IF(E320=\"\",0,SUM(E$8:E320)),2)","v":0}]
[null,null,null,{"$f":"ROUND(IF(C321=\"\",0,SUM(C$8:C321)),2)","v":0},null,{"$f":"ROUND(IF(E321=\"\",0,SUM(E$8:E321)),2)","v":0}]
[null,null,null,{"$f":"ROUND(IF(C322=\"\",0,SUM(C$8:C322)),2)","v":0},null,{"$f":"ROUND(IF(E322=\"\",0,SUM(E$8:E322)),2)","v":0}]
[null,null,null,{"$f":"ROUND(IF(C323=\"\",0,SUM(C$8:C323)),2)","v":0},null,{"$f":"ROUND(IF(E323=\"\",0,SUM(E$8:E323)),2)","v":0}]
[null,null,null,{"$f":"ROUND(IF(C324=\"\",0,SUM(C$8:C324)),2)","v":0},null,{"$f":"ROUND(IF(E324=\"\",0,SUM(E$8:E324)),2)","v":0}]
[null,null,null,{"$f":"ROUND(IF(C325=\"\",0,SUM(C$8:C325)),2)","v":0},null,{"$f":"ROUND(IF(E325=\"\",0,SUM(E$8:E325)),2)","v":0}]
[null,null,null,{"$f":"ROUND(IF(C326=\"\",0,SUM(C$8:C326)),2)","v":0},null,{"$f":"ROUND(IF(E326=\"\",0,SUM(E$8:E326)),2)","v":0}]
[null,null,null,{"$f":"ROUND(IF(C327=\"\",0,SUM(C$8:C327)),2)","v":0},null,{"$f":"ROUND(IF(E327=\"\",0,SUM(E$8:E327)),2)","v":0}]
[null,null,null,{"$f":"ROUND(IF(C328=\"\",0,SUM(C$8:C328)),2)","v":0},null,{"$f":"ROUND(IF(E328=\"\",0,SUM(E$8:E328)),2)","v":0}]
[null,null,null,{"$f":"ROUND(IF(C329=\"\",0,SUM(C$8:C329)),2)","v":0},null,{"$f":"ROUND(IF(E329=\"\",0,SUM(E$8:E329)),2)","v":0}]
[null,null,null,{"$f":"ROUND(IF(C330=\"\",0,SUM(C$8:C330)),2)","v":0},null,{"$f":"ROUND(IF(E330=\"\",0,SUM(E$8:E330)),2)","v":0}]
[null,null,null,{"$f":"ROUND(IF(C331=\"\",0,SUM(C$8:C331)),2)","v":0},null,{"$f":"ROUND(IF(E331=\"\",0,SUM(E$8:E331)),2)","v":0}]
[null,null,null,{"$f":"ROUND(IF(C332=\"\",0,SUM(C$8:C332)),2)","v":0},null,{"$f":"ROUND(IF(E332=\"\",0,SUM(E$8:E332)),2)","v":0}]
[null,null,null,{"$f":"ROUND(IF(C333=\"\",0,SUM(C$8:C333)),2)","v":0},null,{"$f":"ROUND(IF(E333=\"\",0,SUM(E$8:E333)),2)","v":0}]
[null,null,null,{"$f":"ROUND(IF(C334=\"\",0,SUM(C$8:C334)),2)","v":0},null,{"$f":"ROUND(IF(E334=\"\",0,SUM(E$8:E334)),2)","v":0}]
[null,null,null,{"$f":"ROUND(IF(C335=\"\",0,SUM(C$8:C335)),2)","v":0},null,{"$f":"ROUND(IF(E335=\"\",0,SUM(E$8:E335)),2)","v":0}]
[null,null,null,{"$f":"ROUND(IF(C336=\"\",0,SUM(C$8:C336)),2)","v":0},null,{"$f":"ROUND(IF(E336=\"\",0,SUM(E$8:E336)),2)","v":0}]
[null,null,null,{"$f":"ROUND(IF(C337=\"\",0,SUM(C$8:C337)),2)","v":0},null,{"$f":"ROUND(IF(E337=\"\",0,SUM(E$8:E337)),2)","v":0}]
[null,null,null,{"$f":"ROUND(IF(C338=\"\",0,SUM(C$8:C338)),2)","v":0},null,{"$f":"ROUND(IF(E338=\"\",0,SUM(E$8:E338)),2)","v":0}]
[null,null,null,{"$f":"ROUND(IF(C339=\"\",0,SUM(C$8:C339)),2)","v":0},null,{"$f":"ROUND(IF(E339=\"\",0,SUM(E$8:E339)),2)","v":0}]
[null,null,null,{"$f":"ROUND(IF(C340=\"\",0,SUM(C$8:C340)),2)","v":0},null,{"$f":"ROUND(IF(E340=\"\",0,SUM(E$8:E340)),2)","v":0}]
[null,null,null,{"$f":"ROUND(IF(C341=\"\",0,SUM(C$8:C341)),2)","v":0},null,{"$f":"ROUND(IF(E341=\"\",0,SUM(E$8:E341)),2)","v":0}]
[null,null,null,{"$f":"ROUND(IF(C342=\"\",0,SUM(C$8:C342)),2)","v":0},null,{"$f":"ROUND(IF(E342=\"\",0,SUM(E$8:E342)),2)","v":0}]
[null,null,null,{"$f":"ROUND(IF(C343=\"\",0,SUM(C$8:C343)),2)","v":0},null,{"$f":"ROUND(IF(E343=\"\",0,SUM(E$8:E343)),2)","v":0}]
[null,null,null,{"$f":"ROUND(IF(C344=\"\",0,SUM(C$8:C344)),2)","v":0},null,{"$f":"ROUND(IF(E344=\"\",0,SUM(E$8:E344)),2)","v":0}]
[null,null,null,{"$f":"ROUND(IF(C345=\"\",0,SUM(C$8:C345)),2)","v":0},null,{"$f":"ROUND(IF(E345=\"\",0,SUM(E$8:E345)),2)","v":0}]
[null,null,null,{"$f":"ROUND(IF(C346=\"\",0,SUM(C$8:C346)),2)","v":0},null,{"$f":"ROUND(IF(E346=\"\",0,SUM(E$8:E346)),2)","v":0}]
[null,null,null,{"$f":"ROUND(IF(C347=\"\",0,SUM(C$8:C347)),2)","v":0},null,{"$f":"ROUND(IF(E347=\"\",0,SUM(E$8:E347)),2)","v":0}]
[null,null,null,{"$f":"ROUND(IF(C348=\"\",0,SUM(C$8:C348)),2)","v":0},null,{"$f":"ROUND(IF(E348=\"\",0,SUM(E$8:E348)),2)","v":0}]
[null,null,null,{"$f":"ROUND(IF(C349=\"\",0,SUM(C$8:C349)),2)","v":0},null,{"$f":"ROUND(IF(E349=\"\",0,SUM(E$8:E349)),2)","v":0}]
[null,null,null,{"$f":"ROUND(IF(C350=\"\",0,SUM(C$8:C350)),2)","v":0},null,{"$f":"ROUND(IF(E350=\"\",0,SUM(E$8:E350)),2)","v":0}]
[null,null,null,{"$f":"ROUND(IF(C351=\"\",0,SUM(C$8:C351)),2)","v":0},null,{"$f":"ROUND(IF(E351=\"\",0,SUM(E$8:E351)),2)","v":0}]
[null,null,null,{"$f":"ROUND(IF(C352=\"\",0,SUM(C$8:C352)),2)","v":0},null,{"$f":"ROUND(IF(E352=\"\",0,SUM(E$8:E352)),2)","v":0}]
[null,null,null,{"$f":"ROUND(IF(C353=\"\",0,SUM(C$8:C353)),2)","v":0},null,{"$f":"ROUND(IF(E353=\"\",0,SUM(E$8:E353)),2)","v":0}]
[null,null,null,{"$f":"ROUND(IF(C354=\"\",0,SUM(C$8:C354)),2)","v":0},null,{"$f":"ROUND(IF(E354=\"\",0,SUM(E$8:E354)),2)","v":0}]
[null,null,null,{"$f":"ROUND(IF(C355=\"\",0,SUM(C$8:C355)),2)","v":0},null,{"$f":"ROUND(IF(E355=\"\",0,SUM(E$8:E355)),2)","v":0}]
[null,null,null,{"$f":"ROUND(IF(C356=\"\",0,SUM(C$8:C356)),2)","v":0},null,{"$f":"ROUND(IF(E356=\"\",0,SUM(E$8:E356)),2)","v":0}]
[null,null,null,{"$f":"ROUND(IF(C357=\"\",0,SUM(C$8:C357)),2)","v":0},null,{"$f":"ROUND(IF(E357=\"\",0,SUM(E$8:E357)),2)","v":0}]
[null,null,null,{"$f":"ROUND(IF(C358=\"\",0,SUM(C$8:C358)),2)","v":0},null,{"$f":"ROUND(IF(E358=\"\",0,SUM(E$8:E358)),2)","v":0}]
[null,null,null,{"$f":"ROUND(IF(C359=\"\",0,SUM(C$8:C359)),2)","v":0},null,{"$f":"ROUND(IF(E359=\"\",0,SUM(E$8:E359)),2)","v":0}]
[null,null,null,{"$f":"ROUND(IF(C360=\"\",0,SUM(C$8:C360)),2)","v":0},null,{"$f":"ROUND(IF(E360=\"\",0,SUM(E$8:E360)),2)","v":0}]
[null,null,null,{"$f":"ROUND(IF(C361=\"\",0,SUM(C$8:C361)),2)","v":0},null,{"$f":"ROUND(IF(E361=\"\",0,SUM(E$8:E361)),2)","v":0}]
[null,null,null,{"$f":"ROUND(IF(C362=\"\",0,SUM(C$8:C362)),2)","v":0},null,{"$f":"ROUND(IF(E362=\"\",0,SUM(E$8:E362)),2)","v":0}]
[null,null,null,{"$f":"ROUND(IF(C363=\"\",0,SUM(C$8:C363)),2)","v":0},null,{"$f":"ROUND(IF(E363=\"\",0,SUM(E$8:E363)),2)","v":0}]
[null,null,null,{"$f":"ROUND(IF(C364=\"\",0,SUM(C$8:C364)),2)","v":0},null,{"$f":"ROUND(IF(E364=\"\",0,SUM(E$8:E364)),2)","v":0}]
[null,null,null,{"$f":"ROUND(IF(C365=\"\",0,SUM(C$8:C365)),2)","v":0},null,{"$f":"ROUND(IF(E365=\"\",0,SUM(E$8:E365)),2)","v":0}]
[null,null,null,{"$f":"ROUND(IF(C366=\"\",0,SUM(C$8:C366)),2)","v":0},null,{"$f":"ROUND(IF(E366=\"\",0,SUM(E$8:E366)),2)","v":0}]
[null,null,null,{"$f":"ROUND(IF(C367=\"\",0,SUM(C$8:C367)),2)","v":0},null,{"$f":"ROUND(IF(E367=\"\",0,SUM(E$8:E367)),2)","v":0}]
[null,null,null,{"$f":"ROUND(IF(C368=\"\",0,SUM(C$8:C368)),2)","v":0},null,{"$f":"ROUND(IF(E368=\"\",0,SUM(E$8:E368)),2)","v":0}]
[null,null,null,{"$f":"ROUND(IF(C369=\"\",0,SUM(C$8:C369)),2)","v":0},null,{"$f":"ROUND(IF(E369=\"\",0,SUM(E$8:E369)),2)","v":0}]
[null,null,null,{"$f":"ROUND(IF(C370=\"\",0,SUM(C$8:C370)),2)","v":0},null,{"$f":"ROUND(IF(E370=\"\",0,SUM(E$8:E370)),2)","v":0}]
[null,null,null,{"$f":"ROUND(IF(C371=\"\",0,SUM(C$8:C371)),2)","v":0},null,{"$f":"ROUND(IF(E371=\"\",0,SUM(E$8:E371)),2)","v":0}]
[null,null,null,{"$f":"ROUND(IF(C372=\"\",0,SUM(C$8:C372)),2)","v":0},null,{"$f":"ROUND(IF(E372=\"\",0,SUM(E$8:E372)),2)","v":0}]
[null,null,null,{"$f":"ROUND(IF(C373=\"\",0,SUM(C$8:C373)),2)","v":0},null,{"$f":"ROUND(IF(E373=\"\",0,SUM(E$8:E373)),2)","v":0}]
[null,null,null,{"$f":"ROUND(IF(C374=\"\",0,SUM(C$8:C374)),2)","v":0},null,{"$f":"ROUND(IF(E374=\"\",0,SUM(E$8:E374)),2)","v":0}]
[null,null,null,{"$f":"ROUND(IF(C375=\"\",0,SUM(C$8:C375)),2)","v":0},null,{"$f":"ROUND(IF(E375=\"\",0,SUM(E$8:E375)),2)","v":0}]
[null,null,null,{"$f":"ROUND(IF(C376=\"\",0,SUM(C$8:C376)),2)","v":0},null,{"$f":"ROUND(IF(E376=\"\",0,SUM(E$8:E376)),2)","v":0}]
[null,null,null,{"$f":"ROUND(IF(C377=\"\",0,SUM(C$8:C377)),2)","v":0},null,{"$f":"ROUND(IF(E377=\"\",0,SUM(E$8:E377)),2)","v":0}]
[null,null,null,{"$f":"ROUND(IF(C378=\"\",0,SUM(C$8:C378)),2)","v":0},null,{"$f":"ROUND(IF(E378=\"\",0,SUM(E$8:E378)),2)","v":0}]
[null,null,null,{"$f":"ROUND(IF(C379=\"\",0,SUM(C$8:C379)),2)","v":0},null,{"$f":"ROUND(IF(E379=\"\",0,SUM(E$8:E379)),2)","v":0}]
[null,null,null,{"$f":"ROUND(IF(C380=\"\",0,SUM(C$8:C380)),2)","v":0},null,{"$f":"ROUND(IF(E380=\"\",0,SUM(E$8:E380)),2)","v":0}]
[null,null,null,{"$f":"ROUND(IF(C381=\"\",0,SUM(C$8:C381)),2)","v":0},null,{"$f":"ROUND(IF(E381=\"\",0,SUM(E$8:E381)),2)","v":0}]
[null,null,null,{"$f":"ROUND(IF(C382=\"\",0,SUM(C$8:C382)),2)","v":0},null,{"$f":"ROUND(IF(E382=\"\",0,SUM(E$8:E382)),2)","v":0}]
[null,null,null,{"$f":"ROUND(IF(C383=\"\",0,SUM(C$8:C383)),2)","v":0},null,{"$f":"ROUND(IF(E383=\"\",0,SUM(E$8:E383)),2)","v":0}]
[null,null,null,{"$f":"ROUND(IF(C384=\"\",0,SUM(C$8:C384)),2)","v":0},null,{"$f":"ROUND(IF(E384=\"\",0,SUM(E$8:E384)),2)","v":0}]
[null,null,null,{"$f":"ROUND(IF(C385=\"\",0,SUM(C$8:C385)),2)","v":0},null,{"$f":"ROUND(IF(E385=\"\",0,SUM(E$8:E385)),2)","v":0}]
[null,null,null,{"$f":"ROUND(IF(C386=\"\",0,SUM(C$8:C386)),2)","v":0},null,{"$f":"ROUND(IF(E386=\"\",0,SUM(E$8:E386)),2)","v":0}]
[null,null,null,{"$f":"ROUND(IF(C387=\"\",0,SUM(C$8:C387)),2)","v":0},null,{"$f":"ROUND(IF(E387=\"\",0,SUM(E$8:E387)),2)","v":0}]
[null,null,null,{"$f":"ROUND(IF(C388=\"\",0,SUM(C$8:C388)),2)","v":0},null,{"$f":"ROUND(IF(E388=\"\",0,SUM(E$8:E388)),2)","v":0}]
[null,null,null,{"$f":"ROUND(IF(C389=\"\",0,SUM(C$8:C389)),2)","v":0},null,{"$f":"ROUND(IF(E389=\"\",0,SUM(E$8:E389)),2)","v":0}]
[null,null,null,{"$f":"ROUND(IF(C390=\"\",0,SUM(C$8:C390)),2)","v":0},null,{"$f":"ROUND(IF(E390=\"\",0,SUM(E$8:E390)),2)","v":0}]
[null,null,null,{"$f":"ROUND(IF(C391=\"\",0,SUM(C$8:C391)),2)","v":0},null,{"$f":"ROUND(IF(E391=\"\",0,SUM(E$8:E391)),2)","v":0}]
[null,null,null,{"$f":"ROUND(IF(C392=\"\",0,SUM(C$8:C392)),2)","v":0},null,{"$f":"ROUND(IF(E392=\"\",0,SUM(E$8:E392)),2)","v":0}]
[null,null,null,{"$f":"ROUND(IF(C393=\"\",0,SUM(C$8:C393)),2)","v":0},null,{"$f":"ROUND(IF(E393=\"\",0,SUM(E$8:E393)),2)","v":0}]
[null,null,null,{"$f":"ROUND(IF(C394=\"\",0,SUM(C$8:C394)),2)","v":0},null,{"$f":"ROUND(IF(E394=\"\",0,SUM(E$8:E394)),2)","v":0}]
[null,null,null,{"$f":"ROUND(IF(C395=\"\",0,SUM(C$8:C395)),2)","v":0},null,{"$f":"ROUND(IF(E395=\"\",0,SUM(E$8:E395)),2)","v":0}]
[null,null,null,{"$f":"ROUND(IF(C396=\"\",0,SUM(C$8:C396)),2)","v":0},null,{"$f":"ROUND(IF(E396=\"\",0,SUM(E$8:E396)),2)","v":0}]
[null,null,null,{"$f":"ROUND(IF(C397=\"\",0,SUM(C$8:C397)),2)","v":0},null,{"$f":"ROUND(IF(E397=\"\",0,SUM(E$8:E397)),2)","v":0}]
[null,null,null,{"$f":"ROUND(IF(C398=\"\",0,SUM(C$8:C398)),2)","v":0},null,{"$f":"ROUND(IF(E398=\"\",0,SUM(E$8:E398)),2)","v":0}]
[null,null,null,{"$f":"ROUND(IF(C399=\"\",0,SUM(C$8:C399)),2)","v":0},null,{"$f":"ROUND(IF(E399=\"\",0,SUM(E$8:E399)),2)","v":0}]
[null,null,null,{"$f":"ROUND(IF(C400=\"\",0,SUM(C$8:C400)),2)","v":0},null,{"$f":"ROUND(IF(E400=\"\",0,SUM(E$8:E400)),2)","v":0}]
[null,null,null,{"$f":"ROUND(IF(C401=\"\",0,SUM(C$8:C401)),2)","v":0},null,{"$f":"ROUND(IF(E401=\"\",0,SUM(E$8:E401)),2)","v":0}]
[null,null,null,{"$f":"ROUND(IF(C402=\"\",0,SUM(C$8:C402)),2)","v":0},null,{"$f":"ROUND(IF(E402=\"\",0,SUM(E$8:E402)),2)","v":0}]
[null,null,null,{"$f":"ROUND(IF(C403=\"\",0,SUM(C$8:C403)),2)","v":0},null,{"$f":"ROUND(IF(E403=\"\",0,SUM(E$8:E403)),2)","v":0}]
[null,null,null,{"$f":"ROUND(IF(C404=\"\",0,SUM(C$8:C404)),2)","v":0},null,{"$f":"ROUND(IF(E404=\"\",0,SUM(E$8:E404)),2)","v":0}]
[null,null,null,{"$f":"ROUND(IF(C405=\"\",0,SUM(C$8:C405)),2)","v":0},null,{"$f":"ROUND(IF(E405=\"\",0,SUM(E$8:E405)),2)","v":0}]
[null,null,null,{"$f":"ROUND(IF(C406=\"\",0,SUM(C$8:C406)),2)","v":0},null,{"$f":"ROUND(IF(E406=\"\",0,SUM(E$8:E406)),2)","v":0}]
[null,null,null,{"$f":"ROUND(IF(C407=\"\",0,SUM(C$8:C407)),2)","v":0},null,{"$f":"ROUND(IF(E407=\"\",0,SUM(E$8:E407)),2)","v":0}]
[null,null,null,{"$f":"ROUND(IF(C408=\"\",0,SUM(C$8:C408)),2)","v":0},null,{"$f":"ROUND(IF(E408=\"\",0,SUM(E$8:E408)),2)","v":0}]
[null,null,null,{"$f":"ROUND(IF(C409=\"\",0,SUM(C$8:C409)),2)","v":0},null,{"$f":"ROUND(IF(E409=\"\",0,SUM(E$8:E409)),2)","v":0}]
[null,null,null,{"$f":"ROUND(IF(C410=\"\",0,SUM(C$8:C410)),2)","v":0},null,{"$f":"ROUND(IF(E410=\"\",0,SUM(E$8:E410)),2)","v":0}]
[null,null,null,{"$f":"ROUND(IF(C411=\"\",0,SUM(C$8:C411)),2)","v":0},null,{"$f":"ROUND(IF(E411=\"\",0,SUM(E$8:E411)),2)","v":0}]
[null,null,null,{"$f":"ROUND(IF(C412=\"\",0,SUM(C$8:C412)),2)","v":0},null,{"$f":"ROUND(IF(E412=\"\",0,SUM(E$8:E412)),2)","v":0}]
[null,null,null,{"$f":"ROUND(IF(C413=\"\",0,SUM(C$8:C413)),2)","v":0},null,{"$f":"ROUND(IF(E413=\"\",0,SUM(E$8:E413)),2)","v":0}]
[null,null,null,{"$f":"ROUND(IF(C414=\"\",0,SUM(C$8:C414)),2)","v":0},null,{"$f":"ROUND(IF(E414=\"\",0,SUM(E$8:E414)),2)","v":0}]
[null,null,null,{"$f":"ROUND(IF(C415=\"\",0,SUM(C$8:C415)),2)","v":0},null,{"$f":"ROUND(IF(E415=\"\",0,SUM(E$8:E415)),2)","v":0}]
[null,null,null,{"$f":"ROUND(IF(C416=\"\",0,SUM(C$8:C416)),2)","v":0},null,{"$f":"ROUND(IF(E416=\"\",0,SUM(E$8:E416)),2)","v":0}]
[null,null,null,{"$f":"ROUND(IF(C417=\"\",0,SUM(C$8:C417)),2)","v":0},null,{"$f":"ROUND(IF(E417=\"\",0,SUM(E$8:E417)),2)","v":0}]
[null,null,null,{"$f":"ROUND(IF(C418=\"\",0,SUM(C$8:C418)),2)","v":0},null,{"$f":"ROUND(IF(E418=\"\",0,SUM(E$8:E418)),2)","v":0}]
[null,null,null,{"$f":"ROUND(IF(C419=\"\",0,SUM(C$8:C419)),2)","v":0},null,{"$f":"ROUND(IF(E419=\"\",0,SUM(E$8:E419)),2)","v":0}]
[null,null,null,{"$f":"ROUND(IF(C420=\"\",0,SUM(C$8:C420)),2)","v":0},null,{"$f":"ROUND(IF(E420=\"\",0,SUM(E$8:E420)),2)","v":0}]
[null,null,null,{"$f":"ROUND(IF(C421=\"\",0,SUM(C$8:C421)),2)","v":0},null,{"$f":"ROUND(IF(E421=\"\",0,SUM(E$8:E421)),2)","v":0}]
[null,null,null,{"$f":"ROUND(IF(C422=\"\",0,SUM(C$8:C422)),2)","v":0},null,{"$f":"ROUND(IF(E422=\"\",0,SUM(E$8:E422)),2)","v":0}]
[null,null,null,{"$f":"ROUND(IF(C423=\"\",0,SUM(C$8:C423)),2)","v":0},null,{"$f":"ROUND(IF(E423=\"\",0,SUM(E$8:E423)),2)","v":0}]
[null,null,null,{"$f":"ROUND(IF(C424=\"\",0,SUM(C$8:C424)),2)","v":0},null,{"$f":"ROUND(IF(E424=\"\",0,SUM(E$8:E424)),2)","v":0}]
[null,null,null,{"$f":"ROUND(IF(C425=\"\",0,SUM(C$8:C425)),2)","v":0},null,{"$f":"ROUND(IF(E425=\"\",0,SUM(E$8:E425)),2)","v":0}]
[null,null,null,{"$f":"ROUND(IF(C426=\"\",0,SUM(C$8:C426)),2)","v":0},null,{"$f":"ROUND(IF(E426=\"\",0,SUM(E$8:E426)),2)","v":0}]
[null,null,null,{"$f":"ROUND(IF(C427=\"\",0,SUM(C$8:C427)),2)","v":0},null,{"$f":"ROUND(IF(E427=\"\",0,SUM(E$8:E427)),2)","v":0}]
[null,null,null,{"$f":"ROUND(IF(C428=\"\",0,SUM(C$8:C428)),2)","v":0},null,{"$f":"ROUND(IF(E428=\"\",0,SUM(E$8:E428)),2)","v":0}]
[null,null,null,{"$f":"ROUND(IF(C429=\"\",0,SUM(C$8:C429)),2)","v":0},null,{"$f":"ROUND(IF(E429=\"\",0,SUM(E$8:E429)),2)","v":0}]
[null,null,null,{"$f":"ROUND(IF(C430=\"\",0,SUM(C$8:C430)),2)","v":0},null,{"$f":"ROUND(IF(E430=\"\",0,SUM(E$8:E430)),2)","v":0}]
[null,null,null,{"$f":"ROUND(IF(C431=\"\",0,SUM(C$8:C431)),2)","v":0},null,{"$f":"ROUND(IF(E431=\"\",0,SUM(E$8:E431)),2)","v":0}]
[null,null,null,{"$f":"ROUND(IF(C432=\"\",0,SUM(C$8:C432)),2)","v":0},null,{"$f":"ROUND(IF(E432=\"\",0,SUM(E$8:E432)),2)","v":0}]
[null,null,null,{"$f":"ROUND(IF(C433=\"\",0,SUM(C$8:C433)),2)","v":0},null,{"$f":"ROUND(IF(E433=\"\",0,SUM(E$8:E433)),2)","v":0}]
[null,null,null,{"$f":"ROUND(IF(C434=\"\",0,SUM(C$8:C434)),2)","v":0},null,{"$f":"ROUND(IF(E434=\"\",0,SUM(E$8:E434)),2)","v":0}]
[null,null,null,{"$f":"ROUND(IF(C435=\"\",0,SUM(C$8:C435)),2)","v":0},null,{"$f":"ROUND(IF(E435=\"\",0,SUM(E$8:E435)),2)","v":0}]
[null,null,null,{"$f":"ROUND(IF(C436=\"\",0,SUM(C$8:C436)),2)","v":0},null,{"$f":"ROUND(IF(E436=\"\",0,SUM(E$8:E436)),2)","v":0}]
[null,null,null,{"$f":"ROUND(IF(C437=\"\",0,SUM(C$8:C437)),2)","v":0},null,{"$f":"ROUND(IF(E437=\"\",0,SUM(E$8:E437)),2)","v":0}]
[null,null,null,{"$f":"ROUND(IF(C438=\"\",0,SUM(C$8:C438)),2)","v":0},null,{"$f":"ROUND(IF(E438=\"\",0,SUM(E$8:E438)),2)","v":0}]
[null,null,null,{"$f":"ROUND(IF(C439=\"\",0,SUM(C$8:C439)),2)","v":0},null,{"$f":"ROUND(IF(E439=\"\",0,SUM(E$8:E439)),2)","v":0}]
[null,null,null,{"$f":"ROUND(IF(C440=\"\",0,SUM(C$8:C440)),2)","v":0},null,{"$f":"ROUND(IF(E440=\"\",0,SUM(E$8:E440)),2)","v":0}]
[null,null,null,{"$f":"ROUND(IF(C441=\"\",0,SUM(C$8:C441)),2)","v":0},null,{"$f":"ROUND(IF(E441=\"\",0,SUM(E$8:E441)),2)","v":0}]
[null,null,null,{"$f":"ROUND(IF(C442=\"\",0,SUM(C$8:C442)),2)","v":0},null,{"$f":"ROUND(IF(E442=\"\",0,SUM(E$8:E442)),2)","v":0}]
[null,null,null,{"$f":"ROUND(IF(C443=\"\",0,SUM(C$8:C443)),2)","v":0},null,{"$f":"ROUND(IF(E443=\"\",0,SUM(E$8:E443)),2)","v":0}]
[null,null,null,{"$f":"ROUND(IF(C444=\"\",0,SUM(C$8:C444)),2)","v":0},null,{"$f":"ROUND(IF(E444=\"\",0,SUM(E$8:E444)),2)","v":0}]
[null,null,null,{"$f":"ROUND(IF(C445=\"\",0,SUM(C$8:C445)),2)","v":0},null,{"$f":"ROUND(IF(E445=\"\",0,SUM(E$8:E445)),2)","v":0}]
[null,null,null,{"$f":"ROUND(IF(C446=\"\",0,SUM(C$8:C446)),2)","v":0},null,{"$f":"ROUND(IF(E446=\"\",0,SUM(E$8:E446)),2)","v":0}]
[null,null,null,{"$f":"ROUND(IF(C447=\"\",0,SUM(C$8:C447)),2)","v":0},null,{"$f":"ROUND(IF(E447=\"\",0,SUM(E$8:E447)),2)","v":0}]
[null,null,null,{"$f":"ROUND(IF(C448=\"\",0,SUM(C$8:C448)),2)","v":0},null,{"$f":"ROUND(IF(E448=\"\",0,SUM(E$8:E448)),2)","v":0}]
[null,null,null,{"$f":"ROUND(IF(C449=\"\",0,SUM(C$8:C449)),2)","v":0},null,{"$f":"ROUND(IF(E449=\"\",0,SUM(E$8:E449)),2)","v":0}]
[null,null,null,{"$f":"ROUND(IF(C450=\"\",0,SUM(C$8:C450)),2)","v":0},null,{"$f":"ROUND(IF(E450=\"\",0,SUM(E$8:E450)),2)","v":0}]
[null,null,null,{"$f":"ROUND(IF(C451=\"\",0,SUM(C$8:C451)),2)","v":0},null,{"$f":"ROUND(IF(E451=\"\",0,SUM(E$8:E451)),2)","v":0}]
[null,null,null,{"$f":"ROUND(IF(C452=\"\",0,SUM(C$8:C452)),2)","v":0},null,{"$f":"ROUND(IF(E452=\"\",0,SUM(E$8:E452)),2)","v":0}]
[null,null,null,{"$f":"ROUND(IF(C453=\"\",0,SUM(C$8:C453)),2)","v":0},null,{"$f":"ROUND(IF(E453=\"\",0,SUM(E$8:E453)),2)","v":0}]
[null,null,null,{"$f":"ROUND(IF(C454=\"\",0,SUM(C$8:C454)),2)","v":0},null,{"$f":"ROUND(IF(E454=\"\",0,SUM(E$8:E454)),2)","v":0}]
[null,null,null,{"$f":"ROUND(IF(C455=\"\",0,SUM(C$8:C455)),2)","v":0},null,{"$f":"ROUND(IF(E455=\"\",0,SUM(E$8:E455)),2)","v":0}]
[null,null,null,{"$f":"ROUND(IF(C456=\"\",0,SUM(C$8:C456)),2)","v":0},null,{"$f":"ROUND(IF(E456=\"\",0,SUM(E$8:E456)),2)","v":0}]
[null,null,null,{"$f":"ROUND(IF(C457=\"\",0,SUM(C$8:C457)),2)","v":0},null,{"$f":"ROUND(IF(E457=\"\",0,SUM(E$8:E457)),2)","v":0}]
[null,null,null,{"$f":"ROUND(IF(C458=\"\",0,SUM(C$8:C458)),2)","v":0},null,{"$f":"ROUND(IF(E458=\"\",0,SUM(E$8:E458)),2)","v":0}]
[null,null,null,{"$f":"ROUND(IF(C459=\"\",0,SUM(C$8:C459)),2)","v":0},null,{"$f":"ROUND(IF(E459=\"\",0,SUM(E$8:E459)),2)","v":0}]
[null,null,null,{"$f":"ROUND(IF(C460=\"\",0,SUM(C$8:C460)),2)","v":0},null,{"$f":"ROUND(IF(E460=\"\",0,SUM(E$8:E460)),2)","v":0}]
[null,null,null,{"$f":"ROUND(IF(C461=\"\",0,SUM(C$8:C461)),2)","v":0},null,{"$f":"ROUND(IF(E461=\"\",0,SUM(E$8:E461)),2)","v":0}]
[null,null,null,{"$f":"ROUND(IF(C462=\"\",0,SUM(C$8:C462)),2)","v":0},null,{"$f":"ROUND(IF(E462=\"\",0,SUM(E$8:E462)),2)","v":0}]
[null,null,null,{"$f":"ROUND(IF(C463=\"\",0,SUM(C$8:C463)),2)","v":0},null,{"$f":"ROUND(IF(E463=\"\",0,SUM(E$8:E463)),2)","v":0}]
[null,null,null,{"$f":"ROUND(IF(C464=\"\",0,SUM(C$8:C464)),2)","v":0},null,{"$f":"ROUND(IF(E464=\"\",0,SUM(E$8:E464)),2)","v":0}]
[null,null,null,{"$f":"ROUND(IF(C465=\"\",0,SUM(C$8:C465)),2)","v":0},null,{"$f":"ROUND(IF(E465=\"\",0,SUM(E$8:E465)),2)","v":0}]
[null,null,null,{"$f":"ROUND(IF(C466=\"\",0,SUM(C$8:C466)),2)","v":0},null,{"$f":"ROUND(IF(E466=\"\",0,SUM(E$8:E466)),2)","v":0}]
[null,null,null,{"$f":"ROUND(IF(C467=\"\",0,SUM(C$8:C467)),2)","v":0},null,{"$f":"ROUND(IF(E467=\"\",0,SUM(E$8:E467)),2)","v":0}]
[null,null,null,{"$f":"ROUND(IF(C468=\"\",0,SUM(C$8:C468)),2)","v":0},null,{"$f":"ROUND(IF(E468=\"\",0,SUM(E$8:E468)),2)","v":0}]
[null,null,null,{"$f":"ROUND(IF(C469=\"\",0,SUM(C$8:C469)),2)","v":0},null,{"$f":"ROUND(IF(E469=\"\",0,SUM(E$8:E469)),2)","v":0}]
[null,null,null,{"$f":"ROUND(IF(C470=\"\",0,SUM(C$8:C470)),2)","v":0},null,{"$f":"ROUND(IF(E470=\"\",0,SUM(E$8:E470)),2)","v":0}]
[null,null,null,{"$f":"ROUND(IF(C471=\"\",0,SUM(C$8:C471)),2)","v":0},null,{"$f":"ROUND(IF(E471=\"\",0,SUM(E$8:E471)),2)","v":0}]
[null,null,null,{"$f":"ROUND(IF(C472=\"\",0,SUM(C$8:C472)),2)","v":0},null,{"$f":"ROUND(IF(E472=\"\",0,SUM(E$8:E472)),2)","v":0}]
[null,null,null,{"$f":"ROUND(IF(C473=\"\",0,SUM(C$8:C473)),2)","v":0},null,{"$f":"ROUND(IF(E473=\"\",0,SUM(E$8:E473)),2)","v":0}]
[null,null,null,{"$f":"ROUND(IF(C474=\"\",0,SUM(C$8:C474)),2)","v":0},null,{"$f":"ROUND(IF(E474=\"\",0,SUM(E$8:E474)),2)","v":0}]
[null,null,null,{"$f":"ROUND(IF(C475=\"\",0,SUM(C$8:C475)),2)","v":0},null,{"$f":"ROUND(IF(E475=\"\",0,SUM(E$8:E475)),2)","v":0}]
[null,null,null,{"$f":"ROUND(IF(C476=\"\",0,SUM(C$8:C476)),2)","v":0},null,{"$f":"ROUND(IF(E476=\"\",0,SUM(E$8:E476)),2)","v":0}]
[null,null,null,{"$f":"ROUND(IF(C477=\"\",0,SUM(C$8:C477)),2)","v":0},null,{"$f":"ROUND(IF(E477=\"\",0,SUM(E$8:E477)),2)","v":0}]
[null,null,null,{"$f":"ROUND(IF(C478=\"\",0,SUM(C$8:C478)),2)","v":0},null,{"$f":"ROUND(IF(E478=\"\",0,SUM(E$8:E478)),2)","v":0}]
[null,null,null,{"$f":"ROUND(IF(C479=\"\",0,SUM(C$8:C479)),2)","v":0},null,{"$f":"ROUND(IF(E479=\"\",0,SUM(E$8:E479)),2)","v":0}]
[null,null,null,{"$f":"ROUND(IF(C480=\"\",0,SUM(C$8:C480)),2)","v":0},null,{"$f":"ROUND(IF(E480=\"\",0,SUM(E$8:E480)),2)","v":0}]
[null,null,null,{"$f":"ROUND(IF(C481=\"\",0,SUM(C$8:C481)),2)","v":0},null,{"$f":"ROUND(IF(E481=\"\",0,SUM(E$8:E481)),2)","v":0}]
[null,null,null,{"$f":"ROUND(IF(C482=\"\",0,SUM(C$8:C482)),2)","v":0},null,{"$f":"ROUND(IF(E482=\"\",0,SUM(E$8:E482)),2)","v":0}]
[null,null,null,{"$f":"ROUND(IF(C483=\"\",0,SUM(C$8:C483)),2)","v":0},null,{"$f":"ROUND(IF(E483=\"\",0,SUM(E$8:E483)),2)","v":0}]
[null,null,null,{"$f":"ROUND(IF(C484=\"\",0,SUM(C$8:C484)),2)","v":0},null,{"$f":"ROUND(IF(E484=\"\",0,SUM(E$8:E484)),2)","v":0}]
[null,null,null,{"$f":"ROUND(IF(C485=\"\",0,SUM(C$8:C485)),2)","v":0},null,{"$f":"ROUND(IF(E485=\"\",0,SUM(E$8:E485)),2)","v":0}]
[null,null,null,{"$f":"ROUND(IF(C486=\"\",0,SUM(C$8:C486)),2)","v":0},null,{"$f":"ROUND(IF(E486=\"\",0,SUM(E$8:E486)),2)","v":0}]
[null,null,null,{"$f":"ROUND(IF(C487=\"\",0,SUM(C$8:C487)),2)","v":0},null,{"$f":"ROUND(IF(E487=\"\",0,SUM(E$8:E487)),2)","v":0}]
[null,null,null,{"$f":"ROUND(IF(C488=\"\",0,SUM(C$8:C488)),2)","v":0},null,{"$f":"ROUND(IF(E488=\"\",0,SUM(E$8:E488)),2)","v":0}]
[null,null,null,{"$f":"ROUND(IF(C489=\"\",0,SUM(C$8:C489)),2)","v":0},null,{"$f":"ROUND(IF(E489=\"\",0,SUM(E$8:E489)),2)","v":0}]
[null,null,null,{"$f":"ROUND(IF(C490=\"\",0,SUM(C$8:C490)),2)","v":0},null,{"$f":"ROUND(IF(E490=\"\",0,SUM(E$8:E490)),2)","v":0}]
[null,null,null,{"$f":"ROUND(IF(C491=\"\",0,SUM(C$8:C491)),2)","v":0},null,{"$f":"ROUND(IF(E491=\"\",0,SUM(E$8:E491)),2)","v":0}]
[null,null,null,{"$f":"ROUND(IF(C492=\"\",0,SUM(C$8:C492)),2)","v":0},null,{"$f":"ROUND(IF(E492=\"\",0,SUM(E$8:E492)),2)","v":0}]
[null,null,null,{"$f":"ROUND(IF(C493=\"\",0,SUM(C$8:C493)),2)","v":0},null,{"$f":"ROUND(IF(E493=\"\",0,SUM(E$8:E493)),2)","v":0}]
[null,null,null,{"$f":"ROUND(IF(C494=\"\",0,SUM(C$8:C494)),2)","v":0},null,{"$f":"ROUND(IF(E494=\"\",0,SUM(E$8:E494)),2)","v":0}]
[null,null,null,{"$f":"ROUND(IF(C495=\"\",0,SUM(C$8:C495)),2)","v":0},null,{"$f":"ROUND(IF(E495=\"\",0,SUM(E$8:E495)),2)","v":0}]
[null,null,null,{"$f":"ROUND(IF(C496=\"\",0,SUM(C$8:C496)),2)","v":0},null,{"$f":"ROUND(IF(E496=\"\",0,SUM(E$8:E496)),2)","v":0}]
[null,null,null,{"$f":"ROUND(IF(C497=\"\",0,SUM(C$8:C497)),2)","v":0},null,{"$f":"ROUND(IF(E497=\"\",0,SUM(E$8:E497)),2)","v":0}]
[null,null,null,{"$f":"ROUND(IF(C498=\"\",0,SUM(C$8:C498)),2)","v":0},null,{"$f":"ROUND(IF(E498=\"\",0,SUM(E$8:E498)),2)","v":0}]
[null,null,null,{"$f":"ROUND(IF(C499=\"\",0,SUM(C$8:C499)),2)","v":0},null,{"$f":"ROUND(IF(E499=\"\",0,SUM(E$8:E499)),2)","v":0}]
[null,null,null,{"$f":"ROUND(IF(C500=\"\",0,SUM(C$8:C500)),2)","v":0},null,{"$f":"ROUND(IF(E500=\"\",0,SUM(E$8:E500)),2)","v":0}]
[null,null,null,{"$f":"ROUND(IF(C501=\"\",0,SUM(C$8:C501)),2)","v":0},null,{"$f":"ROUND(IF(E501=\"\",0,SUM(E$8:E501)),2)","v":0}]
[null,null,null,{"$f":"ROUND(IF(C502=\"\",0,SUM(C$8:C502)),2)","v":0},null,{"$f":"ROUND(IF(E502=\"\",0,SUM(E$8:E502)),2)","v":0}]
[null,null,null,{"$f":"ROUND(IF(C503=\"\",0,SUM(C$8:C503)),2)","v":0},null,{"$f":"ROUND(IF(E503=\"\",0,SUM(E$8:E503)),2)","v":0}]
[null,null,null,{"$f":"ROUND(IF(C504=\"\",0,SUM(C$8:C504)),2)","v":0},null,{"$f":"ROUND(IF(E504=\"\",0,SUM(E$8:E504)),2)","v":0}]
[null,null,null,{"$f":"ROUND(IF(C505=\"\",0,SUM(C$8:C505)),2)","v":0},null,{"$f":"ROUND(IF(E505=\"\",0,SUM(E$8:E505)),2)","v":0}]
[null,null,null,{"$f":"ROUND(IF(C506=\"\",0,SUM(C$8:C506)),2)","v":0},null,{"$f":"ROUND(IF(E506=\"\",0,SUM(E$8:E506)),2)","v":0}]
[null,null,null,{"$f":"ROUND(IF(C507=\"\",0,SUM(C$8:C507)),2)","v":0},null,{"$f":"ROUND(IF(E507=\"\",0,SUM(E$8:E507)),2)","v":0}]
[null,null,null,{"$f":"ROUND(IF(C508=\"\",0,SUM(C$8:C508)),2)","v":0},null,{"$f":"ROUND(IF(E508=\"\",0,SUM(E$8:E508)),2)","v":0}]
[null,null,null,{"$f":"ROUND(IF(C509=\"\",0,SUM(C$8:C509)),2)","v":0},null,{"$f":"ROUND(IF(E509=\"\",0,SUM(E$8:E509)),2)","v":0}]
[null,null,null,{"$f":"ROUND(IF(C510=\"\",0,SUM(C$8:C510)),2)","v":0},null,{"$f":"ROUND(IF(E510=\"\",0,SUM(E$8:E510)),2)","v":0}]
[null,null,null,{"$f":"ROUND(IF(C511=\"\",0,SUM(C$8:C511)),2)","v":0},null,{"$f":"ROUND(IF(E511=\"\",0,SUM(E$8:E511)),2)","v":0}]
[null,null,null,{"$f":"ROUND(IF(C512=\"\",0,SUM(C$8:C512)),2)","v":0},null,{"$f":"ROUND(IF(E512=\"\",0,SUM(E$8:E512)),2)","v":0}]
[null,null,null,{"$f":"ROUND(IF(C513=\"\",0,SUM(C$8:C513)),2)","v":0},null,{"$f":"ROUND(IF(E513=\"\",0,SUM(E$8:E513)),2)","v":0}]
[null,null,null,{"$f":"ROUND(IF(C514=\"\",0,SUM(C$8:C514)),2)","v":0},null,{"$f":"ROUND(IF(E514=\"\",0,SUM(E$8:E514)),2)","v":0}]
[null,null,null,{"$f":"ROUND(IF(C515=\"\",0,SUM(C$8:C515)),2)","v":0},null,{"$f":"ROUND(IF(E515=\"\",0,SUM(E$8:E515)),2)","v":0}]
[null,null,null,{"$f":"ROUND(IF(C516=\"\",0,SUM(C$8:C516)),2)","v":0},null,{"$f":"ROUND(IF(E516=\"\",0,SUM(E$8:E516)),2)","v":0}]
[null,null,null,{"$f":"ROUND(IF(C517=\"\",0,SUM(C$8:C517)),2)","v":0},null,{"$f":"ROUND(IF(E517=\"\",0,SUM(E$8:E517)),2)","v":0}]
[null,null,null,{"$f":"ROUND(IF(C518=\"\",0,SUM(C$8:C518)),2)","v":0},null,{"$f":"ROUND(IF(E518=\"\",0,SUM(E$8:E518)),2)","v":0}]
[null,null,null,{"$f":"ROUND(IF(C519=\"\",0,SUM(C$8:C519)),2)","v":0},null,{"$f":"ROUND(IF(E519=\"\",0,SUM(E$8:E519)),2)","v":0}]
[null,null,null,{"$f":"ROUND(IF(C520=\"\",0,SUM(C$8:C520)),2)","v":0},null,{"$f":"ROUND(IF(E520=\"\",0,SUM(E$8:E520)),2)","v":0}]
[null,null,null,{"$f":"ROUND(IF(C521=\"\",0,SUM(C$8:C521)),2)","v":0},null,{"$f":"ROUND(IF(E521=\"\",0,SUM(E$8:E521)),2)","v":0}]
[null,null,null,{"$f":"ROUND(IF(C522=\"\",0,SUM(C$8:C522)),2)","v":0},null,{"$f":"ROUND(IF(E522=\"\",0,SUM(E$8:E522)),2)","v":0}]
[null,null,null,{"$f":"ROUND(IF(C523=\"\",0,SUM(C$8:C523)),2)","v":0},null,{"$f":"ROUND(IF(E523=\"\",0,SUM(E$8:E523)),2)","v":0}]
[null,null,null,{"$f":"ROUND(IF(C524=\"\",0,SUM(C$8:C524)),2)","v":0},null,{"$f":"ROUND(IF(E524=\"\",0,SUM(E$8:E524)),2)","v":0}]
[null,null,null,{"$f":"ROUND(IF(C525=\"\",0,SUM(C$8:C525)),2)","v":0},null,{"$f":"ROUND(IF(E525=\"\",0,SUM(E$8:E525)),2)","v":0}]
[null,null,null,{"$f":"ROUND(IF(C526=\"\",0,SUM(C$8:C526)),2)","v":0},null,{"$f":"ROUND(IF(E526=\"\",0,SUM(E$8:E526)),2)","v":0}]
[null,null,null,{"$f":"ROUND(IF(C527=\"\",0,SUM(C$8:C527)),2)","v":0},null,{"$f":"ROUND(IF(E527=\"\",0,SUM(E$8:E527)),2)","v":0}]
[null,null,null,{"$f":"ROUND(IF(C528=\"\",0,SUM(C$8:C528)),2)","v":0},null,{"$f":"ROUND(IF(E528=\"\",0,SUM(E$8:E528)),2)","v":0}]
[null,null,null,{"$f":"ROUND(IF(C529=\"\",0,SUM(C$8:C529)),2)","v":0},null,{"$f":"ROUND(IF(E529=\"\",0,SUM(E$8:E529)),2)","v":0}]
[null,null,null,{"$f":"ROUND(IF(C530=\"\",0,SUM(C$8:C530)),2)","v":0},null,{"$f":"ROUND(IF(E530=\"\",0,SUM(E$8:E530)),2)","v":0}]
[null,null,null,{"$f":"ROUND(IF(C531=\"\",0,SUM(C$8:C531)),2)","v":0},null,{"$f":"ROUND(IF(E531=\"\",0,SUM(E$8:E531)),2)","v":0}]
[null,null,null,{"$f":"ROUND(IF(C532=\"\",0,SUM(C$8:C532)),2)","v":0},null,{"$f":"ROUND(IF(E532=\"\",0,SUM(E$8:E532)),2)","v":0}]
[null,null,null,{"$f":"ROUND(IF(C533=\"\",0,SUM(C$8:C533)),2)","v":0},null,{"$f":"ROUND(IF(E533=\"\",0,SUM(E$8:E533)),2)","v":0}]
[null,null,null,{"$f":"ROUND(IF(C534=\"\",0,SUM(C$8:C534)),2)","v":0},null,{"$f":"ROUND(IF(E534=\"\",0,SUM(E$8:E534)),2)","v":0}]
[null,null,null,{"$f":"ROUND(IF(C535=\"\",0,SUM(C$8:C535)),2)","v":0},null,{"$f":"ROUND(IF(E535=\"\",0,SUM(E$8:E535)),2)","v":0}]
[null,null,null,{"$f":"ROUND(IF(C536=\"\",0,SUM(C$8:C536)),2)","v":0},null,{"$f":"ROUND(IF(E536=\"\",0,SUM(E$8:E536)),2)","v":0}]
[null,null,null,{"$f":"ROUND(IF(C537=\"\",0,SUM(C$8:C537)),2)","v":0},null,{"$f":"ROUND(IF(E537=\"\",0,SUM(E$8:E537)),2)","v":0}]
[null,null,null,{"$f":"ROUND(IF(C538=\"\",0,SUM(C$8:C538)),2)","v":0},null,{"$f":"ROUND(IF(E538=\"\",0,SUM(E$8:E538)),2)","v":0}]
[null,null,null,{"$f":"ROUND(IF(C539=\"\",0,SUM(C$8:C539)),2)","v":0},null,{"$f":"ROUND(IF(E539=\"\",0,SUM(E$8:E539)),2)","v":0}]
[null,null,null,{"$f":"ROUND(IF(C540=\"\",0,SUM(C$8:C540)),2)","v":0},null,{"$f":"ROUND(IF(E540=\"\",0,SUM(E$8:E540)),2)","v":0}]
[null,null,null,{"$f":"ROUND(IF(C541=\"\",0,SUM(C$8:C541)),2)","v":0},null,{"$f":"ROUND(IF(E541=\"\",0,SUM(E$8:E541)),2)","v":0}]
[null,null,null,{"$f":"ROUND(IF(C542=\"\",0,SUM(C$8:C542)),2)","v":0},null,{"$f":"ROUND(IF(E542=\"\",0,SUM(E$8:E542)),2)","v":0}]
[null,null,null,{"$f":"ROUND(IF(C543=\"\",0,SUM(C$8:C543)),2)","v":0},null,{"$f":"ROUND(IF(E543=\"\",0,SUM(E$8:E543)),2)","v":0}]
[null,null,null,{"$f":"ROUND(IF(C544=\"\",0,SUM(C$8:C544)),2)","v":0},null,{"$f":"ROUND(IF(E544=\"\",0,SUM(E$8:E544)),2)","v":0}]
[null,null,null,{"$f":"ROUND(IF(C545=\"\",0,SUM(C$8:C545)),2)","v":0},null,{"$f":"ROUND(IF(E545=\"\",0,SUM(E$8:E545)),2)","v":0}]
[null,null,null,{"$f":"ROUND(IF(C546=\"\",0,SUM(C$8:C546)),2)","v":0},null,{"$f":"ROUND(IF(E546=\"\",0,SUM(E$8:E546)),2)","v":0}]
[null,null,null,{"$f":"ROUND(IF(C547=\"\",0,SUM(C$8:C547)),2)","v":0},null,{"$f":"ROUND(IF(E547=\"\",0,SUM(E$8:E547)),2)","v":0}]
[null,null,null,{"$f":"ROUND(IF(C548=\"\",0,SUM(C$8:C548)),2)","v":0},null,{"$f":"ROUND(IF(E548=\"\",0,SUM(E$8:E548)),2)","v":0}]
[null,null,null,{"$f":"ROUND(IF(C549=\"\",0,SUM(C$8:C549)),2)","v":0},null,{"$f":"ROUND(IF(E549=\"\",0,SUM(E$8:E549)),2)","v":0}]
[null,null,null,{"$f":"ROUND(IF(C550=\"\",0,SUM(C$8:C550)),2)","v":0},null,{"$f":"ROUND(IF(E550=\"\",0,SUM(E$8:E550)),2)","v":0}]
[null,null,null,{"$f":"ROUND(IF(C551=\"\",0,SUM(C$8:C551)),2)","v":0},null,{"$f":"ROUND(IF(E551=\"\",0,SUM(E$8:E551)),2)","v":0}]
[null,null,null,{"$f":"ROUND(IF(C552=\"\",0,SUM(C$8:C552)),2)","v":0},null,{"$f":"ROUND(IF(E552=\"\",0,SUM(E$8:E552)),2)","v":0}]
[null,null,null,{"$f":"ROUND(IF(C553=\"\",0,SUM(C$8:C553)),2)","v":0},null,{"$f":"ROUND(IF(E553=\"\",0,SUM(E$8:E553)),2)","v":0}]
[null,null,null,{"$f":"ROUND(IF(C554=\"\",0,SUM(C$8:C554)),2)","v":0},null,{"$f":"ROUND(IF(E554=\"\",0,SUM(E$8:E554)),2)","v":0}]
[null,null,null,{"$f":"ROUND(IF(C555=\"\",0,SUM(C$8:C555)),2)","v":0},null,{"$f":"ROUND(IF(E555=\"\",0,SUM(E$8:E555)),2)","v":0}]
[null,null,null,{"$f":"ROUND(IF(C556=\"\",0,SUM(C$8:C556)),2)","v":0},null,{"$f":"ROUND(IF(E556=\"\",0,SUM(E$8:E556)),2)","v":0}]
[null,null,null,{"$f":"ROUND(IF(C557=\"\",0,SUM(C$8:C557)),2)","v":0},null,{"$f":"ROUND(IF(E557=\"\",0,SUM(E$8:E557)),2)","v":0}]
[null,null,null,{"$f":"ROUND(IF(C558=\"\",0,SUM(C$8:C558)),2)","v":0},null,{"$f":"ROUND(IF(E558=\"\",0,SUM(E$8:E558)),2)","v":0}]
[null,null,null,{"$f":"ROUND(IF(C559=\"\",0,SUM(C$8:C559)),2)","v":0},null,{"$f":"ROUND(IF(E559=\"\",0,SUM(E$8:E559)),2)","v":0}]
[null,null,null,{"$f":"ROUND(IF(C560=\"\",0,SUM(C$8:C560)),2)","v":0},null,{"$f":"ROUND(IF(E560=\"\",0,SUM(E$8:E560)),2)","v":0}]
[null,null,null,{"$f":"ROUND(IF(C561=\"\",0,SUM(C$8:C561)),2)","v":0},null,{"$f":"ROUND(IF(E561=\"\",0,SUM(E$8:E561)),2)","v":0}]
[null,null,null,{"$f":"ROUND(IF(C562=\"\",0,SUM(C$8:C562)),2)","v":0},null,{"$f":"ROUND(IF(E562=\"\",0,SUM(E$8:E562)),2)","v":0}]
[null,null,null,{"$f":"ROUND(IF(C563=\"\",0,SUM(C$8:C563)),2)","v":0},null,{"$f":"ROUND(IF(E563=\"\",0,SUM(E$8:E563)),2)","v":0}]
[null,null,null,{"$f":"ROUND(IF(C564=\"\",0,SUM(C$8:C564)),2)","v":0},null,{"$f":"ROUND(IF(E564=\"\",0,SUM(E$8:E564)),2)","v":0}]
[null,null,null,{"$f":"ROUND(IF(C565=\"\",0,SUM(C$8:C565)),2)","v":0},null,{"$f":"ROUND(IF(E565=\"\",0,SUM(E$8:E565)),2)","v":0}]
[null,null,null,{"$f":"ROUND(IF(C566=\"\",0,SUM(C$8:C566)),2)","v":0},null,{"$f":"ROUND(IF(E566=\"\",0,SUM(E$8:E566)),2)","v":0}]
[null,null,null,{"$f":"ROUND(IF(C567=\"\",0,SUM(C$8:C567)),2)","v":0},null,{"$f":"ROUND(IF(E567=\"\",0,SUM(E$8:E567)),2)","v":0}]
[null,null,null,{"$f":"ROUND(IF(C568=\"\",0,SUM(C$8:C568)),2)","v":0},null,{"$f":"ROUND(IF(E568=\"\",0,SUM(E$8:E568)),2)","v":0}]
[null,null,null,{"$f":"ROUND(IF(C569=\"\",0,SUM(C$8:C569)),2)","v":0},null,{"$f":"ROUND(IF(E569=\"\",0,SUM(E$8:E569)),2)","v":0}]
[null,null,null,{"$f":"ROUND(IF(C570=\"\",0,SUM(C$8:C570)),2)","v":0},null,{"$f":"ROUND(IF(E570=\"\",0,SUM(E$8:E570)),2)","v":0}]
[null,null,null,{"$f":"ROUND(IF(C571=\"\",0,SUM(C$8:C571)),2)","v":0},null,{"$f":"ROUND(IF(E571=\"\",0,SUM(E$8:E571)),2)","v":0}]
[null,null,null,{"$f":"ROUND(IF(C572=\"\",0,SUM(C$8:C572)),2)","v":0},null,{"$f":"ROUND(IF(E572=\"\",0,SUM(E$8:E572)),2)","v":0}]
[null,null,null,{"$f":"ROUND(IF(C573=\"\",0,SUM(C$8:C573)),2)","v":0},null,{"$f":"ROUND(IF(E573=\"\",0,SUM(E$8:E573)),2)","v":0}]
[null,null,null,{"$f":"ROUND(IF(C574=\"\",0,SUM(C$8:C574)),2)","v":0},null,{"$f":"ROUND(IF(E574=\"\",0,SUM(E$8:E574)),2)","v":0}]
[null,null,null,{"$f":"ROUND(IF(C575=\"\",0,SUM(C$8:C575)),2)","v":0},null,{"$f":"ROUND(IF(E575=\"\",0,SUM(E$8:E575)),2)","v":0}]
[null,null,null,{"$f":"ROUND(IF(C576=\"\",0,SUM(C$8:C576)),2)","v":0},null,{"$f":"ROUND(IF(E576=\"\",0,SUM(E$8:E576)),2)","v":0}]
[null,null,null,{"$f":"ROUND(IF(C577=\"\",0,SUM(C$8:C577)),2)","v":0},null,{"$f":"ROUND(IF(E577=\"\",0,SUM(E$8:E577)),2)","v":0}]
[null,null,null,{"$f":"ROUND(IF(C578=\"\",0,SUM(C$8:C578)),2)","v":0},null,{"$f":"ROUND(IF(E578=\"\",0,SUM(E$8:E578)),2)","v":0}]
[null,null,null,{"$f":"ROUND(IF(C579=\"\",0,SUM(C$8:C579)),2)","v":0},null,{"$f":"ROUND(IF(E579=\"\",0,SUM(E$8:E579)),2)","v":0}]
[null,null,null,{"$f":"ROUND(IF(C580=\"\",0,SUM(C$8:C580)),2)","v":0},null,{"$f":"ROUND(IF(E580=\"\",0,SUM(E$8:E580)),2)","v":0}]
[null,null,null,{"$f":"ROUND(IF(C581=\"\",0,SUM(C$8:C581)),2)","v":0},null,{"$f":"ROUND(IF(E581=\"\",0,SUM(E$8:E581)),2)","v":0}]
[null,null,null,{"$f":"ROUND(IF(C582=\"\",0,SUM(C$8:C582)),2)","v":0},null,{"$f":"ROUND(IF(E582=\"\",0,SUM(E$8:E582)),2)","v":0}]
[null,null,null,{"$f":"ROUND(IF(C583=\"\",0,SUM(C$8:C583)),2)","v":0},null,{"$f":"ROUND(IF(E583=\"\",0,SUM(E$8:E583)),2)","v":0}]
[null,null,null,{"$f":"ROUND(IF(C584=\"\",0,SUM(C$8:C584)),2)","v":0},null,{"$f":"ROUND(IF(E584=\"\",0,SUM(E$8:E584)),2)","v":0}]
[null,null,null,{"$f":"ROUND(IF(C585=\"\",0,SUM(C$8:C585)),2)","v":0},null,{"$f":"ROUND(IF(E585=\"\",0,SUM(E$8:E585)),2)","v":0}]
[null,null,null,{"$f":"ROUND(IF(C586=\"\",0,SUM(C$8:C586)),2)","v":0},null,{"$f":"ROUND(IF(E586=\"\",0,SUM(E$8:E586)),2)","v":0}]
[null,null,null,{"$f":"ROUND(IF(C587=\"\",0,SUM(C$8:C587)),2)","v":0},null,{"$f":"ROUND(IF(E587=\"\",0,SUM(E$8:E587)),2)","v":0}]
[null,null,null,{"$f":"ROUND(IF(C588=\"\",0,SUM(C$8:C588)),2)","v":0},null,{"$f":"ROUND(IF(E588=\"\",0,SUM(E$8:E588)),2)","v":0}]
[null,null,null,{"$f":"ROUND(IF(C589=\"\",0,SUM(C$8:C589)),2)","v":0},null,{"$f":"ROUND(IF(E589=\"\",0,SUM(E$8:E589)),2)","v":0}]
[null,null,null,{"$f":"ROUND(IF(C590=\"\",0,SUM(C$8:C590)),2)","v":0},null,{"$f":"ROUND(IF(E590=\"\",0,SUM(E$8:E590)),2)","v":0}]
[null,null,null,{"$f":"ROUND(IF(C591=\"\",0,SUM(C$8:C591)),2)","v":0},null,{"$f":"ROUND(IF(E591=\"\",0,SUM(E$8:E591)),2)","v":0}]
[null,null,null,{"$f":"ROUND(IF(C592=\"\",0,SUM(C$8:C592)),2)","v":0},null,{"$f":"ROUND(IF(E592=\"\",0,SUM(E$8:E592)),2)","v":0}]
[null,null,null,{"$f":"ROUND(IF(C593=\"\",0,SUM(C$8:C593)),2)","v":0},null,{"$f":"ROUND(IF(E593=\"\",0,SUM(E$8:E593)),2)","v":0}]
[null,null,null,{"$f":"ROUND(IF(C594=\"\",0,SUM(C$8:C594)),2)","v":0},null,{"$f":"ROUND(IF(E594=\"\",0,SUM(E$8:E594)),2)","v":0}]
[null,null,null,{"$f":"ROUND(IF(C595=\"\",0,SUM(C$8:C595)),2)","v":0},null,{"$f":"ROUND(IF(E595=\"\",0,SUM(E$8:E595)),2)","v":0}]
[null,null,null,{"$f":"ROUND(IF(C596=\"\",0,SUM(C$8:C596)),2)","v":0},null,{"$f":"ROUND(IF(E596=\"\",0,SUM(E$8:E596)),2)","v":0}]
[null,null,null,{"$f":"ROUND(IF(C597=\"\",0,SUM(C$8:C597)),2)","v":0},null,{"$f":"ROUND(IF(E597=\"\",0,SUM(E$8:E597)),2)","v":0}]
[null,null,null,{"$f":"ROUND(IF(C598=\"\",0,SUM(C$8:C598)),2)","v":0},null,{"$f":"ROUND(IF(E598=\"\",0,SUM(E$8:E598)),2)","v":0}]
[null,null,null,{"$f":"ROUND(IF(C599=\"\",0,SUM(C$8:C599)),2)","v":0},null,{"$f":"ROUND(IF(E599=\"\",0,SUM(E$8:E599)),2)","v":0}]
[null,null,null,{"$f":"ROUND(IF(C600=\"\",0,SUM(C$8:C600)),2)","v":0},null,{"$f":"ROUND(IF(E600=\"\",0,SUM(E$8:E600)),2)","v":0}]
[null,null,null,{"$f":"ROUND(IF(C601=\"\",0,SUM(C$8:C601)),2)","v":0},null,{"$f":"ROUND(IF(E601=\"\",0,SUM(E$8:E601)),2)","v":0}]
[null,null,null,{"$f":"ROUND(IF(C602=\"\",0,SUM(C$8:C602)),2)","v":0},null,{"$f":"ROUND(IF(E602=\"\",0,SUM(E$8:E602)),2)","v":0}]
[null,null,null,{"$f":"ROUND(IF(C603=\"\",0,SUM(C$8:C603)),2)","v":0},null,{"$f":"ROUND(IF(E603=\"\",0,SUM(E$8:E603)),2)","v":0}]
[null,null,null,{"$f":"ROUND(IF(C604=\"\",0,SUM(C$8:C604)),2)","v":0},null,{"$f":"ROUND(IF(E604=\"\",0,SUM(E$8:E604)),2)","v":0}]
[null,null,null,{"$f":"ROUND(IF(C605=\"\",0,SUM(C$8:C605)),2)","v":0},null,{"$f":"ROUND(IF(E605=\"\",0,SUM(E$8:E605)),2)","v":0}]
[null,null,null,{"$f":"ROUND(IF(C606=\"\",0,SUM(C$8:C606)),2)","v":0},null,{"$f":"ROUND(IF(E606=\"\",0,SUM(E$8:E606)),2)","v":0}]

{"sheet":"Coarse Agg 1","index":12,"n_rows":486,"n_cols":8,"rows_kept":486,"cut":false,"hidden":false,"merged":[]}
["Coarse Aggregate  Certification  1",null,null,null,null,null,null,{"$f":"Info!B2","v":"E"}]
["Spec. Grav.: ",{"$f":"IF(AND(Info!B43=\"\", Info!C43=\"\"),\"\", IF(Info!B43<>\"\", Info!B43, Info!C43))","v":""},null,null,null,"Page No.: "]
["Source: ",{"$f":"IF(AND(Info!B42=\"\", Info!C42=\"\"),\"\", IF(Info!B42<>\"\", Info!B42, Info!C42))","v":""},null,null,null,"Grad. No.: ",{"$f":"IF(AND(Info!B44=\"\", Info!C44=\"\"),\"\", IF(Info!B44<>\"\", Info!B44, Info!C44))","v":""}]
["Project No.: ",{"$f":"IF(Info!B3=\"\",\"\",(Info!B3))","v":""},null,null,null,"Contract ID.: ",{"$f":"IF(Info!B4=\"\",\"\",(Info!B4))","v":""}]
[]
[null,"Ticket #",null,"Certified","To Date","Used","To Date"," "]
["Date","From","To",{"$f":"IF(Info!$B$2=\"M\",\"(Mg's)\",\"(Tons)\")","v":"(Tons)"},{"$f":"IF(Info!$B$2=\"M\",\"(Mg's)\",\"(Tons)\")","v":"(Tons)"},{"$f":"IF(Info!$B$2=\"M\",\"(Mg's)\",\"(Tons)\")","v":"(Tons)"},{"$f":"IF(Info!$B$2=\"M\",\"(Mg's)\",\"(Tons)\")","v":"(Tons)"},"By"]
[null,null,null,null,{"$f":"SUM(D8)","v":0},null,{"$f":"SUM(F8)","v":0}]
[null,null,null,null,{"$f":"IF(D9=\"\",0,SUM(D$8:D9))","v":0},null,{"$f":"IF(F9=\"\",0,SUM(F$8:F9))","v":0}]
[null,null,null,null,{"$f":"IF(D10=\"\",0,SUM(D$8:D10))","v":0},null,{"$f":"IF(F10=\"\",0,SUM(F$8:F10))","v":0}]
[null,null,null,null,{"$f":"IF(D11=\"\",0,SUM(D$8:D11))","v":0},null,{"$f":"IF(F11=\"\",0,SUM(F$8:F11))","v":0}]
[null,null,null,null,{"$f":"IF(D12=\"\",0,SUM(D$8:D12))","v":0},null,{"$f":"IF(F12=\"\",0,SUM(F$8:F12))","v":0}]
[null,null,null,null,{"$f":"IF(D13=\"\",0,SUM(D$8:D13))","v":0},null,{"$f":"IF(F13=\"\",0,SUM(F$8:F13))","v":0}]
[null,null,null,null,{"$f":"IF(D14=\"\",0,SUM(D$8:D14))","v":0},null,{"$f":"IF(F14=\"\",0,SUM(F$8:F14))","v":0}]
[null,null,null,null,{"$f":"IF(D15=\"\",0,SUM(D$8:D15))","v":0},null,{"$f":"IF(F15=\"\",0,SUM(F$8:F15))","v":0}]
[null,null,null,null,{"$f":"IF(D16=\"\",0,SUM(D$8:D16))","v":0},null,{"$f":"IF(F16=\"\",0,SUM(F$8:F16))","v":0}]
[null,null,null,null,{"$f":"IF(D17=\"\",0,SUM(D$8:D17))","v":0},null,{"$f":"IF(F17=\"\",0,SUM(F$8:F17))","v":0}]
[null,null,null,null,{"$f":"IF(D18=\"\",0,SUM(D$8:D18))","v":0},null,{"$f":"IF(F18=\"\",0,SUM(F$8:F18))","v":0}]
[null,null,null,null,{"$f":"IF(D19=\"\",0,SUM(D$8:D19))","v":0},null,{"$f":"IF(F19=\"\",0,SUM(F$8:F19))","v":0}]
[null,null,null,null,{"$f":"IF(D20=\"\",0,SUM(D$8:D20))","v":0},null,{"$f":"IF(F20=\"\",0,SUM(F$8:F20))","v":0}]
[null,null,null,null,{"$f":"IF(D21=\"\",0,SUM(D$8:D21))","v":0},null,{"$f":"IF(F21=\"\",0,SUM(F$8:F21))","v":0}]
[null,null,null,null,{"$f":"IF(D22=\"\",0,SUM(D$8:D22))","v":0},null,{"$f":"IF(F22=\"\",0,SUM(F$8:F22))","v":0}]
[null,null,null,null,{"$f":"IF(D23=\"\",0,SUM(D$8:D23))","v":0},null,{"$f":"IF(F23=\"\",0,SUM(F$8:F23))","v":0}]
[null,null,null,null,{"$f":"IF(D24=\"\",0,SUM(D$8:D24))","v":0},null,{"$f":"IF(F24=\"\",0,SUM(F$8:F24))","v":0}]
[null,null,null,null,{"$f":"IF(D25=\"\",0,SUM(D$8:D25))","v":0},null,{"$f":"IF(F25=\"\",0,SUM(F$8:F25))","v":0}]
[null,null,null,null,{"$f":"IF(D26=\"\",0,SUM(D$8:D26))","v":0},null,{"$f":"IF(F26=\"\",0,SUM(F$8:F26))","v":0}]
[null,null,null,null,{"$f":"IF(D27=\"\",0,SUM(D$8:D27))","v":0},null,{"$f":"IF(F27=\"\",0,SUM(F$8:F27))","v":0}]
[null,null,null,null,{"$f":"IF(D28=\"\",0,SUM(D$8:D28))","v":0},null,{"$f":"IF(F28=\"\",0,SUM(F$8:F28))","v":0}]
[null,null,null,null,{"$f":"IF(D29=\"\",0,SUM(D$8:D29))","v":0},null,{"$f":"IF(F29=\"\",0,SUM(F$8:F29))","v":0}]
[null,null,null,null,{"$f":"IF(D30=\"\",0,SUM(D$8:D30))","v":0},null,{"$f":"IF(F30=\"\",0,SUM(F$8:F30))","v":0}]
[null,null,null,null,{"$f":"IF(D31=\"\",0,SUM(D$8:D31))","v":0},null,{"$f":"IF(F31=\"\",0,SUM(F$8:F31))","v":0}]
[null,null,null,null,{"$f":"IF(D32=\"\",0,SUM(D$8:D32))","v":0},null,{"$f":"IF(F32=\"\",0,SUM(F$8:F32))","v":0}]
[null,null,null,null,{"$f":"IF(D33=\"\",0,SUM(D$8:D33))","v":0},null,{"$f":"IF(F33=\"\",0,SUM(F$8:F33))","v":0}]
[null,null,null,null,{"$f":"IF(D34=\"\",0,SUM(D$8:D34))","v":0},null,{"$f":"IF(F34=\"\",0,SUM(F$8:F34))","v":0}]
[null,null,null,null,{"$f":"IF(D35=\"\",0,SUM(D$8:D35))","v":0},null,{"$f":"IF(F35=\"\",0,SUM(F$8:F35))","v":0}]
[null,null,null,null,{"$f":"IF(D36=\"\",0,SUM(D$8:D36))","v":0},null,{"$f":"IF(F36=\"\",0,SUM(F$8:F36))","v":0}]
[null,null,null,null,{"$f":"IF(D37=\"\",0,SUM(D$8:D37))","v":0},null,{"$f":"IF(F37=\"\",0,SUM(F$8:F37))","v":0}]
[null,null,null,null,{"$f":"IF(D38=\"\",0,SUM(D$8:D38))","v":0},null,{"$f":"IF(F38=\"\",0,SUM(F$8:F38))","v":0}]
[null,null,null,null,{"$f":"IF(D39=\"\",0,SUM(D$8:D39))","v":0},null,{"$f":"IF(F39=\"\",0,SUM(F$8:F39))","v":0}]
[null,null,null,null,{"$f":"IF(D40=\"\",0,SUM(D$8:D40))","v":0},null,{"$f":"IF(F40=\"\",0,SUM(F$8:F40))","v":0}]
[null,null,null,null,{"$f":"IF(D41=\"\",0,SUM(D$8:D41))","v":0},null,{"$f":"IF(F41=\"\",0,SUM(F$8:F41))","v":0}]
[null,null,null,null,{"$f":"IF(D42=\"\",0,SUM(D$8:D42))","v":0},null,{"$f":"IF(F42=\"\",0,SUM(F$8:F42))","v":0}]
[null,null,null,null,{"$f":"IF(D43=\"\",0,SUM(D$8:D43))","v":0},null,{"$f":"IF(F43=\"\",0,SUM(F$8:F43))","v":0}]
[null,null,null,null,{"$f":"IF(D44=\"\",0,SUM(D$8:D44))","v":0},null,{"$f":"IF(F44=\"\",0,SUM(F$8:F44))","v":0}]
[null,null,null,null,{"$f":"IF(D45=\"\",0,SUM(D$8:D45))","v":0},null,{"$f":"IF(F45=\"\",0,SUM(F$8:F45))","v":0}]
[null,null,null,null,{"$f":"IF(D46=\"\",0,SUM(D$8:D46))","v":0},null,{"$f":"IF(F46=\"\",0,SUM(F$8:F46))","v":0}]
[null,null,null,null,{"$f":"IF(D47=\"\",0,SUM(D$8:D47))","v":0},null,{"$f":"IF(F47=\"\",0,SUM(F$8:F47))","v":0}]
[null,null,null,null,{"$f":"IF(D48=\"\",0,SUM(D$8:D48))","v":0},null,{"$f":"IF(F48=\"\",0,SUM(F$8:F48))","v":0}]
[null,null,null,null,{"$f":"IF(D49=\"\",0,SUM(D$8:D49))","v":0},null,{"$f":"IF(F49=\"\",0,SUM(F$8:F49))","v":0}]
[null,null,null,null,{"$f":"IF(D50=\"\",0,SUM(D$8:D50))","v":0},null,{"$f":"IF(F50=\"\",0,SUM(F$8:F50))","v":0}]
[null,null,null,null,{"$f":"IF(D51=\"\",0,SUM(D$8:D51))","v":0},null,{"$f":"IF(F51=\"\",0,SUM(F$8:F51))","v":0}]
[null,null,null,null,{"$f":"IF(D52=\"\",0,SUM(D$8:D52))","v":0},null,{"$f":"IF(F52=\"\",0,SUM(F$8:F52))","v":0}]
[null,null,null,null,{"$f":"IF(D53=\"\",0,SUM(D$8:D53))","v":0},null,{"$f":"IF(F53=\"\",0,SUM(F$8:F53))","v":0}]
[null,null,null,null,{"$f":"IF(D54=\"\",0,SUM(D$8:D54))","v":0},null,{"$f":"IF(F54=\"\",0,SUM(F$8:F54))","v":0}]
[null,null,null,null,{"$f":"IF(D55=\"\",0,SUM(D$8:D55))","v":0},null,{"$f":"IF(F55=\"\",0,SUM(F$8:F55))","v":0}]
[null,null,null,null,{"$f":"IF(D56=\"\",0,SUM(D$8:D56))","v":0},null,{"$f":"IF(F56=\"\",0,SUM(F$8:F56))","v":0}]
[null,null,null,null,{"$f":"IF(D57=\"\",0,SUM(D$8:D57))","v":0},null,{"$f":"IF(F57=\"\",0,SUM(F$8:F57))","v":0}]
[null,null,null,null,{"$f":"IF(D58=\"\",0,SUM(D$8:D58))","v":0},null,{"$f":"IF(F58=\"\",0,SUM(F$8:F58))","v":0}]
[null,null,null,null,{"$f":"IF(D59=\"\",0,SUM(D$8:D59))","v":0},null,{"$f":"IF(F59=\"\",0,SUM(F$8:F59))","v":0}]
[null,null,null,null,{"$f":"IF(D60=\"\",0,SUM(D$8:D60))","v":0},null,{"$f":"IF(F60=\"\",0,SUM(F$8:F60))","v":0}]
[null,null,null,null,{"$f":"IF(D61=\"\",0,SUM(D$8:D61))","v":0},null,{"$f":"IF(F61=\"\",0,SUM(F$8:F61))","v":0}]
[null,null,null,null,{"$f":"IF(D62=\"\",0,SUM(D$8:D62))","v":0},null,{"$f":"IF(F62=\"\",0,SUM(F$8:F62))","v":0}]
[null,null,null,null,{"$f":"IF(D63=\"\",0,SUM(D$8:D63))","v":0},null,{"$f":"IF(F63=\"\",0,SUM(F$8:F63))","v":0}]
[null,null,null,null,{"$f":"IF(D64=\"\",0,SUM(D$8:D64))","v":0},null,{"$f":"IF(F64=\"\",0,SUM(F$8:F64))","v":0}]
[null,null,null,null,{"$f":"IF(D65=\"\",0,SUM(D$8:D65))","v":0},null,{"$f":"IF(F65=\"\",0,SUM(F$8:F65))","v":0}]
[null,null,null,null,{"$f":"IF(D66=\"\",0,SUM(D$8:D66))","v":0},null,{"$f":"IF(F66=\"\",0,SUM(F$8:F66))","v":0}]
[null,null,null,null,{"$f":"IF(D67=\"\",0,SUM(D$8:D67))","v":0},null,{"$f":"IF(F67=\"\",0,SUM(F$8:F67))","v":0}]
[null,null,null,null,{"$f":"IF(D68=\"\",0,SUM(D$8:D68))","v":0},null,{"$f":"IF(F68=\"\",0,SUM(F$8:F68))","v":0}]
[null,null,null,null,{"$f":"IF(D69=\"\",0,SUM(D$8:D69))","v":0},null,{"$f":"IF(F69=\"\",0,SUM(F$8:F69))","v":0}]
[null,null,null,null,{"$f":"IF(D70=\"\",0,SUM(D$8:D70))","v":0},null,{"$f":"IF(F70=\"\",0,SUM(F$8:F70))","v":0}]
[null,null,null,null,{"$f":"IF(D71=\"\",0,SUM(D$8:D71))","v":0},null,{"$f":"IF(F71=\"\",0,SUM(F$8:F71))","v":0}]
[null,null,null,null,{"$f":"IF(D72=\"\",0,SUM(D$8:D72))","v":0},null,{"$f":"IF(F72=\"\",0,SUM(F$8:F72))","v":0}]
[null,null,null,null,{"$f":"IF(D73=\"\",0,SUM(D$8:D73))","v":0},null,{"$f":"IF(F73=\"\",0,SUM(F$8:F73))","v":0}]
[null,null,null,null,{"$f":"IF(D74=\"\",0,SUM(D$8:D74))","v":0},null,{"$f":"IF(F74=\"\",0,SUM(F$8:F74))","v":0}]
[null,null,null,null,{"$f":"IF(D75=\"\",0,SUM(D$8:D75))","v":0},null,{"$f":"IF(F75=\"\",0,SUM(F$8:F75))","v":0}]
[null,null,null,null,{"$f":"IF(D76=\"\",0,SUM(D$8:D76))","v":0},null,{"$f":"IF(F76=\"\",0,SUM(F$8:F76))","v":0}]
[null,null,null,null,{"$f":"IF(D77=\"\",0,SUM(D$8:D77))","v":0},null,{"$f":"IF(F77=\"\",0,SUM(F$8:F77))","v":0}]
[null,null,null,null,{"$f":"IF(D78=\"\",0,SUM(D$8:D78))","v":0},null,{"$f":"IF(F78=\"\",0,SUM(F$8:F78))","v":0}]
[null,null,null,null,{"$f":"IF(D79=\"\",0,SUM(D$8:D79))","v":0},null,{"$f":"IF(F79=\"\",0,SUM(F$8:F79))","v":0}]
[null,null,null,null,{"$f":"IF(D80=\"\",0,SUM(D$8:D80))","v":0},null,{"$f":"IF(F80=\"\",0,SUM(F$8:F80))","v":0}]
[null,null,null,null,{"$f":"IF(D81=\"\",0,SUM(D$8:D81))","v":0},null,{"$f":"IF(F81=\"\",0,SUM(F$8:F81))","v":0}]
[null,null,null,null,{"$f":"IF(D82=\"\",0,SUM(D$8:D82))","v":0},null,{"$f":"IF(F82=\"\",0,SUM(F$8:F82))","v":0}]
[null,null,null,null,{"$f":"IF(D83=\"\",0,SUM(D$8:D83))","v":0},null,{"$f":"IF(F83=\"\",0,SUM(F$8:F83))","v":0}]
[null,null,null,null,{"$f":"IF(D84=\"\",0,SUM(D$8:D84))","v":0},null,{"$f":"IF(F84=\"\",0,SUM(F$8:F84))","v":0}]
[null,null,null,null,{"$f":"IF(D85=\"\",0,SUM(D$8:D85))","v":0},null,{"$f":"IF(F85=\"\",0,SUM(F$8:F85))","v":0}]
[null,null,null,null,{"$f":"IF(D86=\"\",0,SUM(D$8:D86))","v":0},null,{"$f":"IF(F86=\"\",0,SUM(F$8:F86))","v":0}]
[null,null,null,null,{"$f":"IF(D87=\"\",0,SUM(D$8:D87))","v":0},null,{"$f":"IF(F87=\"\",0,SUM(F$8:F87))","v":0}]
[null,null,null,null,{"$f":"IF(D88=\"\",0,SUM(D$8:D88))","v":0},null,{"$f":"IF(F88=\"\",0,SUM(F$8:F88))","v":0}]
[null,null,null,null,{"$f":"IF(D89=\"\",0,SUM(D$8:D89))","v":0},null,{"$f":"IF(F89=\"\",0,SUM(F$8:F89))","v":0}]
[null,null,null,null,{"$f":"IF(D90=\"\",0,SUM(D$8:D90))","v":0},null,{"$f":"IF(F90=\"\",0,SUM(F$8:F90))","v":0}]
[null,null,null,null,{"$f":"IF(D91=\"\",0,SUM(D$8:D91))","v":0},null,{"$f":"IF(F91=\"\",0,SUM(F$8:F91))","v":0}]
[null,null,null,null,{"$f":"IF(D92=\"\",0,SUM(D$8:D92))","v":0},null,{"$f":"IF(F92=\"\",0,SUM(F$8:F92))","v":0}]
[null,null,null,null,{"$f":"IF(D93=\"\",0,SUM(D$8:D93))","v":0},null,{"$f":"IF(F93=\"\",0,SUM(F$8:F93))","v":0}]
[null,null,null,null,{"$f":"IF(D94=\"\",0,SUM(D$8:D94))","v":0},null,{"$f":"IF(F94=\"\",0,SUM(F$8:F94))","v":0}]
[null,null,null,null,{"$f":"IF(D95=\"\",0,SUM(D$8:D95))","v":0},null,{"$f":"IF(F95=\"\",0,SUM(F$8:F95))","v":0}]
[null,null,null,null,{"$f":"IF(D96=\"\",0,SUM(D$8:D96))","v":0},null,{"$f":"IF(F96=\"\",0,SUM(F$8:F96))","v":0}]
[null,null,null,null,{"$f":"IF(D97=\"\",0,SUM(D$8:D97))","v":0},null,{"$f":"IF(F97=\"\",0,SUM(F$8:F97))","v":0}]
[null,null,null,null,{"$f":"IF(D98=\"\",0,SUM(D$8:D98))","v":0},null,{"$f":"IF(F98=\"\",0,SUM(F$8:F98))","v":0}]
[null,null,null,null,{"$f":"IF(D99=\"\",0,SUM(D$8:D99))","v":0},null,{"$f":"IF(F99=\"\",0,SUM(F$8:F99))","v":0}]
[null,null,null,null,{"$f":"IF(D100=\"\",0,SUM(D$8:D100))","v":0},null,{"$f":"IF(F100=\"\",0,SUM(F$8:F100))","v":0}]
[null,null,null,null,{"$f":"IF(D101=\"\",0,SUM(D$8:D101))","v":0},null,{"$f":"IF(F101=\"\",0,SUM(F$8:F101))","v":0}]
[null,null,null,null,{"$f":"IF(D102=\"\",0,SUM(D$8:D102))","v":0},null,{"$f":"IF(F102=\"\",0,SUM(F$8:F102))","v":0}]
[null,null,null,null,{"$f":"IF(D103=\"\",0,SUM(D$8:D103))","v":0},null,{"$f":"IF(F103=\"\",0,SUM(F$8:F103))","v":0}]
[null,null,null,null,{"$f":"IF(D104=\"\",0,SUM(D$8:D104))","v":0},null,{"$f":"IF(F104=\"\",0,SUM(F$8:F104))","v":0}]
[null,null,null,null,{"$f":"IF(D105=\"\",0,SUM(D$8:D105))","v":0},null,{"$f":"IF(F105=\"\",0,SUM(F$8:F105))","v":0}]
[null,null,null,null,{"$f":"IF(D106=\"\",0,SUM(D$8:D106))","v":0},null,{"$f":"IF(F106=\"\",0,SUM(F$8:F106))","v":0}]
[null,null,null,null,{"$f":"IF(D107=\"\",0,SUM(D$8:D107))","v":0},null,{"$f":"IF(F107=\"\",0,SUM(F$8:F107))","v":0}]
[null,null,null,null,{"$f":"IF(D108=\"\",0,SUM(D$8:D108))","v":0},null,{"$f":"IF(F108=\"\",0,SUM(F$8:F108))","v":0}]
[null,null,null,null,{"$f":"IF(D109=\"\",0,SUM(D$8:D109))","v":0},null,{"$f":"IF(F109=\"\",0,SUM(F$8:F109))","v":0}]
[null,null,null,null,{"$f":"IF(D110=\"\",0,SUM(D$8:D110))","v":0},null,{"$f":"IF(F110=\"\",0,SUM(F$8:F110))","v":0}]
[null,null,null,null,{"$f":"IF(D111=\"\",0,SUM(D$8:D111))","v":0},null,{"$f":"IF(F111=\"\",0,SUM(F$8:F111))","v":0}]
[null,null,null,null,{"$f":"IF(D112=\"\",0,SUM(D$8:D112))","v":0},null,{"$f":"IF(F112=\"\",0,SUM(F$8:F112))","v":0}]
[null,null,null,null,{"$f":"IF(D113=\"\",0,SUM(D$8:D113))","v":0},null,{"$f":"IF(F113=\"\",0,SUM(F$8:F113))","v":0}]
[null,null,null,null,{"$f":"IF(D114=\"\",0,SUM(D$8:D114))","v":0},null,{"$f":"IF(F114=\"\",0,SUM(F$8:F114))","v":0}]
[null,null,null,null,{"$f":"IF(D115=\"\",0,SUM(D$8:D115))","v":0},null,{"$f":"IF(F115=\"\",0,SUM(F$8:F115))","v":0}]
[null,null,null,null,{"$f":"IF(D116=\"\",0,SUM(D$8:D116))","v":0},null,{"$f":"IF(F116=\"\",0,SUM(F$8:F116))","v":0}]
[null,null,null,null,{"$f":"IF(D117=\"\",0,SUM(D$8:D117))","v":0},null,{"$f":"IF(F117=\"\",0,SUM(F$8:F117))","v":0}]
[null,null,null,null,{"$f":"IF(D118=\"\",0,SUM(D$8:D118))","v":0},null,{"$f":"IF(F118=\"\",0,SUM(F$8:F118))","v":0}]
[null,null,null,null,{"$f":"IF(D119=\"\",0,SUM(D$8:D119))","v":0},null,{"$f":"IF(F119=\"\",0,SUM(F$8:F119))","v":0}]
[null,null,null,null,{"$f":"IF(D120=\"\",0,SUM(D$8:D120))","v":0},null,{"$f":"IF(F120=\"\",0,SUM(F$8:F120))","v":0}]
[null,null,null,null,{"$f":"IF(D121=\"\",0,SUM(D$8:D121))","v":0},null,{"$f":"IF(F121=\"\",0,SUM(F$8:F121))","v":0}]
[null,null,null,null,{"$f":"IF(D122=\"\",0,SUM(D$8:D122))","v":0},null,{"$f":"IF(F122=\"\",0,SUM(F$8:F122))","v":0}]
[null,null,null,null,{"$f":"IF(D123=\"\",0,SUM(D$8:D123))","v":0},null,{"$f":"IF(F123=\"\",0,SUM(F$8:F123))","v":0}]
[null,null,null,null,{"$f":"IF(D124=\"\",0,SUM(D$8:D124))","v":0},null,{"$f":"IF(F124=\"\",0,SUM(F$8:F124))","v":0}]
[null,null,null,null,{"$f":"IF(D125=\"\",0,SUM(D$8:D125))","v":0},null,{"$f":"IF(F125=\"\",0,SUM(F$8:F125))","v":0}]
[null,null,null,null,{"$f":"IF(D126=\"\",0,SUM(D$8:D126))","v":0},null,{"$f":"IF(F126=\"\",0,SUM(F$8:F126))","v":0}]
[null,null,null,null,{"$f":"IF(D127=\"\",0,SUM(D$8:D127))","v":0},null,{"$f":"IF(F127=\"\",0,SUM(F$8:F127))","v":0}]
[null,null,null,null,{"$f":"IF(D128=\"\",0,SUM(D$8:D128))","v":0},null,{"$f":"IF(F128=\"\",0,SUM(F$8:F128))","v":0}]
[null,null,null,null,{"$f":"IF(D129=\"\",0,SUM(D$8:D129))","v":0},null,{"$f":"IF(F129=\"\",0,SUM(F$8:F129))","v":0}]
[null,null,null,null,{"$f":"IF(D130=\"\",0,SUM(D$8:D130))","v":0},null,{"$f":"IF(F130=\"\",0,SUM(F$8:F130))","v":0}]
[null,null,null,null,{"$f":"IF(D131=\"\",0,SUM(D$8:D131))","v":0},null,{"$f":"IF(F131=\"\",0,SUM(F$8:F131))","v":0}]
[null,null,null,null,{"$f":"IF(D132=\"\",0,SUM(D$8:D132))","v":0},null,{"$f":"IF(F132=\"\",0,SUM(F$8:F132))","v":0}]
[null,null,null,null,{"$f":"IF(D133=\"\",0,SUM(D$8:D133))","v":0},null,{"$f":"IF(F133=\"\",0,SUM(F$8:F133))","v":0}]
[null,null,null,null,{"$f":"IF(D134=\"\",0,SUM(D$8:D134))","v":0},null,{"$f":"IF(F134=\"\",0,SUM(F$8:F134))","v":0}]
[null,null,null,null,{"$f":"IF(D135=\"\",0,SUM(D$8:D135))","v":0},null,{"$f":"IF(F135=\"\",0,SUM(F$8:F135))","v":0}]
[null,null,null,null,{"$f":"IF(D136=\"\",0,SUM(D$8:D136))","v":0},null,{"$f":"IF(F136=\"\",0,SUM(F$8:F136))","v":0}]
[null,null,null,null,{"$f":"IF(D137=\"\",0,SUM(D$8:D137))","v":0},null,{"$f":"IF(F137=\"\",0,SUM(F$8:F137))","v":0}]
[null,null,null,null,{"$f":"IF(D138=\"\",0,SUM(D$8:D138))","v":0},null,{"$f":"IF(F138=\"\",0,SUM(F$8:F138))","v":0}]
[null,null,null,null,{"$f":"IF(D139=\"\",0,SUM(D$8:D139))","v":0},null,{"$f":"IF(F139=\"\",0,SUM(F$8:F139))","v":0}]
[null,null,null,null,{"$f":"IF(D140=\"\",0,SUM(D$8:D140))","v":0},null,{"$f":"IF(F140=\"\",0,SUM(F$8:F140))","v":0}]
[null,null,null,null,{"$f":"IF(D141=\"\",0,SUM(D$8:D141))","v":0},null,{"$f":"IF(F141=\"\",0,SUM(F$8:F141))","v":0}]
[null,null,null,null,{"$f":"IF(D142=\"\",0,SUM(D$8:D142))","v":0},null,{"$f":"IF(F142=\"\",0,SUM(F$8:F142))","v":0}]
[null,null,null,null,{"$f":"IF(D143=\"\",0,SUM(D$8:D143))","v":0},null,{"$f":"IF(F143=\"\",0,SUM(F$8:F143))","v":0}]
[null,null,null,null,{"$f":"IF(D144=\"\",0,SUM(D$8:D144))","v":0},null,{"$f":"IF(F144=\"\",0,SUM(F$8:F144))","v":0}]
[null,null,null,null,{"$f":"IF(D145=\"\",0,SUM(D$8:D145))","v":0},null,{"$f":"IF(F145=\"\",0,SUM(F$8:F145))","v":0}]
[null,null,null,null,{"$f":"IF(D146=\"\",0,SUM(D$8:D146))","v":0},null,{"$f":"IF(F146=\"\",0,SUM(F$8:F146))","v":0}]
[null,null,null,null,{"$f":"IF(D147=\"\",0,SUM(D$8:D147))","v":0},null,{"$f":"IF(F147=\"\",0,SUM(F$8:F147))","v":0}]
[null,null,null,null,{"$f":"IF(D148=\"\",0,SUM(D$8:D148))","v":0},null,{"$f":"IF(F148=\"\",0,SUM(F$8:F148))","v":0}]
[null,null,null,null,{"$f":"IF(D149=\"\",0,SUM(D$8:D149))","v":0},null,{"$f":"IF(F149=\"\",0,SUM(F$8:F149))","v":0}]
[null,null,null,null,{"$f":"IF(D150=\"\",0,SUM(D$8:D150))","v":0},null,{"$f":"IF(F150=\"\",0,SUM(F$8:F150))","v":0}]
[null,null,null,null,{"$f":"IF(D151=\"\",0,SUM(D$8:D151))","v":0},null,{"$f":"IF(F151=\"\",0,SUM(F$8:F151))","v":0}]
[null,null,null,null,{"$f":"IF(D152=\"\",0,SUM(D$8:D152))","v":0},null,{"$f":"IF(F152=\"\",0,SUM(F$8:F152))","v":0}]
[null,null,null,null,{"$f":"IF(D153=\"\",0,SUM(D$8:D153))","v":0},null,{"$f":"IF(F153=\"\",0,SUM(F$8:F153))","v":0}]
[null,null,null,null,{"$f":"IF(D154=\"\",0,SUM(D$8:D154))","v":0},null,{"$f":"IF(F154=\"\",0,SUM(F$8:F154))","v":0}]
[null,null,null,null,{"$f":"IF(D155=\"\",0,SUM(D$8:D155))","v":0},null,{"$f":"IF(F155=\"\",0,SUM(F$8:F155))","v":0}]
[null,null,null,null,{"$f":"IF(D156=\"\",0,SUM(D$8:D156))","v":0},null,{"$f":"IF(F156=\"\",0,SUM(F$8:F156))","v":0}]
[null,null,null,null,{"$f":"IF(D157=\"\",0,SUM(D$8:D157))","v":0},null,{"$f":"IF(F157=\"\",0,SUM(F$8:F157))","v":0}]
[null,null,null,null,{"$f":"IF(D158=\"\",0,SUM(D$8:D158))","v":0},null,{"$f":"IF(F158=\"\",0,SUM(F$8:F158))","v":0}]
[null,null,null,null,{"$f":"IF(D159=\"\",0,SUM(D$8:D159))","v":0},null,{"$f":"IF(F159=\"\",0,SUM(F$8:F159))","v":0}]
[null,null,null,null,{"$f":"IF(D160=\"\",0,SUM(D$8:D160))","v":0},null,{"$f":"IF(F160=\"\",0,SUM(F$8:F160))","v":0}]
[null,null,null,null,{"$f":"IF(D161=\"\",0,SUM(D$8:D161))","v":0},null,{"$f":"IF(F161=\"\",0,SUM(F$8:F161))","v":0}]
[null,null,null,null,{"$f":"IF(D162=\"\",0,SUM(D$8:D162))","v":0},null,{"$f":"IF(F162=\"\",0,SUM(F$8:F162))","v":0}]
[null,null,null,null,{"$f":"IF(D163=\"\",0,SUM(D$8:D163))","v":0},null,{"$f":"IF(F163=\"\",0,SUM(F$8:F163))","v":0}]
[null,null,null,null,{"$f":"IF(D164=\"\",0,SUM(D$8:D164))","v":0},null,{"$f":"IF(F164=\"\",0,SUM(F$8:F164))","v":0}]
[null,null,null,null,{"$f":"IF(D165=\"\",0,SUM(D$8:D165))","v":0},null,{"$f":"IF(F165=\"\",0,SUM(F$8:F165))","v":0}]
[null,null,null,null,{"$f":"IF(D166=\"\",0,SUM(D$8:D166))","v":0},null,{"$f":"IF(F166=\"\",0,SUM(F$8:F166))","v":0}]
[null,null,null,null,{"$f":"IF(D167=\"\",0,SUM(D$8:D167))","v":0},null,{"$f":"IF(F167=\"\",0,SUM(F$8:F167))","v":0}]
[null,null,null,null,{"$f":"IF(D168=\"\",0,SUM(D$8:D168))","v":0},null,{"$f":"IF(F168=\"\",0,SUM(F$8:F168))","v":0}]
[null,null,null,null,{"$f":"IF(D169=\"\",0,SUM(D$8:D169))","v":0},null,{"$f":"IF(F169=\"\",0,SUM(F$8:F169))","v":0}]
[null,null,null,null,{"$f":"IF(D170=\"\",0,SUM(D$8:D170))","v":0},null,{"$f":"IF(F170=\"\",0,SUM(F$8:F170))","v":0}]
[null,null,null,null,{"$f":"IF(D171=\"\",0,SUM(D$8:D171))","v":0},null,{"$f":"IF(F171=\"\",0,SUM(F$8:F171))","v":0}]
[null,null,null,null,{"$f":"IF(D172=\"\",0,SUM(D$8:D172))","v":0},null,{"$f":"IF(F172=\"\",0,SUM(F$8:F172))","v":0}]
[null,null,null,null,{"$f":"IF(D173=\"\",0,SUM(D$8:D173))","v":0},null,{"$f":"IF(F173=\"\",0,SUM(F$8:F173))","v":0}]
[null,null,null,null,{"$f":"IF(D174=\"\",0,SUM(D$8:D174))","v":0},null,{"$f":"IF(F174=\"\",0,SUM(F$8:F174))","v":0}]
[null,null,null,null,{"$f":"IF(D175=\"\",0,SUM(D$8:D175))","v":0},null,{"$f":"IF(F175=\"\",0,SUM(F$8:F175))","v":0}]
[null,null,null,null,{"$f":"IF(D176=\"\",0,SUM(D$8:D176))","v":0},null,{"$f":"IF(F176=\"\",0,SUM(F$8:F176))","v":0}]
[null,null,null,null,{"$f":"IF(D177=\"\",0,SUM(D$8:D177))","v":0},null,{"$f":"IF(F177=\"\",0,SUM(F$8:F177))","v":0}]
[null,null,null,null,{"$f":"IF(D178=\"\",0,SUM(D$8:D178))","v":0},null,{"$f":"IF(F178=\"\",0,SUM(F$8:F178))","v":0}]
[null,null,null,null,{"$f":"IF(D179=\"\",0,SUM(D$8:D179))","v":0},null,{"$f":"IF(F179=\"\",0,SUM(F$8:F179))","v":0}]
[null,null,null,null,{"$f":"IF(D180=\"\",0,SUM(D$8:D180))","v":0},null,{"$f":"IF(F180=\"\",0,SUM(F$8:F180))","v":0}]
[null,null,null,null,{"$f":"IF(D181=\"\",0,SUM(D$8:D181))","v":0},null,{"$f":"IF(F181=\"\",0,SUM(F$8:F181))","v":0}]
[null,null,null,null,{"$f":"IF(D182=\"\",0,SUM(D$8:D182))","v":0},null,{"$f":"IF(F182=\"\",0,SUM(F$8:F182))","v":0}]
[null,null,null,null,{"$f":"IF(D183=\"\",0,SUM(D$8:D183))","v":0},null,{"$f":"IF(F183=\"\",0,SUM(F$8:F183))","v":0}]
[null,null,null,null,{"$f":"IF(D184=\"\",0,SUM(D$8:D184))","v":0},null,{"$f":"IF(F184=\"\",0,SUM(F$8:F184))","v":0}]
[null,null,null,null,{"$f":"IF(D185=\"\",0,SUM(D$8:D185))","v":0},null,{"$f":"IF(F185=\"\",0,SUM(F$8:F185))","v":0}]
[null,null,null,null,{"$f":"IF(D186=\"\",0,SUM(D$8:D186))","v":0},null,{"$f":"IF(F186=\"\",0,SUM(F$8:F186))","v":0}]
[null,null,null,null,{"$f":"IF(D187=\"\",0,SUM(D$8:D187))","v":0},null,{"$f":"IF(F187=\"\",0,SUM(F$8:F187))","v":0}]
[null,null,null,null,{"$f":"IF(D188=\"\",0,SUM(D$8:D188))","v":0},null,{"$f":"IF(F188=\"\",0,SUM(F$8:F188))","v":0}]
[null,null,null,null,{"$f":"IF(D189=\"\",0,SUM(D$8:D189))","v":0},null,{"$f":"IF(F189=\"\",0,SUM(F$8:F189))","v":0}]
[null,null,null,null,{"$f":"IF(D190=\"\",0,SUM(D$8:D190))","v":0},null,{"$f":"IF(F190=\"\",0,SUM(F$8:F190))","v":0}]
[null,null,null,null,{"$f":"IF(D191=\"\",0,SUM(D$8:D191))","v":0},null,{"$f":"IF(F191=\"\",0,SUM(F$8:F191))","v":0}]
[null,null,null,null,{"$f":"IF(D192=\"\",0,SUM(D$8:D192))","v":0},null,{"$f":"IF(F192=\"\",0,SUM(F$8:F192))","v":0}]
[null,null,null,null,{"$f":"IF(D193=\"\",0,SUM(D$8:D193))","v":0},null,{"$f":"IF(F193=\"\",0,SUM(F$8:F193))","v":0}]
[null,null,null,null,{"$f":"IF(D194=\"\",0,SUM(D$8:D194))","v":0},null,{"$f":"IF(F194=\"\",0,SUM(F$8:F194))","v":0}]
[null,null,null,null,{"$f":"IF(D195=\"\",0,SUM(D$8:D195))","v":0},null,{"$f":"IF(F195=\"\",0,SUM(F$8:F195))","v":0}]
[null,null,null,null,{"$f":"IF(D196=\"\",0,SUM(D$8:D196))","v":0},null,{"$f":"IF(F196=\"\",0,SUM(F$8:F196))","v":0}]
[null,null,null,null,{"$f":"IF(D197=\"\",0,SUM(D$8:D197))","v":0},null,{"$f":"IF(F197=\"\",0,SUM(F$8:F197))","v":0}]
[null,null,null,null,{"$f":"IF(D198=\"\",0,SUM(D$8:D198))","v":0},null,{"$f":"IF(F198=\"\",0,SUM(F$8:F198))","v":0}]
[null,null,null,null,{"$f":"IF(D199=\"\",0,SUM(D$8:D199))","v":0},null,{"$f":"IF(F199=\"\",0,SUM(F$8:F199))","v":0}]
[null,null,null,null,{"$f":"IF(D200=\"\",0,SUM(D$8:D200))","v":0},null,{"$f":"IF(F200=\"\",0,SUM(F$8:F200))","v":0}]
[null,null,null,null,{"$f":"IF(D201=\"\",0,SUM(D$8:D201))","v":0},null,{"$f":"IF(F201=\"\",0,SUM(F$8:F201))","v":0}]
[null,null,null,null,{"$f":"IF(D202=\"\",0,SUM(D$8:D202))","v":0},null,{"$f":"IF(F202=\"\",0,SUM(F$8:F202))","v":0}]
[null,null,null,null,{"$f":"IF(D203=\"\",0,SUM(D$8:D203))","v":0},null,{"$f":"IF(F203=\"\",0,SUM(F$8:F203))","v":0}]
[null,null,null,null,{"$f":"IF(D204=\"\",0,SUM(D$8:D204))","v":0},null,{"$f":"IF(F204=\"\",0,SUM(F$8:F204))","v":0}]
[null,null,null,null,{"$f":"IF(D205=\"\",0,SUM(D$8:D205))","v":0},null,{"$f":"IF(F205=\"\",0,SUM(F$8:F205))","v":0}]
[null,null,null,null,{"$f":"IF(D206=\"\",0,SUM(D$8:D206))","v":0},null,{"$f":"IF(F206=\"\",0,SUM(F$8:F206))","v":0}]
[null,null,null,null,{"$f":"IF(D207=\"\",0,SUM(D$8:D207))","v":0},null,{"$f":"IF(F207=\"\",0,SUM(F$8:F207))","v":0}]
[null,null,null,null,{"$f":"IF(D208=\"\",0,SUM(D$8:D208))","v":0},null,{"$f":"IF(F208=\"\",0,SUM(F$8:F208))","v":0}]
[null,null,null,null,{"$f":"IF(D209=\"\",0,SUM(D$8:D209))","v":0},null,{"$f":"IF(F209=\"\",0,SUM(F$8:F209))","v":0}]
[null,null,null,null,{"$f":"IF(D210=\"\",0,SUM(D$8:D210))","v":0},null,{"$f":"IF(F210=\"\",0,SUM(F$8:F210))","v":0}]
[null,null,null,null,{"$f":"IF(D211=\"\",0,SUM(D$8:D211))","v":0},null,{"$f":"IF(F211=\"\",0,SUM(F$8:F211))","v":0}]
[null,null,null,null,{"$f":"IF(D212=\"\",0,SUM(D$8:D212))","v":0},null,{"$f":"IF(F212=\"\",0,SUM(F$8:F212))","v":0}]
[null,null,null,null,{"$f":"IF(D213=\"\",0,SUM(D$8:D213))","v":0},null,{"$f":"IF(F213=\"\",0,SUM(F$8:F213))","v":0}]
[null,null,null,null,{"$f":"IF(D214=\"\",0,SUM(D$8:D214))","v":0},null,{"$f":"IF(F214=\"\",0,SUM(F$8:F214))","v":0}]
[null,null,null,null,{"$f":"IF(D215=\"\",0,SUM(D$8:D215))","v":0},null,{"$f":"IF(F215=\"\",0,SUM(F$8:F215))","v":0}]
[null,null,null,null,{"$f":"IF(D216=\"\",0,SUM(D$8:D216))","v":0},null,{"$f":"IF(F216=\"\",0,SUM(F$8:F216))","v":0}]
[null,null,null,null,{"$f":"IF(D217=\"\",0,SUM(D$8:D217))","v":0},null,{"$f":"IF(F217=\"\",0,SUM(F$8:F217))","v":0}]
[null,null,null,null,{"$f":"IF(D218=\"\",0,SUM(D$8:D218))","v":0},null,{"$f":"IF(F218=\"\",0,SUM(F$8:F218))","v":0}]
[null,null,null,null,{"$f":"IF(D219=\"\",0,SUM(D$8:D219))","v":0},null,{"$f":"IF(F219=\"\",0,SUM(F$8:F219))","v":0}]
[null,null,null,null,{"$f":"IF(D220=\"\",0,SUM(D$8:D220))","v":0},null,{"$f":"IF(F220=\"\",0,SUM(F$8:F220))","v":0}]
[null,null,null,null,{"$f":"IF(D221=\"\",0,SUM(D$8:D221))","v":0},null,{"$f":"IF(F221=\"\",0,SUM(F$8:F221))","v":0}]
[null,null,null,null,{"$f":"IF(D222=\"\",0,SUM(D$8:D222))","v":0},null,{"$f":"IF(F222=\"\",0,SUM(F$8:F222))","v":0}]
[null,null,null,null,{"$f":"IF(D223=\"\",0,SUM(D$8:D223))","v":0},null,{"$f":"IF(F223=\"\",0,SUM(F$8:F223))","v":0}]
[null,null,null,null,{"$f":"IF(D224=\"\",0,SUM(D$8:D224))","v":0},null,{"$f":"IF(F224=\"\",0,SUM(F$8:F224))","v":0}]
[null,null,null,null,{"$f":"IF(D225=\"\",0,SUM(D$8:D225))","v":0},null,{"$f":"IF(F225=\"\",0,SUM(F$8:F225))","v":0}]
[null,null,null,null,{"$f":"IF(D226=\"\",0,SUM(D$8:D226))","v":0},null,{"$f":"IF(F226=\"\",0,SUM(F$8:F226))","v":0}]
[null,null,null,null,{"$f":"IF(D227=\"\",0,SUM(D$8:D227))","v":0},null,{"$f":"IF(F227=\"\",0,SUM(F$8:F227))","v":0}]
[null,null,null,null,{"$f":"IF(D228=\"\",0,SUM(D$8:D228))","v":0},null,{"$f":"IF(F228=\"\",0,SUM(F$8:F228))","v":0}]
[null,null,null,null,{"$f":"IF(D229=\"\",0,SUM(D$8:D229))","v":0},null,{"$f":"IF(F229=\"\",0,SUM(F$8:F229))","v":0}]
[null,null,null,null,{"$f":"IF(D230=\"\",0,SUM(D$8:D230))","v":0},null,{"$f":"IF(F230=\"\",0,SUM(F$8:F230))","v":0}]
[null,null,null,null,{"$f":"IF(D231=\"\",0,SUM(D$8:D231))","v":0},null,{"$f":"IF(F231=\"\",0,SUM(F$8:F231))","v":0}]
[null,null,null,null,{"$f":"IF(D232=\"\",0,SUM(D$8:D232))","v":0},null,{"$f":"IF(F232=\"\",0,SUM(F$8:F232))","v":0}]
[null,null,null,null,{"$f":"IF(D233=\"\",0,SUM(D$8:D233))","v":0},null,{"$f":"IF(F233=\"\",0,SUM(F$8:F233))","v":0}]
[null,null,null,null,{"$f":"IF(D234=\"\",0,SUM(D$8:D234))","v":0},null,{"$f":"IF(F234=\"\",0,SUM(F$8:F234))","v":0}]
[null,null,null,null,{"$f":"IF(D235=\"\",0,SUM(D$8:D235))","v":0},null,{"$f":"IF(F235=\"\",0,SUM(F$8:F235))","v":0}]
[null,null,null,null,{"$f":"IF(D236=\"\",0,SUM(D$8:D236))","v":0},null,{"$f":"IF(F236=\"\",0,SUM(F$8:F236))","v":0}]
[null,null,null,null,{"$f":"IF(D237=\"\",0,SUM(D$8:D237))","v":0},null,{"$f":"IF(F237=\"\",0,SUM(F$8:F237))","v":0}]
[null,null,null,null,{"$f":"IF(D238=\"\",0,SUM(D$8:D238))","v":0},null,{"$f":"IF(F238=\"\",0,SUM(F$8:F238))","v":0}]
[null,null,null,null,{"$f":"IF(D239=\"\",0,SUM(D$8:D239))","v":0},null,{"$f":"IF(F239=\"\",0,SUM(F$8:F239))","v":0}]
[null,null,null,null,{"$f":"IF(D240=\"\",0,SUM(D$8:D240))","v":0},null,{"$f":"IF(F240=\"\",0,SUM(F$8:F240))","v":0}]
[null,null,null,null,{"$f":"IF(D241=\"\",0,SUM(D$8:D241))","v":0},null,{"$f":"IF(F241=\"\",0,SUM(F$8:F241))","v":0}]
[null,null,null,null,{"$f":"IF(D242=\"\",0,SUM(D$8:D242))","v":0},null,{"$f":"IF(F242=\"\",0,SUM(F$8:F242))","v":0}]
[null,null,null,null,{"$f":"IF(D243=\"\",0,SUM(D$8:D243))","v":0},null,{"$f":"IF(F243=\"\",0,SUM(F$8:F243))","v":0}]
[null,null,null,null,{"$f":"IF(D244=\"\",0,SUM(D$8:D244))","v":0},null,{"$f":"IF(F244=\"\",0,SUM(F$8:F244))","v":0}]
[null,null,null,null,{"$f":"IF(D245=\"\",0,SUM(D$8:D245))","v":0},null,{"$f":"IF(F245=\"\",0,SUM(F$8:F245))","v":0}]
[null,null,null,null,{"$f":"IF(D246=\"\",0,SUM(D$8:D246))","v":0},null,{"$f":"IF(F246=\"\",0,SUM(F$8:F246))","v":0}]
[null,null,null,null,{"$f":"IF(D247=\"\",0,SUM(D$8:D247))","v":0},null,{"$f":"IF(F247=\"\",0,SUM(F$8:F247))","v":0}]
[null,null,null,null,{"$f":"IF(D248=\"\",0,SUM(D$8:D248))","v":0},null,{"$f":"IF(F248=\"\",0,SUM(F$8:F248))","v":0}]
[null,null,null,null,{"$f":"IF(D249=\"\",0,SUM(D$8:D249))","v":0},null,{"$f":"IF(F249=\"\",0,SUM(F$8:F249))","v":0}]
[null,null,null,null,{"$f":"IF(D250=\"\",0,SUM(D$8:D250))","v":0},null,{"$f":"IF(F250=\"\",0,SUM(F$8:F250))","v":0}]
[null,null,null,null,{"$f":"IF(D251=\"\",0,SUM(D$8:D251))","v":0},null,{"$f":"IF(F251=\"\",0,SUM(F$8:F251))","v":0}]
[null,null,null,null,{"$f":"IF(D252=\"\",0,SUM(D$8:D252))","v":0},null,{"$f":"IF(F252=\"\",0,SUM(F$8:F252))","v":0}]
[null,null,null,null,{"$f":"IF(D253=\"\",0,SUM(D$8:D253))","v":0},null,{"$f":"IF(F253=\"\",0,SUM(F$8:F253))","v":0}]
[null,null,null,null,{"$f":"IF(D254=\"\",0,SUM(D$8:D254))","v":0},null,{"$f":"IF(F254=\"\",0,SUM(F$8:F254))","v":0}]
[null,null,null,null,{"$f":"IF(D255=\"\",0,SUM(D$8:D255))","v":0},null,{"$f":"IF(F255=\"\",0,SUM(F$8:F255))","v":0}]
[null,null,null,null,{"$f":"IF(D256=\"\",0,SUM(D$8:D256))","v":0},null,{"$f":"IF(F256=\"\",0,SUM(F$8:F256))","v":0}]
[null,null,null,null,{"$f":"IF(D257=\"\",0,SUM(D$8:D257))","v":0},null,{"$f":"IF(F257=\"\",0,SUM(F$8:F257))","v":0}]
[null,null,null,null,{"$f":"IF(D258=\"\",0,SUM(D$8:D258))","v":0},null,{"$f":"IF(F258=\"\",0,SUM(F$8:F258))","v":0}]
[null,null,null,null,{"$f":"IF(D259=\"\",0,SUM(D$8:D259))","v":0},null,{"$f":"IF(F259=\"\",0,SUM(F$8:F259))","v":0}]
[null,null,null,null,{"$f":"IF(D260=\"\",0,SUM(D$8:D260))","v":0},null,{"$f":"IF(F260=\"\",0,SUM(F$8:F260))","v":0}]
[null,null,null,null,{"$f":"IF(D261=\"\",0,SUM(D$8:D261))","v":0},null,{"$f":"IF(F261=\"\",0,SUM(F$8:F261))","v":0}]
[null,null,null,null,{"$f":"IF(D262=\"\",0,SUM(D$8:D262))","v":0},null,{"$f":"IF(F262=\"\",0,SUM(F$8:F262))","v":0}]
[null,null,null,null,{"$f":"IF(D263=\"\",0,SUM(D$8:D263))","v":0},null,{"$f":"IF(F263=\"\",0,SUM(F$8:F263))","v":0}]
[null,null,null,null,{"$f":"IF(D264=\"\",0,SUM(D$8:D264))","v":0},null,{"$f":"IF(F264=\"\",0,SUM(F$8:F264))","v":0}]
[null,null,null,null,{"$f":"IF(D265=\"\",0,SUM(D$8:D265))","v":0},null,{"$f":"IF(F265=\"\",0,SUM(F$8:F265))","v":0}]
[null,null,null,null,{"$f":"IF(D266=\"\",0,SUM(D$8:D266))","v":0},null,{"$f":"IF(F266=\"\",0,SUM(F$8:F266))","v":0}]
[null,null,null,null,{"$f":"IF(D267=\"\",0,SUM(D$8:D267))","v":0},null,{"$f":"IF(F267=\"\",0,SUM(F$8:F267))","v":0}]
[null,null,null,null,{"$f":"IF(D268=\"\",0,SUM(D$8:D268))","v":0},null,{"$f":"IF(F268=\"\",0,SUM(F$8:F268))","v":0}]
[null,null,null,null,{"$f":"IF(D269=\"\",0,SUM(D$8:D269))","v":0},null,{"$f":"IF(F269=\"\",0,SUM(F$8:F269))","v":0}]
[null,null,null,null,{"$f":"IF(D270=\"\",0,SUM(D$8:D270))","v":0},null,{"$f":"IF(F270=\"\",0,SUM(F$8:F270))","v":0}]
[null,null,null,null,{"$f":"IF(D271=\"\",0,SUM(D$8:D271))","v":0},null,{"$f":"IF(F271=\"\",0,SUM(F$8:F271))","v":0}]
[null,null,null,null,{"$f":"IF(D272=\"\",0,SUM(D$8:D272))","v":0},null,{"$f":"IF(F272=\"\",0,SUM(F$8:F272))","v":0}]
[null,null,null,null,{"$f":"IF(D273=\"\",0,SUM(D$8:D273))","v":0},null,{"$f":"IF(F273=\"\",0,SUM(F$8:F273))","v":0}]
[null,null,null,null,{"$f":"IF(D274=\"\",0,SUM(D$8:D274))","v":0},null,{"$f":"IF(F274=\"\",0,SUM(F$8:F274))","v":0}]
[null,null,null,null,{"$f":"IF(D275=\"\",0,SUM(D$8:D275))","v":0},null,{"$f":"IF(F275=\"\",0,SUM(F$8:F275))","v":0}]
[null,null,null,null,{"$f":"IF(D276=\"\",0,SUM(D$8:D276))","v":0},null,{"$f":"IF(F276=\"\",0,SUM(F$8:F276))","v":0}]
[null,null,null,null,{"$f":"IF(D277=\"\",0,SUM(D$8:D277))","v":0},null,{"$f":"IF(F277=\"\",0,SUM(F$8:F277))","v":0}]
[null,null,null,null,{"$f":"IF(D278=\"\",0,SUM(D$8:D278))","v":0},null,{"$f":"IF(F278=\"\",0,SUM(F$8:F278))","v":0}]
[null,null,null,null,{"$f":"IF(D279=\"\",0,SUM(D$8:D279))","v":0},null,{"$f":"IF(F279=\"\",0,SUM(F$8:F279))","v":0}]
[null,null,null,null,{"$f":"IF(D280=\"\",0,SUM(D$8:D280))","v":0},null,{"$f":"IF(F280=\"\",0,SUM(F$8:F280))","v":0}]
[null,null,null,null,{"$f":"IF(D281=\"\",0,SUM(D$8:D281))","v":0},null,{"$f":"IF(F281=\"\",0,SUM(F$8:F281))","v":0}]
[null,null,null,null,{"$f":"IF(D282=\"\",0,SUM(D$8:D282))","v":0},null,{"$f":"IF(F282=\"\",0,SUM(F$8:F282))","v":0}]
[null,null,null,null,{"$f":"IF(D283=\"\",0,SUM(D$8:D283))","v":0},null,{"$f":"IF(F283=\"\",0,SUM(F$8:F283))","v":0}]
[null,null,null,null,{"$f":"IF(D284=\"\",0,SUM(D$8:D284))","v":0},null,{"$f":"IF(F284=\"\",0,SUM(F$8:F284))","v":0}]
[null,null,null,null,{"$f":"IF(D285=\"\",0,SUM(D$8:D285))","v":0},null,{"$f":"IF(F285=\"\",0,SUM(F$8:F285))","v":0}]
[null,null,null,null,{"$f":"IF(D286=\"\",0,SUM(D$8:D286))","v":0},null,{"$f":"IF(F286=\"\",0,SUM(F$8:F286))","v":0}]
[null,null,null,null,{"$f":"IF(D287=\"\",0,SUM(D$8:D287))","v":0},null,{"$f":"IF(F287=\"\",0,SUM(F$8:F287))","v":0}]
[null,null,null,null,{"$f":"IF(D288=\"\",0,SUM(D$8:D288))","v":0},null,{"$f":"IF(F288=\"\",0,SUM(F$8:F288))","v":0}]
[null,null,null,null,{"$f":"IF(D289=\"\",0,SUM(D$8:D289))","v":0},null,{"$f":"IF(F289=\"\",0,SUM(F$8:F289))","v":0}]
[null,null,null,null,{"$f":"IF(D290=\"\",0,SUM(D$8:D290))","v":0},null,{"$f":"IF(F290=\"\",0,SUM(F$8:F290))","v":0}]
[null,null,null,null,{"$f":"IF(D291=\"\",0,SUM(D$8:D291))","v":0},null,{"$f":"IF(F291=\"\",0,SUM(F$8:F291))","v":0}]
[null,null,null,null,{"$f":"IF(D292=\"\",0,SUM(D$8:D292))","v":0},null,{"$f":"IF(F292=\"\",0,SUM(F$8:F292))","v":0}]
[null,null,null,null,{"$f":"IF(D293=\"\",0,SUM(D$8:D293))","v":0},null,{"$f":"IF(F293=\"\",0,SUM(F$8:F293))","v":0}]
[null,null,null,null,{"$f":"IF(D294=\"\",0,SUM(D$8:D294))","v":0},null,{"$f":"IF(F294=\"\",0,SUM(F$8:F294))","v":0}]
[null,null,null,null,{"$f":"IF(D295=\"\",0,SUM(D$8:D295))","v":0},null,{"$f":"IF(F295=\"\",0,SUM(F$8:F295))","v":0}]
[null,null,null,null,{"$f":"IF(D296=\"\",0,SUM(D$8:D296))","v":0},null,{"$f":"IF(F296=\"\",0,SUM(F$8:F296))","v":0}]
[null,null,null,null,{"$f":"IF(D297=\"\",0,SUM(D$8:D297))","v":0},null,{"$f":"IF(F297=\"\",0,SUM(F$8:F297))","v":0}]
[null,null,null,null,{"$f":"IF(D298=\"\",0,SUM(D$8:D298))","v":0},null,{"$f":"IF(F298=\"\",0,SUM(F$8:F298))","v":0}]
[null,null,null,null,{"$f":"IF(D299=\"\",0,SUM(D$8:D299))","v":0},null,{"$f":"IF(F299=\"\",0,SUM(F$8:F299))","v":0}]
[null,null,null,null,{"$f":"IF(D300=\"\",0,SUM(D$8:D300))","v":0},null,{"$f":"IF(F300=\"\",0,SUM(F$8:F300))","v":0}]
[null,null,null,null,{"$f":"IF(D301=\"\",0,SUM(D$8:D301))","v":0},null,{"$f":"IF(F301=\"\",0,SUM(F$8:F301))","v":0}]
[null,null,null,null,{"$f":"IF(D302=\"\",0,SUM(D$8:D302))","v":0},null,{"$f":"IF(F302=\"\",0,SUM(F$8:F302))","v":0}]
[null,null,null,null,{"$f":"IF(D303=\"\",0,SUM(D$8:D303))","v":0},null,{"$f":"IF(F303=\"\",0,SUM(F$8:F303))","v":0}]
[null,null,null,null,{"$f":"IF(D304=\"\",0,SUM(D$8:D304))","v":0},null,{"$f":"IF(F304=\"\",0,SUM(F$8:F304))","v":0}]
[null,null,null,null,{"$f":"IF(D305=\"\",0,SUM(D$8:D305))","v":0},null,{"$f":"IF(F305=\"\",0,SUM(F$8:F305))","v":0}]
[null,null,null,null,{"$f":"IF(D306=\"\",0,SUM(D$8:D306))","v":0},null,{"$f":"IF(F306=\"\",0,SUM(F$8:F306))","v":0}]
[null,null,null,null,{"$f":"IF(D307=\"\",0,SUM(D$8:D307))","v":0},null,{"$f":"IF(F307=\"\",0,SUM(F$8:F307))","v":0}]
[null,null,null,null,{"$f":"IF(D308=\"\",0,SUM(D$8:D308))","v":0},null,{"$f":"IF(F308=\"\",0,SUM(F$8:F308))","v":0}]
[null,null,null,null,{"$f":"IF(D309=\"\",0,SUM(D$8:D309))","v":0},null,{"$f":"IF(F309=\"\",0,SUM(F$8:F309))","v":0}]
[null,null,null,null,{"$f":"IF(D310=\"\",0,SUM(D$8:D310))","v":0},null,{"$f":"IF(F310=\"\",0,SUM(F$8:F310))","v":0}]
[null,null,null,null,{"$f":"IF(D311=\"\",0,SUM(D$8:D311))","v":0},null,{"$f":"IF(F311=\"\",0,SUM(F$8:F311))","v":0}]
[null,null,null,null,{"$f":"IF(D312=\"\",0,SUM(D$8:D312))","v":0},null,{"$f":"IF(F312=\"\",0,SUM(F$8:F312))","v":0}]
[null,null,null,null,{"$f":"IF(D313=\"\",0,SUM(D$8:D313))","v":0},null,{"$f":"IF(F313=\"\",0,SUM(F$8:F313))","v":0}]
[null,null,null,null,{"$f":"IF(D314=\"\",0,SUM(D$8:D314))","v":0},null,{"$f":"IF(F314=\"\",0,SUM(F$8:F314))","v":0}]
[null,null,null,null,{"$f":"IF(D315=\"\",0,SUM(D$8:D315))","v":0},null,{"$f":"IF(F315=\"\",0,SUM(F$8:F315))","v":0}]
[null,null,null,null,{"$f":"IF(D316=\"\",0,SUM(D$8:D316))","v":0},null,{"$f":"IF(F316=\"\",0,SUM(F$8:F316))","v":0}]
[null,null,null,null,{"$f":"IF(D317=\"\",0,SUM(D$8:D317))","v":0},null,{"$f":"IF(F317=\"\",0,SUM(F$8:F317))","v":0}]
[null,null,null,null,{"$f":"IF(D318=\"\",0,SUM(D$8:D318))","v":0},null,{"$f":"IF(F318=\"\",0,SUM(F$8:F318))","v":0}]
[null,null,null,null,{"$f":"IF(D319=\"\",0,SUM(D$8:D319))","v":0},null,{"$f":"IF(F319=\"\",0,SUM(F$8:F319))","v":0}]
[null,null,null,null,{"$f":"IF(D320=\"\",0,SUM(D$8:D320))","v":0},null,{"$f":"IF(F320=\"\",0,SUM(F$8:F320))","v":0}]
[null,null,null,null,{"$f":"IF(D321=\"\",0,SUM(D$8:D321))","v":0},null,{"$f":"IF(F321=\"\",0,SUM(F$8:F321))","v":0}]
[null,null,null,null,{"$f":"IF(D322=\"\",0,SUM(D$8:D322))","v":0},null,{"$f":"IF(F322=\"\",0,SUM(F$8:F322))","v":0}]
[null,null,null,null,{"$f":"IF(D323=\"\",0,SUM(D$8:D323))","v":0},null,{"$f":"IF(F323=\"\",0,SUM(F$8:F323))","v":0}]
[null,null,null,null,{"$f":"IF(D324=\"\",0,SUM(D$8:D324))","v":0},null,{"$f":"IF(F324=\"\",0,SUM(F$8:F324))","v":0}]
[null,null,null,null,{"$f":"IF(D325=\"\",0,SUM(D$8:D325))","v":0},null,{"$f":"IF(F325=\"\",0,SUM(F$8:F325))","v":0}]
[null,null,null,null,{"$f":"IF(D326=\"\",0,SUM(D$8:D326))","v":0},null,{"$f":"IF(F326=\"\",0,SUM(F$8:F326))","v":0}]
[null,null,null,null,{"$f":"IF(D327=\"\",0,SUM(D$8:D327))","v":0},null,{"$f":"IF(F327=\"\",0,SUM(F$8:F327))","v":0}]
[null,null,null,null,{"$f":"IF(D328=\"\",0,SUM(D$8:D328))","v":0},null,{"$f":"IF(F328=\"\",0,SUM(F$8:F328))","v":0}]
[null,null,null,null,{"$f":"IF(D329=\"\",0,SUM(D$8:D329))","v":0},null,{"$f":"IF(F329=\"\",0,SUM(F$8:F329))","v":0}]
[null,null,null,null,{"$f":"IF(D330=\"\",0,SUM(D$8:D330))","v":0},null,{"$f":"IF(F330=\"\",0,SUM(F$8:F330))","v":0}]
[null,null,null,null,{"$f":"IF(D331=\"\",0,SUM(D$8:D331))","v":0},null,{"$f":"IF(F331=\"\",0,SUM(F$8:F331))","v":0}]
[null,null,null,null,{"$f":"IF(D332=\"\",0,SUM(D$8:D332))","v":0},null,{"$f":"IF(F332=\"\",0,SUM(F$8:F332))","v":0}]
[null,null,null,null,{"$f":"IF(D333=\"\",0,SUM(D$8:D333))","v":0},null,{"$f":"IF(F333=\"\",0,SUM(F$8:F333))","v":0}]
[null,null,null,null,{"$f":"IF(D334=\"\",0,SUM(D$8:D334))","v":0},null,{"$f":"IF(F334=\"\",0,SUM(F$8:F334))","v":0}]
[null,null,null,null,{"$f":"IF(D335=\"\",0,SUM(D$8:D335))","v":0},null,{"$f":"IF(F335=\"\",0,SUM(F$8:F335))","v":0}]
[null,null,null,null,{"$f":"IF(D336=\"\",0,SUM(D$8:D336))","v":0},null,{"$f":"IF(F336=\"\",0,SUM(F$8:F336))","v":0}]
[null,null,null,null,{"$f":"IF(D337=\"\",0,SUM(D$8:D337))","v":0},null,{"$f":"IF(F337=\"\",0,SUM(F$8:F337))","v":0}]
[null,null,null,null,{"$f":"IF(D338=\"\",0,SUM(D$8:D338))","v":0},null,{"$f":"IF(F338=\"\",0,SUM(F$8:F338))","v":0}]
[null,null,null,null,{"$f":"IF(D339=\"\",0,SUM(D$8:D339))","v":0},null,{"$f":"IF(F339=\"\",0,SUM(F$8:F339))","v":0}]
[null,null,null,null,{"$f":"IF(D340=\"\",0,SUM(D$8:D340))","v":0},null,{"$f":"IF(F340=\"\",0,SUM(F$8:F340))","v":0}]
[null,null,null,null,{"$f":"IF(D341=\"\",0,SUM(D$8:D341))","v":0},null,{"$f":"IF(F341=\"\",0,SUM(F$8:F341))","v":0}]
[null,null,null,null,{"$f":"IF(D342=\"\",0,SUM(D$8:D342))","v":0},null,{"$f":"IF(F342=\"\",0,SUM(F$8:F342))","v":0}]
[null,null,null,null,{"$f":"IF(D343=\"\",0,SUM(D$8:D343))","v":0},null,{"$f":"IF(F343=\"\",0,SUM(F$8:F343))","v":0}]
[null,null,null,null,{"$f":"IF(D344=\"\",0,SUM(D$8:D344))","v":0},null,{"$f":"IF(F344=\"\",0,SUM(F$8:F344))","v":0}]
[null,null,null,null,{"$f":"IF(D345=\"\",0,SUM(D$8:D345))","v":0},null,{"$f":"IF(F345=\"\",0,SUM(F$8:F345))","v":0}]
[null,null,null,null,{"$f":"IF(D346=\"\",0,SUM(D$8:D346))","v":0},null,{"$f":"IF(F346=\"\",0,SUM(F$8:F346))","v":0}]
[null,null,null,null,{"$f":"IF(D347=\"\",0,SUM(D$8:D347))","v":0},null,{"$f":"IF(F347=\"\",0,SUM(F$8:F347))","v":0}]
[null,null,null,null,{"$f":"IF(D348=\"\",0,SUM(D$8:D348))","v":0},null,{"$f":"IF(F348=\"\",0,SUM(F$8:F348))","v":0}]
[null,null,null,null,{"$f":"IF(D349=\"\",0,SUM(D$8:D349))","v":0},null,{"$f":"IF(F349=\"\",0,SUM(F$8:F349))","v":0}]
[null,null,null,null,{"$f":"IF(D350=\"\",0,SUM(D$8:D350))","v":0},null,{"$f":"IF(F350=\"\",0,SUM(F$8:F350))","v":0}]
[null,null,null,null,{"$f":"IF(D351=\"\",0,SUM(D$8:D351))","v":0},null,{"$f":"IF(F351=\"\",0,SUM(F$8:F351))","v":0}]
[null,null,null,null,{"$f":"IF(D352=\"\",0,SUM(D$8:D352))","v":0},null,{"$f":"IF(F352=\"\",0,SUM(F$8:F352))","v":0}]
[null,null,null,null,{"$f":"IF(D353=\"\",0,SUM(D$8:D353))","v":0},null,{"$f":"IF(F353=\"\",0,SUM(F$8:F353))","v":0}]
[null,null,null,null,{"$f":"IF(D354=\"\",0,SUM(D$8:D354))","v":0},null,{"$f":"IF(F354=\"\",0,SUM(F$8:F354))","v":0}]
[null,null,null,null,{"$f":"IF(D355=\"\",0,SUM(D$8:D355))","v":0},null,{"$f":"IF(F355=\"\",0,SUM(F$8:F355))","v":0}]
[null,null,null,null,{"$f":"IF(D356=\"\",0,SUM(D$8:D356))","v":0},null,{"$f":"IF(F356=\"\",0,SUM(F$8:F356))","v":0}]
[null,null,null,null,{"$f":"IF(D357=\"\",0,SUM(D$8:D357))","v":0},null,{"$f":"IF(F357=\"\",0,SUM(F$8:F357))","v":0}]
[null,null,null,null,{"$f":"IF(D358=\"\",0,SUM(D$8:D358))","v":0},null,{"$f":"IF(F358=\"\",0,SUM(F$8:F358))","v":0}]
[null,null,null,null,{"$f":"IF(D359=\"\",0,SUM(D$8:D359))","v":0},null,{"$f":"IF(F359=\"\",0,SUM(F$8:F359))","v":0}]
[null,null,null,null,{"$f":"IF(D360=\"\",0,SUM(D$8:D360))","v":0},null,{"$f":"IF(F360=\"\",0,SUM(F$8:F360))","v":0}]
[null,null,null,null,{"$f":"IF(D361=\"\",0,SUM(D$8:D361))","v":0},null,{"$f":"IF(F361=\"\",0,SUM(F$8:F361))","v":0}]
[null,null,null,null,{"$f":"IF(D362=\"\",0,SUM(D$8:D362))","v":0},null,{"$f":"IF(F362=\"\",0,SUM(F$8:F362))","v":0}]
[null,null,null,null,{"$f":"IF(D363=\"\",0,SUM(D$8:D363))","v":0},null,{"$f":"IF(F363=\"\",0,SUM(F$8:F363))","v":0}]
[null,null,null,null,{"$f":"IF(D364=\"\",0,SUM(D$8:D364))","v":0},null,{"$f":"IF(F364=\"\",0,SUM(F$8:F364))","v":0}]
[null,null,null,null,{"$f":"IF(D365=\"\",0,SUM(D$8:D365))","v":0},null,{"$f":"IF(F365=\"\",0,SUM(F$8:F365))","v":0}]
[null,null,null,null,{"$f":"IF(D366=\"\",0,SUM(D$8:D366))","v":0},null,{"$f":"IF(F366=\"\",0,SUM(F$8:F366))","v":0}]
[null,null,null,null,{"$f":"IF(D367=\"\",0,SUM(D$8:D367))","v":0},null,{"$f":"IF(F367=\"\",0,SUM(F$8:F367))","v":0}]
[null,null,null,null,{"$f":"IF(D368=\"\",0,SUM(D$8:D368))","v":0},null,{"$f":"IF(F368=\"\",0,SUM(F$8:F368))","v":0}]
[null,null,null,null,{"$f":"IF(D369=\"\",0,SUM(D$8:D369))","v":0},null,{"$f":"IF(F369=\"\",0,SUM(F$8:F369))","v":0}]
[null,null,null,null,{"$f":"IF(D370=\"\",0,SUM(D$8:D370))","v":0},null,{"$f":"IF(F370=\"\",0,SUM(F$8:F370))","v":0}]
[null,null,null,null,{"$f":"IF(D371=\"\",0,SUM(D$8:D371))","v":0},null,{"$f":"IF(F371=\"\",0,SUM(F$8:F371))","v":0}]
[null,null,null,null,{"$f":"IF(D372=\"\",0,SUM(D$8:D372))","v":0},null,{"$f":"IF(F372=\"\",0,SUM(F$8:F372))","v":0}]
[null,null,null,null,{"$f":"IF(D373=\"\",0,SUM(D$8:D373))","v":0},null,{"$f":"IF(F373=\"\",0,SUM(F$8:F373))","v":0}]
[null,null,null,null,{"$f":"IF(D374=\"\",0,SUM(D$8:D374))","v":0},null,{"$f":"IF(F374=\"\",0,SUM(F$8:F374))","v":0}]
[null,null,null,null,{"$f":"IF(D375=\"\",0,SUM(D$8:D375))","v":0},null,{"$f":"IF(F375=\"\",0,SUM(F$8:F375))","v":0}]
[null,null,null,null,{"$f":"IF(D376=\"\",0,SUM(D$8:D376))","v":0},null,{"$f":"IF(F376=\"\",0,SUM(F$8:F376))","v":0}]
[null,null,null,null,{"$f":"IF(D377=\"\",0,SUM(D$8:D377))","v":0},null,{"$f":"IF(F377=\"\",0,SUM(F$8:F377))","v":0}]
[null,null,null,null,{"$f":"IF(D378=\"\",0,SUM(D$8:D378))","v":0},null,{"$f":"IF(F378=\"\",0,SUM(F$8:F378))","v":0}]
[null,null,null,null,{"$f":"IF(D379=\"\",0,SUM(D$8:D379))","v":0},null,{"$f":"IF(F379=\"\",0,SUM(F$8:F379))","v":0}]
[null,null,null,null,{"$f":"IF(D380=\"\",0,SUM(D$8:D380))","v":0},null,{"$f":"IF(F380=\"\",0,SUM(F$8:F380))","v":0}]
[null,null,null,null,{"$f":"IF(D381=\"\",0,SUM(D$8:D381))","v":0},null,{"$f":"IF(F381=\"\",0,SUM(F$8:F381))","v":0}]
[null,null,null,null,{"$f":"IF(D382=\"\",0,SUM(D$8:D382))","v":0},null,{"$f":"IF(F382=\"\",0,SUM(F$8:F382))","v":0}]
[null,null,null,null,{"$f":"IF(D383=\"\",0,SUM(D$8:D383))","v":0},null,{"$f":"IF(F383=\"\",0,SUM(F$8:F383))","v":0}]
[null,null,null,null,{"$f":"IF(D384=\"\",0,SUM(D$8:D384))","v":0},null,{"$f":"IF(F384=\"\",0,SUM(F$8:F384))","v":0}]
[null,null,null,null,{"$f":"IF(D385=\"\",0,SUM(D$8:D385))","v":0},null,{"$f":"IF(F385=\"\",0,SUM(F$8:F385))","v":0}]
[null,null,null,null,{"$f":"IF(D386=\"\",0,SUM(D$8:D386))","v":0},null,{"$f":"IF(F386=\"\",0,SUM(F$8:F386))","v":0}]
[null,null,null,null,{"$f":"IF(D387=\"\",0,SUM(D$8:D387))","v":0},null,{"$f":"IF(F387=\"\",0,SUM(F$8:F387))","v":0}]
[null,null,null,null,{"$f":"IF(D388=\"\",0,SUM(D$8:D388))","v":0},null,{"$f":"IF(F388=\"\",0,SUM(F$8:F388))","v":0}]
[null,null,null,null,{"$f":"IF(D389=\"\",0,SUM(D$8:D389))","v":0},null,{"$f":"IF(F389=\"\",0,SUM(F$8:F389))","v":0}]
[null,null,null,null,{"$f":"IF(D390=\"\",0,SUM(D$8:D390))","v":0},null,{"$f":"IF(F390=\"\",0,SUM(F$8:F390))","v":0}]
[null,null,null,null,{"$f":"IF(D391=\"\",0,SUM(D$8:D391))","v":0},null,{"$f":"IF(F391=\"\",0,SUM(F$8:F391))","v":0}]
[null,null,null,null,{"$f":"IF(D392=\"\",0,SUM(D$8:D392))","v":0},null,{"$f":"IF(F392=\"\",0,SUM(F$8:F392))","v":0}]
[null,null,null,null,{"$f":"IF(D393=\"\",0,SUM(D$8:D393))","v":0},null,{"$f":"IF(F393=\"\",0,SUM(F$8:F393))","v":0}]
[null,null,null,null,{"$f":"IF(D394=\"\",0,SUM(D$8:D394))","v":0},null,{"$f":"IF(F394=\"\",0,SUM(F$8:F394))","v":0}]
[null,null,null,null,{"$f":"IF(D395=\"\",0,SUM(D$8:D395))","v":0},null,{"$f":"IF(F395=\"\",0,SUM(F$8:F395))","v":0}]
[null,null,null,null,{"$f":"IF(D396=\"\",0,SUM(D$8:D396))","v":0},null,{"$f":"IF(F396=\"\",0,SUM(F$8:F396))","v":0}]
[null,null,null,null,{"$f":"IF(D397=\"\",0,SUM(D$8:D397))","v":0},null,{"$f":"IF(F397=\"\",0,SUM(F$8:F397))","v":0}]
[null,null,null,null,{"$f":"IF(D398=\"\",0,SUM(D$8:D398))","v":0},null,{"$f":"IF(F398=\"\",0,SUM(F$8:F398))","v":0}]
[null,null,null,null,{"$f":"IF(D399=\"\",0,SUM(D$8:D399))","v":0},null,{"$f":"IF(F399=\"\",0,SUM(F$8:F399))","v":0}]
[null,null,null,null,{"$f":"IF(D400=\"\",0,SUM(D$8:D400))","v":0},null,{"$f":"IF(F400=\"\",0,SUM(F$8:F400))","v":0}]
[null,null,null,null,{"$f":"IF(D401=\"\",0,SUM(D$8:D401))","v":0},null,{"$f":"IF(F401=\"\",0,SUM(F$8:F401))","v":0}]
[null,null,null,null,{"$f":"IF(D402=\"\",0,SUM(D$8:D402))","v":0},null,{"$f":"IF(F402=\"\",0,SUM(F$8:F402))","v":0}]
[null,null,null,null,{"$f":"IF(D403=\"\",0,SUM(D$8:D403))","v":0},null,{"$f":"IF(F403=\"\",0,SUM(F$8:F403))","v":0}]
[null,null,null,null,{"$f":"IF(D404=\"\",0,SUM(D$8:D404))","v":0},null,{"$f":"IF(F404=\"\",0,SUM(F$8:F404))","v":0}]
[null,null,null,null,{"$f":"IF(D405=\"\",0,SUM(D$8:D405))","v":0},null,{"$f":"IF(F405=\"\",0,SUM(F$8:F405))","v":0}]
[null,null,null,null,{"$f":"IF(D406=\"\",0,SUM(D$8:D406))","v":0},null,{"$f":"IF(F406=\"\",0,SUM(F$8:F406))","v":0}]
[null,null,null,null,{"$f":"IF(D407=\"\",0,SUM(D$8:D407))","v":0},null,{"$f":"IF(F407=\"\",0,SUM(F$8:F407))","v":0}]
[null,null,null,null,{"$f":"IF(D408=\"\",0,SUM(D$8:D408))","v":0},null,{"$f":"IF(F408=\"\",0,SUM(F$8:F408))","v":0}]
[null,null,null,null,{"$f":"IF(D409=\"\",0,SUM(D$8:D409))","v":0},null,{"$f":"IF(F409=\"\",0,SUM(F$8:F409))","v":0}]
[null,null,null,null,{"$f":"IF(D410=\"\",0,SUM(D$8:D410))","v":0},null,{"$f":"IF(F410=\"\",0,SUM(F$8:F410))","v":0}]
[null,null,null,null,{"$f":"IF(D411=\"\",0,SUM(D$8:D411))","v":0},null,{"$f":"IF(F411=\"\",0,SUM(F$8:F411))","v":0}]
[null,null,null,null,{"$f":"IF(D412=\"\",0,SUM(D$8:D412))","v":0},null,{"$f":"IF(F412=\"\",0,SUM(F$8:F412))","v":0}]
[null,null,null,null,{"$f":"IF(D413=\"\",0,SUM(D$8:D413))","v":0},null,{"$f":"IF(F413=\"\",0,SUM(F$8:F413))","v":0}]
[null,null,null,null,{"$f":"IF(D414=\"\",0,SUM(D$8:D414))","v":0},null,{"$f":"IF(F414=\"\",0,SUM(F$8:F414))","v":0}]
[null,null,null,null,{"$f":"IF(D415=\"\",0,SUM(D$8:D415))","v":0},null,{"$f":"IF(F415=\"\",0,SUM(F$8:F415))","v":0}]
[null,null,null,null,{"$f":"IF(D416=\"\",0,SUM(D$8:D416))","v":0},null,{"$f":"IF(F416=\"\",0,SUM(F$8:F416))","v":0}]
[null,null,null,null,{"$f":"IF(D417=\"\",0,SUM(D$8:D417))","v":0},null,{"$f":"IF(F417=\"\",0,SUM(F$8:F417))","v":0}]
[null,null,null,null,{"$f":"IF(D418=\"\",0,SUM(D$8:D418))","v":0},null,{"$f":"IF(F418=\"\",0,SUM(F$8:F418))","v":0}]
[null,null,null,null,{"$f":"IF(D419=\"\",0,SUM(D$8:D419))","v":0},null,{"$f":"IF(F419=\"\",0,SUM(F$8:F419))","v":0}]
[null,null,null,null,{"$f":"IF(D420=\"\",0,SUM(D$8:D420))","v":0},null,{"$f":"IF(F420=\"\",0,SUM(F$8:F420))","v":0}]
[null,null,null,null,{"$f":"IF(D421=\"\",0,SUM(D$8:D421))","v":0},null,{"$f":"IF(F421=\"\",0,SUM(F$8:F421))","v":0}]
[null,null,null,null,{"$f":"IF(D422=\"\",0,SUM(D$8:D422))","v":0},null,{"$f":"IF(F422=\"\",0,SUM(F$8:F422))","v":0}]
[null,null,null,null,{"$f":"IF(D423=\"\",0,SUM(D$8:D423))","v":0},null,{"$f":"IF(F423=\"\",0,SUM(F$8:F423))","v":0}]
[null,null,null,null,{"$f":"IF(D424=\"\",0,SUM(D$8:D424))","v":0},null,{"$f":"IF(F424=\"\",0,SUM(F$8:F424))","v":0}]
[null,null,null,null,{"$f":"IF(D425=\"\",0,SUM(D$8:D425))","v":0},null,{"$f":"IF(F425=\"\",0,SUM(F$8:F425))","v":0}]
[null,null,null,null,{"$f":"IF(D426=\"\",0,SUM(D$8:D426))","v":0},null,{"$f":"IF(F426=\"\",0,SUM(F$8:F426))","v":0}]
[null,null,null,null,{"$f":"IF(D427=\"\",0,SUM(D$8:D427))","v":0},null,{"$f":"IF(F427=\"\",0,SUM(F$8:F427))","v":0}]
[null,null,null,null,{"$f":"IF(D428=\"\",0,SUM(D$8:D428))","v":0},null,{"$f":"IF(F428=\"\",0,SUM(F$8:F428))","v":0}]
[null,null,null,null,{"$f":"IF(D429=\"\",0,SUM(D$8:D429))","v":0},null,{"$f":"IF(F429=\"\",0,SUM(F$8:F429))","v":0}]
[null,null,null,null,{"$f":"IF(D430=\"\",0,SUM(D$8:D430))","v":0},null,{"$f":"IF(F430=\"\",0,SUM(F$8:F430))","v":0}]
[null,null,null,null,{"$f":"IF(D431=\"\",0,SUM(D$8:D431))","v":0},null,{"$f":"IF(F431=\"\",0,SUM(F$8:F431))","v":0}]
[null,null,null,null,{"$f":"IF(D432=\"\",0,SUM(D$8:D432))","v":0},null,{"$f":"IF(F432=\"\",0,SUM(F$8:F432))","v":0}]
[null,null,null,null,{"$f":"IF(D433=\"\",0,SUM(D$8:D433))","v":0},null,{"$f":"IF(F433=\"\",0,SUM(F$8:F433))","v":0}]
[null,null,null,null,{"$f":"IF(D434=\"\",0,SUM(D$8:D434))","v":0},null,{"$f":"IF(F434=\"\",0,SUM(F$8:F434))","v":0}]
[null,null,null,null,{"$f":"IF(D435=\"\",0,SUM(D$8:D435))","v":0},null,{"$f":"IF(F435=\"\",0,SUM(F$8:F435))","v":0}]
[null,null,null,null,{"$f":"IF(D436=\"\",0,SUM(D$8:D436))","v":0},null,{"$f":"IF(F436=\"\",0,SUM(F$8:F436))","v":0}]
[null,null,null,null,{"$f":"IF(D437=\"\",0,SUM(D$8:D437))","v":0},null,{"$f":"IF(F437=\"\",0,SUM(F$8:F437))","v":0}]
[null,null,null,null,{"$f":"IF(D438=\"\",0,SUM(D$8:D438))","v":0},null,{"$f":"IF(F438=\"\",0,SUM(F$8:F438))","v":0}]
[null,null,null,null,{"$f":"IF(D439=\"\",0,SUM(D$8:D439))","v":0},null,{"$f":"IF(F439=\"\",0,SUM(F$8:F439))","v":0}]
[null,null,null,null,{"$f":"IF(D440=\"\",0,SUM(D$8:D440))","v":0},null,{"$f":"IF(F440=\"\",0,SUM(F$8:F440))","v":0}]
[null,null,null,null,{"$f":"IF(D441=\"\",0,SUM(D$8:D441))","v":0},null,{"$f":"IF(F441=\"\",0,SUM(F$8:F441))","v":0}]
[null,null,null,null,{"$f":"IF(D442=\"\",0,SUM(D$8:D442))","v":0},null,{"$f":"IF(F442=\"\",0,SUM(F$8:F442))","v":0}]
[null,null,null,null,{"$f":"IF(D443=\"\",0,SUM(D$8:D443))","v":0},null,{"$f":"IF(F443=\"\",0,SUM(F$8:F443))","v":0}]
[null,null,null,null,{"$f":"IF(D444=\"\",0,SUM(D$8:D444))","v":0},null,{"$f":"IF(F444=\"\",0,SUM(F$8:F444))","v":0}]
[null,null,null,null,{"$f":"IF(D445=\"\",0,SUM(D$8:D445))","v":0},null,{"$f":"IF(F445=\"\",0,SUM(F$8:F445))","v":0}]
[null,null,null,null,{"$f":"IF(D446=\"\",0,SUM(D$8:D446))","v":0},null,{"$f":"IF(F446=\"\",0,SUM(F$8:F446))","v":0}]
[null,null,null,null,{"$f":"IF(D447=\"\",0,SUM(D$8:D447))","v":0},null,{"$f":"IF(F447=\"\",0,SUM(F$8:F447))","v":0}]
[null,null,null,null,{"$f":"IF(D448=\"\",0,SUM(D$8:D448))","v":0},null,{"$f":"IF(F448=\"\",0,SUM(F$8:F448))","v":0}]
[null,null,null,null,{"$f":"IF(D449=\"\",0,SUM(D$8:D449))","v":0},null,{"$f":"IF(F449=\"\",0,SUM(F$8:F449))","v":0}]
[null,null,null,null,{"$f":"IF(D450=\"\",0,SUM(D$8:D450))","v":0},null,{"$f":"IF(F450=\"\",0,SUM(F$8:F450))","v":0}]
[null,null,null,null,{"$f":"IF(D451=\"\",0,SUM(D$8:D451))","v":0},null,{"$f":"IF(F451=\"\",0,SUM(F$8:F451))","v":0}]
[null,null,null,null,{"$f":"IF(D452=\"\",0,SUM(D$8:D452))","v":0},null,{"$f":"IF(F452=\"\",0,SUM(F$8:F452))","v":0}]
[null,null,null,null,{"$f":"IF(D453=\"\",0,SUM(D$8:D453))","v":0},null,{"$f":"IF(F453=\"\",0,SUM(F$8:F453))","v":0}]
[null,null,null,null,{"$f":"IF(D454=\"\",0,SUM(D$8:D454))","v":0},null,{"$f":"IF(F454=\"\",0,SUM(F$8:F454))","v":0}]
[null,null,null,null,{"$f":"IF(D455=\"\",0,SUM(D$8:D455))","v":0},null,{"$f":"IF(F455=\"\",0,SUM(F$8:F455))","v":0}]
[null,null,null,null,{"$f":"IF(D456=\"\",0,SUM(D$8:D456))","v":0},null,{"$f":"IF(F456=\"\",0,SUM(F$8:F456))","v":0}]
[null,null,null,null,{"$f":"IF(D457=\"\",0,SUM(D$8:D457))","v":0},null,{"$f":"IF(F457=\"\",0,SUM(F$8:F457))","v":0}]
[null,null,null,null,{"$f":"IF(D458=\"\",0,SUM(D$8:D458))","v":0},null,{"$f":"IF(F458=\"\",0,SUM(F$8:F458))","v":0}]
[null,null,null,null,{"$f":"IF(D459=\"\",0,SUM(D$8:D459))","v":0},null,{"$f":"IF(F459=\"\",0,SUM(F$8:F459))","v":0}]
[null,null,null,null,{"$f":"IF(D460=\"\",0,SUM(D$8:D460))","v":0},null,{"$f":"IF(F460=\"\",0,SUM(F$8:F460))","v":0}]
[null,null,null,null,{"$f":"IF(D461=\"\",0,SUM(D$8:D461))","v":0},null,{"$f":"IF(F461=\"\",0,SUM(F$8:F461))","v":0}]
[null,null,null,null,{"$f":"IF(D462=\"\",0,SUM(D$8:D462))","v":0},null,{"$f":"IF(F462=\"\",0,SUM(F$8:F462))","v":0}]
[null,null,null,null,{"$f":"IF(D463=\"\",0,SUM(D$8:D463))","v":0},null,{"$f":"IF(F463=\"\",0,SUM(F$8:F463))","v":0}]
[null,null,null,null,{"$f":"IF(D464=\"\",0,SUM(D$8:D464))","v":0},null,{"$f":"IF(F464=\"\",0,SUM(F$8:F464))","v":0}]
[null,null,null,null,{"$f":"IF(D465=\"\",0,SUM(D$8:D465))","v":0},null,{"$f":"IF(F465=\"\",0,SUM(F$8:F465))","v":0}]
[null,null,null,null,{"$f":"IF(D466=\"\",0,SUM(D$8:D466))","v":0},null,{"$f":"IF(F466=\"\",0,SUM(F$8:F466))","v":0}]
[null,null,null,null,{"$f":"IF(D467=\"\",0,SUM(D$8:D467))","v":0},null,{"$f":"IF(F467=\"\",0,SUM(F$8:F467))","v":0}]
[null,null,null,null,{"$f":"IF(D468=\"\",0,SUM(D$8:D468))","v":0},null,{"$f":"IF(F468=\"\",0,SUM(F$8:F468))","v":0}]
[null,null,null,null,{"$f":"IF(D469=\"\",0,SUM(D$8:D469))","v":0},null,{"$f":"IF(F469=\"\",0,SUM(F$8:F469))","v":0}]
[null,null,null,null,{"$f":"IF(D470=\"\",0,SUM(D$8:D470))","v":0},null,{"$f":"IF(F470=\"\",0,SUM(F$8:F470))","v":0}]
[null,null,null,null,{"$f":"IF(D471=\"\",0,SUM(D$8:D471))","v":0},null,{"$f":"IF(F471=\"\",0,SUM(F$8:F471))","v":0}]
[null,null,null,null,{"$f":"IF(D472=\"\",0,SUM(D$8:D472))","v":0},null,{"$f":"IF(F472=\"\",0,SUM(F$8:F472))","v":0}]
[null,null,null,null,{"$f":"IF(D473=\"\",0,SUM(D$8:D473))","v":0},null,{"$f":"IF(F473=\"\",0,SUM(F$8:F473))","v":0}]
[null,null,null,null,{"$f":"IF(D474=\"\",0,SUM(D$8:D474))","v":0},null,{"$f":"IF(F474=\"\",0,SUM(F$8:F474))","v":0}]
[null,null,null,null,{"$f":"IF(D475=\"\",0,SUM(D$8:D475))","v":0},null,{"$f":"IF(F475=\"\",0,SUM(F$8:F475))","v":0}]
[null,null,null,null,{"$f":"IF(D476=\"\",0,SUM(D$8:D476))","v":0},null,{"$f":"IF(F476=\"\",0,SUM(F$8:F476))","v":0}]
[null,null,null,null,{"$f":"IF(D477=\"\",0,SUM(D$8:D477))","v":0},null,{"$f":"IF(F477=\"\",0,SUM(F$8:F477))","v":0}]
[null,null,null,null,{"$f":"IF(D478=\"\",0,SUM(D$8:D478))","v":0},null,{"$f":"IF(F478=\"\",0,SUM(F$8:F478))","v":0}]
[null,null,null,null,{"$f":"IF(D479=\"\",0,SUM(D$8:D479))","v":0},null,{"$f":"IF(F479=\"\",0,SUM(F$8:F479))","v":0}]
[null,null,null,null,{"$f":"IF(D480=\"\",0,SUM(D$8:D480))","v":0},null,{"$f":"IF(F480=\"\",0,SUM(F$8:F480))","v":0}]
[null,null,null,null,{"$f":"IF(D481=\"\",0,SUM(D$8:D481))","v":0},null,{"$f":"IF(F481=\"\",0,SUM(F$8:F481))","v":0}]
[null,null,null,null,{"$f":"IF(D482=\"\",0,SUM(D$8:D482))","v":0},null,{"$f":"IF(F482=\"\",0,SUM(F$8:F482))","v":0}]
[null,null,null,null,{"$f":"IF(D483=\"\",0,SUM(D$8:D483))","v":0},null,{"$f":"IF(F483=\"\",0,SUM(F$8:F483))","v":0}]
[null,null,null,null,{"$f":"IF(D484=\"\",0,SUM(D$8:D484))","v":0},null,{"$f":"IF(F484=\"\",0,SUM(F$8:F484))","v":0}]
[null,null,null,null,{"$f":"IF(D485=\"\",0,SUM(D$8:D485))","v":0},null,{"$f":"IF(F485=\"\",0,SUM(F$8:F485))","v":0}]
[null,null,null,null,{"$f":"IF(D486=\"\",0,SUM(D$8:D486))","v":0},null,{"$f":"IF(F486=\"\",0,SUM(F$8:F486))","v":0}]

{"sheet":"Coarse Agg 2","index":13,"n_rows":486,"n_cols":8,"rows_kept":486,"cut":false,"hidden":false,"merged":[]}
["Coarse Aggregate  Certification  2",null,null,null,null,null,null,{"$f":"Info!B2","v":"E"}]
["Spec. Grav.: ",{"$f":"IF(AND(Info!B46=\"\", Info!C46=\"\"),\"\", IF(Info!B46<>\"\", Info!B46, Info!C46))","v":""},null,null,null,"Page No.: "]
["Source: ",{"$f":"IF(AND(Info!B45=\"\", Info!C45=\"\"),\"\", IF(Info!B45<>\"\", Info!B45, Info!C45))","v":""},null,null,null,"Grad. No.: ",{"$f":"IF(AND(Info!B47=\"\", Info!C47=\"\"),\"\", IF(Info!B47<>\"\", Info!B47, Info!C47))","v":""}]
["Project No.: ",{"$f":"IF(Info!B3=\"\",\"\",(Info!B3))","v":""},null,null,null,"Contract ID.: ",{"$f":"IF(Info!B4=\"\",\"\",(Info!B4))","v":""}]
[]
[null,"Ticket #",null,"Certified","To Date","Used","To Date"," "]
["Date","From","To",{"$f":"IF(Info!$B$2=\"M\",\"(Mg's)\",\"(Tons)\")","v":"(Tons)"},{"$f":"IF(Info!$B$2=\"M\",\"(Mg's)\",\"(Tons)\")","v":"(Tons)"},{"$f":"IF(Info!$B$2=\"M\",\"(Mg's)\",\"(Tons)\")","v":"(Tons)"},{"$f":"IF(Info!$B$2=\"M\",\"(Mg's)\",\"(Tons)\")","v":"(Tons)"},"By"]
[null,null,null,null,{"$f":"SUM(D8)","v":0},null,{"$f":"SUM(F8)","v":0}]
[null,null,null,null,{"$f":"IF(D9=\"\",0,SUM(D$8:D9))","v":0},null,{"$f":"IF(F9=\"\",0,SUM(F$8:F9))","v":0}]
[null,null,null,null,{"$f":"IF(D10=\"\",0,SUM(D$8:D10))","v":0},null,{"$f":"IF(F10=\"\",0,SUM(F$8:F10))","v":0}]
[null,null,null,null,{"$f":"IF(D11=\"\",0,SUM(D$8:D11))","v":0},null,{"$f":"IF(F11=\"\",0,SUM(F$8:F11))","v":0}]
[null,null,null,null,{"$f":"IF(D12=\"\",0,SUM(D$8:D12))","v":0},null,{"$f":"IF(F12=\"\",0,SUM(F$8:F12))","v":0}]
[null,null,null,null,{"$f":"IF(D13=\"\",0,SUM(D$8:D13))","v":0},null,{"$f":"IF(F13=\"\",0,SUM(F$8:F13))","v":0}]
[null,null,null,null,{"$f":"IF(D14=\"\",0,SUM(D$8:D14))","v":0},null,{"$f":"IF(F14=\"\",0,SUM(F$8:F14))","v":0}]
[null,null,null,null,{"$f":"IF(D15=\"\",0,SUM(D$8:D15))","v":0},null,{"$f":"IF(F15=\"\",0,SUM(F$8:F15))","v":0}]
[null,null,null,null,{"$f":"IF(D16=\"\",0,SUM(D$8:D16))","v":0},null,{"$f":"IF(F16=\"\",0,SUM(F$8:F16))","v":0}]
[null,null,null,null,{"$f":"IF(D17=\"\",0,SUM(D$8:D17))","v":0},null,{"$f":"IF(F17=\"\",0,SUM(F$8:F17))","v":0}]
[null,null,null,null,{"$f":"IF(D18=\"\",0,SUM(D$8:D18))","v":0},null,{"$f":"IF(F18=\"\",0,SUM(F$8:F18))","v":0}]
[null,null,null,null,{"$f":"IF(D19=\"\",0,SUM(D$8:D19))","v":0},null,{"$f":"IF(F19=\"\",0,SUM(F$8:F19))","v":0}]
[null,null,null,null,{"$f":"IF(D20=\"\",0,SUM(D$8:D20))","v":0},null,{"$f":"IF(F20=\"\",0,SUM(F$8:F20))","v":0}]
[null,null,null,null,{"$f":"IF(D21=\"\",0,SUM(D$8:D21))","v":0},null,{"$f":"IF(F21=\"\",0,SUM(F$8:F21))","v":0}]
[null,null,null,null,{"$f":"IF(D22=\"\",0,SUM(D$8:D22))","v":0},null,{"$f":"IF(F22=\"\",0,SUM(F$8:F22))","v":0}]
[null,null,null,null,{"$f":"IF(D23=\"\",0,SUM(D$8:D23))","v":0},null,{"$f":"IF(F23=\"\",0,SUM(F$8:F23))","v":0}]
[null,null,null,null,{"$f":"IF(D24=\"\",0,SUM(D$8:D24))","v":0},null,{"$f":"IF(F24=\"\",0,SUM(F$8:F24))","v":0}]
[null,null,null,null,{"$f":"IF(D25=\"\",0,SUM(D$8:D25))","v":0},null,{"$f":"IF(F25=\"\",0,SUM(F$8:F25))","v":0}]
[null,null,null,null,{"$f":"IF(D26=\"\",0,SUM(D$8:D26))","v":0},null,{"$f":"IF(F26=\"\",0,SUM(F$8:F26))","v":0}]
[null,null,null,null,{"$f":"IF(D27=\"\",0,SUM(D$8:D27))","v":0},null,{"$f":"IF(F27=\"\",0,SUM(F$8:F27))","v":0}]
[null,null,null,null,{"$f":"IF(D28=\"\",0,SUM(D$8:D28))","v":0},null,{"$f":"IF(F28=\"\",0,SUM(F$8:F28))","v":0}]
[null,null,null,null,{"$f":"IF(D29=\"\",0,SUM(D$8:D29))","v":0},null,{"$f":"IF(F29=\"\",0,SUM(F$8:F29))","v":0}]
[null,null,null,null,{"$f":"IF(D30=\"\",0,SUM(D$8:D30))","v":0},null,{"$f":"IF(F30=\"\",0,SUM(F$8:F30))","v":0}]
[null,null,null,null,{"$f":"IF(D31=\"\",0,SUM(D$8:D31))","v":0},null,{"$f":"IF(F31=\"\",0,SUM(F$8:F31))","v":0}]
[null,null,null,null,{"$f":"IF(D32=\"\",0,SUM(D$8:D32))","v":0},null,{"$f":"IF(F32=\"\",0,SUM(F$8:F32))","v":0}]
[null,null,null,null,{"$f":"IF(D33=\"\",0,SUM(D$8:D33))","v":0},null,{"$f":"IF(F33=\"\",0,SUM(F$8:F33))","v":0}]
[null,null,null,null,{"$f":"IF(D34=\"\",0,SUM(D$8:D34))","v":0},null,{"$f":"IF(F34=\"\",0,SUM(F$8:F34))","v":0}]
[null,null,null,null,{"$f":"IF(D35=\"\",0,SUM(D$8:D35))","v":0},null,{"$f":"IF(F35=\"\",0,SUM(F$8:F35))","v":0}]
[null,null,null,null,{"$f":"IF(D36=\"\",0,SUM(D$8:D36))","v":0},null,{"$f":"IF(F36=\"\",0,SUM(F$8:F36))","v":0}]
[null,null,null,null,{"$f":"IF(D37=\"\",0,SUM(D$8:D37))","v":0},null,{"$f":"IF(F37=\"\",0,SUM(F$8:F37))","v":0}]
[null,null,null,null,{"$f":"IF(D38=\"\",0,SUM(D$8:D38))","v":0},null,{"$f":"IF(F38=\"\",0,SUM(F$8:F38))","v":0}]
[null,null,null,null,{"$f":"IF(D39=\"\",0,SUM(D$8:D39))","v":0},null,{"$f":"IF(F39=\"\",0,SUM(F$8:F39))","v":0}]
[null,null,null,null,{"$f":"IF(D40=\"\",0,SUM(D$8:D40))","v":0},null,{"$f":"IF(F40=\"\",0,SUM(F$8:F40))","v":0}]
[null,null,null,null,{"$f":"IF(D41=\"\",0,SUM(D$8:D41))","v":0},null,{"$f":"IF(F41=\"\",0,SUM(F$8:F41))","v":0}]
[null,null,null,null,{"$f":"IF(D42=\"\",0,SUM(D$8:D42))","v":0},null,{"$f":"IF(F42=\"\",0,SUM(F$8:F42))","v":0}]
[null,null,null,null,{"$f":"IF(D43=\"\",0,SUM(D$8:D43))","v":0},null,{"$f":"IF(F43=\"\",0,SUM(F$8:F43))","v":0}]
[null,null,null,null,{"$f":"IF(D44=\"\",0,SUM(D$8:D44))","v":0},null,{"$f":"IF(F44=\"\",0,SUM(F$8:F44))","v":0}]
[null,null,null,null,{"$f":"IF(D45=\"\",0,SUM(D$8:D45))","v":0},null,{"$f":"IF(F45=\"\",0,SUM(F$8:F45))","v":0}]
[null,null,null,null,{"$f":"IF(D46=\"\",0,SUM(D$8:D46))","v":0},null,{"$f":"IF(F46=\"\",0,SUM(F$8:F46))","v":0}]
[null,null,null,null,{"$f":"IF(D47=\"\",0,SUM(D$8:D47))","v":0},null,{"$f":"IF(F47=\"\",0,SUM(F$8:F47))","v":0}]
[null,null,null,null,{"$f":"IF(D48=\"\",0,SUM(D$8:D48))","v":0},null,{"$f":"IF(F48=\"\",0,SUM(F$8:F48))","v":0}]
[null,null,null,null,{"$f":"IF(D49=\"\",0,SUM(D$8:D49))","v":0},null,{"$f":"IF(F49=\"\",0,SUM(F$8:F49))","v":0}]
[null,null,null,null,{"$f":"IF(D50=\"\",0,SUM(D$8:D50))","v":0},null,{"$f":"IF(F50=\"\",0,SUM(F$8:F50))","v":0}]
[null,null,null,null,{"$f":"IF(D51=\"\",0,SUM(D$8:D51))","v":0},null,{"$f":"IF(F51=\"\",0,SUM(F$8:F51))","v":0}]
[null,null,null,null,{"$f":"IF(D52=\"\",0,SUM(D$8:D52))","v":0},null,{"$f":"IF(F52=\"\",0,SUM(F$8:F52))","v":0}]
[null,null,null,null,{"$f":"IF(D53=\"\",0,SUM(D$8:D53))","v":0},null,{"$f":"IF(F53=\"\",0,SUM(F$8:F53))","v":0}]
[null,null,null,null,{"$f":"IF(D54=\"\",0,SUM(D$8:D54))","v":0},null,{"$f":"IF(F54=\"\",0,SUM(F$8:F54))","v":0}]
[null,null,null,null,{"$f":"IF(D55=\"\",0,SUM(D$8:D55))","v":0},null,{"$f":"IF(F55=\"\",0,SUM(F$8:F55))","v":0}]
[null,null,null,null,{"$f":"IF(D56=\"\",0,SUM(D$8:D56))","v":0},null,{"$f":"IF(F56=\"\",0,SUM(F$8:F56))","v":0}]
[null,null,null,null,{"$f":"IF(D57=\"\",0,SUM(D$8:D57))","v":0},null,{"$f":"IF(F57=\"\",0,SUM(F$8:F57))","v":0}]
[null,null,null,null,{"$f":"IF(D58=\"\",0,SUM(D$8:D58))","v":0},null,{"$f":"IF(F58=\"\",0,SUM(F$8:F58))","v":0}]
[null,null,null,null,{"$f":"IF(D59=\"\",0,SUM(D$8:D59))","v":0},null,{"$f":"IF(F59=\"\",0,SUM(F$8:F59))","v":0}]
[null,null,null,null,{"$f":"IF(D60=\"\",0,SUM(D$8:D60))","v":0},null,{"$f":"IF(F60=\"\",0,SUM(F$8:F60))","v":0}]
[null,null,null,null,{"$f":"IF(D61=\"\",0,SUM(D$8:D61))","v":0},null,{"$f":"IF(F61=\"\",0,SUM(F$8:F61))","v":0}]
[null,null,null,null,{"$f":"IF(D62=\"\",0,SUM(D$8:D62))","v":0},null,{"$f":"IF(F62=\"\",0,SUM(F$8:F62))","v":0}]
[null,null,null,null,{"$f":"IF(D63=\"\",0,SUM(D$8:D63))","v":0},null,{"$f":"IF(F63=\"\",0,SUM(F$8:F63))","v":0}]
[null,null,null,null,{"$f":"IF(D64=\"\",0,SUM(D$8:D64))","v":0},null,{"$f":"IF(F64=\"\",0,SUM(F$8:F64))","v":0}]
[null,null,null,null,{"$f":"IF(D65=\"\",0,SUM(D$8:D65))","v":0},null,{"$f":"IF(F65=\"\",0,SUM(F$8:F65))","v":0}]
[null,null,null,null,{"$f":"IF(D66=\"\",0,SUM(D$8:D66))","v":0},null,{"$f":"IF(F66=\"\",0,SUM(F$8:F66))","v":0}]
[null,null,null,null,{"$f":"IF(D67=\"\",0,SUM(D$8:D67))","v":0},null,{"$f":"IF(F67=\"\",0,SUM(F$8:F67))","v":0}]
[null,null,null,null,{"$f":"IF(D68=\"\",0,SUM(D$8:D68))","v":0},null,{"$f":"IF(F68=\"\",0,SUM(F$8:F68))","v":0}]
[null,null,null,null,{"$f":"IF(D69=\"\",0,SUM(D$8:D69))","v":0},null,{"$f":"IF(F69=\"\",0,SUM(F$8:F69))","v":0}]
[null,null,null,null,{"$f":"IF(D70=\"\",0,SUM(D$8:D70))","v":0},null,{"$f":"IF(F70=\"\",0,SUM(F$8:F70))","v":0}]
[null,null,null,null,{"$f":"IF(D71=\"\",0,SUM(D$8:D71))","v":0},null,{"$f":"IF(F71=\"\",0,SUM(F$8:F71))","v":0}]
[null,null,null,null,{"$f":"IF(D72=\"\",0,SUM(D$8:D72))","v":0},null,{"$f":"IF(F72=\"\",0,SUM(F$8:F72))","v":0}]
[null,null,null,null,{"$f":"IF(D73=\"\",0,SUM(D$8:D73))","v":0},null,{"$f":"IF(F73=\"\",0,SUM(F$8:F73))","v":0}]
[null,null,null,null,{"$f":"IF(D74=\"\",0,SUM(D$8:D74))","v":0},null,{"$f":"IF(F74=\"\",0,SUM(F$8:F74))","v":0}]
[null,null,null,null,{"$f":"IF(D75=\"\",0,SUM(D$8:D75))","v":0},null,{"$f":"IF(F75=\"\",0,SUM(F$8:F75))","v":0}]
[null,null,null,null,{"$f":"IF(D76=\"\",0,SUM(D$8:D76))","v":0},null,{"$f":"IF(F76=\"\",0,SUM(F$8:F76))","v":0}]
[null,null,null,null,{"$f":"IF(D77=\"\",0,SUM(D$8:D77))","v":0},null,{"$f":"IF(F77=\"\",0,SUM(F$8:F77))","v":0}]
[null,null,null,null,{"$f":"IF(D78=\"\",0,SUM(D$8:D78))","v":0},null,{"$f":"IF(F78=\"\",0,SUM(F$8:F78))","v":0}]
[null,null,null,null,{"$f":"IF(D79=\"\",0,SUM(D$8:D79))","v":0},null,{"$f":"IF(F79=\"\",0,SUM(F$8:F79))","v":0}]
[null,null,null,null,{"$f":"IF(D80=\"\",0,SUM(D$8:D80))","v":0},null,{"$f":"IF(F80=\"\",0,SUM(F$8:F80))","v":0}]
[null,null,null,null,{"$f":"IF(D81=\"\",0,SUM(D$8:D81))","v":0},null,{"$f":"IF(F81=\"\",0,SUM(F$8:F81))","v":0}]
[null,null,null,null,{"$f":"IF(D82=\"\",0,SUM(D$8:D82))","v":0},null,{"$f":"IF(F82=\"\",0,SUM(F$8:F82))","v":0}]
[null,null,null,null,{"$f":"IF(D83=\"\",0,SUM(D$8:D83))","v":0},null,{"$f":"IF(F83=\"\",0,SUM(F$8:F83))","v":0}]
[null,null,null,null,{"$f":"IF(D84=\"\",0,SUM(D$8:D84))","v":0},null,{"$f":"IF(F84=\"\",0,SUM(F$8:F84))","v":0}]
[null,null,null,null,{"$f":"IF(D85=\"\",0,SUM(D$8:D85))","v":0},null,{"$f":"IF(F85=\"\",0,SUM(F$8:F85))","v":0}]
[null,null,null,null,{"$f":"IF(D86=\"\",0,SUM(D$8:D86))","v":0},null,{"$f":"IF(F86=\"\",0,SUM(F$8:F86))","v":0}]
[null,null,null,null,{"$f":"IF(D87=\"\",0,SUM(D$8:D87))","v":0},null,{"$f":"IF(F87=\"\",0,SUM(F$8:F87))","v":0}]
[null,null,null,null,{"$f":"IF(D88=\"\",0,SUM(D$8:D88))","v":0},null,{"$f":"IF(F88=\"\",0,SUM(F$8:F88))","v":0}]
[null,null,null,null,{"$f":"IF(D89=\"\",0,SUM(D$8:D89))","v":0},null,{"$f":"IF(F89=\"\",0,SUM(F$8:F89))","v":0}]
[null,null,null,null,{"$f":"IF(D90=\"\",0,SUM(D$8:D90))","v":0},null,{"$f":"IF(F90=\"\",0,SUM(F$8:F90))","v":0}]
[null,null,null,null,{"$f":"IF(D91=\"\",0,SUM(D$8:D91))","v":0},null,{"$f":"IF(F91=\"\",0,SUM(F$8:F91))","v":0}]
[null,null,null,null,{"$f":"IF(D92=\"\",0,SUM(D$8:D92))","v":0},null,{"$f":"IF(F92=\"\",0,SUM(F$8:F92))","v":0}]
[null,null,null,null,{"$f":"IF(D93=\"\",0,SUM(D$8:D93))","v":0},null,{"$f":"IF(F93=\"\",0,SUM(F$8:F93))","v":0}]
[null,null,null,null,{"$f":"IF(D94=\"\",0,SUM(D$8:D94))","v":0},null,{"$f":"IF(F94=\"\",0,SUM(F$8:F94))","v":0}]
[null,null,null,null,{"$f":"IF(D95=\"\",0,SUM(D$8:D95))","v":0},null,{"$f":"IF(F95=\"\",0,SUM(F$8:F95))","v":0}]
[null,null,null,null,{"$f":"IF(D96=\"\",0,SUM(D$8:D96))","v":0},null,{"$f":"IF(F96=\"\",0,SUM(F$8:F96))","v":0}]
[null,null,null,null,{"$f":"IF(D97=\"\",0,SUM(D$8:D97))","v":0},null,{"$f":"IF(F97=\"\",0,SUM(F$8:F97))","v":0}]
[null,null,null,null,{"$f":"IF(D98=\"\",0,SUM(D$8:D98))","v":0},null,{"$f":"IF(F98=\"\",0,SUM(F$8:F98))","v":0}]
[null,null,null,null,{"$f":"IF(D99=\"\",0,SUM(D$8:D99))","v":0},null,{"$f":"IF(F99=\"\",0,SUM(F$8:F99))","v":0}]
[null,null,null,null,{"$f":"IF(D100=\"\",0,SUM(D$8:D100))","v":0},null,{"$f":"IF(F100=\"\",0,SUM(F$8:F100))","v":0}]
[null,null,null,null,{"$f":"IF(D101=\"\",0,SUM(D$8:D101))","v":0},null,{"$f":"IF(F101=\"\",0,SUM(F$8:F101))","v":0}]
[null,null,null,null,{"$f":"IF(D102=\"\",0,SUM(D$8:D102))","v":0},null,{"$f":"IF(F102=\"\",0,SUM(F$8:F102))","v":0}]
[null,null,null,null,{"$f":"IF(D103=\"\",0,SUM(D$8:D103))","v":0},null,{"$f":"IF(F103=\"\",0,SUM(F$8:F103))","v":0}]
[null,null,null,null,{"$f":"IF(D104=\"\",0,SUM(D$8:D104))","v":0},null,{"$f":"IF(F104=\"\",0,SUM(F$8:F104))","v":0}]
[null,null,null,null,{"$f":"IF(D105=\"\",0,SUM(D$8:D105))","v":0},null,{"$f":"IF(F105=\"\",0,SUM(F$8:F105))","v":0}]
[null,null,null,null,{"$f":"IF(D106=\"\",0,SUM(D$8:D106))","v":0},null,{"$f":"IF(F106=\"\",0,SUM(F$8:F106))","v":0}]
[null,null,null,null,{"$f":"IF(D107=\"\",0,SUM(D$8:D107))","v":0},null,{"$f":"IF(F107=\"\",0,SUM(F$8:F107))","v":0}]
[null,null,null,null,{"$f":"IF(D108=\"\",0,SUM(D$8:D108))","v":0},null,{"$f":"IF(F108=\"\",0,SUM(F$8:F108))","v":0}]
[null,null,null,null,{"$f":"IF(D109=\"\",0,SUM(D$8:D109))","v":0},null,{"$f":"IF(F109=\"\",0,SUM(F$8:F109))","v":0}]
[null,null,null,null,{"$f":"IF(D110=\"\",0,SUM(D$8:D110))","v":0},null,{"$f":"IF(F110=\"\",0,SUM(F$8:F110))","v":0}]
[null,null,null,null,{"$f":"IF(D111=\"\",0,SUM(D$8:D111))","v":0},null,{"$f":"IF(F111=\"\",0,SUM(F$8:F111))","v":0}]
[null,null,null,null,{"$f":"IF(D112=\"\",0,SUM(D$8:D112))","v":0},null,{"$f":"IF(F112=\"\",0,SUM(F$8:F112))","v":0}]
[null,null,null,null,{"$f":"IF(D113=\"\",0,SUM(D$8:D113))","v":0},null,{"$f":"IF(F113=\"\",0,SUM(F$8:F113))","v":0}]
[null,null,null,null,{"$f":"IF(D114=\"\",0,SUM(D$8:D114))","v":0},null,{"$f":"IF(F114=\"\",0,SUM(F$8:F114))","v":0}]
[null,null,null,null,{"$f":"IF(D115=\"\",0,SUM(D$8:D115))","v":0},null,{"$f":"IF(F115=\"\",0,SUM(F$8:F115))","v":0}]
[null,null,null,null,{"$f":"IF(D116=\"\",0,SUM(D$8:D116))","v":0},null,{"$f":"IF(F116=\"\",0,SUM(F$8:F116))","v":0}]
[null,null,null,null,{"$f":"IF(D117=\"\",0,SUM(D$8:D117))","v":0},null,{"$f":"IF(F117=\"\",0,SUM(F$8:F117))","v":0}]
[null,null,null,null,{"$f":"IF(D118=\"\",0,SUM(D$8:D118))","v":0},null,{"$f":"IF(F118=\"\",0,SUM(F$8:F118))","v":0}]
[null,null,null,null,{"$f":"IF(D119=\"\",0,SUM(D$8:D119))","v":0},null,{"$f":"IF(F119=\"\",0,SUM(F$8:F119))","v":0}]
[null,null,null,null,{"$f":"IF(D120=\"\",0,SUM(D$8:D120))","v":0},null,{"$f":"IF(F120=\"\",0,SUM(F$8:F120))","v":0}]
[null,null,null,null,{"$f":"IF(D121=\"\",0,SUM(D$8:D121))","v":0},null,{"$f":"IF(F121=\"\",0,SUM(F$8:F121))","v":0}]
[null,null,null,null,{"$f":"IF(D122=\"\",0,SUM(D$8:D122))","v":0},null,{"$f":"IF(F122=\"\",0,SUM(F$8:F122))","v":0}]
[null,null,null,null,{"$f":"IF(D123=\"\",0,SUM(D$8:D123))","v":0},null,{"$f":"IF(F123=\"\",0,SUM(F$8:F123))","v":0}]
[null,null,null,null,{"$f":"IF(D124=\"\",0,SUM(D$8:D124))","v":0},null,{"$f":"IF(F124=\"\",0,SUM(F$8:F124))","v":0}]
[null,null,null,null,{"$f":"IF(D125=\"\",0,SUM(D$8:D125))","v":0},null,{"$f":"IF(F125=\"\",0,SUM(F$8:F125))","v":0}]
[null,null,null,null,{"$f":"IF(D126=\"\",0,SUM(D$8:D126))","v":0},null,{"$f":"IF(F126=\"\",0,SUM(F$8:F126))","v":0}]
[null,null,null,null,{"$f":"IF(D127=\"\",0,SUM(D$8:D127))","v":0},null,{"$f":"IF(F127=\"\",0,SUM(F$8:F127))","v":0}]
[null,null,null,null,{"$f":"IF(D128=\"\",0,SUM(D$8:D128))","v":0},null,{"$f":"IF(F128=\"\",0,SUM(F$8:F128))","v":0}]
[null,null,null,null,{"$f":"IF(D129=\"\",0,SUM(D$8:D129))","v":0},null,{"$f":"IF(F129=\"\",0,SUM(F$8:F129))","v":0}]
[null,null,null,null,{"$f":"IF(D130=\"\",0,SUM(D$8:D130))","v":0},null,{"$f":"IF(F130=\"\",0,SUM(F$8:F130))","v":0}]
[null,null,null,null,{"$f":"IF(D131=\"\",0,SUM(D$8:D131))","v":0},null,{"$f":"IF(F131=\"\",0,SUM(F$8:F131))","v":0}]
[null,null,null,null,{"$f":"IF(D132=\"\",0,SUM(D$8:D132))","v":0},null,{"$f":"IF(F132=\"\",0,SUM(F$8:F132))","v":0}]
[null,null,null,null,{"$f":"IF(D133=\"\",0,SUM(D$8:D133))","v":0},null,{"$f":"IF(F133=\"\",0,SUM(F$8:F133))","v":0}]
[null,null,null,null,{"$f":"IF(D134=\"\",0,SUM(D$8:D134))","v":0},null,{"$f":"IF(F134=\"\",0,SUM(F$8:F134))","v":0}]
[null,null,null,null,{"$f":"IF(D135=\"\",0,SUM(D$8:D135))","v":0},null,{"$f":"IF(F135=\"\",0,SUM(F$8:F135))","v":0}]
[null,null,null,null,{"$f":"IF(D136=\"\",0,SUM(D$8:D136))","v":0},null,{"$f":"IF(F136=\"\",0,SUM(F$8:F136))","v":0}]
[null,null,null,null,{"$f":"IF(D137=\"\",0,SUM(D$8:D137))","v":0},null,{"$f":"IF(F137=\"\",0,SUM(F$8:F137))","v":0}]
[null,null,null,null,{"$f":"IF(D138=\"\",0,SUM(D$8:D138))","v":0},null,{"$f":"IF(F138=\"\",0,SUM(F$8:F138))","v":0}]
[null,null,null,null,{"$f":"IF(D139=\"\",0,SUM(D$8:D139))","v":0},null,{"$f":"IF(F139=\"\",0,SUM(F$8:F139))","v":0}]
[null,null,null,null,{"$f":"IF(D140=\"\",0,SUM(D$8:D140))","v":0},null,{"$f":"IF(F140=\"\",0,SUM(F$8:F140))","v":0}]
[null,null,null,null,{"$f":"IF(D141=\"\",0,SUM(D$8:D141))","v":0},null,{"$f":"IF(F141=\"\",0,SUM(F$8:F141))","v":0}]
[null,null,null,null,{"$f":"IF(D142=\"\",0,SUM(D$8:D142))","v":0},null,{"$f":"IF(F142=\"\",0,SUM(F$8:F142))","v":0}]
[null,null,null,null,{"$f":"IF(D143=\"\",0,SUM(D$8:D143))","v":0},null,{"$f":"IF(F143=\"\",0,SUM(F$8:F143))","v":0}]
[null,null,null,null,{"$f":"IF(D144=\"\",0,SUM(D$8:D144))","v":0},null,{"$f":"IF(F144=\"\",0,SUM(F$8:F144))","v":0}]
[null,null,null,null,{"$f":"IF(D145=\"\",0,SUM(D$8:D145))","v":0},null,{"$f":"IF(F145=\"\",0,SUM(F$8:F145))","v":0}]
[null,null,null,null,{"$f":"IF(D146=\"\",0,SUM(D$8:D146))","v":0},null,{"$f":"IF(F146=\"\",0,SUM(F$8:F146))","v":0}]
[null,null,null,null,{"$f":"IF(D147=\"\",0,SUM(D$8:D147))","v":0},null,{"$f":"IF(F147=\"\",0,SUM(F$8:F147))","v":0}]
[null,null,null,null,{"$f":"IF(D148=\"\",0,SUM(D$8:D148))","v":0},null,{"$f":"IF(F148=\"\",0,SUM(F$8:F148))","v":0}]
[null,null,null,null,{"$f":"IF(D149=\"\",0,SUM(D$8:D149))","v":0},null,{"$f":"IF(F149=\"\",0,SUM(F$8:F149))","v":0}]
[null,null,null,null,{"$f":"IF(D150=\"\",0,SUM(D$8:D150))","v":0},null,{"$f":"IF(F150=\"\",0,SUM(F$8:F150))","v":0}]
[null,null,null,null,{"$f":"IF(D151=\"\",0,SUM(D$8:D151))","v":0},null,{"$f":"IF(F151=\"\",0,SUM(F$8:F151))","v":0}]
[null,null,null,null,{"$f":"IF(D152=\"\",0,SUM(D$8:D152))","v":0},null,{"$f":"IF(F152=\"\",0,SUM(F$8:F152))","v":0}]
[null,null,null,null,{"$f":"IF(D153=\"\",0,SUM(D$8:D153))","v":0},null,{"$f":"IF(F153=\"\",0,SUM(F$8:F153))","v":0}]
[null,null,null,null,{"$f":"IF(D154=\"\",0,SUM(D$8:D154))","v":0},null,{"$f":"IF(F154=\"\",0,SUM(F$8:F154))","v":0}]
[null,null,null,null,{"$f":"IF(D155=\"\",0,SUM(D$8:D155))","v":0},null,{"$f":"IF(F155=\"\",0,SUM(F$8:F155))","v":0}]
[null,null,null,null,{"$f":"IF(D156=\"\",0,SUM(D$8:D156))","v":0},null,{"$f":"IF(F156=\"\",0,SUM(F$8:F156))","v":0}]
[null,null,null,null,{"$f":"IF(D157=\"\",0,SUM(D$8:D157))","v":0},null,{"$f":"IF(F157=\"\",0,SUM(F$8:F157))","v":0}]
[null,null,null,null,{"$f":"IF(D158=\"\",0,SUM(D$8:D158))","v":0},null,{"$f":"IF(F158=\"\",0,SUM(F$8:F158))","v":0}]
[null,null,null,null,{"$f":"IF(D159=\"\",0,SUM(D$8:D159))","v":0},null,{"$f":"IF(F159=\"\",0,SUM(F$8:F159))","v":0}]
[null,null,null,null,{"$f":"IF(D160=\"\",0,SUM(D$8:D160))","v":0},null,{"$f":"IF(F160=\"\",0,SUM(F$8:F160))","v":0}]
[null,null,null,null,{"$f":"IF(D161=\"\",0,SUM(D$8:D161))","v":0},null,{"$f":"IF(F161=\"\",0,SUM(F$8:F161))","v":0}]
[null,null,null,null,{"$f":"IF(D162=\"\",0,SUM(D$8:D162))","v":0},null,{"$f":"IF(F162=\"\",0,SUM(F$8:F162))","v":0}]
[null,null,null,null,{"$f":"IF(D163=\"\",0,SUM(D$8:D163))","v":0},null,{"$f":"IF(F163=\"\",0,SUM(F$8:F163))","v":0}]
[null,null,null,null,{"$f":"IF(D164=\"\",0,SUM(D$8:D164))","v":0},null,{"$f":"IF(F164=\"\",0,SUM(F$8:F164))","v":0}]
[null,null,null,null,{"$f":"IF(D165=\"\",0,SUM(D$8:D165))","v":0},null,{"$f":"IF(F165=\"\",0,SUM(F$8:F165))","v":0}]
[null,null,null,null,{"$f":"IF(D166=\"\",0,SUM(D$8:D166))","v":0},null,{"$f":"IF(F166=\"\",0,SUM(F$8:F166))","v":0}]
[null,null,null,null,{"$f":"IF(D167=\"\",0,SUM(D$8:D167))","v":0},null,{"$f":"IF(F167=\"\",0,SUM(F$8:F167))","v":0}]
[null,null,null,null,{"$f":"IF(D168=\"\",0,SUM(D$8:D168))","v":0},null,{"$f":"IF(F168=\"\",0,SUM(F$8:F168))","v":0}]
[null,null,null,null,{"$f":"IF(D169=\"\",0,SUM(D$8:D169))","v":0},null,{"$f":"IF(F169=\"\",0,SUM(F$8:F169))","v":0}]
[null,null,null,null,{"$f":"IF(D170=\"\",0,SUM(D$8:D170))","v":0},null,{"$f":"IF(F170=\"\",0,SUM(F$8:F170))","v":0}]
[null,null,null,null,{"$f":"IF(D171=\"\",0,SUM(D$8:D171))","v":0},null,{"$f":"IF(F171=\"\",0,SUM(F$8:F171))","v":0}]
[null,null,null,null,{"$f":"IF(D172=\"\",0,SUM(D$8:D172))","v":0},null,{"$f":"IF(F172=\"\",0,SUM(F$8:F172))","v":0}]
[null,null,null,null,{"$f":"IF(D173=\"\",0,SUM(D$8:D173))","v":0},null,{"$f":"IF(F173=\"\",0,SUM(F$8:F173))","v":0}]
[null,null,null,null,{"$f":"IF(D174=\"\",0,SUM(D$8:D174))","v":0},null,{"$f":"IF(F174=\"\",0,SUM(F$8:F174))","v":0}]
[null,null,null,null,{"$f":"IF(D175=\"\",0,SUM(D$8:D175))","v":0},null,{"$f":"IF(F175=\"\",0,SUM(F$8:F175))","v":0}]
[null,null,null,null,{"$f":"IF(D176=\"\",0,SUM(D$8:D176))","v":0},null,{"$f":"IF(F176=\"\",0,SUM(F$8:F176))","v":0}]
[null,null,null,null,{"$f":"IF(D177=\"\",0,SUM(D$8:D177))","v":0},null,{"$f":"IF(F177=\"\",0,SUM(F$8:F177))","v":0}]
[null,null,null,null,{"$f":"IF(D178=\"\",0,SUM(D$8:D178))","v":0},null,{"$f":"IF(F178=\"\",0,SUM(F$8:F178))","v":0}]
[null,null,null,null,{"$f":"IF(D179=\"\",0,SUM(D$8:D179))","v":0},null,{"$f":"IF(F179=\"\",0,SUM(F$8:F179))","v":0}]
[null,null,null,null,{"$f":"IF(D180=\"\",0,SUM(D$8:D180))","v":0},null,{"$f":"IF(F180=\"\",0,SUM(F$8:F180))","v":0}]
[null,null,null,null,{"$f":"IF(D181=\"\",0,SUM(D$8:D181))","v":0},null,{"$f":"IF(F181=\"\",0,SUM(F$8:F181))","v":0}]
[null,null,null,null,{"$f":"IF(D182=\"\",0,SUM(D$8:D182))","v":0},null,{"$f":"IF(F182=\"\",0,SUM(F$8:F182))","v":0}]
[null,null,null,null,{"$f":"IF(D183=\"\",0,SUM(D$8:D183))","v":0},null,{"$f":"IF(F183=\"\",0,SUM(F$8:F183))","v":0}]
[null,null,null,null,{"$f":"IF(D184=\"\",0,SUM(D$8:D184))","v":0},null,{"$f":"IF(F184=\"\",0,SUM(F$8:F184))","v":0}]
[null,null,null,null,{"$f":"IF(D185=\"\",0,SUM(D$8:D185))","v":0},null,{"$f":"IF(F185=\"\",0,SUM(F$8:F185))","v":0}]
[null,null,null,null,{"$f":"IF(D186=\"\",0,SUM(D$8:D186))","v":0},null,{"$f":"IF(F186=\"\",0,SUM(F$8:F186))","v":0}]
[null,null,null,null,{"$f":"IF(D187=\"\",0,SUM(D$8:D187))","v":0},null,{"$f":"IF(F187=\"\",0,SUM(F$8:F187))","v":0}]
[null,null,null,null,{"$f":"IF(D188=\"\",0,SUM(D$8:D188))","v":0},null,{"$f":"IF(F188=\"\",0,SUM(F$8:F188))","v":0}]
[null,null,null,null,{"$f":"IF(D189=\"\",0,SUM(D$8:D189))","v":0},null,{"$f":"IF(F189=\"\",0,SUM(F$8:F189))","v":0}]
[null,null,null,null,{"$f":"IF(D190=\"\",0,SUM(D$8:D190))","v":0},null,{"$f":"IF(F190=\"\",0,SUM(F$8:F190))","v":0}]
[null,null,null,null,{"$f":"IF(D191=\"\",0,SUM(D$8:D191))","v":0},null,{"$f":"IF(F191=\"\",0,SUM(F$8:F191))","v":0}]
[null,null,null,null,{"$f":"IF(D192=\"\",0,SUM(D$8:D192))","v":0},null,{"$f":"IF(F192=\"\",0,SUM(F$8:F192))","v":0}]
[null,null,null,null,{"$f":"IF(D193=\"\",0,SUM(D$8:D193))","v":0},null,{"$f":"IF(F193=\"\",0,SUM(F$8:F193))","v":0}]
[null,null,null,null,{"$f":"IF(D194=\"\",0,SUM(D$8:D194))","v":0},null,{"$f":"IF(F194=\"\",0,SUM(F$8:F194))","v":0}]
[null,null,null,null,{"$f":"IF(D195=\"\",0,SUM(D$8:D195))","v":0},null,{"$f":"IF(F195=\"\",0,SUM(F$8:F195))","v":0}]
[null,null,null,null,{"$f":"IF(D196=\"\",0,SUM(D$8:D196))","v":0},null,{"$f":"IF(F196=\"\",0,SUM(F$8:F196))","v":0}]
[null,null,null,null,{"$f":"IF(D197=\"\",0,SUM(D$8:D197))","v":0},null,{"$f":"IF(F197=\"\",0,SUM(F$8:F197))","v":0}]
[null,null,null,null,{"$f":"IF(D198=\"\",0,SUM(D$8:D198))","v":0},null,{"$f":"IF(F198=\"\",0,SUM(F$8:F198))","v":0}]
[null,null,null,null,{"$f":"IF(D199=\"\",0,SUM(D$8:D199))","v":0},null,{"$f":"IF(F199=\"\",0,SUM(F$8:F199))","v":0}]
[null,null,null,null,{"$f":"IF(D200=\"\",0,SUM(D$8:D200))","v":0},null,{"$f":"IF(F200=\"\",0,SUM(F$8:F200))","v":0}]
[null,null,null,null,{"$f":"IF(D201=\"\",0,SUM(D$8:D201))","v":0},null,{"$f":"IF(F201=\"\",0,SUM(F$8:F201))","v":0}]
[null,null,null,null,{"$f":"IF(D202=\"\",0,SUM(D$8:D202))","v":0},null,{"$f":"IF(F202=\"\",0,SUM(F$8:F202))","v":0}]
[null,null,null,null,{"$f":"IF(D203=\"\",0,SUM(D$8:D203))","v":0},null,{"$f":"IF(F203=\"\",0,SUM(F$8:F203))","v":0}]
[null,null,null,null,{"$f":"IF(D204=\"\",0,SUM(D$8:D204))","v":0},null,{"$f":"IF(F204=\"\",0,SUM(F$8:F204))","v":0}]
[null,null,null,null,{"$f":"IF(D205=\"\",0,SUM(D$8:D205))","v":0},null,{"$f":"IF(F205=\"\",0,SUM(F$8:F205))","v":0}]
[null,null,null,null,{"$f":"IF(D206=\"\",0,SUM(D$8:D206))","v":0},null,{"$f":"IF(F206=\"\",0,SUM(F$8:F206))","v":0}]
[null,null,null,null,{"$f":"IF(D207=\"\",0,SUM(D$8:D207))","v":0},null,{"$f":"IF(F207=\"\",0,SUM(F$8:F207))","v":0}]
[null,null,null,null,{"$f":"IF(D208=\"\",0,SUM(D$8:D208))","v":0},null,{"$f":"IF(F208=\"\",0,SUM(F$8:F208))","v":0}]
[null,null,null,null,{"$f":"IF(D209=\"\",0,SUM(D$8:D209))","v":0},null,{"$f":"IF(F209=\"\",0,SUM(F$8:F209))","v":0}]
[null,null,null,null,{"$f":"IF(D210=\"\",0,SUM(D$8:D210))","v":0},null,{"$f":"IF(F210=\"\",0,SUM(F$8:F210))","v":0}]
[null,null,null,null,{"$f":"IF(D211=\"\",0,SUM(D$8:D211))","v":0},null,{"$f":"IF(F211=\"\",0,SUM(F$8:F211))","v":0}]
[null,null,null,null,{"$f":"IF(D212=\"\",0,SUM(D$8:D212))","v":0},null,{"$f":"IF(F212=\"\",0,SUM(F$8:F212))","v":0}]
[null,null,null,null,{"$f":"IF(D213=\"\",0,SUM(D$8:D213))","v":0},null,{"$f":"IF(F213=\"\",0,SUM(F$8:F213))","v":0}]
[null,null,null,null,{"$f":"IF(D214=\"\",0,SUM(D$8:D214))","v":0},null,{"$f":"IF(F214=\"\",0,SUM(F$8:F214))","v":0}]
[null,null,null,null,{"$f":"IF(D215=\"\",0,SUM(D$8:D215))","v":0},null,{"$f":"IF(F215=\"\",0,SUM(F$8:F215))","v":0}]
[null,null,null,null,{"$f":"IF(D216=\"\",0,SUM(D$8:D216))","v":0},null,{"$f":"IF(F216=\"\",0,SUM(F$8:F216))","v":0}]
[null,null,null,null,{"$f":"IF(D217=\"\",0,SUM(D$8:D217))","v":0},null,{"$f":"IF(F217=\"\",0,SUM(F$8:F217))","v":0}]
[null,null,null,null,{"$f":"IF(D218=\"\",0,SUM(D$8:D218))","v":0},null,{"$f":"IF(F218=\"\",0,SUM(F$8:F218))","v":0}]
[null,null,null,null,{"$f":"IF(D219=\"\",0,SUM(D$8:D219))","v":0},null,{"$f":"IF(F219=\"\",0,SUM(F$8:F219))","v":0}]
[null,null,null,null,{"$f":"IF(D220=\"\",0,SUM(D$8:D220))","v":0},null,{"$f":"IF(F220=\"\",0,SUM(F$8:F220))","v":0}]
[null,null,null,null,{"$f":"IF(D221=\"\",0,SUM(D$8:D221))","v":0},null,{"$f":"IF(F221=\"\",0,SUM(F$8:F221))","v":0}]
[null,null,null,null,{"$f":"IF(D222=\"\",0,SUM(D$8:D222))","v":0},null,{"$f":"IF(F222=\"\",0,SUM(F$8:F222))","v":0}]
[null,null,null,null,{"$f":"IF(D223=\"\",0,SUM(D$8:D223))","v":0},null,{"$f":"IF(F223=\"\",0,SUM(F$8:F223))","v":0}]
[null,null,null,null,{"$f":"IF(D224=\"\",0,SUM(D$8:D224))","v":0},null,{"$f":"IF(F224=\"\",0,SUM(F$8:F224))","v":0}]
[null,null,null,null,{"$f":"IF(D225=\"\",0,SUM(D$8:D225))","v":0},null,{"$f":"IF(F225=\"\",0,SUM(F$8:F225))","v":0}]
[null,null,null,null,{"$f":"IF(D226=\"\",0,SUM(D$8:D226))","v":0},null,{"$f":"IF(F226=\"\",0,SUM(F$8:F226))","v":0}]
[null,null,null,null,{"$f":"IF(D227=\"\",0,SUM(D$8:D227))","v":0},null,{"$f":"IF(F227=\"\",0,SUM(F$8:F227))","v":0}]
[null,null,null,null,{"$f":"IF(D228=\"\",0,SUM(D$8:D228))","v":0},null,{"$f":"IF(F228=\"\",0,SUM(F$8:F228))","v":0}]
[null,null,null,null,{"$f":"IF(D229=\"\",0,SUM(D$8:D229))","v":0},null,{"$f":"IF(F229=\"\",0,SUM(F$8:F229))","v":0}]
[null,null,null,null,{"$f":"IF(D230=\"\",0,SUM(D$8:D230))","v":0},null,{"$f":"IF(F230=\"\",0,SUM(F$8:F230))","v":0}]
[null,null,null,null,{"$f":"IF(D231=\"\",0,SUM(D$8:D231))","v":0},null,{"$f":"IF(F231=\"\",0,SUM(F$8:F231))","v":0}]
[null,null,null,null,{"$f":"IF(D232=\"\",0,SUM(D$8:D232))","v":0},null,{"$f":"IF(F232=\"\",0,SUM(F$8:F232))","v":0}]
[null,null,null,null,{"$f":"IF(D233=\"\",0,SUM(D$8:D233))","v":0},null,{"$f":"IF(F233=\"\",0,SUM(F$8:F233))","v":0}]
[null,null,null,null,{"$f":"IF(D234=\"\",0,SUM(D$8:D234))","v":0},null,{"$f":"IF(F234=\"\",0,SUM(F$8:F234))","v":0}]
[null,null,null,null,{"$f":"IF(D235=\"\",0,SUM(D$8:D235))","v":0},null,{"$f":"IF(F235=\"\",0,SUM(F$8:F235))","v":0}]
[null,null,null,null,{"$f":"IF(D236=\"\",0,SUM(D$8:D236))","v":0},null,{"$f":"IF(F236=\"\",0,SUM(F$8:F236))","v":0}]
[null,null,null,null,{"$f":"IF(D237=\"\",0,SUM(D$8:D237))","v":0},null,{"$f":"IF(F237=\"\",0,SUM(F$8:F237))","v":0}]
[null,null,null,null,{"$f":"IF(D238=\"\",0,SUM(D$8:D238))","v":0},null,{"$f":"IF(F238=\"\",0,SUM(F$8:F238))","v":0}]
[null,null,null,null,{"$f":"IF(D239=\"\",0,SUM(D$8:D239))","v":0},null,{"$f":"IF(F239=\"\",0,SUM(F$8:F239))","v":0}]
[null,null,null,null,{"$f":"IF(D240=\"\",0,SUM(D$8:D240))","v":0},null,{"$f":"IF(F240=\"\",0,SUM(F$8:F240))","v":0}]
[null,null,null,null,{"$f":"IF(D241=\"\",0,SUM(D$8:D241))","v":0},null,{"$f":"IF(F241=\"\",0,SUM(F$8:F241))","v":0}]
[null,null,null,null,{"$f":"IF(D242=\"\",0,SUM(D$8:D242))","v":0},null,{"$f":"IF(F242=\"\",0,SUM(F$8:F242))","v":0}]
[null,null,null,null,{"$f":"IF(D243=\"\",0,SUM(D$8:D243))","v":0},null,{"$f":"IF(F243=\"\",0,SUM(F$8:F243))","v":0}]
[null,null,null,null,{"$f":"IF(D244=\"\",0,SUM(D$8:D244))","v":0},null,{"$f":"IF(F244=\"\",0,SUM(F$8:F244))","v":0}]
[null,null,null,null,{"$f":"IF(D245=\"\",0,SUM(D$8:D245))","v":0},null,{"$f":"IF(F245=\"\",0,SUM(F$8:F245))","v":0}]
[null,null,null,null,{"$f":"IF(D246=\"\",0,SUM(D$8:D246))","v":0},null,{"$f":"IF(F246=\"\",0,SUM(F$8:F246))","v":0}]
[null,null,null,null,{"$f":"IF(D247=\"\",0,SUM(D$8:D247))","v":0},null,{"$f":"IF(F247=\"\",0,SUM(F$8:F247))","v":0}]
[null,null,null,null,{"$f":"IF(D248=\"\",0,SUM(D$8:D248))","v":0},null,{"$f":"IF(F248=\"\",0,SUM(F$8:F248))","v":0}]
[null,null,null,null,{"$f":"IF(D249=\"\",0,SUM(D$8:D249))","v":0},null,{"$f":"IF(F249=\"\",0,SUM(F$8:F249))","v":0}]
[null,null,null,null,{"$f":"IF(D250=\"\",0,SUM(D$8:D250))","v":0},null,{"$f":"IF(F250=\"\",0,SUM(F$8:F250))","v":0}]
[null,null,null,null,{"$f":"IF(D251=\"\",0,SUM(D$8:D251))","v":0},null,{"$f":"IF(F251=\"\",0,SUM(F$8:F251))","v":0}]
[null,null,null,null,{"$f":"IF(D252=\"\",0,SUM(D$8:D252))","v":0},null,{"$f":"IF(F252=\"\",0,SUM(F$8:F252))","v":0}]
[null,null,null,null,{"$f":"IF(D253=\"\",0,SUM(D$8:D253))","v":0},null,{"$f":"IF(F253=\"\",0,SUM(F$8:F253))","v":0}]
[null,null,null,null,{"$f":"IF(D254=\"\",0,SUM(D$8:D254))","v":0},null,{"$f":"IF(F254=\"\",0,SUM(F$8:F254))","v":0}]
[null,null,null,null,{"$f":"IF(D255=\"\",0,SUM(D$8:D255))","v":0},null,{"$f":"IF(F255=\"\",0,SUM(F$8:F255))","v":0}]
[null,null,null,null,{"$f":"IF(D256=\"\",0,SUM(D$8:D256))","v":0},null,{"$f":"IF(F256=\"\",0,SUM(F$8:F256))","v":0}]
[null,null,null,null,{"$f":"IF(D257=\"\",0,SUM(D$8:D257))","v":0},null,{"$f":"IF(F257=\"\",0,SUM(F$8:F257))","v":0}]
[null,null,null,null,{"$f":"IF(D258=\"\",0,SUM(D$8:D258))","v":0},null,{"$f":"IF(F258=\"\",0,SUM(F$8:F258))","v":0}]
[null,null,null,null,{"$f":"IF(D259=\"\",0,SUM(D$8:D259))","v":0},null,{"$f":"IF(F259=\"\",0,SUM(F$8:F259))","v":0}]
[null,null,null,null,{"$f":"IF(D260=\"\",0,SUM(D$8:D260))","v":0},null,{"$f":"IF(F260=\"\",0,SUM(F$8:F260))","v":0}]
[null,null,null,null,{"$f":"IF(D261=\"\",0,SUM(D$8:D261))","v":0},null,{"$f":"IF(F261=\"\",0,SUM(F$8:F261))","v":0}]
[null,null,null,null,{"$f":"IF(D262=\"\",0,SUM(D$8:D262))","v":0},null,{"$f":"IF(F262=\"\",0,SUM(F$8:F262))","v":0}]
[null,null,null,null,{"$f":"IF(D263=\"\",0,SUM(D$8:D263))","v":0},null,{"$f":"IF(F263=\"\",0,SUM(F$8:F263))","v":0}]
[null,null,null,null,{"$f":"IF(D264=\"\",0,SUM(D$8:D264))","v":0},null,{"$f":"IF(F264=\"\",0,SUM(F$8:F264))","v":0}]
[null,null,null,null,{"$f":"IF(D265=\"\",0,SUM(D$8:D265))","v":0},null,{"$f":"IF(F265=\"\",0,SUM(F$8:F265))","v":0}]
[null,null,null,null,{"$f":"IF(D266=\"\",0,SUM(D$8:D266))","v":0},null,{"$f":"IF(F266=\"\",0,SUM(F$8:F266))","v":0}]
[null,null,null,null,{"$f":"IF(D267=\"\",0,SUM(D$8:D267))","v":0},null,{"$f":"IF(F267=\"\",0,SUM(F$8:F267))","v":0}]
[null,null,null,null,{"$f":"IF(D268=\"\",0,SUM(D$8:D268))","v":0},null,{"$f":"IF(F268=\"\",0,SUM(F$8:F268))","v":0}]
[null,null,null,null,{"$f":"IF(D269=\"\",0,SUM(D$8:D269))","v":0},null,{"$f":"IF(F269=\"\",0,SUM(F$8:F269))","v":0}]
[null,null,null,null,{"$f":"IF(D270=\"\",0,SUM(D$8:D270))","v":0},null,{"$f":"IF(F270=\"\",0,SUM(F$8:F270))","v":0}]
[null,null,null,null,{"$f":"IF(D271=\"\",0,SUM(D$8:D271))","v":0},null,{"$f":"IF(F271=\"\",0,SUM(F$8:F271))","v":0}]
[null,null,null,null,{"$f":"IF(D272=\"\",0,SUM(D$8:D272))","v":0},null,{"$f":"IF(F272=\"\",0,SUM(F$8:F272))","v":0}]
[null,null,null,null,{"$f":"IF(D273=\"\",0,SUM(D$8:D273))","v":0},null,{"$f":"IF(F273=\"\",0,SUM(F$8:F273))","v":0}]
[null,null,null,null,{"$f":"IF(D274=\"\",0,SUM(D$8:D274))","v":0},null,{"$f":"IF(F274=\"\",0,SUM(F$8:F274))","v":0}]
[null,null,null,null,{"$f":"IF(D275=\"\",0,SUM(D$8:D275))","v":0},null,{"$f":"IF(F275=\"\",0,SUM(F$8:F275))","v":0}]
[null,null,null,null,{"$f":"IF(D276=\"\",0,SUM(D$8:D276))","v":0},null,{"$f":"IF(F276=\"\",0,SUM(F$8:F276))","v":0}]
[null,null,null,null,{"$f":"IF(D277=\"\",0,SUM(D$8:D277))","v":0},null,{"$f":"IF(F277=\"\",0,SUM(F$8:F277))","v":0}]
[null,null,null,null,{"$f":"IF(D278=\"\",0,SUM(D$8:D278))","v":0},null,{"$f":"IF(F278=\"\",0,SUM(F$8:F278))","v":0}]
[null,null,null,null,{"$f":"IF(D279=\"\",0,SUM(D$8:D279))","v":0},null,{"$f":"IF(F279=\"\",0,SUM(F$8:F279))","v":0}]
[null,null,null,null,{"$f":"IF(D280=\"\",0,SUM(D$8:D280))","v":0},null,{"$f":"IF(F280=\"\",0,SUM(F$8:F280))","v":0}]
[null,null,null,null,{"$f":"IF(D281=\"\",0,SUM(D$8:D281))","v":0},null,{"$f":"IF(F281=\"\",0,SUM(F$8:F281))","v":0}]
[null,null,null,null,{"$f":"IF(D282=\"\",0,SUM(D$8:D282))","v":0},null,{"$f":"IF(F282=\"\",0,SUM(F$8:F282))","v":0}]
[null,null,null,null,{"$f":"IF(D283=\"\",0,SUM(D$8:D283))","v":0},null,{"$f":"IF(F283=\"\",0,SUM(F$8:F283))","v":0}]
[null,null,null,null,{"$f":"IF(D284=\"\",0,SUM(D$8:D284))","v":0},null,{"$f":"IF(F284=\"\",0,SUM(F$8:F284))","v":0}]
[null,null,null,null,{"$f":"IF(D285=\"\",0,SUM(D$8:D285))","v":0},null,{"$f":"IF(F285=\"\",0,SUM(F$8:F285))","v":0}]
[null,null,null,null,{"$f":"IF(D286=\"\",0,SUM(D$8:D286))","v":0},null,{"$f":"IF(F286=\"\",0,SUM(F$8:F286))","v":0}]
[null,null,null,null,{"$f":"IF(D287=\"\",0,SUM(D$8:D287))","v":0},null,{"$f":"IF(F287=\"\",0,SUM(F$8:F287))","v":0}]
[null,null,null,null,{"$f":"IF(D288=\"\",0,SUM(D$8:D288))","v":0},null,{"$f":"IF(F288=\"\",0,SUM(F$8:F288))","v":0}]
[null,null,null,null,{"$f":"IF(D289=\"\",0,SUM(D$8:D289))","v":0},null,{"$f":"IF(F289=\"\",0,SUM(F$8:F289))","v":0}]
[null,null,null,null,{"$f":"IF(D290=\"\",0,SUM(D$8:D290))","v":0},null,{"$f":"IF(F290=\"\",0,SUM(F$8:F290))","v":0}]
[null,null,null,null,{"$f":"IF(D291=\"\",0,SUM(D$8:D291))","v":0},null,{"$f":"IF(F291=\"\",0,SUM(F$8:F291))","v":0}]
[null,null,null,null,{"$f":"IF(D292=\"\",0,SUM(D$8:D292))","v":0},null,{"$f":"IF(F292=\"\",0,SUM(F$8:F292))","v":0}]
[null,null,null,null,{"$f":"IF(D293=\"\",0,SUM(D$8:D293))","v":0},null,{"$f":"IF(F293=\"\",0,SUM(F$8:F293))","v":0}]
[null,null,null,null,{"$f":"IF(D294=\"\",0,SUM(D$8:D294))","v":0},null,{"$f":"IF(F294=\"\",0,SUM(F$8:F294))","v":0}]
[null,null,null,null,{"$f":"IF(D295=\"\",0,SUM(D$8:D295))","v":0},null,{"$f":"IF(F295=\"\",0,SUM(F$8:F295))","v":0}]
[null,null,null,null,{"$f":"IF(D296=\"\",0,SUM(D$8:D296))","v":0},null,{"$f":"IF(F296=\"\",0,SUM(F$8:F296))","v":0}]
[null,null,null,null,{"$f":"IF(D297=\"\",0,SUM(D$8:D297))","v":0},null,{"$f":"IF(F297=\"\",0,SUM(F$8:F297))","v":0}]
[null,null,null,null,{"$f":"IF(D298=\"\",0,SUM(D$8:D298))","v":0},null,{"$f":"IF(F298=\"\",0,SUM(F$8:F298))","v":0}]
[null,null,null,null,{"$f":"IF(D299=\"\",0,SUM(D$8:D299))","v":0},null,{"$f":"IF(F299=\"\",0,SUM(F$8:F299))","v":0}]
[null,null,null,null,{"$f":"IF(D300=\"\",0,SUM(D$8:D300))","v":0},null,{"$f":"IF(F300=\"\",0,SUM(F$8:F300))","v":0}]
[null,null,null,null,{"$f":"IF(D301=\"\",0,SUM(D$8:D301))","v":0},null,{"$f":"IF(F301=\"\",0,SUM(F$8:F301))","v":0}]
[null,null,null,null,{"$f":"IF(D302=\"\",0,SUM(D$8:D302))","v":0},null,{"$f":"IF(F302=\"\",0,SUM(F$8:F302))","v":0}]
[null,null,null,null,{"$f":"IF(D303=\"\",0,SUM(D$8:D303))","v":0},null,{"$f":"IF(F303=\"\",0,SUM(F$8:F303))","v":0}]
[null,null,null,null,{"$f":"IF(D304=\"\",0,SUM(D$8:D304))","v":0},null,{"$f":"IF(F304=\"\",0,SUM(F$8:F304))","v":0}]
[null,null,null,null,{"$f":"IF(D305=\"\",0,SUM(D$8:D305))","v":0},null,{"$f":"IF(F305=\"\",0,SUM(F$8:F305))","v":0}]
[null,null,null,null,{"$f":"IF(D306=\"\",0,SUM(D$8:D306))","v":0},null,{"$f":"IF(F306=\"\",0,SUM(F$8:F306))","v":0}]
[null,null,null,null,{"$f":"IF(D307=\"\",0,SUM(D$8:D307))","v":0},null,{"$f":"IF(F307=\"\",0,SUM(F$8:F307))","v":0}]
[null,null,null,null,{"$f":"IF(D308=\"\",0,SUM(D$8:D308))","v":0},null,{"$f":"IF(F308=\"\",0,SUM(F$8:F308))","v":0}]
[null,null,null,null,{"$f":"IF(D309=\"\",0,SUM(D$8:D309))","v":0},null,{"$f":"IF(F309=\"\",0,SUM(F$8:F309))","v":0}]
[null,null,null,null,{"$f":"IF(D310=\"\",0,SUM(D$8:D310))","v":0},null,{"$f":"IF(F310=\"\",0,SUM(F$8:F310))","v":0}]
[null,null,null,null,{"$f":"IF(D311=\"\",0,SUM(D$8:D311))","v":0},null,{"$f":"IF(F311=\"\",0,SUM(F$8:F311))","v":0}]
[null,null,null,null,{"$f":"IF(D312=\"\",0,SUM(D$8:D312))","v":0},null,{"$f":"IF(F312=\"\",0,SUM(F$8:F312))","v":0}]
[null,null,null,null,{"$f":"IF(D313=\"\",0,SUM(D$8:D313))","v":0},null,{"$f":"IF(F313=\"\",0,SUM(F$8:F313))","v":0}]
[null,null,null,null,{"$f":"IF(D314=\"\",0,SUM(D$8:D314))","v":0},null,{"$f":"IF(F314=\"\",0,SUM(F$8:F314))","v":0}]
[null,null,null,null,{"$f":"IF(D315=\"\",0,SUM(D$8:D315))","v":0},null,{"$f":"IF(F315=\"\",0,SUM(F$8:F315))","v":0}]
[null,null,null,null,{"$f":"IF(D316=\"\",0,SUM(D$8:D316))","v":0},null,{"$f":"IF(F316=\"\",0,SUM(F$8:F316))","v":0}]
[null,null,null,null,{"$f":"IF(D317=\"\",0,SUM(D$8:D317))","v":0},null,{"$f":"IF(F317=\"\",0,SUM(F$8:F317))","v":0}]
[null,null,null,null,{"$f":"IF(D318=\"\",0,SUM(D$8:D318))","v":0},null,{"$f":"IF(F318=\"\",0,SUM(F$8:F318))","v":0}]
[null,null,null,null,{"$f":"IF(D319=\"\",0,SUM(D$8:D319))","v":0},null,{"$f":"IF(F319=\"\",0,SUM(F$8:F319))","v":0}]
[null,null,null,null,{"$f":"IF(D320=\"\",0,SUM(D$8:D320))","v":0},null,{"$f":"IF(F320=\"\",0,SUM(F$8:F320))","v":0}]
[null,null,null,null,{"$f":"IF(D321=\"\",0,SUM(D$8:D321))","v":0},null,{"$f":"IF(F321=\"\",0,SUM(F$8:F321))","v":0}]
[null,null,null,null,{"$f":"IF(D322=\"\",0,SUM(D$8:D322))","v":0},null,{"$f":"IF(F322=\"\",0,SUM(F$8:F322))","v":0}]
[null,null,null,null,{"$f":"IF(D323=\"\",0,SUM(D$8:D323))","v":0},null,{"$f":"IF(F323=\"\",0,SUM(F$8:F323))","v":0}]
[null,null,null,null,{"$f":"IF(D324=\"\",0,SUM(D$8:D324))","v":0},null,{"$f":"IF(F324=\"\",0,SUM(F$8:F324))","v":0}]
[null,null,null,null,{"$f":"IF(D325=\"\",0,SUM(D$8:D325))","v":0},null,{"$f":"IF(F325=\"\",0,SUM(F$8:F325))","v":0}]
[null,null,null,null,{"$f":"IF(D326=\"\",0,SUM(D$8:D326))","v":0},null,{"$f":"IF(F326=\"\",0,SUM(F$8:F326))","v":0}]
[null,null,null,null,{"$f":"IF(D327=\"\",0,SUM(D$8:D327))","v":0},null,{"$f":"IF(F327=\"\",0,SUM(F$8:F327))","v":0}]
[null,null,null,null,{"$f":"IF(D328=\"\",0,SUM(D$8:D328))","v":0},null,{"$f":"IF(F328=\"\",0,SUM(F$8:F328))","v":0}]
[null,null,null,null,{"$f":"IF(D329=\"\",0,SUM(D$8:D329))","v":0},null,{"$f":"IF(F329=\"\",0,SUM(F$8:F329))","v":0}]
[null,null,null,null,{"$f":"IF(D330=\"\",0,SUM(D$8:D330))","v":0},null,{"$f":"IF(F330=\"\",0,SUM(F$8:F330))","v":0}]
[null,null,null,null,{"$f":"IF(D331=\"\",0,SUM(D$8:D331))","v":0},null,{"$f":"IF(F331=\"\",0,SUM(F$8:F331))","v":0}]
[null,null,null,null,{"$f":"IF(D332=\"\",0,SUM(D$8:D332))","v":0},null,{"$f":"IF(F332=\"\",0,SUM(F$8:F332))","v":0}]
[null,null,null,null,{"$f":"IF(D333=\"\",0,SUM(D$8:D333))","v":0},null,{"$f":"IF(F333=\"\",0,SUM(F$8:F333))","v":0}]
[null,null,null,null,{"$f":"IF(D334=\"\",0,SUM(D$8:D334))","v":0},null,{"$f":"IF(F334=\"\",0,SUM(F$8:F334))","v":0}]
[null,null,null,null,{"$f":"IF(D335=\"\",0,SUM(D$8:D335))","v":0},null,{"$f":"IF(F335=\"\",0,SUM(F$8:F335))","v":0}]
[null,null,null,null,{"$f":"IF(D336=\"\",0,SUM(D$8:D336))","v":0},null,{"$f":"IF(F336=\"\",0,SUM(F$8:F336))","v":0}]
[null,null,null,null,{"$f":"IF(D337=\"\",0,SUM(D$8:D337))","v":0},null,{"$f":"IF(F337=\"\",0,SUM(F$8:F337))","v":0}]
[null,null,null,null,{"$f":"IF(D338=\"\",0,SUM(D$8:D338))","v":0},null,{"$f":"IF(F338=\"\",0,SUM(F$8:F338))","v":0}]
[null,null,null,null,{"$f":"IF(D339=\"\",0,SUM(D$8:D339))","v":0},null,{"$f":"IF(F339=\"\",0,SUM(F$8:F339))","v":0}]
[null,null,null,null,{"$f":"IF(D340=\"\",0,SUM(D$8:D340))","v":0},null,{"$f":"IF(F340=\"\",0,SUM(F$8:F340))","v":0}]
[null,null,null,null,{"$f":"IF(D341=\"\",0,SUM(D$8:D341))","v":0},null,{"$f":"IF(F341=\"\",0,SUM(F$8:F341))","v":0}]
[null,null,null,null,{"$f":"IF(D342=\"\",0,SUM(D$8:D342))","v":0},null,{"$f":"IF(F342=\"\",0,SUM(F$8:F342))","v":0}]
[null,null,null,null,{"$f":"IF(D343=\"\",0,SUM(D$8:D343))","v":0},null,{"$f":"IF(F343=\"\",0,SUM(F$8:F343))","v":0}]
[null,null,null,null,{"$f":"IF(D344=\"\",0,SUM(D$8:D344))","v":0},null,{"$f":"IF(F344=\"\",0,SUM(F$8:F344))","v":0}]
[null,null,null,null,{"$f":"IF(D345=\"\",0,SUM(D$8:D345))","v":0},null,{"$f":"IF(F345=\"\",0,SUM(F$8:F345))","v":0}]
[null,null,null,null,{"$f":"IF(D346=\"\",0,SUM(D$8:D346))","v":0},null,{"$f":"IF(F346=\"\",0,SUM(F$8:F346))","v":0}]
[null,null,null,null,{"$f":"IF(D347=\"\",0,SUM(D$8:D347))","v":0},null,{"$f":"IF(F347=\"\",0,SUM(F$8:F347))","v":0}]
[null,null,null,null,{"$f":"IF(D348=\"\",0,SUM(D$8:D348))","v":0},null,{"$f":"IF(F348=\"\",0,SUM(F$8:F348))","v":0}]
[null,null,null,null,{"$f":"IF(D349=\"\",0,SUM(D$8:D349))","v":0},null,{"$f":"IF(F349=\"\",0,SUM(F$8:F349))","v":0}]
[null,null,null,null,{"$f":"IF(D350=\"\",0,SUM(D$8:D350))","v":0},null,{"$f":"IF(F350=\"\",0,SUM(F$8:F350))","v":0}]
[null,null,null,null,{"$f":"IF(D351=\"\",0,SUM(D$8:D351))","v":0},null,{"$f":"IF(F351=\"\",0,SUM(F$8:F351))","v":0}]
[null,null,null,null,{"$f":"IF(D352=\"\",0,SUM(D$8:D352))","v":0},null,{"$f":"IF(F352=\"\",0,SUM(F$8:F352))","v":0}]
[null,null,null,null,{"$f":"IF(D353=\"\",0,SUM(D$8:D353))","v":0},null,{"$f":"IF(F353=\"\",0,SUM(F$8:F353))","v":0}]
[null,null,null,null,{"$f":"IF(D354=\"\",0,SUM(D$8:D354))","v":0},null,{"$f":"IF(F354=\"\",0,SUM(F$8:F354))","v":0}]
[null,null,null,null,{"$f":"IF(D355=\"\",0,SUM(D$8:D355))","v":0},null,{"$f":"IF(F355=\"\",0,SUM(F$8:F355))","v":0}]
[null,null,null,null,{"$f":"IF(D356=\"\",0,SUM(D$8:D356))","v":0},null,{"$f":"IF(F356=\"\",0,SUM(F$8:F356))","v":0}]
[null,null,null,null,{"$f":"IF(D357=\"\",0,SUM(D$8:D357))","v":0},null,{"$f":"IF(F357=\"\",0,SUM(F$8:F357))","v":0}]
[null,null,null,null,{"$f":"IF(D358=\"\",0,SUM(D$8:D358))","v":0},null,{"$f":"IF(F358=\"\",0,SUM(F$8:F358))","v":0}]
[null,null,null,null,{"$f":"IF(D359=\"\",0,SUM(D$8:D359))","v":0},null,{"$f":"IF(F359=\"\",0,SUM(F$8:F359))","v":0}]
[null,null,null,null,{"$f":"IF(D360=\"\",0,SUM(D$8:D360))","v":0},null,{"$f":"IF(F360=\"\",0,SUM(F$8:F360))","v":0}]
[null,null,null,null,{"$f":"IF(D361=\"\",0,SUM(D$8:D361))","v":0},null,{"$f":"IF(F361=\"\",0,SUM(F$8:F361))","v":0}]
[null,null,null,null,{"$f":"IF(D362=\"\",0,SUM(D$8:D362))","v":0},null,{"$f":"IF(F362=\"\",0,SUM(F$8:F362))","v":0}]
[null,null,null,null,{"$f":"IF(D363=\"\",0,SUM(D$8:D363))","v":0},null,{"$f":"IF(F363=\"\",0,SUM(F$8:F363))","v":0}]
[null,null,null,null,{"$f":"IF(D364=\"\",0,SUM(D$8:D364))","v":0},null,{"$f":"IF(F364=\"\",0,SUM(F$8:F364))","v":0}]
[null,null,null,null,{"$f":"IF(D365=\"\",0,SUM(D$8:D365))","v":0},null,{"$f":"IF(F365=\"\",0,SUM(F$8:F365))","v":0}]
[null,null,null,null,{"$f":"IF(D366=\"\",0,SUM(D$8:D366))","v":0},null,{"$f":"IF(F366=\"\",0,SUM(F$8:F366))","v":0}]
[null,null,null,null,{"$f":"IF(D367=\"\",0,SUM(D$8:D367))","v":0},null,{"$f":"IF(F367=\"\",0,SUM(F$8:F367))","v":0}]
[null,null,null,null,{"$f":"IF(D368=\"\",0,SUM(D$8:D368))","v":0},null,{"$f":"IF(F368=\"\",0,SUM(F$8:F368))","v":0}]
[null,null,null,null,{"$f":"IF(D369=\"\",0,SUM(D$8:D369))","v":0},null,{"$f":"IF(F369=\"\",0,SUM(F$8:F369))","v":0}]
[null,null,null,null,{"$f":"IF(D370=\"\",0,SUM(D$8:D370))","v":0},null,{"$f":"IF(F370=\"\",0,SUM(F$8:F370))","v":0}]
[null,null,null,null,{"$f":"IF(D371=\"\",0,SUM(D$8:D371))","v":0},null,{"$f":"IF(F371=\"\",0,SUM(F$8:F371))","v":0}]
[null,null,null,null,{"$f":"IF(D372=\"\",0,SUM(D$8:D372))","v":0},null,{"$f":"IF(F372=\"\",0,SUM(F$8:F372))","v":0}]
[null,null,null,null,{"$f":"IF(D373=\"\",0,SUM(D$8:D373))","v":0},null,{"$f":"IF(F373=\"\",0,SUM(F$8:F373))","v":0}]
[null,null,null,null,{"$f":"IF(D374=\"\",0,SUM(D$8:D374))","v":0},null,{"$f":"IF(F374=\"\",0,SUM(F$8:F374))","v":0}]
[null,null,null,null,{"$f":"IF(D375=\"\",0,SUM(D$8:D375))","v":0},null,{"$f":"IF(F375=\"\",0,SUM(F$8:F375))","v":0}]
[null,null,null,null,{"$f":"IF(D376=\"\",0,SUM(D$8:D376))","v":0},null,{"$f":"IF(F376=\"\",0,SUM(F$8:F376))","v":0}]
[null,null,null,null,{"$f":"IF(D377=\"\",0,SUM(D$8:D377))","v":0},null,{"$f":"IF(F377=\"\",0,SUM(F$8:F377))","v":0}]
[null,null,null,null,{"$f":"IF(D378=\"\",0,SUM(D$8:D378))","v":0},null,{"$f":"IF(F378=\"\",0,SUM(F$8:F378))","v":0}]
[null,null,null,null,{"$f":"IF(D379=\"\",0,SUM(D$8:D379))","v":0},null,{"$f":"IF(F379=\"\",0,SUM(F$8:F379))","v":0}]
[null,null,null,null,{"$f":"IF(D380=\"\",0,SUM(D$8:D380))","v":0},null,{"$f":"IF(F380=\"\",0,SUM(F$8:F380))","v":0}]
[null,null,null,null,{"$f":"IF(D381=\"\",0,SUM(D$8:D381))","v":0},null,{"$f":"IF(F381=\"\",0,SUM(F$8:F381))","v":0}]
[null,null,null,null,{"$f":"IF(D382=\"\",0,SUM(D$8:D382))","v":0},null,{"$f":"IF(F382=\"\",0,SUM(F$8:F382))","v":0}]
[null,null,null,null,{"$f":"IF(D383=\"\",0,SUM(D$8:D383))","v":0},null,{"$f":"IF(F383=\"\",0,SUM(F$8:F383))","v":0}]
[null,null,null,null,{"$f":"IF(D384=\"\",0,SUM(D$8:D384))","v":0},null,{"$f":"IF(F384=\"\",0,SUM(F$8:F384))","v":0}]
[null,null,null,null,{"$f":"IF(D385=\"\",0,SUM(D$8:D385))","v":0},null,{"$f":"IF(F385=\"\",0,SUM(F$8:F385))","v":0}]
[null,null,null,null,{"$f":"IF(D386=\"\",0,SUM(D$8:D386))","v":0},null,{"$f":"IF(F386=\"\",0,SUM(F$8:F386))","v":0}]
[null,null,null,null,{"$f":"IF(D387=\"\",0,SUM(D$8:D387))","v":0},null,{"$f":"IF(F387=\"\",0,SUM(F$8:F387))","v":0}]
[null,null,null,null,{"$f":"IF(D388=\"\",0,SUM(D$8:D388))","v":0},null,{"$f":"IF(F388=\"\",0,SUM(F$8:F388))","v":0}]
[null,null,null,null,{"$f":"IF(D389=\"\",0,SUM(D$8:D389))","v":0},null,{"$f":"IF(F389=\"\",0,SUM(F$8:F389))","v":0}]
[null,null,null,null,{"$f":"IF(D390=\"\",0,SUM(D$8:D390))","v":0},null,{"$f":"IF(F390=\"\",0,SUM(F$8:F390))","v":0}]
[null,null,null,null,{"$f":"IF(D391=\"\",0,SUM(D$8:D391))","v":0},null,{"$f":"IF(F391=\"\",0,SUM(F$8:F391))","v":0}]
[null,null,null,null,{"$f":"IF(D392=\"\",0,SUM(D$8:D392))","v":0},null,{"$f":"IF(F392=\"\",0,SUM(F$8:F392))","v":0}]
[null,null,null,null,{"$f":"IF(D393=\"\",0,SUM(D$8:D393))","v":0},null,{"$f":"IF(F393=\"\",0,SUM(F$8:F393))","v":0}]
[null,null,null,null,{"$f":"IF(D394=\"\",0,SUM(D$8:D394))","v":0},null,{"$f":"IF(F394=\"\",0,SUM(F$8:F394))","v":0}]
[null,null,null,null,{"$f":"IF(D395=\"\",0,SUM(D$8:D395))","v":0},null,{"$f":"IF(F395=\"\",0,SUM(F$8:F395))","v":0}]
[null,null,null,null,{"$f":"IF(D396=\"\",0,SUM(D$8:D396))","v":0},null,{"$f":"IF(F396=\"\",0,SUM(F$8:F396))","v":0}]
[null,null,null,null,{"$f":"IF(D397=\"\",0,SUM(D$8:D397))","v":0},null,{"$f":"IF(F397=\"\",0,SUM(F$8:F397))","v":0}]
[null,null,null,null,{"$f":"IF(D398=\"\",0,SUM(D$8:D398))","v":0},null,{"$f":"IF(F398=\"\",0,SUM(F$8:F398))","v":0}]
[null,null,null,null,{"$f":"IF(D399=\"\",0,SUM(D$8:D399))","v":0},null,{"$f":"IF(F399=\"\",0,SUM(F$8:F399))","v":0}]
[null,null,null,null,{"$f":"IF(D400=\"\",0,SUM(D$8:D400))","v":0},null,{"$f":"IF(F400=\"\",0,SUM(F$8:F400))","v":0}]
[null,null,null,null,{"$f":"IF(D401=\"\",0,SUM(D$8:D401))","v":0},null,{"$f":"IF(F401=\"\",0,SUM(F$8:F401))","v":0}]
[null,null,null,null,{"$f":"IF(D402=\"\",0,SUM(D$8:D402))","v":0},null,{"$f":"IF(F402=\"\",0,SUM(F$8:F402))","v":0}]
[null,null,null,null,{"$f":"IF(D403=\"\",0,SUM(D$8:D403))","v":0},null,{"$f":"IF(F403=\"\",0,SUM(F$8:F403))","v":0}]
[null,null,null,null,{"$f":"IF(D404=\"\",0,SUM(D$8:D404))","v":0},null,{"$f":"IF(F404=\"\",0,SUM(F$8:F404))","v":0}]
[null,null,null,null,{"$f":"IF(D405=\"\",0,SUM(D$8:D405))","v":0},null,{"$f":"IF(F405=\"\",0,SUM(F$8:F405))","v":0}]
[null,null,null,null,{"$f":"IF(D406=\"\",0,SUM(D$8:D406))","v":0},null,{"$f":"IF(F406=\"\",0,SUM(F$8:F406))","v":0}]
[null,null,null,null,{"$f":"IF(D407=\"\",0,SUM(D$8:D407))","v":0},null,{"$f":"IF(F407=\"\",0,SUM(F$8:F407))","v":0}]
[null,null,null,null,{"$f":"IF(D408=\"\",0,SUM(D$8:D408))","v":0},null,{"$f":"IF(F408=\"\",0,SUM(F$8:F408))","v":0}]
[null,null,null,null,{"$f":"IF(D409=\"\",0,SUM(D$8:D409))","v":0},null,{"$f":"IF(F409=\"\",0,SUM(F$8:F409))","v":0}]
[null,null,null,null,{"$f":"IF(D410=\"\",0,SUM(D$8:D410))","v":0},null,{"$f":"IF(F410=\"\",0,SUM(F$8:F410))","v":0}]
[null,null,null,null,{"$f":"IF(D411=\"\",0,SUM(D$8:D411))","v":0},null,{"$f":"IF(F411=\"\",0,SUM(F$8:F411))","v":0}]
[null,null,null,null,{"$f":"IF(D412=\"\",0,SUM(D$8:D412))","v":0},null,{"$f":"IF(F412=\"\",0,SUM(F$8:F412))","v":0}]
[null,null,null,null,{"$f":"IF(D413=\"\",0,SUM(D$8:D413))","v":0},null,{"$f":"IF(F413=\"\",0,SUM(F$8:F413))","v":0}]
[null,null,null,null,{"$f":"IF(D414=\"\",0,SUM(D$8:D414))","v":0},null,{"$f":"IF(F414=\"\",0,SUM(F$8:F414))","v":0}]
[null,null,null,null,{"$f":"IF(D415=\"\",0,SUM(D$8:D415))","v":0},null,{"$f":"IF(F415=\"\",0,SUM(F$8:F415))","v":0}]
[null,null,null,null,{"$f":"IF(D416=\"\",0,SUM(D$8:D416))","v":0},null,{"$f":"IF(F416=\"\",0,SUM(F$8:F416))","v":0}]
[null,null,null,null,{"$f":"IF(D417=\"\",0,SUM(D$8:D417))","v":0},null,{"$f":"IF(F417=\"\",0,SUM(F$8:F417))","v":0}]
[null,null,null,null,{"$f":"IF(D418=\"\",0,SUM(D$8:D418))","v":0},null,{"$f":"IF(F418=\"\",0,SUM(F$8:F418))","v":0}]
[null,null,null,null,{"$f":"IF(D419=\"\",0,SUM(D$8:D419))","v":0},null,{"$f":"IF(F419=\"\",0,SUM(F$8:F419))","v":0}]
[null,null,null,null,{"$f":"IF(D420=\"\",0,SUM(D$8:D420))","v":0},null,{"$f":"IF(F420=\"\",0,SUM(F$8:F420))","v":0}]
[null,null,null,null,{"$f":"IF(D421=\"\",0,SUM(D$8:D421))","v":0},null,{"$f":"IF(F421=\"\",0,SUM(F$8:F421))","v":0}]
[null,null,null,null,{"$f":"IF(D422=\"\",0,SUM(D$8:D422))","v":0},null,{"$f":"IF(F422=\"\",0,SUM(F$8:F422))","v":0}]
[null,null,null,null,{"$f":"IF(D423=\"\",0,SUM(D$8:D423))","v":0},null,{"$f":"IF(F423=\"\",0,SUM(F$8:F423))","v":0}]
[null,null,null,null,{"$f":"IF(D424=\"\",0,SUM(D$8:D424))","v":0},null,{"$f":"IF(F424=\"\",0,SUM(F$8:F424))","v":0}]
[null,null,null,null,{"$f":"IF(D425=\"\",0,SUM(D$8:D425))","v":0},null,{"$f":"IF(F425=\"\",0,SUM(F$8:F425))","v":0}]
[null,null,null,null,{"$f":"IF(D426=\"\",0,SUM(D$8:D426))","v":0},null,{"$f":"IF(F426=\"\",0,SUM(F$8:F426))","v":0}]
[null,null,null,null,{"$f":"IF(D427=\"\",0,SUM(D$8:D427))","v":0},null,{"$f":"IF(F427=\"\",0,SUM(F$8:F427))","v":0}]
[null,null,null,null,{"$f":"IF(D428=\"\",0,SUM(D$8:D428))","v":0},null,{"$f":"IF(F428=\"\",0,SUM(F$8:F428))","v":0}]
[null,null,null,null,{"$f":"IF(D429=\"\",0,SUM(D$8:D429))","v":0},null,{"$f":"IF(F429=\"\",0,SUM(F$8:F429))","v":0}]
[null,null,null,null,{"$f":"IF(D430=\"\",0,SUM(D$8:D430))","v":0},null,{"$f":"IF(F430=\"\",0,SUM(F$8:F430))","v":0}]
[null,null,null,null,{"$f":"IF(D431=\"\",0,SUM(D$8:D431))","v":0},null,{"$f":"IF(F431=\"\",0,SUM(F$8:F431))","v":0}]
[null,null,null,null,{"$f":"IF(D432=\"\",0,SUM(D$8:D432))","v":0},null,{"$f":"IF(F432=\"\",0,SUM(F$8:F432))","v":0}]
[null,null,null,null,{"$f":"IF(D433=\"\",0,SUM(D$8:D433))","v":0},null,{"$f":"IF(F433=\"\",0,SUM(F$8:F433))","v":0}]
[null,null,null,null,{"$f":"IF(D434=\"\",0,SUM(D$8:D434))","v":0},null,{"$f":"IF(F434=\"\",0,SUM(F$8:F434))","v":0}]
[null,null,null,null,{"$f":"IF(D435=\"\",0,SUM(D$8:D435))","v":0},null,{"$f":"IF(F435=\"\",0,SUM(F$8:F435))","v":0}]
[null,null,null,null,{"$f":"IF(D436=\"\",0,SUM(D$8:D436))","v":0},null,{"$f":"IF(F436=\"\",0,SUM(F$8:F436))","v":0}]
[null,null,null,null,{"$f":"IF(D437=\"\",0,SUM(D$8:D437))","v":0},null,{"$f":"IF(F437=\"\",0,SUM(F$8:F437))","v":0}]
[null,null,null,null,{"$f":"IF(D438=\"\",0,SUM(D$8:D438))","v":0},null,{"$f":"IF(F438=\"\",0,SUM(F$8:F438))","v":0}]
[null,null,null,null,{"$f":"IF(D439=\"\",0,SUM(D$8:D439))","v":0},null,{"$f":"IF(F439=\"\",0,SUM(F$8:F439))","v":0}]
[null,null,null,null,{"$f":"IF(D440=\"\",0,SUM(D$8:D440))","v":0},null,{"$f":"IF(F440=\"\",0,SUM(F$8:F440))","v":0}]
[null,null,null,null,{"$f":"IF(D441=\"\",0,SUM(D$8:D441))","v":0},null,{"$f":"IF(F441=\"\",0,SUM(F$8:F441))","v":0}]
[null,null,null,null,{"$f":"IF(D442=\"\",0,SUM(D$8:D442))","v":0},null,{"$f":"IF(F442=\"\",0,SUM(F$8:F442))","v":0}]
[null,null,null,null,{"$f":"IF(D443=\"\",0,SUM(D$8:D443))","v":0},null,{"$f":"IF(F443=\"\",0,SUM(F$8:F443))","v":0}]
[null,null,null,null,{"$f":"IF(D444=\"\",0,SUM(D$8:D444))","v":0},null,{"$f":"IF(F444=\"\",0,SUM(F$8:F444))","v":0}]
[null,null,null,null,{"$f":"IF(D445=\"\",0,SUM(D$8:D445))","v":0},null,{"$f":"IF(F445=\"\",0,SUM(F$8:F445))","v":0}]
[null,null,null,null,{"$f":"IF(D446=\"\",0,SUM(D$8:D446))","v":0},null,{"$f":"IF(F446=\"\",0,SUM(F$8:F446))","v":0}]
[null,null,null,null,{"$f":"IF(D447=\"\",0,SUM(D$8:D447))","v":0},null,{"$f":"IF(F447=\"\",0,SUM(F$8:F447))","v":0}]
[null,null,null,null,{"$f":"IF(D448=\"\",0,SUM(D$8:D448))","v":0},null,{"$f":"IF(F448=\"\",0,SUM(F$8:F448))","v":0}]
[null,null,null,null,{"$f":"IF(D449=\"\",0,SUM(D$8:D449))","v":0},null,{"$f":"IF(F449=\"\",0,SUM(F$8:F449))","v":0}]
[null,null,null,null,{"$f":"IF(D450=\"\",0,SUM(D$8:D450))","v":0},null,{"$f":"IF(F450=\"\",0,SUM(F$8:F450))","v":0}]
[null,null,null,null,{"$f":"IF(D451=\"\",0,SUM(D$8:D451))","v":0},null,{"$f":"IF(F451=\"\",0,SUM(F$8:F451))","v":0}]
[null,null,null,null,{"$f":"IF(D452=\"\",0,SUM(D$8:D452))","v":0},null,{"$f":"IF(F452=\"\",0,SUM(F$8:F452))","v":0}]
[null,null,null,null,{"$f":"IF(D453=\"\",0,SUM(D$8:D453))","v":0},null,{"$f":"IF(F453=\"\",0,SUM(F$8:F453))","v":0}]
[null,null,null,null,{"$f":"IF(D454=\"\",0,SUM(D$8:D454))","v":0},null,{"$f":"IF(F454=\"\",0,SUM(F$8:F454))","v":0}]
[null,null,null,null,{"$f":"IF(D455=\"\",0,SUM(D$8:D455))","v":0},null,{"$f":"IF(F455=\"\",0,SUM(F$8:F455))","v":0}]
[null,null,null,null,{"$f":"IF(D456=\"\",0,SUM(D$8:D456))","v":0},null,{"$f":"IF(F456=\"\",0,SUM(F$8:F456))","v":0}]
[null,null,null,null,{"$f":"IF(D457=\"\",0,SUM(D$8:D457))","v":0},null,{"$f":"IF(F457=\"\",0,SUM(F$8:F457))","v":0}]
[null,null,null,null,{"$f":"IF(D458=\"\",0,SUM(D$8:D458))","v":0},null,{"$f":"IF(F458=\"\",0,SUM(F$8:F458))","v":0}]
[null,null,null,null,{"$f":"IF(D459=\"\",0,SUM(D$8:D459))","v":0},null,{"$f":"IF(F459=\"\",0,SUM(F$8:F459))","v":0}]
[null,null,null,null,{"$f":"IF(D460=\"\",0,SUM(D$8:D460))","v":0},null,{"$f":"IF(F460=\"\",0,SUM(F$8:F460))","v":0}]
[null,null,null,null,{"$f":"IF(D461=\"\",0,SUM(D$8:D461))","v":0},null,{"$f":"IF(F461=\"\",0,SUM(F$8:F461))","v":0}]
[null,null,null,null,{"$f":"IF(D462=\"\",0,SUM(D$8:D462))","v":0},null,{"$f":"IF(F462=\"\",0,SUM(F$8:F462))","v":0}]
[null,null,null,null,{"$f":"IF(D463=\"\",0,SUM(D$8:D463))","v":0},null,{"$f":"IF(F463=\"\",0,SUM(F$8:F463))","v":0}]
[null,null,null,null,{"$f":"IF(D464=\"\",0,SUM(D$8:D464))","v":0},null,{"$f":"IF(F464=\"\",0,SUM(F$8:F464))","v":0}]
[null,null,null,null,{"$f":"IF(D465=\"\",0,SUM(D$8:D465))","v":0},null,{"$f":"IF(F465=\"\",0,SUM(F$8:F465))","v":0}]
[null,null,null,null,{"$f":"IF(D466=\"\",0,SUM(D$8:D466))","v":0},null,{"$f":"IF(F466=\"\",0,SUM(F$8:F466))","v":0}]
[null,null,null,null,{"$f":"IF(D467=\"\",0,SUM(D$8:D467))","v":0},null,{"$f":"IF(F467=\"\",0,SUM(F$8:F467))","v":0}]
[null,null,null,null,{"$f":"IF(D468=\"\",0,SUM(D$8:D468))","v":0},null,{"$f":"IF(F468=\"\",0,SUM(F$8:F468))","v":0}]
[null,null,null,null,{"$f":"IF(D469=\"\",0,SUM(D$8:D469))","v":0},null,{"$f":"IF(F469=\"\",0,SUM(F$8:F469))","v":0}]
[null,null,null,null,{"$f":"IF(D470=\"\",0,SUM(D$8:D470))","v":0},null,{"$f":"IF(F470=\"\",0,SUM(F$8:F470))","v":0}]
[null,null,null,null,{"$f":"IF(D471=\"\",0,SUM(D$8:D471))","v":0},null,{"$f":"IF(F471=\"\",0,SUM(F$8:F471))","v":0}]
[null,null,null,null,{"$f":"IF(D472=\"\",0,SUM(D$8:D472))","v":0},null,{"$f":"IF(F472=\"\",0,SUM(F$8:F472))","v":0}]
[null,null,null,null,{"$f":"IF(D473=\"\",0,SUM(D$8:D473))","v":0},null,{"$f":"IF(F473=\"\",0,SUM(F$8:F473))","v":0}]
[null,null,null,null,{"$f":"IF(D474=\"\",0,SUM(D$8:D474))","v":0},null,{"$f":"IF(F474=\"\",0,SUM(F$8:F474))","v":0}]
[null,null,null,null,{"$f":"IF(D475=\"\",0,SUM(D$8:D475))","v":0},null,{"$f":"IF(F475=\"\",0,SUM(F$8:F475))","v":0}]
[null,null,null,null,{"$f":"IF(D476=\"\",0,SUM(D$8:D476))","v":0},null,{"$f":"IF(F476=\"\",0,SUM(F$8:F476))","v":0}]
[null,null,null,null,{"$f":"IF(D477=\"\",0,SUM(D$8:D477))","v":0},null,{"$f":"IF(F477=\"\",0,SUM(F$8:F477))","v":0}]
[null,null,null,null,{"$f":"IF(D478=\"\",0,SUM(D$8:D478))","v":0},null,{"$f":"IF(F478=\"\",0,SUM(F$8:F478))","v":0}]
[null,null,null,null,{"$f":"IF(D479=\"\",0,SUM(D$8:D479))","v":0},null,{"$f":"IF(F479=\"\",0,SUM(F$8:F479))","v":0}]
[null,null,null,null,{"$f":"IF(D480=\"\",0,SUM(D$8:D480))","v":0},null,{"$f":"IF(F480=\"\",0,SUM(F$8:F480))","v":0}]
[null,null,null,null,{"$f":"IF(D481=\"\",0,SUM(D$8:D481))","v":0},null,{"$f":"IF(F481=\"\",0,SUM(F$8:F481))","v":0}]
[null,null,null,null,{"$f":"IF(D482=\"\",0,SUM(D$8:D482))","v":0},null,{"$f":"IF(F482=\"\",0,SUM(F$8:F482))","v":0}]
[null,null,null,null,{"$f":"IF(D483=\"\",0,SUM(D$8:D483))","v":0},null,{"$f":"IF(F483=\"\",0,SUM(F$8:F483))","v":0}]
[null,null,null,null,{"$f":"IF(D484=\"\",0,SUM(D$8:D484))","v":0},null,{"$f":"IF(F484=\"\",0,SUM(F$8:F484))","v":0}]
[null,null,null,null,{"$f":"IF(D485=\"\",0,SUM(D$8:D485))","v":0},null,{"$f":"IF(F485=\"\",0,SUM(F$8:F485))","v":0}]
[null,null,null,null,{"$f":"IF(D486=\"\",0,SUM(D$8:D486))","v":0},null,{"$f":"IF(F486=\"\",0,SUM(F$8:F486))","v":0}]

{"sheet":"Coarse Agg 3","index":14,"n_rows":486,"n_cols":8,"rows_kept":486,"cut":false,"hidden":false,"merged":[]}
[" Coarse Aggregate  Certification  3",null,null,null,null,null,null,{"$f":"Info!B2","v":"E"}]
["Spec. Grav.: ",{"$f":"IF(AND(Info!B49=\"\", Info!C49=\"\"),\"\", IF(Info!B49<>\"\", Info!B49, Info!C49))","v":""},null,null,null,"Page No.: "]
["Source: ",{"$f":"IF(AND(Info!B48=\"\", Info!C48=\"\"),\"\", IF(Info!B48<>\"\", Info!B48, Info!C48))","v":""},null,null,null,"Grad. No.: ",{"$f":"IF(AND(Info!B50=\"\", Info!C50=\"\"),\"\", IF(Info!B50<>\"\", Info!B50, Info!C50))","v":""}]
["Project No.: ",{"$f":"IF(Info!B3=\"\",\"\",(Info!B3))","v":""},null,null,null,"Contract ID.: ",{"$f":"IF(Info!B4=\"\",\"\",(Info!B4))","v":""}]
[]
[null,"Ticket #",null,"Certified","To Date","Used","To Date"," "]
["Date","From","To",{"$f":"IF(Info!$B$2=\"M\",\"(Mg's)\",\"(Tons)\")","v":"(Tons)"},{"$f":"IF(Info!$B$2=\"M\",\"(Mg's)\",\"(Tons)\")","v":"(Tons)"},{"$f":"IF(Info!$B$2=\"M\",\"(Mg's)\",\"(Tons)\")","v":"(Tons)"},{"$f":"IF(Info!$B$2=\"M\",\"(Mg's)\",\"(Tons)\")","v":"(Tons)"},"By"]
[null,null,null,null,{"$f":"SUM(D8)","v":0},null,{"$f":"SUM(F8)","v":0}]
[null,null,null,null,{"$f":"IF(D9=\"\",0,SUM(D$8:D9))","v":0},null,{"$f":"IF(F9=\"\",0,SUM(F$8:F9))","v":0}]
[null,null,null,null,{"$f":"IF(D10=\"\",0,SUM(D$8:D10))","v":0},null,{"$f":"IF(F10=\"\",0,SUM(F$8:F10))","v":0}]
[null,null,null,null,{"$f":"IF(D11=\"\",0,SUM(D$8:D11))","v":0},null,{"$f":"IF(F11=\"\",0,SUM(F$8:F11))","v":0}]
[null,null,null,null,{"$f":"IF(D12=\"\",0,SUM(D$8:D12))","v":0},null,{"$f":"IF(F12=\"\",0,SUM(F$8:F12))","v":0}]
[null,null,null,null,{"$f":"IF(D13=\"\",0,SUM(D$8:D13))","v":0},null,{"$f":"IF(F13=\"\",0,SUM(F$8:F13))","v":0}]
[null,null,null,null,{"$f":"IF(D14=\"\",0,SUM(D$8:D14))","v":0},null,{"$f":"IF(F14=\"\",0,SUM(F$8:F14))","v":0}]
[null,null,null,null,{"$f":"IF(D15=\"\",0,SUM(D$8:D15))","v":0},null,{"$f":"IF(F15=\"\",0,SUM(F$8:F15))","v":0}]
[null,null,null,null,{"$f":"IF(D16=\"\",0,SUM(D$8:D16))","v":0},null,{"$f":"IF(F16=\"\",0,SUM(F$8:F16))","v":0}]
[null,null,null,null,{"$f":"IF(D17=\"\",0,SUM(D$8:D17))","v":0},null,{"$f":"IF(F17=\"\",0,SUM(F$8:F17))","v":0}]
[null,null,null,null,{"$f":"IF(D18=\"\",0,SUM(D$8:D18))","v":0},null,{"$f":"IF(F18=\"\",0,SUM(F$8:F18))","v":0}]
[null,null,null,null,{"$f":"IF(D19=\"\",0,SUM(D$8:D19))","v":0},null,{"$f":"IF(F19=\"\",0,SUM(F$8:F19))","v":0}]
[null,null,null,null,{"$f":"IF(D20=\"\",0,SUM(D$8:D20))","v":0},null,{"$f":"IF(F20=\"\",0,SUM(F$8:F20))","v":0}]
[null,null,null,null,{"$f":"IF(D21=\"\",0,SUM(D$8:D21))","v":0},null,{"$f":"IF(F21=\"\",0,SUM(F$8:F21))","v":0}]
[null,null,null,null,{"$f":"IF(D22=\"\",0,SUM(D$8:D22))","v":0},null,{"$f":"IF(F22=\"\",0,SUM(F$8:F22))","v":0}]
[null,null,null,null,{"$f":"IF(D23=\"\",0,SUM(D$8:D23))","v":0},null,{"$f":"IF(F23=\"\",0,SUM(F$8:F23))","v":0}]
[null,null,null,null,{"$f":"IF(D24=\"\",0,SUM(D$8:D24))","v":0},null,{"$f":"IF(F24=\"\",0,SUM(F$8:F24))","v":0}]
[null,null,null,null,{"$f":"IF(D25=\"\",0,SUM(D$8:D25))","v":0},null,{"$f":"IF(F25=\"\",0,SUM(F$8:F25))","v":0}]
[null,null,null,null,{"$f":"IF(D26=\"\",0,SUM(D$8:D26))","v":0},null,{"$f":"IF(F26=\"\",0,SUM(F$8:F26))","v":0}]
[null,null,null,null,{"$f":"IF(D27=\"\",0,SUM(D$8:D27))","v":0},null,{"$f":"IF(F27=\"\",0,SUM(F$8:F27))","v":0}]
[null,null,null,null,{"$f":"IF(D28=\"\",0,SUM(D$8:D28))","v":0},null,{"$f":"IF(F28=\"\",0,SUM(F$8:F28))","v":0}]
[null,null,null,null,{"$f":"IF(D29=\"\",0,SUM(D$8:D29))","v":0},null,{"$f":"IF(F29=\"\",0,SUM(F$8:F29))","v":0}]
[null,null,null,null,{"$f":"IF(D30=\"\",0,SUM(D$8:D30))","v":0},null,{"$f":"IF(F30=\"\",0,SUM(F$8:F30))","v":0}]
[null,null,null,null,{"$f":"IF(D31=\"\",0,SUM(D$8:D31))","v":0},null,{"$f":"IF(F31=\"\",0,SUM(F$8:F31))","v":0}]
[null,null,null,null,{"$f":"IF(D32=\"\",0,SUM(D$8:D32))","v":0},null,{"$f":"IF(F32=\"\",0,SUM(F$8:F32))","v":0}]
[null,null,null,null,{"$f":"IF(D33=\"\",0,SUM(D$8:D33))","v":0},null,{"$f":"IF(F33=\"\",0,SUM(F$8:F33))","v":0}]
[null,null,null,null,{"$f":"IF(D34=\"\",0,SUM(D$8:D34))","v":0},null,{"$f":"IF(F34=\"\",0,SUM(F$8:F34))","v":0}]
[null,null,null,null,{"$f":"IF(D35=\"\",0,SUM(D$8:D35))","v":0},null,{"$f":"IF(F35=\"\",0,SUM(F$8:F35))","v":0}]
[null,null,null,null,{"$f":"IF(D36=\"\",0,SUM(D$8:D36))","v":0},null,{"$f":"IF(F36=\"\",0,SUM(F$8:F36))","v":0}]
[null,null,null,null,{"$f":"IF(D37=\"\",0,SUM(D$8:D37))","v":0},null,{"$f":"IF(F37=\"\",0,SUM(F$8:F37))","v":0}]
[null,null,null,null,{"$f":"IF(D38=\"\",0,SUM(D$8:D38))","v":0},null,{"$f":"IF(F38=\"\",0,SUM(F$8:F38))","v":0}]
[null,null,null,null,{"$f":"IF(D39=\"\",0,SUM(D$8:D39))","v":0},null,{"$f":"IF(F39=\"\",0,SUM(F$8:F39))","v":0}]
[null,null,null,null,{"$f":"IF(D40=\"\",0,SUM(D$8:D40))","v":0},null,{"$f":"IF(F40=\"\",0,SUM(F$8:F40))","v":0}]
[null,null,null,null,{"$f":"IF(D41=\"\",0,SUM(D$8:D41))","v":0},null,{"$f":"IF(F41=\"\",0,SUM(F$8:F41))","v":0}]
[null,null,null,null,{"$f":"IF(D42=\"\",0,SUM(D$8:D42))","v":0},null,{"$f":"IF(F42=\"\",0,SUM(F$8:F42))","v":0}]
[null,null,null,null,{"$f":"IF(D43=\"\",0,SUM(D$8:D43))","v":0},null,{"$f":"IF(F43=\"\",0,SUM(F$8:F43))","v":0}]
[null,null,null,null,{"$f":"IF(D44=\"\",0,SUM(D$8:D44))","v":0},null,{"$f":"IF(F44=\"\",0,SUM(F$8:F44))","v":0}]
[null,null,null,null,{"$f":"IF(D45=\"\",0,SUM(D$8:D45))","v":0},null,{"$f":"IF(F45=\"\",0,SUM(F$8:F45))","v":0}]
[null,null,null,null,{"$f":"IF(D46=\"\",0,SUM(D$8:D46))","v":0},null,{"$f":"IF(F46=\"\",0,SUM(F$8:F46))","v":0}]
[null,null,null,null,{"$f":"IF(D47=\"\",0,SUM(D$8:D47))","v":0},null,{"$f":"IF(F47=\"\",0,SUM(F$8:F47))","v":0}]
[null,null,null,null,{"$f":"IF(D48=\"\",0,SUM(D$8:D48))","v":0},null,{"$f":"IF(F48=\"\",0,SUM(F$8:F48))","v":0}]
[null,null,null,null,{"$f":"IF(D49=\"\",0,SUM(D$8:D49))","v":0},null,{"$f":"IF(F49=\"\",0,SUM(F$8:F49))","v":0}]
[null,null,null,null,{"$f":"IF(D50=\"\",0,SUM(D$8:D50))","v":0},null,{"$f":"IF(F50=\"\",0,SUM(F$8:F50))","v":0}]
[null,null,null,null,{"$f":"IF(D51=\"\",0,SUM(D$8:D51))","v":0},null,{"$f":"IF(F51=\"\",0,SUM(F$8:F51))","v":0}]
[null,null,null,null,{"$f":"IF(D52=\"\",0,SUM(D$8:D52))","v":0},null,{"$f":"IF(F52=\"\",0,SUM(F$8:F52))","v":0}]
[null,null,null,null,{"$f":"IF(D53=\"\",0,SUM(D$8:D53))","v":0},null,{"$f":"IF(F53=\"\",0,SUM(F$8:F53))","v":0}]
[null,null,null,null,{"$f":"IF(D54=\"\",0,SUM(D$8:D54))","v":0},null,{"$f":"IF(F54=\"\",0,SUM(F$8:F54))","v":0}]
[null,null,null,null,{"$f":"IF(D55=\"\",0,SUM(D$8:D55))","v":0},null,{"$f":"IF(F55=\"\",0,SUM(F$8:F55))","v":0}]
[null,null,null,null,{"$f":"IF(D56=\"\",0,SUM(D$8:D56))","v":0},null,{"$f":"IF(F56=\"\",0,SUM(F$8:F56))","v":0}]
[null,null,null,null,{"$f":"IF(D57=\"\",0,SUM(D$8:D57))","v":0},null,{"$f":"IF(F57=\"\",0,SUM(F$8:F57))","v":0}]
[null,null,null,null,{"$f":"IF(D58=\"\",0,SUM(D$8:D58))","v":0},null,{"$f":"IF(F58=\"\",0,SUM(F$8:F58))","v":0}]
[null,null,null,null,{"$f":"IF(D59=\"\",0,SUM(D$8:D59))","v":0},null,{"$f":"IF(F59=\"\",0,SUM(F$8:F59))","v":0}]
[null,null,null,null,{"$f":"IF(D60=\"\",0,SUM(D$8:D60))","v":0},null,{"$f":"IF(F60=\"\",0,SUM(F$8:F60))","v":0}]
[null,null,null,null,{"$f":"IF(D61=\"\",0,SUM(D$8:D61))","v":0},null,{"$f":"IF(F61=\"\",0,SUM(F$8:F61))","v":0}]
[null,null,null,null,{"$f":"IF(D62=\"\",0,SUM(D$8:D62))","v":0},null,{"$f":"IF(F62=\"\",0,SUM(F$8:F62))","v":0}]
[null,null,null,null,{"$f":"IF(D63=\"\",0,SUM(D$8:D63))","v":0},null,{"$f":"IF(F63=\"\",0,SUM(F$8:F63))","v":0}]
[null,null,null,null,{"$f":"IF(D64=\"\",0,SUM(D$8:D64))","v":0},null,{"$f":"IF(F64=\"\",0,SUM(F$8:F64))","v":0}]
[null,null,null,null,{"$f":"IF(D65=\"\",0,SUM(D$8:D65))","v":0},null,{"$f":"IF(F65=\"\",0,SUM(F$8:F65))","v":0}]
[null,null,null,null,{"$f":"IF(D66=\"\",0,SUM(D$8:D66))","v":0},null,{"$f":"IF(F66=\"\",0,SUM(F$8:F66))","v":0}]
[null,null,null,null,{"$f":"IF(D67=\"\",0,SUM(D$8:D67))","v":0},null,{"$f":"IF(F67=\"\",0,SUM(F$8:F67))","v":0}]
[null,null,null,null,{"$f":"IF(D68=\"\",0,SUM(D$8:D68))","v":0},null,{"$f":"IF(F68=\"\",0,SUM(F$8:F68))","v":0}]
[null,null,null,null,{"$f":"IF(D69=\"\",0,SUM(D$8:D69))","v":0},null,{"$f":"IF(F69=\"\",0,SUM(F$8:F69))","v":0}]
[null,null,null,null,{"$f":"IF(D70=\"\",0,SUM(D$8:D70))","v":0},null,{"$f":"IF(F70=\"\",0,SUM(F$8:F70))","v":0}]
[null,null,null,null,{"$f":"IF(D71=\"\",0,SUM(D$8:D71))","v":0},null,{"$f":"IF(F71=\"\",0,SUM(F$8:F71))","v":0}]
[null,null,null,null,{"$f":"IF(D72=\"\",0,SUM(D$8:D72))","v":0},null,{"$f":"IF(F72=\"\",0,SUM(F$8:F72))","v":0}]
[null,null,null,null,{"$f":"IF(D73=\"\",0,SUM(D$8:D73))","v":0},null,{"$f":"IF(F73=\"\",0,SUM(F$8:F73))","v":0}]
[null,null,null,null,{"$f":"IF(D74=\"\",0,SUM(D$8:D74))","v":0},null,{"$f":"IF(F74=\"\",0,SUM(F$8:F74))","v":0}]
[null,null,null,null,{"$f":"IF(D75=\"\",0,SUM(D$8:D75))","v":0},null,{"$f":"IF(F75=\"\",0,SUM(F$8:F75))","v":0}]
[null,null,null,null,{"$f":"IF(D76=\"\",0,SUM(D$8:D76))","v":0},null,{"$f":"IF(F76=\"\",0,SUM(F$8:F76))","v":0}]
[null,null,null,null,{"$f":"IF(D77=\"\",0,SUM(D$8:D77))","v":0},null,{"$f":"IF(F77=\"\",0,SUM(F$8:F77))","v":0}]
[null,null,null,null,{"$f":"IF(D78=\"\",0,SUM(D$8:D78))","v":0},null,{"$f":"IF(F78=\"\",0,SUM(F$8:F78))","v":0}]
[null,null,null,null,{"$f":"IF(D79=\"\",0,SUM(D$8:D79))","v":0},null,{"$f":"IF(F79=\"\",0,SUM(F$8:F79))","v":0}]
[null,null,null,null,{"$f":"IF(D80=\"\",0,SUM(D$8:D80))","v":0},null,{"$f":"IF(F80=\"\",0,SUM(F$8:F80))","v":0}]
[null,null,null,null,{"$f":"IF(D81=\"\",0,SUM(D$8:D81))","v":0},null,{"$f":"IF(F81=\"\",0,SUM(F$8:F81))","v":0}]
[null,null,null,null,{"$f":"IF(D82=\"\",0,SUM(D$8:D82))","v":0},null,{"$f":"IF(F82=\"\",0,SUM(F$8:F82))","v":0}]
[null,null,null,null,{"$f":"IF(D83=\"\",0,SUM(D$8:D83))","v":0},null,{"$f":"IF(F83=\"\",0,SUM(F$8:F83))","v":0}]
[null,null,null,null,{"$f":"IF(D84=\"\",0,SUM(D$8:D84))","v":0},null,{"$f":"IF(F84=\"\",0,SUM(F$8:F84))","v":0}]
[null,null,null,null,{"$f":"IF(D85=\"\",0,SUM(D$8:D85))","v":0},null,{"$f":"IF(F85=\"\",0,SUM(F$8:F85))","v":0}]
[null,null,null,null,{"$f":"IF(D86=\"\",0,SUM(D$8:D86))","v":0},null,{"$f":"IF(F86=\"\",0,SUM(F$8:F86))","v":0}]
[null,null,null,null,{"$f":"IF(D87=\"\",0,SUM(D$8:D87))","v":0},null,{"$f":"IF(F87=\"\",0,SUM(F$8:F87))","v":0}]
[null,null,null,null,{"$f":"IF(D88=\"\",0,SUM(D$8:D88))","v":0},null,{"$f":"IF(F88=\"\",0,SUM(F$8:F88))","v":0}]
[null,null,null,null,{"$f":"IF(D89=\"\",0,SUM(D$8:D89))","v":0},null,{"$f":"IF(F89=\"\",0,SUM(F$8:F89))","v":0}]
[null,null,null,null,{"$f":"IF(D90=\"\",0,SUM(D$8:D90))","v":0},null,{"$f":"IF(F90=\"\",0,SUM(F$8:F90))","v":0}]
[null,null,null,null,{"$f":"IF(D91=\"\",0,SUM(D$8:D91))","v":0},null,{"$f":"IF(F91=\"\",0,SUM(F$8:F91))","v":0}]
[null,null,null,null,{"$f":"IF(D92=\"\",0,SUM(D$8:D92))","v":0},null,{"$f":"IF(F92=\"\",0,SUM(F$8:F92))","v":0}]
[null,null,null,null,{"$f":"IF(D93=\"\",0,SUM(D$8:D93))","v":0},null,{"$f":"IF(F93=\"\",0,SUM(F$8:F93))","v":0}]
[null,null,null,null,{"$f":"IF(D94=\"\",0,SUM(D$8:D94))","v":0},null,{"$f":"IF(F94=\"\",0,SUM(F$8:F94))","v":0}]
[null,null,null,null,{"$f":"IF(D95=\"\",0,SUM(D$8:D95))","v":0},null,{"$f":"IF(F95=\"\",0,SUM(F$8:F95))","v":0}]
[null,null,null,null,{"$f":"IF(D96=\"\",0,SUM(D$8:D96))","v":0},null,{"$f":"IF(F96=\"\",0,SUM(F$8:F96))","v":0}]
[null,null,null,null,{"$f":"IF(D97=\"\",0,SUM(D$8:D97))","v":0},null,{"$f":"IF(F97=\"\",0,SUM(F$8:F97))","v":0}]
[null,null,null,null,{"$f":"IF(D98=\"\",0,SUM(D$8:D98))","v":0},null,{"$f":"IF(F98=\"\",0,SUM(F$8:F98))","v":0}]
[null,null,null,null,{"$f":"IF(D99=\"\",0,SUM(D$8:D99))","v":0},null,{"$f":"IF(F99=\"\",0,SUM(F$8:F99))","v":0}]
[null,null,null,null,{"$f":"IF(D100=\"\",0,SUM(D$8:D100))","v":0},null,{"$f":"IF(F100=\"\",0,SUM(F$8:F100))","v":0}]
[null,null,null,null,{"$f":"IF(D101=\"\",0,SUM(D$8:D101))","v":0},null,{"$f":"IF(F101=\"\",0,SUM(F$8:F101))","v":0}]
[null,null,null,null,{"$f":"IF(D102=\"\",0,SUM(D$8:D102))","v":0},null,{"$f":"IF(F102=\"\",0,SUM(F$8:F102))","v":0}]
[null,null,null,null,{"$f":"IF(D103=\"\",0,SUM(D$8:D103))","v":0},null,{"$f":"IF(F103=\"\",0,SUM(F$8:F103))","v":0}]
[null,null,null,null,{"$f":"IF(D104=\"\",0,SUM(D$8:D104))","v":0},null,{"$f":"IF(F104=\"\",0,SUM(F$8:F104))","v":0}]
[null,null,null,null,{"$f":"IF(D105=\"\",0,SUM(D$8:D105))","v":0},null,{"$f":"IF(F105=\"\",0,SUM(F$8:F105))","v":0}]
[null,null,null,null,{"$f":"IF(D106=\"\",0,SUM(D$8:D106))","v":0},null,{"$f":"IF(F106=\"\",0,SUM(F$8:F106))","v":0}]
[null,null,null,null,{"$f":"IF(D107=\"\",0,SUM(D$8:D107))","v":0},null,{"$f":"IF(F107=\"\",0,SUM(F$8:F107))","v":0}]
[null,null,null,null,{"$f":"IF(D108=\"\",0,SUM(D$8:D108))","v":0},null,{"$f":"IF(F108=\"\",0,SUM(F$8:F108))","v":0}]
[null,null,null,null,{"$f":"IF(D109=\"\",0,SUM(D$8:D109))","v":0},null,{"$f":"IF(F109=\"\",0,SUM(F$8:F109))","v":0}]
[null,null,null,null,{"$f":"IF(D110=\"\",0,SUM(D$8:D110))","v":0},null,{"$f":"IF(F110=\"\",0,SUM(F$8:F110))","v":0}]
[null,null,null,null,{"$f":"IF(D111=\"\",0,SUM(D$8:D111))","v":0},null,{"$f":"IF(F111=\"\",0,SUM(F$8:F111))","v":0}]
[null,null,null,null,{"$f":"IF(D112=\"\",0,SUM(D$8:D112))","v":0},null,{"$f":"IF(F112=\"\",0,SUM(F$8:F112))","v":0}]
[null,null,null,null,{"$f":"IF(D113=\"\",0,SUM(D$8:D113))","v":0},null,{"$f":"IF(F113=\"\",0,SUM(F$8:F113))","v":0}]
[null,null,null,null,{"$f":"IF(D114=\"\",0,SUM(D$8:D114))","v":0},null,{"$f":"IF(F114=\"\",0,SUM(F$8:F114))","v":0}]
[null,null,null,null,{"$f":"IF(D115=\"\",0,SUM(D$8:D115))","v":0},null,{"$f":"IF(F115=\"\",0,SUM(F$8:F115))","v":0}]
[null,null,null,null,{"$f":"IF(D116=\"\",0,SUM(D$8:D116))","v":0},null,{"$f":"IF(F116=\"\",0,SUM(F$8:F116))","v":0}]
[null,null,null,null,{"$f":"IF(D117=\"\",0,SUM(D$8:D117))","v":0},null,{"$f":"IF(F117=\"\",0,SUM(F$8:F117))","v":0}]
[null,null,null,null,{"$f":"IF(D118=\"\",0,SUM(D$8:D118))","v":0},null,{"$f":"IF(F118=\"\",0,SUM(F$8:F118))","v":0}]
[null,null,null,null,{"$f":"IF(D119=\"\",0,SUM(D$8:D119))","v":0},null,{"$f":"IF(F119=\"\",0,SUM(F$8:F119))","v":0}]
[null,null,null,null,{"$f":"IF(D120=\"\",0,SUM(D$8:D120))","v":0},null,{"$f":"IF(F120=\"\",0,SUM(F$8:F120))","v":0}]
[null,null,null,null,{"$f":"IF(D121=\"\",0,SUM(D$8:D121))","v":0},null,{"$f":"IF(F121=\"\",0,SUM(F$8:F121))","v":0}]
[null,null,null,null,{"$f":"IF(D122=\"\",0,SUM(D$8:D122))","v":0},null,{"$f":"IF(F122=\"\",0,SUM(F$8:F122))","v":0}]
[null,null,null,null,{"$f":"IF(D123=\"\",0,SUM(D$8:D123))","v":0},null,{"$f":"IF(F123=\"\",0,SUM(F$8:F123))","v":0}]
[null,null,null,null,{"$f":"IF(D124=\"\",0,SUM(D$8:D124))","v":0},null,{"$f":"IF(F124=\"\",0,SUM(F$8:F124))","v":0}]
[null,null,null,null,{"$f":"IF(D125=\"\",0,SUM(D$8:D125))","v":0},null,{"$f":"IF(F125=\"\",0,SUM(F$8:F125))","v":0}]
[null,null,null,null,{"$f":"IF(D126=\"\",0,SUM(D$8:D126))","v":0},null,{"$f":"IF(F126=\"\",0,SUM(F$8:F126))","v":0}]
[null,null,null,null,{"$f":"IF(D127=\"\",0,SUM(D$8:D127))","v":0},null,{"$f":"IF(F127=\"\",0,SUM(F$8:F127))","v":0}]
[null,null,null,null,{"$f":"IF(D128=\"\",0,SUM(D$8:D128))","v":0},null,{"$f":"IF(F128=\"\",0,SUM(F$8:F128))","v":0}]
[null,null,null,null,{"$f":"IF(D129=\"\",0,SUM(D$8:D129))","v":0},null,{"$f":"IF(F129=\"\",0,SUM(F$8:F129))","v":0}]
[null,null,null,null,{"$f":"IF(D130=\"\",0,SUM(D$8:D130))","v":0},null,{"$f":"IF(F130=\"\",0,SUM(F$8:F130))","v":0}]
[null,null,null,null,{"$f":"IF(D131=\"\",0,SUM(D$8:D131))","v":0},null,{"$f":"IF(F131=\"\",0,SUM(F$8:F131))","v":0}]
[null,null,null,null,{"$f":"IF(D132=\"\",0,SUM(D$8:D132))","v":0},null,{"$f":"IF(F132=\"\",0,SUM(F$8:F132))","v":0}]
[null,null,null,null,{"$f":"IF(D133=\"\",0,SUM(D$8:D133))","v":0},null,{"$f":"IF(F133=\"\",0,SUM(F$8:F133))","v":0}]
[null,null,null,null,{"$f":"IF(D134=\"\",0,SUM(D$8:D134))","v":0},null,{"$f":"IF(F134=\"\",0,SUM(F$8:F134))","v":0}]
[null,null,null,null,{"$f":"IF(D135=\"\",0,SUM(D$8:D135))","v":0},null,{"$f":"IF(F135=\"\",0,SUM(F$8:F135))","v":0}]
[null,null,null,null,{"$f":"IF(D136=\"\",0,SUM(D$8:D136))","v":0},null,{"$f":"IF(F136=\"\",0,SUM(F$8:F136))","v":0}]
[null,null,null,null,{"$f":"IF(D137=\"\",0,SUM(D$8:D137))","v":0},null,{"$f":"IF(F137=\"\",0,SUM(F$8:F137))","v":0}]
[null,null,null,null,{"$f":"IF(D138=\"\",0,SUM(D$8:D138))","v":0},null,{"$f":"IF(F138=\"\",0,SUM(F$8:F138))","v":0}]
[null,null,null,null,{"$f":"IF(D139=\"\",0,SUM(D$8:D139))","v":0},null,{"$f":"IF(F139=\"\",0,SUM(F$8:F139))","v":0}]
[null,null,null,null,{"$f":"IF(D140=\"\",0,SUM(D$8:D140))","v":0},null,{"$f":"IF(F140=\"\",0,SUM(F$8:F140))","v":0}]
[null,null,null,null,{"$f":"IF(D141=\"\",0,SUM(D$8:D141))","v":0},null,{"$f":"IF(F141=\"\",0,SUM(F$8:F141))","v":0}]
[null,null,null,null,{"$f":"IF(D142=\"\",0,SUM(D$8:D142))","v":0},null,{"$f":"IF(F142=\"\",0,SUM(F$8:F142))","v":0}]
[null,null,null,null,{"$f":"IF(D143=\"\",0,SUM(D$8:D143))","v":0},null,{"$f":"IF(F143=\"\",0,SUM(F$8:F143))","v":0}]
[null,null,null,null,{"$f":"IF(D144=\"\",0,SUM(D$8:D144))","v":0},null,{"$f":"IF(F144=\"\",0,SUM(F$8:F144))","v":0}]
[null,null,null,null,{"$f":"IF(D145=\"\",0,SUM(D$8:D145))","v":0},null,{"$f":"IF(F145=\"\",0,SUM(F$8:F145))","v":0}]
[null,null,null,null,{"$f":"IF(D146=\"\",0,SUM(D$8:D146))","v":0},null,{"$f":"IF(F146=\"\",0,SUM(F$8:F146))","v":0}]
[null,null,null,null,{"$f":"IF(D147=\"\",0,SUM(D$8:D147))","v":0},null,{"$f":"IF(F147=\"\",0,SUM(F$8:F147))","v":0}]
[null,null,null,null,{"$f":"IF(D148=\"\",0,SUM(D$8:D148))","v":0},null,{"$f":"IF(F148=\"\",0,SUM(F$8:F148))","v":0}]
[null,null,null,null,{"$f":"IF(D149=\"\",0,SUM(D$8:D149))","v":0},null,{"$f":"IF(F149=\"\",0,SUM(F$8:F149))","v":0}]
[null,null,null,null,{"$f":"IF(D150=\"\",0,SUM(D$8:D150))","v":0},null,{"$f":"IF(F150=\"\",0,SUM(F$8:F150))","v":0}]
[null,null,null,null,{"$f":"IF(D151=\"\",0,SUM(D$8:D151))","v":0},null,{"$f":"IF(F151=\"\",0,SUM(F$8:F151))","v":0}]
[null,null,null,null,{"$f":"IF(D152=\"\",0,SUM(D$8:D152))","v":0},null,{"$f":"IF(F152=\"\",0,SUM(F$8:F152))","v":0}]
[null,null,null,null,{"$f":"IF(D153=\"\",0,SUM(D$8:D153))","v":0},null,{"$f":"IF(F153=\"\",0,SUM(F$8:F153))","v":0}]
[null,null,null,null,{"$f":"IF(D154=\"\",0,SUM(D$8:D154))","v":0},null,{"$f":"IF(F154=\"\",0,SUM(F$8:F154))","v":0}]
[null,null,null,null,{"$f":"IF(D155=\"\",0,SUM(D$8:D155))","v":0},null,{"$f":"IF(F155=\"\",0,SUM(F$8:F155))","v":0}]
[null,null,null,null,{"$f":"IF(D156=\"\",0,SUM(D$8:D156))","v":0},null,{"$f":"IF(F156=\"\",0,SUM(F$8:F156))","v":0}]
[null,null,null,null,{"$f":"IF(D157=\"\",0,SUM(D$8:D157))","v":0},null,{"$f":"IF(F157=\"\",0,SUM(F$8:F157))","v":0}]
[null,null,null,null,{"$f":"IF(D158=\"\",0,SUM(D$8:D158))","v":0},null,{"$f":"IF(F158=\"\",0,SUM(F$8:F158))","v":0}]
[null,null,null,null,{"$f":"IF(D159=\"\",0,SUM(D$8:D159))","v":0},null,{"$f":"IF(F159=\"\",0,SUM(F$8:F159))","v":0}]
[null,null,null,null,{"$f":"IF(D160=\"\",0,SUM(D$8:D160))","v":0},null,{"$f":"IF(F160=\"\",0,SUM(F$8:F160))","v":0}]
[null,null,null,null,{"$f":"IF(D161=\"\",0,SUM(D$8:D161))","v":0},null,{"$f":"IF(F161=\"\",0,SUM(F$8:F161))","v":0}]
[null,null,null,null,{"$f":"IF(D162=\"\",0,SUM(D$8:D162))","v":0},null,{"$f":"IF(F162=\"\",0,SUM(F$8:F162))","v":0}]
[null,null,null,null,{"$f":"IF(D163=\"\",0,SUM(D$8:D163))","v":0},null,{"$f":"IF(F163=\"\",0,SUM(F$8:F163))","v":0}]
[null,null,null,null,{"$f":"IF(D164=\"\",0,SUM(D$8:D164))","v":0},null,{"$f":"IF(F164=\"\",0,SUM(F$8:F164))","v":0}]
[null,null,null,null,{"$f":"IF(D165=\"\",0,SUM(D$8:D165))","v":0},null,{"$f":"IF(F165=\"\",0,SUM(F$8:F165))","v":0}]
[null,null,null,null,{"$f":"IF(D166=\"\",0,SUM(D$8:D166))","v":0},null,{"$f":"IF(F166=\"\",0,SUM(F$8:F166))","v":0}]
[null,null,null,null,{"$f":"IF(D167=\"\",0,SUM(D$8:D167))","v":0},null,{"$f":"IF(F167=\"\",0,SUM(F$8:F167))","v":0}]
[null,null,null,null,{"$f":"IF(D168=\"\",0,SUM(D$8:D168))","v":0},null,{"$f":"IF(F168=\"\",0,SUM(F$8:F168))","v":0}]
[null,null,null,null,{"$f":"IF(D169=\"\",0,SUM(D$8:D169))","v":0},null,{"$f":"IF(F169=\"\",0,SUM(F$8:F169))","v":0}]
[null,null,null,null,{"$f":"IF(D170=\"\",0,SUM(D$8:D170))","v":0},null,{"$f":"IF(F170=\"\",0,SUM(F$8:F170))","v":0}]
[null,null,null,null,{"$f":"IF(D171=\"\",0,SUM(D$8:D171))","v":0},null,{"$f":"IF(F171=\"\",0,SUM(F$8:F171))","v":0}]
[null,null,null,null,{"$f":"IF(D172=\"\",0,SUM(D$8:D172))","v":0},null,{"$f":"IF(F172=\"\",0,SUM(F$8:F172))","v":0}]
[null,null,null,null,{"$f":"IF(D173=\"\",0,SUM(D$8:D173))","v":0},null,{"$f":"IF(F173=\"\",0,SUM(F$8:F173))","v":0}]
[null,null,null,null,{"$f":"IF(D174=\"\",0,SUM(D$8:D174))","v":0},null,{"$f":"IF(F174=\"\",0,SUM(F$8:F174))","v":0}]
[null,null,null,null,{"$f":"IF(D175=\"\",0,SUM(D$8:D175))","v":0},null,{"$f":"IF(F175=\"\",0,SUM(F$8:F175))","v":0}]
[null,null,null,null,{"$f":"IF(D176=\"\",0,SUM(D$8:D176))","v":0},null,{"$f":"IF(F176=\"\",0,SUM(F$8:F176))","v":0}]
[null,null,null,null,{"$f":"IF(D177=\"\",0,SUM(D$8:D177))","v":0},null,{"$f":"IF(F177=\"\",0,SUM(F$8:F177))","v":0}]
[null,null,null,null,{"$f":"IF(D178=\"\",0,SUM(D$8:D178))","v":0},null,{"$f":"IF(F178=\"\",0,SUM(F$8:F178))","v":0}]
[null,null,null,null,{"$f":"IF(D179=\"\",0,SUM(D$8:D179))","v":0},null,{"$f":"IF(F179=\"\",0,SUM(F$8:F179))","v":0}]
[null,null,null,null,{"$f":"IF(D180=\"\",0,SUM(D$8:D180))","v":0},null,{"$f":"IF(F180=\"\",0,SUM(F$8:F180))","v":0}]
[null,null,null,null,{"$f":"IF(D181=\"\",0,SUM(D$8:D181))","v":0},null,{"$f":"IF(F181=\"\",0,SUM(F$8:F181))","v":0}]
[null,null,null,null,{"$f":"IF(D182=\"\",0,SUM(D$8:D182))","v":0},null,{"$f":"IF(F182=\"\",0,SUM(F$8:F182))","v":0}]
[null,null,null,null,{"$f":"IF(D183=\"\",0,SUM(D$8:D183))","v":0},null,{"$f":"IF(F183=\"\",0,SUM(F$8:F183))","v":0}]
[null,null,null,null,{"$f":"IF(D184=\"\",0,SUM(D$8:D184))","v":0},null,{"$f":"IF(F184=\"\",0,SUM(F$8:F184))","v":0}]
[null,null,null,null,{"$f":"IF(D185=\"\",0,SUM(D$8:D185))","v":0},null,{"$f":"IF(F185=\"\",0,SUM(F$8:F185))","v":0}]
[null,null,null,null,{"$f":"IF(D186=\"\",0,SUM(D$8:D186))","v":0},null,{"$f":"IF(F186=\"\",0,SUM(F$8:F186))","v":0}]
[null,null,null,null,{"$f":"IF(D187=\"\",0,SUM(D$8:D187))","v":0},null,{"$f":"IF(F187=\"\",0,SUM(F$8:F187))","v":0}]
[null,null,null,null,{"$f":"IF(D188=\"\",0,SUM(D$8:D188))","v":0},null,{"$f":"IF(F188=\"\",0,SUM(F$8:F188))","v":0}]
[null,null,null,null,{"$f":"IF(D189=\"\",0,SUM(D$8:D189))","v":0},null,{"$f":"IF(F189=\"\",0,SUM(F$8:F189))","v":0}]
[null,null,null,null,{"$f":"IF(D190=\"\",0,SUM(D$8:D190))","v":0},null,{"$f":"IF(F190=\"\",0,SUM(F$8:F190))","v":0}]
[null,null,null,null,{"$f":"IF(D191=\"\",0,SUM(D$8:D191))","v":0},null,{"$f":"IF(F191=\"\",0,SUM(F$8:F191))","v":0}]
[null,null,null,null,{"$f":"IF(D192=\"\",0,SUM(D$8:D192))","v":0},null,{"$f":"IF(F192=\"\",0,SUM(F$8:F192))","v":0}]
[null,null,null,null,{"$f":"IF(D193=\"\",0,SUM(D$8:D193))","v":0},null,{"$f":"IF(F193=\"\",0,SUM(F$8:F193))","v":0}]
[null,null,null,null,{"$f":"IF(D194=\"\",0,SUM(D$8:D194))","v":0},null,{"$f":"IF(F194=\"\",0,SUM(F$8:F194))","v":0}]
[null,null,null,null,{"$f":"IF(D195=\"\",0,SUM(D$8:D195))","v":0},null,{"$f":"IF(F195=\"\",0,SUM(F$8:F195))","v":0}]
[null,null,null,null,{"$f":"IF(D196=\"\",0,SUM(D$8:D196))","v":0},null,{"$f":"IF(F196=\"\",0,SUM(F$8:F196))","v":0}]
[null,null,null,null,{"$f":"IF(D197=\"\",0,SUM(D$8:D197))","v":0},null,{"$f":"IF(F197=\"\",0,SUM(F$8:F197))","v":0}]
[null,null,null,null,{"$f":"IF(D198=\"\",0,SUM(D$8:D198))","v":0},null,{"$f":"IF(F198=\"\",0,SUM(F$8:F198))","v":0}]
[null,null,null,null,{"$f":"IF(D199=\"\",0,SUM(D$8:D199))","v":0},null,{"$f":"IF(F199=\"\",0,SUM(F$8:F199))","v":0}]
[null,null,null,null,{"$f":"IF(D200=\"\",0,SUM(D$8:D200))","v":0},null,{"$f":"IF(F200=\"\",0,SUM(F$8:F200))","v":0}]
[null,null,null,null,{"$f":"IF(D201=\"\",0,SUM(D$8:D201))","v":0},null,{"$f":"IF(F201=\"\",0,SUM(F$8:F201))","v":0}]
[null,null,null,null,{"$f":"IF(D202=\"\",0,SUM(D$8:D202))","v":0},null,{"$f":"IF(F202=\"\",0,SUM(F$8:F202))","v":0}]
[null,null,null,null,{"$f":"IF(D203=\"\",0,SUM(D$8:D203))","v":0},null,{"$f":"IF(F203=\"\",0,SUM(F$8:F203))","v":0}]
[null,null,null,null,{"$f":"IF(D204=\"\",0,SUM(D$8:D204))","v":0},null,{"$f":"IF(F204=\"\",0,SUM(F$8:F204))","v":0}]
[null,null,null,null,{"$f":"IF(D205=\"\",0,SUM(D$8:D205))","v":0},null,{"$f":"IF(F205=\"\",0,SUM(F$8:F205))","v":0}]
[null,null,null,null,{"$f":"IF(D206=\"\",0,SUM(D$8:D206))","v":0},null,{"$f":"IF(F206=\"\",0,SUM(F$8:F206))","v":0}]
[null,null,null,null,{"$f":"IF(D207=\"\",0,SUM(D$8:D207))","v":0},null,{"$f":"IF(F207=\"\",0,SUM(F$8:F207))","v":0}]
[null,null,null,null,{"$f":"IF(D208=\"\",0,SUM(D$8:D208))","v":0},null,{"$f":"IF(F208=\"\",0,SUM(F$8:F208))","v":0}]
[null,null,null,null,{"$f":"IF(D209=\"\",0,SUM(D$8:D209))","v":0},null,{"$f":"IF(F209=\"\",0,SUM(F$8:F209))","v":0}]
[null,null,null,null,{"$f":"IF(D210=\"\",0,SUM(D$8:D210))","v":0},null,{"$f":"IF(F210=\"\",0,SUM(F$8:F210))","v":0}]
[null,null,null,null,{"$f":"IF(D211=\"\",0,SUM(D$8:D211))","v":0},null,{"$f":"IF(F211=\"\",0,SUM(F$8:F211))","v":0}]
[null,null,null,null,{"$f":"IF(D212=\"\",0,SUM(D$8:D212))","v":0},null,{"$f":"IF(F212=\"\",0,SUM(F$8:F212))","v":0}]
[null,null,null,null,{"$f":"IF(D213=\"\",0,SUM(D$8:D213))","v":0},null,{"$f":"IF(F213=\"\",0,SUM(F$8:F213))","v":0}]
[null,null,null,null,{"$f":"IF(D214=\"\",0,SUM(D$8:D214))","v":0},null,{"$f":"IF(F214=\"\",0,SUM(F$8:F214))","v":0}]
[null,null,null,null,{"$f":"IF(D215=\"\",0,SUM(D$8:D215))","v":0},null,{"$f":"IF(F215=\"\",0,SUM(F$8:F215))","v":0}]
[null,null,null,null,{"$f":"IF(D216=\"\",0,SUM(D$8:D216))","v":0},null,{"$f":"IF(F216=\"\",0,SUM(F$8:F216))","v":0}]
[null,null,null,null,{"$f":"IF(D217=\"\",0,SUM(D$8:D217))","v":0},null,{"$f":"IF(F217=\"\",0,SUM(F$8:F217))","v":0}]
[null,null,null,null,{"$f":"IF(D218=\"\",0,SUM(D$8:D218))","v":0},null,{"$f":"IF(F218=\"\",0,SUM(F$8:F218))","v":0}]
[null,null,null,null,{"$f":"IF(D219=\"\",0,SUM(D$8:D219))","v":0},null,{"$f":"IF(F219=\"\",0,SUM(F$8:F219))","v":0}]
[null,null,null,null,{"$f":"IF(D220=\"\",0,SUM(D$8:D220))","v":0},null,{"$f":"IF(F220=\"\",0,SUM(F$8:F220))","v":0}]
[null,null,null,null,{"$f":"IF(D221=\"\",0,SUM(D$8:D221))","v":0},null,{"$f":"IF(F221=\"\",0,SUM(F$8:F221))","v":0}]
[null,null,null,null,{"$f":"IF(D222=\"\",0,SUM(D$8:D222))","v":0},null,{"$f":"IF(F222=\"\",0,SUM(F$8:F222))","v":0}]
[null,null,null,null,{"$f":"IF(D223=\"\",0,SUM(D$8:D223))","v":0},null,{"$f":"IF(F223=\"\",0,SUM(F$8:F223))","v":0}]
[null,null,null,null,{"$f":"IF(D224=\"\",0,SUM(D$8:D224))","v":0},null,{"$f":"IF(F224=\"\",0,SUM(F$8:F224))","v":0}]
[null,null,null,null,{"$f":"IF(D225=\"\",0,SUM(D$8:D225))","v":0},null,{"$f":"IF(F225=\"\",0,SUM(F$8:F225))","v":0}]
[null,null,null,null,{"$f":"IF(D226=\"\",0,SUM(D$8:D226))","v":0},null,{"$f":"IF(F226=\"\",0,SUM(F$8:F226))","v":0}]
[null,null,null,null,{"$f":"IF(D227=\"\",0,SUM(D$8:D227))","v":0},null,{"$f":"IF(F227=\"\",0,SUM(F$8:F227))","v":0}]
[null,null,null,null,{"$f":"IF(D228=\"\",0,SUM(D$8:D228))","v":0},null,{"$f":"IF(F228=\"\",0,SUM(F$8:F228))","v":0}]
[null,null,null,null,{"$f":"IF(D229=\"\",0,SUM(D$8:D229))","v":0},null,{"$f":"IF(F229=\"\",0,SUM(F$8:F229))","v":0}]
[null,null,null,null,{"$f":"IF(D230=\"\",0,SUM(D$8:D230))","v":0},null,{"$f":"IF(F230=\"\",0,SUM(F$8:F230))","v":0}]
[null,null,null,null,{"$f":"IF(D231=\"\",0,SUM(D$8:D231))","v":0},null,{"$f":"IF(F231=\"\",0,SUM(F$8:F231))","v":0}]
[null,null,null,null,{"$f":"IF(D232=\"\",0,SUM(D$8:D232))","v":0},null,{"$f":"IF(F232=\"\",0,SUM(F$8:F232))","v":0}]
[null,null,null,null,{"$f":"IF(D233=\"\",0,SUM(D$8:D233))","v":0},null,{"$f":"IF(F233=\"\",0,SUM(F$8:F233))","v":0}]
[null,null,null,null,{"$f":"IF(D234=\"\",0,SUM(D$8:D234))","v":0},null,{"$f":"IF(F234=\"\",0,SUM(F$8:F234))","v":0}]
[null,null,null,null,{"$f":"IF(D235=\"\",0,SUM(D$8:D235))","v":0},null,{"$f":"IF(F235=\"\",0,SUM(F$8:F235))","v":0}]
[null,null,null,null,{"$f":"IF(D236=\"\",0,SUM(D$8:D236))","v":0},null,{"$f":"IF(F236=\"\",0,SUM(F$8:F236))","v":0}]
[null,null,null,null,{"$f":"IF(D237=\"\",0,SUM(D$8:D237))","v":0},null,{"$f":"IF(F237=\"\",0,SUM(F$8:F237))","v":0}]
[null,null,null,null,{"$f":"IF(D238=\"\",0,SUM(D$8:D238))","v":0},null,{"$f":"IF(F238=\"\",0,SUM(F$8:F238))","v":0}]
[null,null,null,null,{"$f":"IF(D239=\"\",0,SUM(D$8:D239))","v":0},null,{"$f":"IF(F239=\"\",0,SUM(F$8:F239))","v":0}]
[null,null,null,null,{"$f":"IF(D240=\"\",0,SUM(D$8:D240))","v":0},null,{"$f":"IF(F240=\"\",0,SUM(F$8:F240))","v":0}]
[null,null,null,null,{"$f":"IF(D241=\"\",0,SUM(D$8:D241))","v":0},null,{"$f":"IF(F241=\"\",0,SUM(F$8:F241))","v":0}]
[null,null,null,null,{"$f":"IF(D242=\"\",0,SUM(D$8:D242))","v":0},null,{"$f":"IF(F242=\"\",0,SUM(F$8:F242))","v":0}]
[null,null,null,null,{"$f":"IF(D243=\"\",0,SUM(D$8:D243))","v":0},null,{"$f":"IF(F243=\"\",0,SUM(F$8:F243))","v":0}]
[null,null,null,null,{"$f":"IF(D244=\"\",0,SUM(D$8:D244))","v":0},null,{"$f":"IF(F244=\"\",0,SUM(F$8:F244))","v":0}]
[null,null,null,null,{"$f":"IF(D245=\"\",0,SUM(D$8:D245))","v":0},null,{"$f":"IF(F245=\"\",0,SUM(F$8:F245))","v":0}]
[null,null,null,null,{"$f":"IF(D246=\"\",0,SUM(D$8:D246))","v":0},null,{"$f":"IF(F246=\"\",0,SUM(F$8:F246))","v":0}]
[null,null,null,null,{"$f":"IF(D247=\"\",0,SUM(D$8:D247))","v":0},null,{"$f":"IF(F247=\"\",0,SUM(F$8:F247))","v":0}]
[null,null,null,null,{"$f":"IF(D248=\"\",0,SUM(D$8:D248))","v":0},null,{"$f":"IF(F248=\"\",0,SUM(F$8:F248))","v":0}]
[null,null,null,null,{"$f":"IF(D249=\"\",0,SUM(D$8:D249))","v":0},null,{"$f":"IF(F249=\"\",0,SUM(F$8:F249))","v":0}]
[null,null,null,null,{"$f":"IF(D250=\"\",0,SUM(D$8:D250))","v":0},null,{"$f":"IF(F250=\"\",0,SUM(F$8:F250))","v":0}]
[null,null,null,null,{"$f":"IF(D251=\"\",0,SUM(D$8:D251))","v":0},null,{"$f":"IF(F251=\"\",0,SUM(F$8:F251))","v":0}]
[null,null,null,null,{"$f":"IF(D252=\"\",0,SUM(D$8:D252))","v":0},null,{"$f":"IF(F252=\"\",0,SUM(F$8:F252))","v":0}]
[null,null,null,null,{"$f":"IF(D253=\"\",0,SUM(D$8:D253))","v":0},null,{"$f":"IF(F253=\"\",0,SUM(F$8:F253))","v":0}]
[null,null,null,null,{"$f":"IF(D254=\"\",0,SUM(D$8:D254))","v":0},null,{"$f":"IF(F254=\"\",0,SUM(F$8:F254))","v":0}]
[null,null,null,null,{"$f":"IF(D255=\"\",0,SUM(D$8:D255))","v":0},null,{"$f":"IF(F255=\"\",0,SUM(F$8:F255))","v":0}]
[null,null,null,null,{"$f":"IF(D256=\"\",0,SUM(D$8:D256))","v":0},null,{"$f":"IF(F256=\"\",0,SUM(F$8:F256))","v":0}]
[null,null,null,null,{"$f":"IF(D257=\"\",0,SUM(D$8:D257))","v":0},null,{"$f":"IF(F257=\"\",0,SUM(F$8:F257))","v":0}]
[null,null,null,null,{"$f":"IF(D258=\"\",0,SUM(D$8:D258))","v":0},null,{"$f":"IF(F258=\"\",0,SUM(F$8:F258))","v":0}]
[null,null,null,null,{"$f":"IF(D259=\"\",0,SUM(D$8:D259))","v":0},null,{"$f":"IF(F259=\"\",0,SUM(F$8:F259))","v":0}]
[null,null,null,null,{"$f":"IF(D260=\"\",0,SUM(D$8:D260))","v":0},null,{"$f":"IF(F260=\"\",0,SUM(F$8:F260))","v":0}]
[null,null,null,null,{"$f":"IF(D261=\"\",0,SUM(D$8:D261))","v":0},null,{"$f":"IF(F261=\"\",0,SUM(F$8:F261))","v":0}]
[null,null,null,null,{"$f":"IF(D262=\"\",0,SUM(D$8:D262))","v":0},null,{"$f":"IF(F262=\"\",0,SUM(F$8:F262))","v":0}]
[null,null,null,null,{"$f":"IF(D263=\"\",0,SUM(D$8:D263))","v":0},null,{"$f":"IF(F263=\"\",0,SUM(F$8:F263))","v":0}]
[null,null,null,null,{"$f":"IF(D264=\"\",0,SUM(D$8:D264))","v":0},null,{"$f":"IF(F264=\"\",0,SUM(F$8:F264))","v":0}]
[null,null,null,null,{"$f":"IF(D265=\"\",0,SUM(D$8:D265))","v":0},null,{"$f":"IF(F265=\"\",0,SUM(F$8:F265))","v":0}]
[null,null,null,null,{"$f":"IF(D266=\"\",0,SUM(D$8:D266))","v":0},null,{"$f":"IF(F266=\"\",0,SUM(F$8:F266))","v":0}]
[null,null,null,null,{"$f":"IF(D267=\"\",0,SUM(D$8:D267))","v":0},null,{"$f":"IF(F267=\"\",0,SUM(F$8:F267))","v":0}]
[null,null,null,null,{"$f":"IF(D268=\"\",0,SUM(D$8:D268))","v":0},null,{"$f":"IF(F268=\"\",0,SUM(F$8:F268))","v":0}]
[null,null,null,null,{"$f":"IF(D269=\"\",0,SUM(D$8:D269))","v":0},null,{"$f":"IF(F269=\"\",0,SUM(F$8:F269))","v":0}]
[null,null,null,null,{"$f":"IF(D270=\"\",0,SUM(D$8:D270))","v":0},null,{"$f":"IF(F270=\"\",0,SUM(F$8:F270))","v":0}]
[null,null,null,null,{"$f":"IF(D271=\"\",0,SUM(D$8:D271))","v":0},null,{"$f":"IF(F271=\"\",0,SUM(F$8:F271))","v":0}]
[null,null,null,null,{"$f":"IF(D272=\"\",0,SUM(D$8:D272))","v":0},null,{"$f":"IF(F272=\"\",0,SUM(F$8:F272))","v":0}]
[null,null,null,null,{"$f":"IF(D273=\"\",0,SUM(D$8:D273))","v":0},null,{"$f":"IF(F273=\"\",0,SUM(F$8:F273))","v":0}]
[null,null,null,null,{"$f":"IF(D274=\"\",0,SUM(D$8:D274))","v":0},null,{"$f":"IF(F274=\"\",0,SUM(F$8:F274))","v":0}]
[null,null,null,null,{"$f":"IF(D275=\"\",0,SUM(D$8:D275))","v":0},null,{"$f":"IF(F275=\"\",0,SUM(F$8:F275))","v":0}]
[null,null,null,null,{"$f":"IF(D276=\"\",0,SUM(D$8:D276))","v":0},null,{"$f":"IF(F276=\"\",0,SUM(F$8:F276))","v":0}]
[null,null,null,null,{"$f":"IF(D277=\"\",0,SUM(D$8:D277))","v":0},null,{"$f":"IF(F277=\"\",0,SUM(F$8:F277))","v":0}]
[null,null,null,null,{"$f":"IF(D278=\"\",0,SUM(D$8:D278))","v":0},null,{"$f":"IF(F278=\"\",0,SUM(F$8:F278))","v":0}]
[null,null,null,null,{"$f":"IF(D279=\"\",0,SUM(D$8:D279))","v":0},null,{"$f":"IF(F279=\"\",0,SUM(F$8:F279))","v":0}]
[null,null,null,null,{"$f":"IF(D280=\"\",0,SUM(D$8:D280))","v":0},null,{"$f":"IF(F280=\"\",0,SUM(F$8:F280))","v":0}]
[null,null,null,null,{"$f":"IF(D281=\"\",0,SUM(D$8:D281))","v":0},null,{"$f":"IF(F281=\"\",0,SUM(F$8:F281))","v":0}]
[null,null,null,null,{"$f":"IF(D282=\"\",0,SUM(D$8:D282))","v":0},null,{"$f":"IF(F282=\"\",0,SUM(F$8:F282))","v":0}]
[null,null,null,null,{"$f":"IF(D283=\"\",0,SUM(D$8:D283))","v":0},null,{"$f":"IF(F283=\"\",0,SUM(F$8:F283))","v":0}]
[null,null,null,null,{"$f":"IF(D284=\"\",0,SUM(D$8:D284))","v":0},null,{"$f":"IF(F284=\"\",0,SUM(F$8:F284))","v":0}]
[null,null,null,null,{"$f":"IF(D285=\"\",0,SUM(D$8:D285))","v":0},null,{"$f":"IF(F285=\"\",0,SUM(F$8:F285))","v":0}]
[null,null,null,null,{"$f":"IF(D286=\"\",0,SUM(D$8:D286))","v":0},null,{"$f":"IF(F286=\"\",0,SUM(F$8:F286))","v":0}]
[null,null,null,null,{"$f":"IF(D287=\"\",0,SUM(D$8:D287))","v":0},null,{"$f":"IF(F287=\"\",0,SUM(F$8:F287))","v":0}]
[null,null,null,null,{"$f":"IF(D288=\"\",0,SUM(D$8:D288))","v":0},null,{"$f":"IF(F288=\"\",0,SUM(F$8:F288))","v":0}]
[null,null,null,null,{"$f":"IF(D289=\"\",0,SUM(D$8:D289))","v":0},null,{"$f":"IF(F289=\"\",0,SUM(F$8:F289))","v":0}]
[null,null,null,null,{"$f":"IF(D290=\"\",0,SUM(D$8:D290))","v":0},null,{"$f":"IF(F290=\"\",0,SUM(F$8:F290))","v":0}]
[null,null,null,null,{"$f":"IF(D291=\"\",0,SUM(D$8:D291))","v":0},null,{"$f":"IF(F291=\"\",0,SUM(F$8:F291))","v":0}]
[null,null,null,null,{"$f":"IF(D292=\"\",0,SUM(D$8:D292))","v":0},null,{"$f":"IF(F292=\"\",0,SUM(F$8:F292))","v":0}]
[null,null,null,null,{"$f":"IF(D293=\"\",0,SUM(D$8:D293))","v":0},null,{"$f":"IF(F293=\"\",0,SUM(F$8:F293))","v":0}]
[null,null,null,null,{"$f":"IF(D294=\"\",0,SUM(D$8:D294))","v":0},null,{"$f":"IF(F294=\"\",0,SUM(F$8:F294))","v":0}]
[null,null,null,null,{"$f":"IF(D295=\"\",0,SUM(D$8:D295))","v":0},null,{"$f":"IF(F295=\"\",0,SUM(F$8:F295))","v":0}]
[null,null,null,null,{"$f":"IF(D296=\"\",0,SUM(D$8:D296))","v":0},null,{"$f":"IF(F296=\"\",0,SUM(F$8:F296))","v":0}]
[null,null,null,null,{"$f":"IF(D297=\"\",0,SUM(D$8:D297))","v":0},null,{"$f":"IF(F297=\"\",0,SUM(F$8:F297))","v":0}]
[null,null,null,null,{"$f":"IF(D298=\"\",0,SUM(D$8:D298))","v":0},null,{"$f":"IF(F298=\"\",0,SUM(F$8:F298))","v":0}]
[null,null,null,null,{"$f":"IF(D299=\"\",0,SUM(D$8:D299))","v":0},null,{"$f":"IF(F299=\"\",0,SUM(F$8:F299))","v":0}]
[null,null,null,null,{"$f":"IF(D300=\"\",0,SUM(D$8:D300))","v":0},null,{"$f":"IF(F300=\"\",0,SUM(F$8:F300))","v":0}]
[null,null,null,null,{"$f":"IF(D301=\"\",0,SUM(D$8:D301))","v":0},null,{"$f":"IF(F301=\"\",0,SUM(F$8:F301))","v":0}]
[null,null,null,null,{"$f":"IF(D302=\"\",0,SUM(D$8:D302))","v":0},null,{"$f":"IF(F302=\"\",0,SUM(F$8:F302))","v":0}]
[null,null,null,null,{"$f":"IF(D303=\"\",0,SUM(D$8:D303))","v":0},null,{"$f":"IF(F303=\"\",0,SUM(F$8:F303))","v":0}]
[null,null,null,null,{"$f":"IF(D304=\"\",0,SUM(D$8:D304))","v":0},null,{"$f":"IF(F304=\"\",0,SUM(F$8:F304))","v":0}]
[null,null,null,null,{"$f":"IF(D305=\"\",0,SUM(D$8:D305))","v":0},null,{"$f":"IF(F305=\"\",0,SUM(F$8:F305))","v":0}]
[null,null,null,null,{"$f":"IF(D306=\"\",0,SUM(D$8:D306))","v":0},null,{"$f":"IF(F306=\"\",0,SUM(F$8:F306))","v":0}]
[null,null,null,null,{"$f":"IF(D307=\"\",0,SUM(D$8:D307))","v":0},null,{"$f":"IF(F307=\"\",0,SUM(F$8:F307))","v":0}]
[null,null,null,null,{"$f":"IF(D308=\"\",0,SUM(D$8:D308))","v":0},null,{"$f":"IF(F308=\"\",0,SUM(F$8:F308))","v":0}]
[null,null,null,null,{"$f":"IF(D309=\"\",0,SUM(D$8:D309))","v":0},null,{"$f":"IF(F309=\"\",0,SUM(F$8:F309))","v":0}]
[null,null,null,null,{"$f":"IF(D310=\"\",0,SUM(D$8:D310))","v":0},null,{"$f":"IF(F310=\"\",0,SUM(F$8:F310))","v":0}]
[null,null,null,null,{"$f":"IF(D311=\"\",0,SUM(D$8:D311))","v":0},null,{"$f":"IF(F311=\"\",0,SUM(F$8:F311))","v":0}]
[null,null,null,null,{"$f":"IF(D312=\"\",0,SUM(D$8:D312))","v":0},null,{"$f":"IF(F312=\"\",0,SUM(F$8:F312))","v":0}]
[null,null,null,null,{"$f":"IF(D313=\"\",0,SUM(D$8:D313))","v":0},null,{"$f":"IF(F313=\"\",0,SUM(F$8:F313))","v":0}]
[null,null,null,null,{"$f":"IF(D314=\"\",0,SUM(D$8:D314))","v":0},null,{"$f":"IF(F314=\"\",0,SUM(F$8:F314))","v":0}]
[null,null,null,null,{"$f":"IF(D315=\"\",0,SUM(D$8:D315))","v":0},null,{"$f":"IF(F315=\"\",0,SUM(F$8:F315))","v":0}]
[null,null,null,null,{"$f":"IF(D316=\"\",0,SUM(D$8:D316))","v":0},null,{"$f":"IF(F316=\"\",0,SUM(F$8:F316))","v":0}]
[null,null,null,null,{"$f":"IF(D317=\"\",0,SUM(D$8:D317))","v":0},null,{"$f":"IF(F317=\"\",0,SUM(F$8:F317))","v":0}]
[null,null,null,null,{"$f":"IF(D318=\"\",0,SUM(D$8:D318))","v":0},null,{"$f":"IF(F318=\"\",0,SUM(F$8:F318))","v":0}]
[null,null,null,null,{"$f":"IF(D319=\"\",0,SUM(D$8:D319))","v":0},null,{"$f":"IF(F319=\"\",0,SUM(F$8:F319))","v":0}]
[null,null,null,null,{"$f":"IF(D320=\"\",0,SUM(D$8:D320))","v":0},null,{"$f":"IF(F320=\"\",0,SUM(F$8:F320))","v":0}]
[null,null,null,null,{"$f":"IF(D321=\"\",0,SUM(D$8:D321))","v":0},null,{"$f":"IF(F321=\"\",0,SUM(F$8:F321))","v":0}]
[null,null,null,null,{"$f":"IF(D322=\"\",0,SUM(D$8:D322))","v":0},null,{"$f":"IF(F322=\"\",0,SUM(F$8:F322))","v":0}]
[null,null,null,null,{"$f":"IF(D323=\"\",0,SUM(D$8:D323))","v":0},null,{"$f":"IF(F323=\"\",0,SUM(F$8:F323))","v":0}]
[null,null,null,null,{"$f":"IF(D324=\"\",0,SUM(D$8:D324))","v":0},null,{"$f":"IF(F324=\"\",0,SUM(F$8:F324))","v":0}]
[null,null,null,null,{"$f":"IF(D325=\"\",0,SUM(D$8:D325))","v":0},null,{"$f":"IF(F325=\"\",0,SUM(F$8:F325))","v":0}]
[null,null,null,null,{"$f":"IF(D326=\"\",0,SUM(D$8:D326))","v":0},null,{"$f":"IF(F326=\"\",0,SUM(F$8:F326))","v":0}]
[null,null,null,null,{"$f":"IF(D327=\"\",0,SUM(D$8:D327))","v":0},null,{"$f":"IF(F327=\"\",0,SUM(F$8:F327))","v":0}]
[null,null,null,null,{"$f":"IF(D328=\"\",0,SUM(D$8:D328))","v":0},null,{"$f":"IF(F328=\"\",0,SUM(F$8:F328))","v":0}]
[null,null,null,null,{"$f":"IF(D329=\"\",0,SUM(D$8:D329))","v":0},null,{"$f":"IF(F329=\"\",0,SUM(F$8:F329))","v":0}]
[null,null,null,null,{"$f":"IF(D330=\"\",0,SUM(D$8:D330))","v":0},null,{"$f":"IF(F330=\"\",0,SUM(F$8:F330))","v":0}]
[null,null,null,null,{"$f":"IF(D331=\"\",0,SUM(D$8:D331))","v":0},null,{"$f":"IF(F331=\"\",0,SUM(F$8:F331))","v":0}]
[null,null,null,null,{"$f":"IF(D332=\"\",0,SUM(D$8:D332))","v":0},null,{"$f":"IF(F332=\"\",0,SUM(F$8:F332))","v":0}]
[null,null,null,null,{"$f":"IF(D333=\"\",0,SUM(D$8:D333))","v":0},null,{"$f":"IF(F333=\"\",0,SUM(F$8:F333))","v":0}]
[null,null,null,null,{"$f":"IF(D334=\"\",0,SUM(D$8:D334))","v":0},null,{"$f":"IF(F334=\"\",0,SUM(F$8:F334))","v":0}]
[null,null,null,null,{"$f":"IF(D335=\"\",0,SUM(D$8:D335))","v":0},null,{"$f":"IF(F335=\"\",0,SUM(F$8:F335))","v":0}]
[null,null,null,null,{"$f":"IF(D336=\"\",0,SUM(D$8:D336))","v":0},null,{"$f":"IF(F336=\"\",0,SUM(F$8:F336))","v":0}]
[null,null,null,null,{"$f":"IF(D337=\"\",0,SUM(D$8:D337))","v":0},null,{"$f":"IF(F337=\"\",0,SUM(F$8:F337))","v":0}]
[null,null,null,null,{"$f":"IF(D338=\"\",0,SUM(D$8:D338))","v":0},null,{"$f":"IF(F338=\"\",0,SUM(F$8:F338))","v":0}]
[null,null,null,null,{"$f":"IF(D339=\"\",0,SUM(D$8:D339))","v":0},null,{"$f":"IF(F339=\"\",0,SUM(F$8:F339))","v":0}]
[null,null,null,null,{"$f":"IF(D340=\"\",0,SUM(D$8:D340))","v":0},null,{"$f":"IF(F340=\"\",0,SUM(F$8:F340))","v":0}]
[null,null,null,null,{"$f":"IF(D341=\"\",0,SUM(D$8:D341))","v":0},null,{"$f":"IF(F341=\"\",0,SUM(F$8:F341))","v":0}]
[null,null,null,null,{"$f":"IF(D342=\"\",0,SUM(D$8:D342))","v":0},null,{"$f":"IF(F342=\"\",0,SUM(F$8:F342))","v":0}]
[null,null,null,null,{"$f":"IF(D343=\"\",0,SUM(D$8:D343))","v":0},null,{"$f":"IF(F343=\"\",0,SUM(F$8:F343))","v":0}]
[null,null,null,null,{"$f":"IF(D344=\"\",0,SUM(D$8:D344))","v":0},null,{"$f":"IF(F344=\"\",0,SUM(F$8:F344))","v":0}]
[null,null,null,null,{"$f":"IF(D345=\"\",0,SUM(D$8:D345))","v":0},null,{"$f":"IF(F345=\"\",0,SUM(F$8:F345))","v":0}]
[null,null,null,null,{"$f":"IF(D346=\"\",0,SUM(D$8:D346))","v":0},null,{"$f":"IF(F346=\"\",0,SUM(F$8:F346))","v":0}]
[null,null,null,null,{"$f":"IF(D347=\"\",0,SUM(D$8:D347))","v":0},null,{"$f":"IF(F347=\"\",0,SUM(F$8:F347))","v":0}]
[null,null,null,null,{"$f":"IF(D348=\"\",0,SUM(D$8:D348))","v":0},null,{"$f":"IF(F348=\"\",0,SUM(F$8:F348))","v":0}]
[null,null,null,null,{"$f":"IF(D349=\"\",0,SUM(D$8:D349))","v":0},null,{"$f":"IF(F349=\"\",0,SUM(F$8:F349))","v":0}]
[null,null,null,null,{"$f":"IF(D350=\"\",0,SUM(D$8:D350))","v":0},null,{"$f":"IF(F350=\"\",0,SUM(F$8:F350))","v":0}]
[null,null,null,null,{"$f":"IF(D351=\"\",0,SUM(D$8:D351))","v":0},null,{"$f":"IF(F351=\"\",0,SUM(F$8:F351))","v":0}]
[null,null,null,null,{"$f":"IF(D352=\"\",0,SUM(D$8:D352))","v":0},null,{"$f":"IF(F352=\"\",0,SUM(F$8:F352))","v":0}]
[null,null,null,null,{"$f":"IF(D353=\"\",0,SUM(D$8:D353))","v":0},null,{"$f":"IF(F353=\"\",0,SUM(F$8:F353))","v":0}]
[null,null,null,null,{"$f":"IF(D354=\"\",0,SUM(D$8:D354))","v":0},null,{"$f":"IF(F354=\"\",0,SUM(F$8:F354))","v":0}]
[null,null,null,null,{"$f":"IF(D355=\"\",0,SUM(D$8:D355))","v":0},null,{"$f":"IF(F355=\"\",0,SUM(F$8:F355))","v":0}]
[null,null,null,null,{"$f":"IF(D356=\"\",0,SUM(D$8:D356))","v":0},null,{"$f":"IF(F356=\"\",0,SUM(F$8:F356))","v":0}]
[null,null,null,null,{"$f":"IF(D357=\"\",0,SUM(D$8:D357))","v":0},null,{"$f":"IF(F357=\"\",0,SUM(F$8:F357))","v":0}]
[null,null,null,null,{"$f":"IF(D358=\"\",0,SUM(D$8:D358))","v":0},null,{"$f":"IF(F358=\"\",0,SUM(F$8:F358))","v":0}]
[null,null,null,null,{"$f":"IF(D359=\"\",0,SUM(D$8:D359))","v":0},null,{"$f":"IF(F359=\"\",0,SUM(F$8:F359))","v":0}]
[null,null,null,null,{"$f":"IF(D360=\"\",0,SUM(D$8:D360))","v":0},null,{"$f":"IF(F360=\"\",0,SUM(F$8:F360))","v":0}]
[null,null,null,null,{"$f":"IF(D361=\"\",0,SUM(D$8:D361))","v":0},null,{"$f":"IF(F361=\"\",0,SUM(F$8:F361))","v":0}]
[null,null,null,null,{"$f":"IF(D362=\"\",0,SUM(D$8:D362))","v":0},null,{"$f":"IF(F362=\"\",0,SUM(F$8:F362))","v":0}]
[null,null,null,null,{"$f":"IF(D363=\"\",0,SUM(D$8:D363))","v":0},null,{"$f":"IF(F363=\"\",0,SUM(F$8:F363))","v":0}]
[null,null,null,null,{"$f":"IF(D364=\"\",0,SUM(D$8:D364))","v":0},null,{"$f":"IF(F364=\"\",0,SUM(F$8:F364))","v":0}]
[null,null,null,null,{"$f":"IF(D365=\"\",0,SUM(D$8:D365))","v":0},null,{"$f":"IF(F365=\"\",0,SUM(F$8:F365))","v":0}]
[null,null,null,null,{"$f":"IF(D366=\"\",0,SUM(D$8:D366))","v":0},null,{"$f":"IF(F366=\"\",0,SUM(F$8:F366))","v":0}]
[null,null,null,null,{"$f":"IF(D367=\"\",0,SUM(D$8:D367))","v":0},null,{"$f":"IF(F367=\"\",0,SUM(F$8:F367))","v":0}]
[null,null,null,null,{"$f":"IF(D368=\"\",0,SUM(D$8:D368))","v":0},null,{"$f":"IF(F368=\"\",0,SUM(F$8:F368))","v":0}]
[null,null,null,null,{"$f":"IF(D369=\"\",0,SUM(D$8:D369))","v":0},null,{"$f":"IF(F369=\"\",0,SUM(F$8:F369))","v":0}]
[null,null,null,null,{"$f":"IF(D370=\"\",0,SUM(D$8:D370))","v":0},null,{"$f":"IF(F370=\"\",0,SUM(F$8:F370))","v":0}]
[null,null,null,null,{"$f":"IF(D371=\"\",0,SUM(D$8:D371))","v":0},null,{"$f":"IF(F371=\"\",0,SUM(F$8:F371))","v":0}]
[null,null,null,null,{"$f":"IF(D372=\"\",0,SUM(D$8:D372))","v":0},null,{"$f":"IF(F372=\"\",0,SUM(F$8:F372))","v":0}]
[null,null,null,null,{"$f":"IF(D373=\"\",0,SUM(D$8:D373))","v":0},null,{"$f":"IF(F373=\"\",0,SUM(F$8:F373))","v":0}]
[null,null,null,null,{"$f":"IF(D374=\"\",0,SUM(D$8:D374))","v":0},null,{"$f":"IF(F374=\"\",0,SUM(F$8:F374))","v":0}]
[null,null,null,null,{"$f":"IF(D375=\"\",0,SUM(D$8:D375))","v":0},null,{"$f":"IF(F375=\"\",0,SUM(F$8:F375))","v":0}]
[null,null,null,null,{"$f":"IF(D376=\"\",0,SUM(D$8:D376))","v":0},null,{"$f":"IF(F376=\"\",0,SUM(F$8:F376))","v":0}]
[null,null,null,null,{"$f":"IF(D377=\"\",0,SUM(D$8:D377))","v":0},null,{"$f":"IF(F377=\"\",0,SUM(F$8:F377))","v":0}]
[null,null,null,null,{"$f":"IF(D378=\"\",0,SUM(D$8:D378))","v":0},null,{"$f":"IF(F378=\"\",0,SUM(F$8:F378))","v":0}]
[null,null,null,null,{"$f":"IF(D379=\"\",0,SUM(D$8:D379))","v":0},null,{"$f":"IF(F379=\"\",0,SUM(F$8:F379))","v":0}]
[null,null,null,null,{"$f":"IF(D380=\"\",0,SUM(D$8:D380))","v":0},null,{"$f":"IF(F380=\"\",0,SUM(F$8:F380))","v":0}]
[null,null,null,null,{"$f":"IF(D381=\"\",0,SUM(D$8:D381))","v":0},null,{"$f":"IF(F381=\"\",0,SUM(F$8:F381))","v":0}]
[null,null,null,null,{"$f":"IF(D382=\"\",0,SUM(D$8:D382))","v":0},null,{"$f":"IF(F382=\"\",0,SUM(F$8:F382))","v":0}]
[null,null,null,null,{"$f":"IF(D383=\"\",0,SUM(D$8:D383))","v":0},null,{"$f":"IF(F383=\"\",0,SUM(F$8:F383))","v":0}]
[null,null,null,null,{"$f":"IF(D384=\"\",0,SUM(D$8:D384))","v":0},null,{"$f":"IF(F384=\"\",0,SUM(F$8:F384))","v":0}]
[null,null,null,null,{"$f":"IF(D385=\"\",0,SUM(D$8:D385))","v":0},null,{"$f":"IF(F385=\"\",0,SUM(F$8:F385))","v":0}]
[null,null,null,null,{"$f":"IF(D386=\"\",0,SUM(D$8:D386))","v":0},null,{"$f":"IF(F386=\"\",0,SUM(F$8:F386))","v":0}]
[null,null,null,null,{"$f":"IF(D387=\"\",0,SUM(D$8:D387))","v":0},null,{"$f":"IF(F387=\"\",0,SUM(F$8:F387))","v":0}]
[null,null,null,null,{"$f":"IF(D388=\"\",0,SUM(D$8:D388))","v":0},null,{"$f":"IF(F388=\"\",0,SUM(F$8:F388))","v":0}]
[null,null,null,null,{"$f":"IF(D389=\"\",0,SUM(D$8:D389))","v":0},null,{"$f":"IF(F389=\"\",0,SUM(F$8:F389))","v":0}]
[null,null,null,null,{"$f":"IF(D390=\"\",0,SUM(D$8:D390))","v":0},null,{"$f":"IF(F390=\"\",0,SUM(F$8:F390))","v":0}]
[null,null,null,null,{"$f":"IF(D391=\"\",0,SUM(D$8:D391))","v":0},null,{"$f":"IF(F391=\"\",0,SUM(F$8:F391))","v":0}]
[null,null,null,null,{"$f":"IF(D392=\"\",0,SUM(D$8:D392))","v":0},null,{"$f":"IF(F392=\"\",0,SUM(F$8:F392))","v":0}]
[null,null,null,null,{"$f":"IF(D393=\"\",0,SUM(D$8:D393))","v":0},null,{"$f":"IF(F393=\"\",0,SUM(F$8:F393))","v":0}]
[null,null,null,null,{"$f":"IF(D394=\"\",0,SUM(D$8:D394))","v":0},null,{"$f":"IF(F394=\"\",0,SUM(F$8:F394))","v":0}]
[null,null,null,null,{"$f":"IF(D395=\"\",0,SUM(D$8:D395))","v":0},null,{"$f":"IF(F395=\"\",0,SUM(F$8:F395))","v":0}]
[null,null,null,null,{"$f":"IF(D396=\"\",0,SUM(D$8:D396))","v":0},null,{"$f":"IF(F396=\"\",0,SUM(F$8:F396))","v":0}]
[null,null,null,null,{"$f":"IF(D397=\"\",0,SUM(D$8:D397))","v":0},null,{"$f":"IF(F397=\"\",0,SUM(F$8:F397))","v":0}]
[null,null,null,null,{"$f":"IF(D398=\"\",0,SUM(D$8:D398))","v":0},null,{"$f":"IF(F398=\"\",0,SUM(F$8:F398))","v":0}]
[null,null,null,null,{"$f":"IF(D399=\"\",0,SUM(D$8:D399))","v":0},null,{"$f":"IF(F399=\"\",0,SUM(F$8:F399))","v":0}]
[null,null,null,null,{"$f":"IF(D400=\"\",0,SUM(D$8:D400))","v":0},null,{"$f":"IF(F400=\"\",0,SUM(F$8:F400))","v":0}]
[null,null,null,null,{"$f":"IF(D401=\"\",0,SUM(D$8:D401))","v":0},null,{"$f":"IF(F401=\"\",0,SUM(F$8:F401))","v":0}]
[null,null,null,null,{"$f":"IF(D402=\"\",0,SUM(D$8:D402))","v":0},null,{"$f":"IF(F402=\"\",0,SUM(F$8:F402))","v":0}]
[null,null,null,null,{"$f":"IF(D403=\"\",0,SUM(D$8:D403))","v":0},null,{"$f":"IF(F403=\"\",0,SUM(F$8:F403))","v":0}]
[null,null,null,null,{"$f":"IF(D404=\"\",0,SUM(D$8:D404))","v":0},null,{"$f":"IF(F404=\"\",0,SUM(F$8:F404))","v":0}]
[null,null,null,null,{"$f":"IF(D405=\"\",0,SUM(D$8:D405))","v":0},null,{"$f":"IF(F405=\"\",0,SUM(F$8:F405))","v":0}]
[null,null,null,null,{"$f":"IF(D406=\"\",0,SUM(D$8:D406))","v":0},null,{"$f":"IF(F406=\"\",0,SUM(F$8:F406))","v":0}]
[null,null,null,null,{"$f":"IF(D407=\"\",0,SUM(D$8:D407))","v":0},null,{"$f":"IF(F407=\"\",0,SUM(F$8:F407))","v":0}]
[null,null,null,null,{"$f":"IF(D408=\"\",0,SUM(D$8:D408))","v":0},null,{"$f":"IF(F408=\"\",0,SUM(F$8:F408))","v":0}]
[null,null,null,null,{"$f":"IF(D409=\"\",0,SUM(D$8:D409))","v":0},null,{"$f":"IF(F409=\"\",0,SUM(F$8:F409))","v":0}]
[null,null,null,null,{"$f":"IF(D410=\"\",0,SUM(D$8:D410))","v":0},null,{"$f":"IF(F410=\"\",0,SUM(F$8:F410))","v":0}]
[null,null,null,null,{"$f":"IF(D411=\"\",0,SUM(D$8:D411))","v":0},null,{"$f":"IF(F411=\"\",0,SUM(F$8:F411))","v":0}]
[null,null,null,null,{"$f":"IF(D412=\"\",0,SUM(D$8:D412))","v":0},null,{"$f":"IF(F412=\"\",0,SUM(F$8:F412))","v":0}]
[null,null,null,null,{"$f":"IF(D413=\"\",0,SUM(D$8:D413))","v":0},null,{"$f":"IF(F413=\"\",0,SUM(F$8:F413))","v":0}]
[null,null,null,null,{"$f":"IF(D414=\"\",0,SUM(D$8:D414))","v":0},null,{"$f":"IF(F414=\"\",0,SUM(F$8:F414))","v":0}]
[null,null,null,null,{"$f":"IF(D415=\"\",0,SUM(D$8:D415))","v":0},null,{"$f":"IF(F415=\"\",0,SUM(F$8:F415))","v":0}]
[null,null,null,null,{"$f":"IF(D416=\"\",0,SUM(D$8:D416))","v":0},null,{"$f":"IF(F416=\"\",0,SUM(F$8:F416))","v":0}]
[null,null,null,null,{"$f":"IF(D417=\"\",0,SUM(D$8:D417))","v":0},null,{"$f":"IF(F417=\"\",0,SUM(F$8:F417))","v":0}]
[null,null,null,null,{"$f":"IF(D418=\"\",0,SUM(D$8:D418))","v":0},null,{"$f":"IF(F418=\"\",0,SUM(F$8:F418))","v":0}]
[null,null,null,null,{"$f":"IF(D419=\"\",0,SUM(D$8:D419))","v":0},null,{"$f":"IF(F419=\"\",0,SUM(F$8:F419))","v":0}]
[null,null,null,null,{"$f":"IF(D420=\"\",0,SUM(D$8:D420))","v":0},null,{"$f":"IF(F420=\"\",0,SUM(F$8:F420))","v":0}]
[null,null,null,null,{"$f":"IF(D421=\"\",0,SUM(D$8:D421))","v":0},null,{"$f":"IF(F421=\"\",0,SUM(F$8:F421))","v":0}]
[null,null,null,null,{"$f":"IF(D422=\"\",0,SUM(D$8:D422))","v":0},null,{"$f":"IF(F422=\"\",0,SUM(F$8:F422))","v":0}]
[null,null,null,null,{"$f":"IF(D423=\"\",0,SUM(D$8:D423))","v":0},null,{"$f":"IF(F423=\"\",0,SUM(F$8:F423))","v":0}]
[null,null,null,null,{"$f":"IF(D424=\"\",0,SUM(D$8:D424))","v":0},null,{"$f":"IF(F424=\"\",0,SUM(F$8:F424))","v":0}]
[null,null,null,null,{"$f":"IF(D425=\"\",0,SUM(D$8:D425))","v":0},null,{"$f":"IF(F425=\"\",0,SUM(F$8:F425))","v":0}]
[null,null,null,null,{"$f":"IF(D426=\"\",0,SUM(D$8:D426))","v":0},null,{"$f":"IF(F426=\"\",0,SUM(F$8:F426))","v":0}]
[null,null,null,null,{"$f":"IF(D427=\"\",0,SUM(D$8:D427))","v":0},null,{"$f":"IF(F427=\"\",0,SUM(F$8:F427))","v":0}]
[null,null,null,null,{"$f":"IF(D428=\"\",0,SUM(D$8:D428))","v":0},null,{"$f":"IF(F428=\"\",0,SUM(F$8:F428))","v":0}]
[null,null,null,null,{"$f":"IF(D429=\"\",0,SUM(D$8:D429))","v":0},null,{"$f":"IF(F429=\"\",0,SUM(F$8:F429))","v":0}]
[null,null,null,null,{"$f":"IF(D430=\"\",0,SUM(D$8:D430))","v":0},null,{"$f":"IF(F430=\"\",0,SUM(F$8:F430))","v":0}]
[null,null,null,null,{"$f":"IF(D431=\"\",0,SUM(D$8:D431))","v":0},null,{"$f":"IF(F431=\"\",0,SUM(F$8:F431))","v":0}]
[null,null,null,null,{"$f":"IF(D432=\"\",0,SUM(D$8:D432))","v":0},null,{"$f":"IF(F432=\"\",0,SUM(F$8:F432))","v":0}]
[null,null,null,null,{"$f":"IF(D433=\"\",0,SUM(D$8:D433))","v":0},null,{"$f":"IF(F433=\"\",0,SUM(F$8:F433))","v":0}]
[null,null,null,null,{"$f":"IF(D434=\"\",0,SUM(D$8:D434))","v":0},null,{"$f":"IF(F434=\"\",0,SUM(F$8:F434))","v":0}]
[null,null,null,null,{"$f":"IF(D435=\"\",0,SUM(D$8:D435))","v":0},null,{"$f":"IF(F435=\"\",0,SUM(F$8:F435))","v":0}]
[null,null,null,null,{"$f":"IF(D436=\"\",0,SUM(D$8:D436))","v":0},null,{"$f":"IF(F436=\"\",0,SUM(F$8:F436))","v":0}]
[null,null,null,null,{"$f":"IF(D437=\"\",0,SUM(D$8:D437))","v":0},null,{"$f":"IF(F437=\"\",0,SUM(F$8:F437))","v":0}]
[null,null,null,null,{"$f":"IF(D438=\"\",0,SUM(D$8:D438))","v":0},null,{"$f":"IF(F438=\"\",0,SUM(F$8:F438))","v":0}]
[null,null,null,null,{"$f":"IF(D439=\"\",0,SUM(D$8:D439))","v":0},null,{"$f":"IF(F439=\"\",0,SUM(F$8:F439))","v":0}]
[null,null,null,null,{"$f":"IF(D440=\"\",0,SUM(D$8:D440))","v":0},null,{"$f":"IF(F440=\"\",0,SUM(F$8:F440))","v":0}]
[null,null,null,null,{"$f":"IF(D441=\"\",0,SUM(D$8:D441))","v":0},null,{"$f":"IF(F441=\"\",0,SUM(F$8:F441))","v":0}]
[null,null,null,null,{"$f":"IF(D442=\"\",0,SUM(D$8:D442))","v":0},null,{"$f":"IF(F442=\"\",0,SUM(F$8:F442))","v":0}]
[null,null,null,null,{"$f":"IF(D443=\"\",0,SUM(D$8:D443))","v":0},null,{"$f":"IF(F443=\"\",0,SUM(F$8:F443))","v":0}]
[null,null,null,null,{"$f":"IF(D444=\"\",0,SUM(D$8:D444))","v":0},null,{"$f":"IF(F444=\"\",0,SUM(F$8:F444))","v":0}]
[null,null,null,null,{"$f":"IF(D445=\"\",0,SUM(D$8:D445))","v":0},null,{"$f":"IF(F445=\"\",0,SUM(F$8:F445))","v":0}]
[null,null,null,null,{"$f":"IF(D446=\"\",0,SUM(D$8:D446))","v":0},null,{"$f":"IF(F446=\"\",0,SUM(F$8:F446))","v":0}]
[null,null,null,null,{"$f":"IF(D447=\"\",0,SUM(D$8:D447))","v":0},null,{"$f":"IF(F447=\"\",0,SUM(F$8:F447))","v":0}]
[null,null,null,null,{"$f":"IF(D448=\"\",0,SUM(D$8:D448))","v":0},null,{"$f":"IF(F448=\"\",0,SUM(F$8:F448))","v":0}]
[null,null,null,null,{"$f":"IF(D449=\"\",0,SUM(D$8:D449))","v":0},null,{"$f":"IF(F449=\"\",0,SUM(F$8:F449))","v":0}]
[null,null,null,null,{"$f":"IF(D450=\"\",0,SUM(D$8:D450))","v":0},null,{"$f":"IF(F450=\"\",0,SUM(F$8:F450))","v":0}]
[null,null,null,null,{"$f":"IF(D451=\"\",0,SUM(D$8:D451))","v":0},null,{"$f":"IF(F451=\"\",0,SUM(F$8:F451))","v":0}]
[null,null,null,null,{"$f":"IF(D452=\"\",0,SUM(D$8:D452))","v":0},null,{"$f":"IF(F452=\"\",0,SUM(F$8:F452))","v":0}]
[null,null,null,null,{"$f":"IF(D453=\"\",0,SUM(D$8:D453))","v":0},null,{"$f":"IF(F453=\"\",0,SUM(F$8:F453))","v":0}]
[null,null,null,null,{"$f":"IF(D454=\"\",0,SUM(D$8:D454))","v":0},null,{"$f":"IF(F454=\"\",0,SUM(F$8:F454))","v":0}]
[null,null,null,null,{"$f":"IF(D455=\"\",0,SUM(D$8:D455))","v":0},null,{"$f":"IF(F455=\"\",0,SUM(F$8:F455))","v":0}]
[null,null,null,null,{"$f":"IF(D456=\"\",0,SUM(D$8:D456))","v":0},null,{"$f":"IF(F456=\"\",0,SUM(F$8:F456))","v":0}]
[null,null,null,null,{"$f":"IF(D457=\"\",0,SUM(D$8:D457))","v":0},null,{"$f":"IF(F457=\"\",0,SUM(F$8:F457))","v":0}]
[null,null,null,null,{"$f":"IF(D458=\"\",0,SUM(D$8:D458))","v":0},null,{"$f":"IF(F458=\"\",0,SUM(F$8:F458))","v":0}]
[null,null,null,null,{"$f":"IF(D459=\"\",0,SUM(D$8:D459))","v":0},null,{"$f":"IF(F459=\"\",0,SUM(F$8:F459))","v":0}]
[null,null,null,null,{"$f":"IF(D460=\"\",0,SUM(D$8:D460))","v":0},null,{"$f":"IF(F460=\"\",0,SUM(F$8:F460))","v":0}]
[null,null,null,null,{"$f":"IF(D461=\"\",0,SUM(D$8:D461))","v":0},null,{"$f":"IF(F461=\"\",0,SUM(F$8:F461))","v":0}]
[null,null,null,null,{"$f":"IF(D462=\"\",0,SUM(D$8:D462))","v":0},null,{"$f":"IF(F462=\"\",0,SUM(F$8:F462))","v":0}]
[null,null,null,null,{"$f":"IF(D463=\"\",0,SUM(D$8:D463))","v":0},null,{"$f":"IF(F463=\"\",0,SUM(F$8:F463))","v":0}]
[null,null,null,null,{"$f":"IF(D464=\"\",0,SUM(D$8:D464))","v":0},null,{"$f":"IF(F464=\"\",0,SUM(F$8:F464))","v":0}]
[null,null,null,null,{"$f":"IF(D465=\"\",0,SUM(D$8:D465))","v":0},null,{"$f":"IF(F465=\"\",0,SUM(F$8:F465))","v":0}]
[null,null,null,null,{"$f":"IF(D466=\"\",0,SUM(D$8:D466))","v":0},null,{"$f":"IF(F466=\"\",0,SUM(F$8:F466))","v":0}]
[null,null,null,null,{"$f":"IF(D467=\"\",0,SUM(D$8:D467))","v":0},null,{"$f":"IF(F467=\"\",0,SUM(F$8:F467))","v":0}]
[null,null,null,null,{"$f":"IF(D468=\"\",0,SUM(D$8:D468))","v":0},null,{"$f":"IF(F468=\"\",0,SUM(F$8:F468))","v":0}]
[null,null,null,null,{"$f":"IF(D469=\"\",0,SUM(D$8:D469))","v":0},null,{"$f":"IF(F469=\"\",0,SUM(F$8:F469))","v":0}]
[null,null,null,null,{"$f":"IF(D470=\"\",0,SUM(D$8:D470))","v":0},null,{"$f":"IF(F470=\"\",0,SUM(F$8:F470))","v":0}]
[null,null,null,null,{"$f":"IF(D471=\"\",0,SUM(D$8:D471))","v":0},null,{"$f":"IF(F471=\"\",0,SUM(F$8:F471))","v":0}]
[null,null,null,null,{"$f":"IF(D472=\"\",0,SUM(D$8:D472))","v":0},null,{"$f":"IF(F472=\"\",0,SUM(F$8:F472))","v":0}]
[null,null,null,null,{"$f":"IF(D473=\"\",0,SUM(D$8:D473))","v":0},null,{"$f":"IF(F473=\"\",0,SUM(F$8:F473))","v":0}]
[null,null,null,null,{"$f":"IF(D474=\"\",0,SUM(D$8:D474))","v":0},null,{"$f":"IF(F474=\"\",0,SUM(F$8:F474))","v":0}]
[null,null,null,null,{"$f":"IF(D475=\"\",0,SUM(D$8:D475))","v":0},null,{"$f":"IF(F475=\"\",0,SUM(F$8:F475))","v":0}]
[null,null,null,null,{"$f":"IF(D476=\"\",0,SUM(D$8:D476))","v":0},null,{"$f":"IF(F476=\"\",0,SUM(F$8:F476))","v":0}]
[null,null,null,null,{"$f":"IF(D477=\"\",0,SUM(D$8:D477))","v":0},null,{"$f":"IF(F477=\"\",0,SUM(F$8:F477))","v":0}]
[null,null,null,null,{"$f":"IF(D478=\"\",0,SUM(D$8:D478))","v":0},null,{"$f":"IF(F478=\"\",0,SUM(F$8:F478))","v":0}]
[null,null,null,null,{"$f":"IF(D479=\"\",0,SUM(D$8:D479))","v":0},null,{"$f":"IF(F479=\"\",0,SUM(F$8:F479))","v":0}]
[null,null,null,null,{"$f":"IF(D480=\"\",0,SUM(D$8:D480))","v":0},null,{"$f":"IF(F480=\"\",0,SUM(F$8:F480))","v":0}]
[null,null,null,null,{"$f":"IF(D481=\"\",0,SUM(D$8:D481))","v":0},null,{"$f":"IF(F481=\"\",0,SUM(F$8:F481))","v":0}]
[null,null,null,null,{"$f":"IF(D482=\"\",0,SUM(D$8:D482))","v":0},null,{"$f":"IF(F482=\"\",0,SUM(F$8:F482))","v":0}]
[null,null,null,null,{"$f":"IF(D483=\"\",0,SUM(D$8:D483))","v":0},null,{"$f":"IF(F483=\"\",0,SUM(F$8:F483))","v":0}]
[null,null,null,null,{"$f":"IF(D484=\"\",0,SUM(D$8:D484))","v":0},null,{"$f":"IF(F484=\"\",0,SUM(F$8:F484))","v":0}]
[null,null,null,null,{"$f":"IF(D485=\"\",0,SUM(D$8:D485))","v":0},null,{"$f":"IF(F485=\"\",0,SUM(F$8:F485))","v":0}]
[null,null,null,null,{"$f":"IF(D486=\"\",0,SUM(D$8:D486))","v":0},null,{"$f":"IF(F486=\"\",0,SUM(F$8:F486))","v":0}]

{"sheet":"Fine Agg 1","index":15,"n_rows":486,"n_cols":8,"rows_kept":486,"cut":false,"hidden":false,"merged":[]}
["Fine Aggregate  Certification  1",null,null,null,null,null,null,{"$f":"Info!B2","v":"E"}]
["Spec. Grav.: ",{"$f":"IF(AND(Info!B52=\"\", Info!C52=\"\"),\"\", IF(Info!B52<>\"\", Info!B52, Info!C52))","v":""},null,null,null,"Page No.: "]
["Source: ",{"$f":"IF(AND(Info!B51=\"\", Info!C51=\"\"),\"\", IF(Info!B51<>\"\", Info!B51, Info!C51))","v":""},null,null,null,"Grad. No.: ",{"$f":"IF(AND(Info!B53=\"\", Info!C53=\"\"),\"\", IF(Info!B53<>\"\", Info!B53, Info!C53))","v":""}]
["Project No.: ",{"$f":"IF(Info!B3=\"\",\"\",(Info!B3))","v":""},null,null,null,"Contract ID.: ",{"$f":"IF(Info!B4=\"\",\"\",(Info!B4))","v":""}]
[]
[null,"Ticket #",null,"Certified","To Date","Used","To Date"," "]
["Date","From","To",{"$f":"IF(Info!$B$2=\"M\",\"(Mg's)\",\"(Tons)\")","v":"(Tons)"},{"$f":"IF(Info!$B$2=\"M\",\"(Mg's)\",\"(Tons)\")","v":"(Tons)"},{"$f":"IF(Info!$B$2=\"M\",\"(Mg's)\",\"(Tons)\")","v":"(Tons)"},{"$f":"IF(Info!$B$2=\"M\",\"(Mg's)\",\"(Tons)\")","v":"(Tons)"},"By"]
[null,null,null,null,{"$f":"SUM(D8)","v":0},null,{"$f":"SUM(F8)","v":0}]
[null,null,null,null,{"$f":"IF(D9=\"\",0,SUM(D$8:D9))","v":0},null,{"$f":"IF(F9=\"\",0,SUM(F$8:F9))","v":0}]
[null,null,null,null,{"$f":"IF(D10=\"\",0,SUM(D$8:D10))","v":0},null,{"$f":"IF(F10=\"\",0,SUM(F$8:F10))","v":0}]
[null,null,null,null,{"$f":"IF(D11=\"\",0,SUM(D$8:D11))","v":0},null,{"$f":"IF(F11=\"\",0,SUM(F$8:F11))","v":0}]
[null,null,null,null,{"$f":"IF(D12=\"\",0,SUM(D$8:D12))","v":0},null,{"$f":"IF(F12=\"\",0,SUM(F$8:F12))","v":0}]
[null,null,null,null,{"$f":"IF(D13=\"\",0,SUM(D$8:D13))","v":0},null,{"$f":"IF(F13=\"\",0,SUM(F$8:F13))","v":0}]
[null,null,null,null,{"$f":"IF(D14=\"\",0,SUM(D$8:D14))","v":0},null,{"$f":"IF(F14=\"\",0,SUM(F$8:F14))","v":0}]
[null,null,null,null,{"$f":"IF(D15=\"\",0,SUM(D$8:D15))","v":0},null,{"$f":"IF(F15=\"\",0,SUM(F$8:F15))","v":0}]
[null,null,null,null,{"$f":"IF(D16=\"\",0,SUM(D$8:D16))","v":0},null,{"$f":"IF(F16=\"\",0,SUM(F$8:F16))","v":0}]
[null,null,null,null,{"$f":"IF(D17=\"\",0,SUM(D$8:D17))","v":0},null,{"$f":"IF(F17=\"\",0,SUM(F$8:F17))","v":0}]
[null,null,null,null,{"$f":"IF(D18=\"\",0,SUM(D$8:D18))","v":0},null,{"$f":"IF(F18=\"\",0,SUM(F$8:F18))","v":0}]
[null,null,null,null,{"$f":"IF(D19=\"\",0,SUM(D$8:D19))","v":0},null,{"$f":"IF(F19=\"\",0,SUM(F$8:F19))","v":0}]
[null,null,null,null,{"$f":"IF(D20=\"\",0,SUM(D$8:D20))","v":0},null,{"$f":"IF(F20=\"\",0,SUM(F$8:F20))","v":0}]
[null,null,null,null,{"$f":"IF(D21=\"\",0,SUM(D$8:D21))","v":0},null,{"$f":"IF(F21=\"\",0,SUM(F$8:F21))","v":0}]
[null,null,null,null,{"$f":"IF(D22=\"\",0,SUM(D$8:D22))","v":0},null,{"$f":"IF(F22=\"\",0,SUM(F$8:F22))","v":0}]
[null,null,null,null,{"$f":"IF(D23=\"\",0,SUM(D$8:D23))","v":0},null,{"$f":"IF(F23=\"\",0,SUM(F$8:F23))","v":0}]
[null,null,null,null,{"$f":"IF(D24=\"\",0,SUM(D$8:D24))","v":0},null,{"$f":"IF(F24=\"\",0,SUM(F$8:F24))","v":0}]
[null,null,null,null,{"$f":"IF(D25=\"\",0,SUM(D$8:D25))","v":0},null,{"$f":"IF(F25=\"\",0,SUM(F$8:F25))","v":0}]
[null,null,null,null,{"$f":"IF(D26=\"\",0,SUM(D$8:D26))","v":0},null,{"$f":"IF(F26=\"\",0,SUM(F$8:F26))","v":0}]
[null,null,null,null,{"$f":"IF(D27=\"\",0,SUM(D$8:D27))","v":0},null,{"$f":"IF(F27=\"\",0,SUM(F$8:F27))","v":0}]
[null,null,null,null,{"$f":"IF(D28=\"\",0,SUM(D$8:D28))","v":0},null,{"$f":"IF(F28=\"\",0,SUM(F$8:F28))","v":0}]
[null,null,null,null,{"$f":"IF(D29=\"\",0,SUM(D$8:D29))","v":0},null,{"$f":"IF(F29=\"\",0,SUM(F$8:F29))","v":0}]
[null,null,null,null,{"$f":"IF(D30=\"\",0,SUM(D$8:D30))","v":0},null,{"$f":"IF(F30=\"\",0,SUM(F$8:F30))","v":0}]
[null,null,null,null,{"$f":"IF(D31=\"\",0,SUM(D$8:D31))","v":0},null,{"$f":"IF(F31=\"\",0,SUM(F$8:F31))","v":0}]
[null,null,null,null,{"$f":"IF(D32=\"\",0,SUM(D$8:D32))","v":0},null,{"$f":"IF(F32=\"\",0,SUM(F$8:F32))","v":0}]
[null,null,null,null,{"$f":"IF(D33=\"\",0,SUM(D$8:D33))","v":0},null,{"$f":"IF(F33=\"\",0,SUM(F$8:F33))","v":0}]
[null,null,null,null,{"$f":"IF(D34=\"\",0,SUM(D$8:D34))","v":0},null,{"$f":"IF(F34=\"\",0,SUM(F$8:F34))","v":0}]
[null,null,null,null,{"$f":"IF(D35=\"\",0,SUM(D$8:D35))","v":0},null,{"$f":"IF(F35=\"\",0,SUM(F$8:F35))","v":0}]
[null,null,null,null,{"$f":"IF(D36=\"\",0,SUM(D$8:D36))","v":0},null,{"$f":"IF(F36=\"\",0,SUM(F$8:F36))","v":0}]
[null,null,null,null,{"$f":"IF(D37=\"\",0,SUM(D$8:D37))","v":0},null,{"$f":"IF(F37=\"\",0,SUM(F$8:F37))","v":0}]
[null,null,null,null,{"$f":"IF(D38=\"\",0,SUM(D$8:D38))","v":0},null,{"$f":"IF(F38=\"\",0,SUM(F$8:F38))","v":0}]
[null,null,null,null,{"$f":"IF(D39=\"\",0,SUM(D$8:D39))","v":0},null,{"$f":"IF(F39=\"\",0,SUM(F$8:F39))","v":0}]
[null,null,null,null,{"$f":"IF(D40=\"\",0,SUM(D$8:D40))","v":0},null,{"$f":"IF(F40=\"\",0,SUM(F$8:F40))","v":0}]
[null,null,null,null,{"$f":"IF(D41=\"\",0,SUM(D$8:D41))","v":0},null,{"$f":"IF(F41=\"\",0,SUM(F$8:F41))","v":0}]
[null,null,null,null,{"$f":"IF(D42=\"\",0,SUM(D$8:D42))","v":0},null,{"$f":"IF(F42=\"\",0,SUM(F$8:F42))","v":0}]
[null,null,null,null,{"$f":"IF(D43=\"\",0,SUM(D$8:D43))","v":0},null,{"$f":"IF(F43=\"\",0,SUM(F$8:F43))","v":0}]
[null,null,null,null,{"$f":"IF(D44=\"\",0,SUM(D$8:D44))","v":0},null,{"$f":"IF(F44=\"\",0,SUM(F$8:F44))","v":0}]
[null,null,null,null,{"$f":"IF(D45=\"\",0,SUM(D$8:D45))","v":0},null,{"$f":"IF(F45=\"\",0,SUM(F$8:F45))","v":0}]
[null,null,null,null,{"$f":"IF(D46=\"\",0,SUM(D$8:D46))","v":0},null,{"$f":"IF(F46=\"\",0,SUM(F$8:F46))","v":0}]
[null,null,null,null,{"$f":"IF(D47=\"\",0,SUM(D$8:D47))","v":0},null,{"$f":"IF(F47=\"\",0,SUM(F$8:F47))","v":0}]
[null,null,null,null,{"$f":"IF(D48=\"\",0,SUM(D$8:D48))","v":0},null,{"$f":"IF(F48=\"\",0,SUM(F$8:F48))","v":0}]
[null,null,null,null,{"$f":"IF(D49=\"\",0,SUM(D$8:D49))","v":0},null,{"$f":"IF(F49=\"\",0,SUM(F$8:F49))","v":0}]
[null,null,null,null,{"$f":"IF(D50=\"\",0,SUM(D$8:D50))","v":0},null,{"$f":"IF(F50=\"\",0,SUM(F$8:F50))","v":0}]
[null,null,null,null,{"$f":"IF(D51=\"\",0,SUM(D$8:D51))","v":0},null,{"$f":"IF(F51=\"\",0,SUM(F$8:F51))","v":0}]
[null,null,null,null,{"$f":"IF(D52=\"\",0,SUM(D$8:D52))","v":0},null,{"$f":"IF(F52=\"\",0,SUM(F$8:F52))","v":0}]
[null,null,null,null,{"$f":"IF(D53=\"\",0,SUM(D$8:D53))","v":0},null,{"$f":"IF(F53=\"\",0,SUM(F$8:F53))","v":0}]
[null,null,null,null,{"$f":"IF(D54=\"\",0,SUM(D$8:D54))","v":0},null,{"$f":"IF(F54=\"\",0,SUM(F$8:F54))","v":0}]
[null,null,null,null,{"$f":"IF(D55=\"\",0,SUM(D$8:D55))","v":0},null,{"$f":"IF(F55=\"\",0,SUM(F$8:F55))","v":0}]
[null,null,null,null,{"$f":"IF(D56=\"\",0,SUM(D$8:D56))","v":0},null,{"$f":"IF(F56=\"\",0,SUM(F$8:F56))","v":0}]
[null,null,null,null,{"$f":"IF(D57=\"\",0,SUM(D$8:D57))","v":0},null,{"$f":"IF(F57=\"\",0,SUM(F$8:F57))","v":0}]
[null,null,null,null,{"$f":"IF(D58=\"\",0,SUM(D$8:D58))","v":0},null,{"$f":"IF(F58=\"\",0,SUM(F$8:F58))","v":0}]
[null,null,null,null,{"$f":"IF(D59=\"\",0,SUM(D$8:D59))","v":0},null,{"$f":"IF(F59=\"\",0,SUM(F$8:F59))","v":0}]
[null,null,null,null,{"$f":"IF(D60=\"\",0,SUM(D$8:D60))","v":0},null,{"$f":"IF(F60=\"\",0,SUM(F$8:F60))","v":0}]
[null,null,null,null,{"$f":"IF(D61=\"\",0,SUM(D$8:D61))","v":0},null,{"$f":"IF(F61=\"\",0,SUM(F$8:F61))","v":0}]
[null,null,null,null,{"$f":"IF(D62=\"\",0,SUM(D$8:D62))","v":0},null,{"$f":"IF(F62=\"\",0,SUM(F$8:F62))","v":0}]
[null,null,null,null,{"$f":"IF(D63=\"\",0,SUM(D$8:D63))","v":0},null,{"$f":"IF(F63=\"\",0,SUM(F$8:F63))","v":0}]
[null,null,null,null,{"$f":"IF(D64=\"\",0,SUM(D$8:D64))","v":0},null,{"$f":"IF(F64=\"\",0,SUM(F$8:F64))","v":0}]
[null,null,null,null,{"$f":"IF(D65=\"\",0,SUM(D$8:D65))","v":0},null,{"$f":"IF(F65=\"\",0,SUM(F$8:F65))","v":0}]
[null,null,null,null,{"$f":"IF(D66=\"\",0,SUM(D$8:D66))","v":0},null,{"$f":"IF(F66=\"\",0,SUM(F$8:F66))","v":0}]
[null,null,null,null,{"$f":"IF(D67=\"\",0,SUM(D$8:D67))","v":0},null,{"$f":"IF(F67=\"\",0,SUM(F$8:F67))","v":0}]
[null,null,null,null,{"$f":"IF(D68=\"\",0,SUM(D$8:D68))","v":0},null,{"$f":"IF(F68=\"\",0,SUM(F$8:F68))","v":0}]
[null,null,null,null,{"$f":"IF(D69=\"\",0,SUM(D$8:D69))","v":0},null,{"$f":"IF(F69=\"\",0,SUM(F$8:F69))","v":0}]
[null,null,null,null,{"$f":"IF(D70=\"\",0,SUM(D$8:D70))","v":0},null,{"$f":"IF(F70=\"\",0,SUM(F$8:F70))","v":0}]
[null,null,null,null,{"$f":"IF(D71=\"\",0,SUM(D$8:D71))","v":0},null,{"$f":"IF(F71=\"\",0,SUM(F$8:F71))","v":0}]
[null,null,null,null,{"$f":"IF(D72=\"\",0,SUM(D$8:D72))","v":0},null,{"$f":"IF(F72=\"\",0,SUM(F$8:F72))","v":0}]
[null,null,null,null,{"$f":"IF(D73=\"\",0,SUM(D$8:D73))","v":0},null,{"$f":"IF(F73=\"\",0,SUM(F$8:F73))","v":0}]
[null,null,null,null,{"$f":"IF(D74=\"\",0,SUM(D$8:D74))","v":0},null,{"$f":"IF(F74=\"\",0,SUM(F$8:F74))","v":0}]
[null,null,null,null,{"$f":"IF(D75=\"\",0,SUM(D$8:D75))","v":0},null,{"$f":"IF(F75=\"\",0,SUM(F$8:F75))","v":0}]
[null,null,null,null,{"$f":"IF(D76=\"\",0,SUM(D$8:D76))","v":0},null,{"$f":"IF(F76=\"\",0,SUM(F$8:F76))","v":0}]
[null,null,null,null,{"$f":"IF(D77=\"\",0,SUM(D$8:D77))","v":0},null,{"$f":"IF(F77=\"\",0,SUM(F$8:F77))","v":0}]
[null,null,null,null,{"$f":"IF(D78=\"\",0,SUM(D$8:D78))","v":0},null,{"$f":"IF(F78=\"\",0,SUM(F$8:F78))","v":0}]
[null,null,null,null,{"$f":"IF(D79=\"\",0,SUM(D$8:D79))","v":0},null,{"$f":"IF(F79=\"\",0,SUM(F$8:F79))","v":0}]
[null,null,null,null,{"$f":"IF(D80=\"\",0,SUM(D$8:D80))","v":0},null,{"$f":"IF(F80=\"\",0,SUM(F$8:F80))","v":0}]
[null,null,null,null,{"$f":"IF(D81=\"\",0,SUM(D$8:D81))","v":0},null,{"$f":"IF(F81=\"\",0,SUM(F$8:F81))","v":0}]
[null,null,null,null,{"$f":"IF(D82=\"\",0,SUM(D$8:D82))","v":0},null,{"$f":"IF(F82=\"\",0,SUM(F$8:F82))","v":0}]
[null,null,null,null,{"$f":"IF(D83=\"\",0,SUM(D$8:D83))","v":0},null,{"$f":"IF(F83=\"\",0,SUM(F$8:F83))","v":0}]
[null,null,null,null,{"$f":"IF(D84=\"\",0,SUM(D$8:D84))","v":0},null,{"$f":"IF(F84=\"\",0,SUM(F$8:F84))","v":0}]
[null,null,null,null,{"$f":"IF(D85=\"\",0,SUM(D$8:D85))","v":0},null,{"$f":"IF(F85=\"\",0,SUM(F$8:F85))","v":0}]
[null,null,null,null,{"$f":"IF(D86=\"\",0,SUM(D$8:D86))","v":0},null,{"$f":"IF(F86=\"\",0,SUM(F$8:F86))","v":0}]
[null,null,null,null,{"$f":"IF(D87=\"\",0,SUM(D$8:D87))","v":0},null,{"$f":"IF(F87=\"\",0,SUM(F$8:F87))","v":0}]
[null,null,null,null,{"$f":"IF(D88=\"\",0,SUM(D$8:D88))","v":0},null,{"$f":"IF(F88=\"\",0,SUM(F$8:F88))","v":0}]
[null,null,null,null,{"$f":"IF(D89=\"\",0,SUM(D$8:D89))","v":0},null,{"$f":"IF(F89=\"\",0,SUM(F$8:F89))","v":0}]
[null,null,null,null,{"$f":"IF(D90=\"\",0,SUM(D$8:D90))","v":0},null,{"$f":"IF(F90=\"\",0,SUM(F$8:F90))","v":0}]
[null,null,null,null,{"$f":"IF(D91=\"\",0,SUM(D$8:D91))","v":0},null,{"$f":"IF(F91=\"\",0,SUM(F$8:F91))","v":0}]
[null,null,null,null,{"$f":"IF(D92=\"\",0,SUM(D$8:D92))","v":0},null,{"$f":"IF(F92=\"\",0,SUM(F$8:F92))","v":0}]
[null,null,null,null,{"$f":"IF(D93=\"\",0,SUM(D$8:D93))","v":0},null,{"$f":"IF(F93=\"\",0,SUM(F$8:F93))","v":0}]
[null,null,null,null,{"$f":"IF(D94=\"\",0,SUM(D$8:D94))","v":0},null,{"$f":"IF(F94=\"\",0,SUM(F$8:F94))","v":0}]
[null,null,null,null,{"$f":"IF(D95=\"\",0,SUM(D$8:D95))","v":0},null,{"$f":"IF(F95=\"\",0,SUM(F$8:F95))","v":0}]
[null,null,null,null,{"$f":"IF(D96=\"\",0,SUM(D$8:D96))","v":0},null,{"$f":"IF(F96=\"\",0,SUM(F$8:F96))","v":0}]
[null,null,null,null,{"$f":"IF(D97=\"\",0,SUM(D$8:D97))","v":0},null,{"$f":"IF(F97=\"\",0,SUM(F$8:F97))","v":0}]
[null,null,null,null,{"$f":"IF(D98=\"\",0,SUM(D$8:D98))","v":0},null,{"$f":"IF(F98=\"\",0,SUM(F$8:F98))","v":0}]
[null,null,null,null,{"$f":"IF(D99=\"\",0,SUM(D$8:D99))","v":0},null,{"$f":"IF(F99=\"\",0,SUM(F$8:F99))","v":0}]
[null,null,null,null,{"$f":"IF(D100=\"\",0,SUM(D$8:D100))","v":0},null,{"$f":"IF(F100=\"\",0,SUM(F$8:F100))","v":0}]
[null,null,null,null,{"$f":"IF(D101=\"\",0,SUM(D$8:D101))","v":0},null,{"$f":"IF(F101=\"\",0,SUM(F$8:F101))","v":0}]
[null,null,null,null,{"$f":"IF(D102=\"\",0,SUM(D$8:D102))","v":0},null,{"$f":"IF(F102=\"\",0,SUM(F$8:F102))","v":0}]
[null,null,null,null,{"$f":"IF(D103=\"\",0,SUM(D$8:D103))","v":0},null,{"$f":"IF(F103=\"\",0,SUM(F$8:F103))","v":0}]
[null,null,null,null,{"$f":"IF(D104=\"\",0,SUM(D$8:D104))","v":0},null,{"$f":"IF(F104=\"\",0,SUM(F$8:F104))","v":0}]
[null,null,null,null,{"$f":"IF(D105=\"\",0,SUM(D$8:D105))","v":0},null,{"$f":"IF(F105=\"\",0,SUM(F$8:F105))","v":0}]
[null,null,null,null,{"$f":"IF(D106=\"\",0,SUM(D$8:D106))","v":0},null,{"$f":"IF(F106=\"\",0,SUM(F$8:F106))","v":0}]
[null,null,null,null,{"$f":"IF(D107=\"\",0,SUM(D$8:D107))","v":0},null,{"$f":"IF(F107=\"\",0,SUM(F$8:F107))","v":0}]
[null,null,null,null,{"$f":"IF(D108=\"\",0,SUM(D$8:D108))","v":0},null,{"$f":"IF(F108=\"\",0,SUM(F$8:F108))","v":0}]
[null,null,null,null,{"$f":"IF(D109=\"\",0,SUM(D$8:D109))","v":0},null,{"$f":"IF(F109=\"\",0,SUM(F$8:F109))","v":0}]
[null,null,null,null,{"$f":"IF(D110=\"\",0,SUM(D$8:D110))","v":0},null,{"$f":"IF(F110=\"\",0,SUM(F$8:F110))","v":0}]
[null,null,null,null,{"$f":"IF(D111=\"\",0,SUM(D$8:D111))","v":0},null,{"$f":"IF(F111=\"\",0,SUM(F$8:F111))","v":0}]
[null,null,null,null,{"$f":"IF(D112=\"\",0,SUM(D$8:D112))","v":0},null,{"$f":"IF(F112=\"\",0,SUM(F$8:F112))","v":0}]
[null,null,null,null,{"$f":"IF(D113=\"\",0,SUM(D$8:D113))","v":0},null,{"$f":"IF(F113=\"\",0,SUM(F$8:F113))","v":0}]
[null,null,null,null,{"$f":"IF(D114=\"\",0,SUM(D$8:D114))","v":0},null,{"$f":"IF(F114=\"\",0,SUM(F$8:F114))","v":0}]
[null,null,null,null,{"$f":"IF(D115=\"\",0,SUM(D$8:D115))","v":0},null,{"$f":"IF(F115=\"\",0,SUM(F$8:F115))","v":0}]
[null,null,null,null,{"$f":"IF(D116=\"\",0,SUM(D$8:D116))","v":0},null,{"$f":"IF(F116=\"\",0,SUM(F$8:F116))","v":0}]
[null,null,null,null,{"$f":"IF(D117=\"\",0,SUM(D$8:D117))","v":0},null,{"$f":"IF(F117=\"\",0,SUM(F$8:F117))","v":0}]
[null,null,null,null,{"$f":"IF(D118=\"\",0,SUM(D$8:D118))","v":0},null,{"$f":"IF(F118=\"\",0,SUM(F$8:F118))","v":0}]
[null,null,null,null,{"$f":"IF(D119=\"\",0,SUM(D$8:D119))","v":0},null,{"$f":"IF(F119=\"\",0,SUM(F$8:F119))","v":0}]
[null,null,null,null,{"$f":"IF(D120=\"\",0,SUM(D$8:D120))","v":0},null,{"$f":"IF(F120=\"\",0,SUM(F$8:F120))","v":0}]
[null,null,null,null,{"$f":"IF(D121=\"\",0,SUM(D$8:D121))","v":0},null,{"$f":"IF(F121=\"\",0,SUM(F$8:F121))","v":0}]
[null,null,null,null,{"$f":"IF(D122=\"\",0,SUM(D$8:D122))","v":0},null,{"$f":"IF(F122=\"\",0,SUM(F$8:F122))","v":0}]
[null,null,null,null,{"$f":"IF(D123=\"\",0,SUM(D$8:D123))","v":0},null,{"$f":"IF(F123=\"\",0,SUM(F$8:F123))","v":0}]
[null,null,null,null,{"$f":"IF(D124=\"\",0,SUM(D$8:D124))","v":0},null,{"$f":"IF(F124=\"\",0,SUM(F$8:F124))","v":0}]
[null,null,null,null,{"$f":"IF(D125=\"\",0,SUM(D$8:D125))","v":0},null,{"$f":"IF(F125=\"\",0,SUM(F$8:F125))","v":0}]
[null,null,null,null,{"$f":"IF(D126=\"\",0,SUM(D$8:D126))","v":0},null,{"$f":"IF(F126=\"\",0,SUM(F$8:F126))","v":0}]
[null,null,null,null,{"$f":"IF(D127=\"\",0,SUM(D$8:D127))","v":0},null,{"$f":"IF(F127=\"\",0,SUM(F$8:F127))","v":0}]
[null,null,null,null,{"$f":"IF(D128=\"\",0,SUM(D$8:D128))","v":0},null,{"$f":"IF(F128=\"\",0,SUM(F$8:F128))","v":0}]
[null,null,null,null,{"$f":"IF(D129=\"\",0,SUM(D$8:D129))","v":0},null,{"$f":"IF(F129=\"\",0,SUM(F$8:F129))","v":0}]
[null,null,null,null,{"$f":"IF(D130=\"\",0,SUM(D$8:D130))","v":0},null,{"$f":"IF(F130=\"\",0,SUM(F$8:F130))","v":0}]
[null,null,null,null,{"$f":"IF(D131=\"\",0,SUM(D$8:D131))","v":0},null,{"$f":"IF(F131=\"\",0,SUM(F$8:F131))","v":0}]
[null,null,null,null,{"$f":"IF(D132=\"\",0,SUM(D$8:D132))","v":0},null,{"$f":"IF(F132=\"\",0,SUM(F$8:F132))","v":0}]
[null,null,null,null,{"$f":"IF(D133=\"\",0,SUM(D$8:D133))","v":0},null,{"$f":"IF(F133=\"\",0,SUM(F$8:F133))","v":0}]
[null,null,null,null,{"$f":"IF(D134=\"\",0,SUM(D$8:D134))","v":0},null,{"$f":"IF(F134=\"\",0,SUM(F$8:F134))","v":0}]
[null,null,null,null,{"$f":"IF(D135=\"\",0,SUM(D$8:D135))","v":0},null,{"$f":"IF(F135=\"\",0,SUM(F$8:F135))","v":0}]
[null,null,null,null,{"$f":"IF(D136=\"\",0,SUM(D$8:D136))","v":0},null,{"$f":"IF(F136=\"\",0,SUM(F$8:F136))","v":0}]
[null,null,null,null,{"$f":"IF(D137=\"\",0,SUM(D$8:D137))","v":0},null,{"$f":"IF(F137=\"\",0,SUM(F$8:F137))","v":0}]
[null,null,null,null,{"$f":"IF(D138=\"\",0,SUM(D$8:D138))","v":0},null,{"$f":"IF(F138=\"\",0,SUM(F$8:F138))","v":0}]
[null,null,null,null,{"$f":"IF(D139=\"\",0,SUM(D$8:D139))","v":0},null,{"$f":"IF(F139=\"\",0,SUM(F$8:F139))","v":0}]
[null,null,null,null,{"$f":"IF(D140=\"\",0,SUM(D$8:D140))","v":0},null,{"$f":"IF(F140=\"\",0,SUM(F$8:F140))","v":0}]
[null,null,null,null,{"$f":"IF(D141=\"\",0,SUM(D$8:D141))","v":0},null,{"$f":"IF(F141=\"\",0,SUM(F$8:F141))","v":0}]
[null,null,null,null,{"$f":"IF(D142=\"\",0,SUM(D$8:D142))","v":0},null,{"$f":"IF(F142=\"\",0,SUM(F$8:F142))","v":0}]
[null,null,null,null,{"$f":"IF(D143=\"\",0,SUM(D$8:D143))","v":0},null,{"$f":"IF(F143=\"\",0,SUM(F$8:F143))","v":0}]
[null,null,null,null,{"$f":"IF(D144=\"\",0,SUM(D$8:D144))","v":0},null,{"$f":"IF(F144=\"\",0,SUM(F$8:F144))","v":0}]
[null,null,null,null,{"$f":"IF(D145=\"\",0,SUM(D$8:D145))","v":0},null,{"$f":"IF(F145=\"\",0,SUM(F$8:F145))","v":0}]
[null,null,null,null,{"$f":"IF(D146=\"\",0,SUM(D$8:D146))","v":0},null,{"$f":"IF(F146=\"\",0,SUM(F$8:F146))","v":0}]
[null,null,null,null,{"$f":"IF(D147=\"\",0,SUM(D$8:D147))","v":0},null,{"$f":"IF(F147=\"\",0,SUM(F$8:F147))","v":0}]
[null,null,null,null,{"$f":"IF(D148=\"\",0,SUM(D$8:D148))","v":0},null,{"$f":"IF(F148=\"\",0,SUM(F$8:F148))","v":0}]
[null,null,null,null,{"$f":"IF(D149=\"\",0,SUM(D$8:D149))","v":0},null,{"$f":"IF(F149=\"\",0,SUM(F$8:F149))","v":0}]
[null,null,null,null,{"$f":"IF(D150=\"\",0,SUM(D$8:D150))","v":0},null,{"$f":"IF(F150=\"\",0,SUM(F$8:F150))","v":0}]
[null,null,null,null,{"$f":"IF(D151=\"\",0,SUM(D$8:D151))","v":0},null,{"$f":"IF(F151=\"\",0,SUM(F$8:F151))","v":0}]
[null,null,null,null,{"$f":"IF(D152=\"\",0,SUM(D$8:D152))","v":0},null,{"$f":"IF(F152=\"\",0,SUM(F$8:F152))","v":0}]
[null,null,null,null,{"$f":"IF(D153=\"\",0,SUM(D$8:D153))","v":0},null,{"$f":"IF(F153=\"\",0,SUM(F$8:F153))","v":0}]
[null,null,null,null,{"$f":"IF(D154=\"\",0,SUM(D$8:D154))","v":0},null,{"$f":"IF(F154=\"\",0,SUM(F$8:F154))","v":0}]
[null,null,null,null,{"$f":"IF(D155=\"\",0,SUM(D$8:D155))","v":0},null,{"$f":"IF(F155=\"\",0,SUM(F$8:F155))","v":0}]
[null,null,null,null,{"$f":"IF(D156=\"\",0,SUM(D$8:D156))","v":0},null,{"$f":"IF(F156=\"\",0,SUM(F$8:F156))","v":0}]
[null,null,null,null,{"$f":"IF(D157=\"\",0,SUM(D$8:D157))","v":0},null,{"$f":"IF(F157=\"\",0,SUM(F$8:F157))","v":0}]
[null,null,null,null,{"$f":"IF(D158=\"\",0,SUM(D$8:D158))","v":0},null,{"$f":"IF(F158=\"\",0,SUM(F$8:F158))","v":0}]
[null,null,null,null,{"$f":"IF(D159=\"\",0,SUM(D$8:D159))","v":0},null,{"$f":"IF(F159=\"\",0,SUM(F$8:F159))","v":0}]
[null,null,null,null,{"$f":"IF(D160=\"\",0,SUM(D$8:D160))","v":0},null,{"$f":"IF(F160=\"\",0,SUM(F$8:F160))","v":0}]
[null,null,null,null,{"$f":"IF(D161=\"\",0,SUM(D$8:D161))","v":0},null,{"$f":"IF(F161=\"\",0,SUM(F$8:F161))","v":0}]
[null,null,null,null,{"$f":"IF(D162=\"\",0,SUM(D$8:D162))","v":0},null,{"$f":"IF(F162=\"\",0,SUM(F$8:F162))","v":0}]
[null,null,null,null,{"$f":"IF(D163=\"\",0,SUM(D$8:D163))","v":0},null,{"$f":"IF(F163=\"\",0,SUM(F$8:F163))","v":0}]
[null,null,null,null,{"$f":"IF(D164=\"\",0,SUM(D$8:D164))","v":0},null,{"$f":"IF(F164=\"\",0,SUM(F$8:F164))","v":0}]
[null,null,null,null,{"$f":"IF(D165=\"\",0,SUM(D$8:D165))","v":0},null,{"$f":"IF(F165=\"\",0,SUM(F$8:F165))","v":0}]
[null,null,null,null,{"$f":"IF(D166=\"\",0,SUM(D$8:D166))","v":0},null,{"$f":"IF(F166=\"\",0,SUM(F$8:F166))","v":0}]
[null,null,null,null,{"$f":"IF(D167=\"\",0,SUM(D$8:D167))","v":0},null,{"$f":"IF(F167=\"\",0,SUM(F$8:F167))","v":0}]
[null,null,null,null,{"$f":"IF(D168=\"\",0,SUM(D$8:D168))","v":0},null,{"$f":"IF(F168=\"\",0,SUM(F$8:F168))","v":0}]
[null,null,null,null,{"$f":"IF(D169=\"\",0,SUM(D$8:D169))","v":0},null,{"$f":"IF(F169=\"\",0,SUM(F$8:F169))","v":0}]
[null,null,null,null,{"$f":"IF(D170=\"\",0,SUM(D$8:D170))","v":0},null,{"$f":"IF(F170=\"\",0,SUM(F$8:F170))","v":0}]
[null,null,null,null,{"$f":"IF(D171=\"\",0,SUM(D$8:D171))","v":0},null,{"$f":"IF(F171=\"\",0,SUM(F$8:F171))","v":0}]
[null,null,null,null,{"$f":"IF(D172=\"\",0,SUM(D$8:D172))","v":0},null,{"$f":"IF(F172=\"\",0,SUM(F$8:F172))","v":0}]
[null,null,null,null,{"$f":"IF(D173=\"\",0,SUM(D$8:D173))","v":0},null,{"$f":"IF(F173=\"\",0,SUM(F$8:F173))","v":0}]
[null,null,null,null,{"$f":"IF(D174=\"\",0,SUM(D$8:D174))","v":0},null,{"$f":"IF(F174=\"\",0,SUM(F$8:F174))","v":0}]
[null,null,null,null,{"$f":"IF(D175=\"\",0,SUM(D$8:D175))","v":0},null,{"$f":"IF(F175=\"\",0,SUM(F$8:F175))","v":0}]
[null,null,null,null,{"$f":"IF(D176=\"\",0,SUM(D$8:D176))","v":0},null,{"$f":"IF(F176=\"\",0,SUM(F$8:F176))","v":0}]
[null,null,null,null,{"$f":"IF(D177=\"\",0,SUM(D$8:D177))","v":0},null,{"$f":"IF(F177=\"\",0,SUM(F$8:F177))","v":0}]
[null,null,null,null,{"$f":"IF(D178=\"\",0,SUM(D$8:D178))","v":0},null,{"$f":"IF(F178=\"\",0,SUM(F$8:F178))","v":0}]
[null,null,null,null,{"$f":"IF(D179=\"\",0,SUM(D$8:D179))","v":0},null,{"$f":"IF(F179=\"\",0,SUM(F$8:F179))","v":0}]
[null,null,null,null,{"$f":"IF(D180=\"\",0,SUM(D$8:D180))","v":0},null,{"$f":"IF(F180=\"\",0,SUM(F$8:F180))","v":0}]
[null,null,null,null,{"$f":"IF(D181=\"\",0,SUM(D$8:D181))","v":0},null,{"$f":"IF(F181=\"\",0,SUM(F$8:F181))","v":0}]
[null,null,null,null,{"$f":"IF(D182=\"\",0,SUM(D$8:D182))","v":0},null,{"$f":"IF(F182=\"\",0,SUM(F$8:F182))","v":0}]
[null,null,null,null,{"$f":"IF(D183=\"\",0,SUM(D$8:D183))","v":0},null,{"$f":"IF(F183=\"\",0,SUM(F$8:F183))","v":0}]
[null,null,null,null,{"$f":"IF(D184=\"\",0,SUM(D$8:D184))","v":0},null,{"$f":"IF(F184=\"\",0,SUM(F$8:F184))","v":0}]
[null,null,null,null,{"$f":"IF(D185=\"\",0,SUM(D$8:D185))","v":0},null,{"$f":"IF(F185=\"\",0,SUM(F$8:F185))","v":0}]
[null,null,null,null,{"$f":"IF(D186=\"\",0,SUM(D$8:D186))","v":0},null,{"$f":"IF(F186=\"\",0,SUM(F$8:F186))","v":0}]
[null,null,null,null,{"$f":"IF(D187=\"\",0,SUM(D$8:D187))","v":0},null,{"$f":"IF(F187=\"\",0,SUM(F$8:F187))","v":0}]
[null,null,null,null,{"$f":"IF(D188=\"\",0,SUM(D$8:D188))","v":0},null,{"$f":"IF(F188=\"\",0,SUM(F$8:F188))","v":0}]
[null,null,null,null,{"$f":"IF(D189=\"\",0,SUM(D$8:D189))","v":0},null,{"$f":"IF(F189=\"\",0,SUM(F$8:F189))","v":0}]
[null,null,null,null,{"$f":"IF(D190=\"\",0,SUM(D$8:D190))","v":0},null,{"$f":"IF(F190=\"\",0,SUM(F$8:F190))","v":0}]
[null,null,null,null,{"$f":"IF(D191=\"\",0,SUM(D$8:D191))","v":0},null,{"$f":"IF(F191=\"\",0,SUM(F$8:F191))","v":0}]
[null,null,null,null,{"$f":"IF(D192=\"\",0,SUM(D$8:D192))","v":0},null,{"$f":"IF(F192=\"\",0,SUM(F$8:F192))","v":0}]
[null,null,null,null,{"$f":"IF(D193=\"\",0,SUM(D$8:D193))","v":0},null,{"$f":"IF(F193=\"\",0,SUM(F$8:F193))","v":0}]
[null,null,null,null,{"$f":"IF(D194=\"\",0,SUM(D$8:D194))","v":0},null,{"$f":"IF(F194=\"\",0,SUM(F$8:F194))","v":0}]
[null,null,null,null,{"$f":"IF(D195=\"\",0,SUM(D$8:D195))","v":0},null,{"$f":"IF(F195=\"\",0,SUM(F$8:F195))","v":0}]
[null,null,null,null,{"$f":"IF(D196=\"\",0,SUM(D$8:D196))","v":0},null,{"$f":"IF(F196=\"\",0,SUM(F$8:F196))","v":0}]
[null,null,null,null,{"$f":"IF(D197=\"\",0,SUM(D$8:D197))","v":0},null,{"$f":"IF(F197=\"\",0,SUM(F$8:F197))","v":0}]
[null,null,null,null,{"$f":"IF(D198=\"\",0,SUM(D$8:D198))","v":0},null,{"$f":"IF(F198=\"\",0,SUM(F$8:F198))","v":0}]
[null,null,null,null,{"$f":"IF(D199=\"\",0,SUM(D$8:D199))","v":0},null,{"$f":"IF(F199=\"\",0,SUM(F$8:F199))","v":0}]
[null,null,null,null,{"$f":"IF(D200=\"\",0,SUM(D$8:D200))","v":0},null,{"$f":"IF(F200=\"\",0,SUM(F$8:F200))","v":0}]
[null,null,null,null,{"$f":"IF(D201=\"\",0,SUM(D$8:D201))","v":0},null,{"$f":"IF(F201=\"\",0,SUM(F$8:F201))","v":0}]
[null,null,null,null,{"$f":"IF(D202=\"\",0,SUM(D$8:D202))","v":0},null,{"$f":"IF(F202=\"\",0,SUM(F$8:F202))","v":0}]
[null,null,null,null,{"$f":"IF(D203=\"\",0,SUM(D$8:D203))","v":0},null,{"$f":"IF(F203=\"\",0,SUM(F$8:F203))","v":0}]
[null,null,null,null,{"$f":"IF(D204=\"\",0,SUM(D$8:D204))","v":0},null,{"$f":"IF(F204=\"\",0,SUM(F$8:F204))","v":0}]
[null,null,null,null,{"$f":"IF(D205=\"\",0,SUM(D$8:D205))","v":0},null,{"$f":"IF(F205=\"\",0,SUM(F$8:F205))","v":0}]
[null,null,null,null,{"$f":"IF(D206=\"\",0,SUM(D$8:D206))","v":0},null,{"$f":"IF(F206=\"\",0,SUM(F$8:F206))","v":0}]
[null,null,null,null,{"$f":"IF(D207=\"\",0,SUM(D$8:D207))","v":0},null,{"$f":"IF(F207=\"\",0,SUM(F$8:F207))","v":0}]
[null,null,null,null,{"$f":"IF(D208=\"\",0,SUM(D$8:D208))","v":0},null,{"$f":"IF(F208=\"\",0,SUM(F$8:F208))","v":0}]
[null,null,null,null,{"$f":"IF(D209=\"\",0,SUM(D$8:D209))","v":0},null,{"$f":"IF(F209=\"\",0,SUM(F$8:F209))","v":0}]
[null,null,null,null,{"$f":"IF(D210=\"\",0,SUM(D$8:D210))","v":0},null,{"$f":"IF(F210=\"\",0,SUM(F$8:F210))","v":0}]
[null,null,null,null,{"$f":"IF(D211=\"\",0,SUM(D$8:D211))","v":0},null,{"$f":"IF(F211=\"\",0,SUM(F$8:F211))","v":0}]
[null,null,null,null,{"$f":"IF(D212=\"\",0,SUM(D$8:D212))","v":0},null,{"$f":"IF(F212=\"\",0,SUM(F$8:F212))","v":0}]
[null,null,null,null,{"$f":"IF(D213=\"\",0,SUM(D$8:D213))","v":0},null,{"$f":"IF(F213=\"\",0,SUM(F$8:F213))","v":0}]
[null,null,null,null,{"$f":"IF(D214=\"\",0,SUM(D$8:D214))","v":0},null,{"$f":"IF(F214=\"\",0,SUM(F$8:F214))","v":0}]
[null,null,null,null,{"$f":"IF(D215=\"\",0,SUM(D$8:D215))","v":0},null,{"$f":"IF(F215=\"\",0,SUM(F$8:F215))","v":0}]
[null,null,null,null,{"$f":"IF(D216=\"\",0,SUM(D$8:D216))","v":0},null,{"$f":"IF(F216=\"\",0,SUM(F$8:F216))","v":0}]
[null,null,null,null,{"$f":"IF(D217=\"\",0,SUM(D$8:D217))","v":0},null,{"$f":"IF(F217=\"\",0,SUM(F$8:F217))","v":0}]
[null,null,null,null,{"$f":"IF(D218=\"\",0,SUM(D$8:D218))","v":0},null,{"$f":"IF(F218=\"\",0,SUM(F$8:F218))","v":0}]
[null,null,null,null,{"$f":"IF(D219=\"\",0,SUM(D$8:D219))","v":0},null,{"$f":"IF(F219=\"\",0,SUM(F$8:F219))","v":0}]
[null,null,null,null,{"$f":"IF(D220=\"\",0,SUM(D$8:D220))","v":0},null,{"$f":"IF(F220=\"\",0,SUM(F$8:F220))","v":0}]
[null,null,null,null,{"$f":"IF(D221=\"\",0,SUM(D$8:D221))","v":0},null,{"$f":"IF(F221=\"\",0,SUM(F$8:F221))","v":0}]
[null,null,null,null,{"$f":"IF(D222=\"\",0,SUM(D$8:D222))","v":0},null,{"$f":"IF(F222=\"\",0,SUM(F$8:F222))","v":0}]
[null,null,null,null,{"$f":"IF(D223=\"\",0,SUM(D$8:D223))","v":0},null,{"$f":"IF(F223=\"\",0,SUM(F$8:F223))","v":0}]
[null,null,null,null,{"$f":"IF(D224=\"\",0,SUM(D$8:D224))","v":0},null,{"$f":"IF(F224=\"\",0,SUM(F$8:F224))","v":0}]
[null,null,null,null,{"$f":"IF(D225=\"\",0,SUM(D$8:D225))","v":0},null,{"$f":"IF(F225=\"\",0,SUM(F$8:F225))","v":0}]
[null,null,null,null,{"$f":"IF(D226=\"\",0,SUM(D$8:D226))","v":0},null,{"$f":"IF(F226=\"\",0,SUM(F$8:F226))","v":0}]
[null,null,null,null,{"$f":"IF(D227=\"\",0,SUM(D$8:D227))","v":0},null,{"$f":"IF(F227=\"\",0,SUM(F$8:F227))","v":0}]
[null,null,null,null,{"$f":"IF(D228=\"\",0,SUM(D$8:D228))","v":0},null,{"$f":"IF(F228=\"\",0,SUM(F$8:F228))","v":0}]
[null,null,null,null,{"$f":"IF(D229=\"\",0,SUM(D$8:D229))","v":0},null,{"$f":"IF(F229=\"\",0,SUM(F$8:F229))","v":0}]
[null,null,null,null,{"$f":"IF(D230=\"\",0,SUM(D$8:D230))","v":0},null,{"$f":"IF(F230=\"\",0,SUM(F$8:F230))","v":0}]
[null,null,null,null,{"$f":"IF(D231=\"\",0,SUM(D$8:D231))","v":0},null,{"$f":"IF(F231=\"\",0,SUM(F$8:F231))","v":0}]
[null,null,null,null,{"$f":"IF(D232=\"\",0,SUM(D$8:D232))","v":0},null,{"$f":"IF(F232=\"\",0,SUM(F$8:F232))","v":0}]
[null,null,null,null,{"$f":"IF(D233=\"\",0,SUM(D$8:D233))","v":0},null,{"$f":"IF(F233=\"\",0,SUM(F$8:F233))","v":0}]
[null,null,null,null,{"$f":"IF(D234=\"\",0,SUM(D$8:D234))","v":0},null,{"$f":"IF(F234=\"\",0,SUM(F$8:F234))","v":0}]
[null,null,null,null,{"$f":"IF(D235=\"\",0,SUM(D$8:D235))","v":0},null,{"$f":"IF(F235=\"\",0,SUM(F$8:F235))","v":0}]
[null,null,null,null,{"$f":"IF(D236=\"\",0,SUM(D$8:D236))","v":0},null,{"$f":"IF(F236=\"\",0,SUM(F$8:F236))","v":0}]
[null,null,null,null,{"$f":"IF(D237=\"\",0,SUM(D$8:D237))","v":0},null,{"$f":"IF(F237=\"\",0,SUM(F$8:F237))","v":0}]
[null,null,null,null,{"$f":"IF(D238=\"\",0,SUM(D$8:D238))","v":0},null,{"$f":"IF(F238=\"\",0,SUM(F$8:F238))","v":0}]
[null,null,null,null,{"$f":"IF(D239=\"\",0,SUM(D$8:D239))","v":0},null,{"$f":"IF(F239=\"\",0,SUM(F$8:F239))","v":0}]
[null,null,null,null,{"$f":"IF(D240=\"\",0,SUM(D$8:D240))","v":0},null,{"$f":"IF(F240=\"\",0,SUM(F$8:F240))","v":0}]
[null,null,null,null,{"$f":"IF(D241=\"\",0,SUM(D$8:D241))","v":0},null,{"$f":"IF(F241=\"\",0,SUM(F$8:F241))","v":0}]
[null,null,null,null,{"$f":"IF(D242=\"\",0,SUM(D$8:D242))","v":0},null,{"$f":"IF(F242=\"\",0,SUM(F$8:F242))","v":0}]
[null,null,null,null,{"$f":"IF(D243=\"\",0,SUM(D$8:D243))","v":0},null,{"$f":"IF(F243=\"\",0,SUM(F$8:F243))","v":0}]
[null,null,null,null,{"$f":"IF(D244=\"\",0,SUM(D$8:D244))","v":0},null,{"$f":"IF(F244=\"\",0,SUM(F$8:F244))","v":0}]
[null,null,null,null,{"$f":"IF(D245=\"\",0,SUM(D$8:D245))","v":0},null,{"$f":"IF(F245=\"\",0,SUM(F$8:F245))","v":0}]
[null,null,null,null,{"$f":"IF(D246=\"\",0,SUM(D$8:D246))","v":0},null,{"$f":"IF(F246=\"\",0,SUM(F$8:F246))","v":0}]
[null,null,null,null,{"$f":"IF(D247=\"\",0,SUM(D$8:D247))","v":0},null,{"$f":"IF(F247=\"\",0,SUM(F$8:F247))","v":0}]
[null,null,null,null,{"$f":"IF(D248=\"\",0,SUM(D$8:D248))","v":0},null,{"$f":"IF(F248=\"\",0,SUM(F$8:F248))","v":0}]
[null,null,null,null,{"$f":"IF(D249=\"\",0,SUM(D$8:D249))","v":0},null,{"$f":"IF(F249=\"\",0,SUM(F$8:F249))","v":0}]
[null,null,null,null,{"$f":"IF(D250=\"\",0,SUM(D$8:D250))","v":0},null,{"$f":"IF(F250=\"\",0,SUM(F$8:F250))","v":0}]
[null,null,null,null,{"$f":"IF(D251=\"\",0,SUM(D$8:D251))","v":0},null,{"$f":"IF(F251=\"\",0,SUM(F$8:F251))","v":0}]
[null,null,null,null,{"$f":"IF(D252=\"\",0,SUM(D$8:D252))","v":0},null,{"$f":"IF(F252=\"\",0,SUM(F$8:F252))","v":0}]
[null,null,null,null,{"$f":"IF(D253=\"\",0,SUM(D$8:D253))","v":0},null,{"$f":"IF(F253=\"\",0,SUM(F$8:F253))","v":0}]
[null,null,null,null,{"$f":"IF(D254=\"\",0,SUM(D$8:D254))","v":0},null,{"$f":"IF(F254=\"\",0,SUM(F$8:F254))","v":0}]
[null,null,null,null,{"$f":"IF(D255=\"\",0,SUM(D$8:D255))","v":0},null,{"$f":"IF(F255=\"\",0,SUM(F$8:F255))","v":0}]
[null,null,null,null,{"$f":"IF(D256=\"\",0,SUM(D$8:D256))","v":0},null,{"$f":"IF(F256=\"\",0,SUM(F$8:F256))","v":0}]
[null,null,null,null,{"$f":"IF(D257=\"\",0,SUM(D$8:D257))","v":0},null,{"$f":"IF(F257=\"\",0,SUM(F$8:F257))","v":0}]
[null,null,null,null,{"$f":"IF(D258=\"\",0,SUM(D$8:D258))","v":0},null,{"$f":"IF(F258=\"\",0,SUM(F$8:F258))","v":0}]
[null,null,null,null,{"$f":"IF(D259=\"\",0,SUM(D$8:D259))","v":0},null,{"$f":"IF(F259=\"\",0,SUM(F$8:F259))","v":0}]
[null,null,null,null,{"$f":"IF(D260=\"\",0,SUM(D$8:D260))","v":0},null,{"$f":"IF(F260=\"\",0,SUM(F$8:F260))","v":0}]
[null,null,null,null,{"$f":"IF(D261=\"\",0,SUM(D$8:D261))","v":0},null,{"$f":"IF(F261=\"\",0,SUM(F$8:F261))","v":0}]
[null,null,null,null,{"$f":"IF(D262=\"\",0,SUM(D$8:D262))","v":0},null,{"$f":"IF(F262=\"\",0,SUM(F$8:F262))","v":0}]
[null,null,null,null,{"$f":"IF(D263=\"\",0,SUM(D$8:D263))","v":0},null,{"$f":"IF(F263=\"\",0,SUM(F$8:F263))","v":0}]
[null,null,null,null,{"$f":"IF(D264=\"\",0,SUM(D$8:D264))","v":0},null,{"$f":"IF(F264=\"\",0,SUM(F$8:F264))","v":0}]
[null,null,null,null,{"$f":"IF(D265=\"\",0,SUM(D$8:D265))","v":0},null,{"$f":"IF(F265=\"\",0,SUM(F$8:F265))","v":0}]
[null,null,null,null,{"$f":"IF(D266=\"\",0,SUM(D$8:D266))","v":0},null,{"$f":"IF(F266=\"\",0,SUM(F$8:F266))","v":0}]
[null,null,null,null,{"$f":"IF(D267=\"\",0,SUM(D$8:D267))","v":0},null,{"$f":"IF(F267=\"\",0,SUM(F$8:F267))","v":0}]
[null,null,null,null,{"$f":"IF(D268=\"\",0,SUM(D$8:D268))","v":0},null,{"$f":"IF(F268=\"\",0,SUM(F$8:F268))","v":0}]
[null,null,null,null,{"$f":"IF(D269=\"\",0,SUM(D$8:D269))","v":0},null,{"$f":"IF(F269=\"\",0,SUM(F$8:F269))","v":0}]
[null,null,null,null,{"$f":"IF(D270=\"\",0,SUM(D$8:D270))","v":0},null,{"$f":"IF(F270=\"\",0,SUM(F$8:F270))","v":0}]
[null,null,null,null,{"$f":"IF(D271=\"\",0,SUM(D$8:D271))","v":0},null,{"$f":"IF(F271=\"\",0,SUM(F$8:F271))","v":0}]
[null,null,null,null,{"$f":"IF(D272=\"\",0,SUM(D$8:D272))","v":0},null,{"$f":"IF(F272=\"\",0,SUM(F$8:F272))","v":0}]
[null,null,null,null,{"$f":"IF(D273=\"\",0,SUM(D$8:D273))","v":0},null,{"$f":"IF(F273=\"\",0,SUM(F$8:F273))","v":0}]
[null,null,null,null,{"$f":"IF(D274=\"\",0,SUM(D$8:D274))","v":0},null,{"$f":"IF(F274=\"\",0,SUM(F$8:F274))","v":0}]
[null,null,null,null,{"$f":"IF(D275=\"\",0,SUM(D$8:D275))","v":0},null,{"$f":"IF(F275=\"\",0,SUM(F$8:F275))","v":0}]
[null,null,null,null,{"$f":"IF(D276=\"\",0,SUM(D$8:D276))","v":0},null,{"$f":"IF(F276=\"\",0,SUM(F$8:F276))","v":0}]
[null,null,null,null,{"$f":"IF(D277=\"\",0,SUM(D$8:D277))","v":0},null,{"$f":"IF(F277=\"\",0,SUM(F$8:F277))","v":0}]
[null,null,null,null,{"$f":"IF(D278=\"\",0,SUM(D$8:D278))","v":0},null,{"$f":"IF(F278=\"\",0,SUM(F$8:F278))","v":0}]
[null,null,null,null,{"$f":"IF(D279=\"\",0,SUM(D$8:D279))","v":0},null,{"$f":"IF(F279=\"\",0,SUM(F$8:F279))","v":0}]
[null,null,null,null,{"$f":"IF(D280=\"\",0,SUM(D$8:D280))","v":0},null,{"$f":"IF(F280=\"\",0,SUM(F$8:F280))","v":0}]
[null,null,null,null,{"$f":"IF(D281=\"\",0,SUM(D$8:D281))","v":0},null,{"$f":"IF(F281=\"\",0,SUM(F$8:F281))","v":0}]
[null,null,null,null,{"$f":"IF(D282=\"\",0,SUM(D$8:D282))","v":0},null,{"$f":"IF(F282=\"\",0,SUM(F$8:F282))","v":0}]
[null,null,null,null,{"$f":"IF(D283=\"\",0,SUM(D$8:D283))","v":0},null,{"$f":"IF(F283=\"\",0,SUM(F$8:F283))","v":0}]
[null,null,null,null,{"$f":"IF(D284=\"\",0,SUM(D$8:D284))","v":0},null,{"$f":"IF(F284=\"\",0,SUM(F$8:F284))","v":0}]
[null,null,null,null,{"$f":"IF(D285=\"\",0,SUM(D$8:D285))","v":0},null,{"$f":"IF(F285=\"\",0,SUM(F$8:F285))","v":0}]
[null,null,null,null,{"$f":"IF(D286=\"\",0,SUM(D$8:D286))","v":0},null,{"$f":"IF(F286=\"\",0,SUM(F$8:F286))","v":0}]
[null,null,null,null,{"$f":"IF(D287=\"\",0,SUM(D$8:D287))","v":0},null,{"$f":"IF(F287=\"\",0,SUM(F$8:F287))","v":0}]
[null,null,null,null,{"$f":"IF(D288=\"\",0,SUM(D$8:D288))","v":0},null,{"$f":"IF(F288=\"\",0,SUM(F$8:F288))","v":0}]
[null,null,null,null,{"$f":"IF(D289=\"\",0,SUM(D$8:D289))","v":0},null,{"$f":"IF(F289=\"\",0,SUM(F$8:F289))","v":0}]
[null,null,null,null,{"$f":"IF(D290=\"\",0,SUM(D$8:D290))","v":0},null,{"$f":"IF(F290=\"\",0,SUM(F$8:F290))","v":0}]
[null,null,null,null,{"$f":"IF(D291=\"\",0,SUM(D$8:D291))","v":0},null,{"$f":"IF(F291=\"\",0,SUM(F$8:F291))","v":0}]
[null,null,null,null,{"$f":"IF(D292=\"\",0,SUM(D$8:D292))","v":0},null,{"$f":"IF(F292=\"\",0,SUM(F$8:F292))","v":0}]
[null,null,null,null,{"$f":"IF(D293=\"\",0,SUM(D$8:D293))","v":0},null,{"$f":"IF(F293=\"\",0,SUM(F$8:F293))","v":0}]
[null,null,null,null,{"$f":"IF(D294=\"\",0,SUM(D$8:D294))","v":0},null,{"$f":"IF(F294=\"\",0,SUM(F$8:F294))","v":0}]
[null,null,null,null,{"$f":"IF(D295=\"\",0,SUM(D$8:D295))","v":0},null,{"$f":"IF(F295=\"\",0,SUM(F$8:F295))","v":0}]
[null,null,null,null,{"$f":"IF(D296=\"\",0,SUM(D$8:D296))","v":0},null,{"$f":"IF(F296=\"\",0,SUM(F$8:F296))","v":0}]
[null,null,null,null,{"$f":"IF(D297=\"\",0,SUM(D$8:D297))","v":0},null,{"$f":"IF(F297=\"\",0,SUM(F$8:F297))","v":0}]
[null,null,null,null,{"$f":"IF(D298=\"\",0,SUM(D$8:D298))","v":0},null,{"$f":"IF(F298=\"\",0,SUM(F$8:F298))","v":0}]
[null,null,null,null,{"$f":"IF(D299=\"\",0,SUM(D$8:D299))","v":0},null,{"$f":"IF(F299=\"\",0,SUM(F$8:F299))","v":0}]
[null,null,null,null,{"$f":"IF(D300=\"\",0,SUM(D$8:D300))","v":0},null,{"$f":"IF(F300=\"\",0,SUM(F$8:F300))","v":0}]
[null,null,null,null,{"$f":"IF(D301=\"\",0,SUM(D$8:D301))","v":0},null,{"$f":"IF(F301=\"\",0,SUM(F$8:F301))","v":0}]
[null,null,null,null,{"$f":"IF(D302=\"\",0,SUM(D$8:D302))","v":0},null,{"$f":"IF(F302=\"\",0,SUM(F$8:F302))","v":0}]
[null,null,null,null,{"$f":"IF(D303=\"\",0,SUM(D$8:D303))","v":0},null,{"$f":"IF(F303=\"\",0,SUM(F$8:F303))","v":0}]
[null,null,null,null,{"$f":"IF(D304=\"\",0,SUM(D$8:D304))","v":0},null,{"$f":"IF(F304=\"\",0,SUM(F$8:F304))","v":0}]
[null,null,null,null,{"$f":"IF(D305=\"\",0,SUM(D$8:D305))","v":0},null,{"$f":"IF(F305=\"\",0,SUM(F$8:F305))","v":0}]
[null,null,null,null,{"$f":"IF(D306=\"\",0,SUM(D$8:D306))","v":0},null,{"$f":"IF(F306=\"\",0,SUM(F$8:F306))","v":0}]
[null,null,null,null,{"$f":"IF(D307=\"\",0,SUM(D$8:D307))","v":0},null,{"$f":"IF(F307=\"\",0,SUM(F$8:F307))","v":0}]
[null,null,null,null,{"$f":"IF(D308=\"\",0,SUM(D$8:D308))","v":0},null,{"$f":"IF(F308=\"\",0,SUM(F$8:F308))","v":0}]
[null,null,null,null,{"$f":"IF(D309=\"\",0,SUM(D$8:D309))","v":0},null,{"$f":"IF(F309=\"\",0,SUM(F$8:F309))","v":0}]
[null,null,null,null,{"$f":"IF(D310=\"\",0,SUM(D$8:D310))","v":0},null,{"$f":"IF(F310=\"\",0,SUM(F$8:F310))","v":0}]
[null,null,null,null,{"$f":"IF(D311=\"\",0,SUM(D$8:D311))","v":0},null,{"$f":"IF(F311=\"\",0,SUM(F$8:F311))","v":0}]
[null,null,null,null,{"$f":"IF(D312=\"\",0,SUM(D$8:D312))","v":0},null,{"$f":"IF(F312=\"\",0,SUM(F$8:F312))","v":0}]
[null,null,null,null,{"$f":"IF(D313=\"\",0,SUM(D$8:D313))","v":0},null,{"$f":"IF(F313=\"\",0,SUM(F$8:F313))","v":0}]
[null,null,null,null,{"$f":"IF(D314=\"\",0,SUM(D$8:D314))","v":0},null,{"$f":"IF(F314=\"\",0,SUM(F$8:F314))","v":0}]
[null,null,null,null,{"$f":"IF(D315=\"\",0,SUM(D$8:D315))","v":0},null,{"$f":"IF(F315=\"\",0,SUM(F$8:F315))","v":0}]
[null,null,null,null,{"$f":"IF(D316=\"\",0,SUM(D$8:D316))","v":0},null,{"$f":"IF(F316=\"\",0,SUM(F$8:F316))","v":0}]
[null,null,null,null,{"$f":"IF(D317=\"\",0,SUM(D$8:D317))","v":0},null,{"$f":"IF(F317=\"\",0,SUM(F$8:F317))","v":0}]
[null,null,null,null,{"$f":"IF(D318=\"\",0,SUM(D$8:D318))","v":0},null,{"$f":"IF(F318=\"\",0,SUM(F$8:F318))","v":0}]
[null,null,null,null,{"$f":"IF(D319=\"\",0,SUM(D$8:D319))","v":0},null,{"$f":"IF(F319=\"\",0,SUM(F$8:F319))","v":0}]
[null,null,null,null,{"$f":"IF(D320=\"\",0,SUM(D$8:D320))","v":0},null,{"$f":"IF(F320=\"\",0,SUM(F$8:F320))","v":0}]
[null,null,null,null,{"$f":"IF(D321=\"\",0,SUM(D$8:D321))","v":0},null,{"$f":"IF(F321=\"\",0,SUM(F$8:F321))","v":0}]
[null,null,null,null,{"$f":"IF(D322=\"\",0,SUM(D$8:D322))","v":0},null,{"$f":"IF(F322=\"\",0,SUM(F$8:F322))","v":0}]
[null,null,null,null,{"$f":"IF(D323=\"\",0,SUM(D$8:D323))","v":0},null,{"$f":"IF(F323=\"\",0,SUM(F$8:F323))","v":0}]
[null,null,null,null,{"$f":"IF(D324=\"\",0,SUM(D$8:D324))","v":0},null,{"$f":"IF(F324=\"\",0,SUM(F$8:F324))","v":0}]
[null,null,null,null,{"$f":"IF(D325=\"\",0,SUM(D$8:D325))","v":0},null,{"$f":"IF(F325=\"\",0,SUM(F$8:F325))","v":0}]
[null,null,null,null,{"$f":"IF(D326=\"\",0,SUM(D$8:D326))","v":0},null,{"$f":"IF(F326=\"\",0,SUM(F$8:F326))","v":0}]
[null,null,null,null,{"$f":"IF(D327=\"\",0,SUM(D$8:D327))","v":0},null,{"$f":"IF(F327=\"\",0,SUM(F$8:F327))","v":0}]
[null,null,null,null,{"$f":"IF(D328=\"\",0,SUM(D$8:D328))","v":0},null,{"$f":"IF(F328=\"\",0,SUM(F$8:F328))","v":0}]
[null,null,null,null,{"$f":"IF(D329=\"\",0,SUM(D$8:D329))","v":0},null,{"$f":"IF(F329=\"\",0,SUM(F$8:F329))","v":0}]
[null,null,null,null,{"$f":"IF(D330=\"\",0,SUM(D$8:D330))","v":0},null,{"$f":"IF(F330=\"\",0,SUM(F$8:F330))","v":0}]
[null,null,null,null,{"$f":"IF(D331=\"\",0,SUM(D$8:D331))","v":0},null,{"$f":"IF(F331=\"\",0,SUM(F$8:F331))","v":0}]
[null,null,null,null,{"$f":"IF(D332=\"\",0,SUM(D$8:D332))","v":0},null,{"$f":"IF(F332=\"\",0,SUM(F$8:F332))","v":0}]
[null,null,null,null,{"$f":"IF(D333=\"\",0,SUM(D$8:D333))","v":0},null,{"$f":"IF(F333=\"\",0,SUM(F$8:F333))","v":0}]
[null,null,null,null,{"$f":"IF(D334=\"\",0,SUM(D$8:D334))","v":0},null,{"$f":"IF(F334=\"\",0,SUM(F$8:F334))","v":0}]
[null,null,null,null,{"$f":"IF(D335=\"\",0,SUM(D$8:D335))","v":0},null,{"$f":"IF(F335=\"\",0,SUM(F$8:F335))","v":0}]
[null,null,null,null,{"$f":"IF(D336=\"\",0,SUM(D$8:D336))","v":0},null,{"$f":"IF(F336=\"\",0,SUM(F$8:F336))","v":0}]
[null,null,null,null,{"$f":"IF(D337=\"\",0,SUM(D$8:D337))","v":0},null,{"$f":"IF(F337=\"\",0,SUM(F$8:F337))","v":0}]
[null,null,null,null,{"$f":"IF(D338=\"\",0,SUM(D$8:D338))","v":0},null,{"$f":"IF(F338=\"\",0,SUM(F$8:F338))","v":0}]
[null,null,null,null,{"$f":"IF(D339=\"\",0,SUM(D$8:D339))","v":0},null,{"$f":"IF(F339=\"\",0,SUM(F$8:F339))","v":0}]
[null,null,null,null,{"$f":"IF(D340=\"\",0,SUM(D$8:D340))","v":0},null,{"$f":"IF(F340=\"\",0,SUM(F$8:F340))","v":0}]
[null,null,null,null,{"$f":"IF(D341=\"\",0,SUM(D$8:D341))","v":0},null,{"$f":"IF(F341=\"\",0,SUM(F$8:F341))","v":0}]
[null,null,null,null,{"$f":"IF(D342=\"\",0,SUM(D$8:D342))","v":0},null,{"$f":"IF(F342=\"\",0,SUM(F$8:F342))","v":0}]
[null,null,null,null,{"$f":"IF(D343=\"\",0,SUM(D$8:D343))","v":0},null,{"$f":"IF(F343=\"\",0,SUM(F$8:F343))","v":0}]
[null,null,null,null,{"$f":"IF(D344=\"\",0,SUM(D$8:D344))","v":0},null,{"$f":"IF(F344=\"\",0,SUM(F$8:F344))","v":0}]
[null,null,null,null,{"$f":"IF(D345=\"\",0,SUM(D$8:D345))","v":0},null,{"$f":"IF(F345=\"\",0,SUM(F$8:F345))","v":0}]
[null,null,null,null,{"$f":"IF(D346=\"\",0,SUM(D$8:D346))","v":0},null,{"$f":"IF(F346=\"\",0,SUM(F$8:F346))","v":0}]
[null,null,null,null,{"$f":"IF(D347=\"\",0,SUM(D$8:D347))","v":0},null,{"$f":"IF(F347=\"\",0,SUM(F$8:F347))","v":0}]
[null,null,null,null,{"$f":"IF(D348=\"\",0,SUM(D$8:D348))","v":0},null,{"$f":"IF(F348=\"\",0,SUM(F$8:F348))","v":0}]
[null,null,null,null,{"$f":"IF(D349=\"\",0,SUM(D$8:D349))","v":0},null,{"$f":"IF(F349=\"\",0,SUM(F$8:F349))","v":0}]
[null,null,null,null,{"$f":"IF(D350=\"\",0,SUM(D$8:D350))","v":0},null,{"$f":"IF(F350=\"\",0,SUM(F$8:F350))","v":0}]
[null,null,null,null,{"$f":"IF(D351=\"\",0,SUM(D$8:D351))","v":0},null,{"$f":"IF(F351=\"\",0,SUM(F$8:F351))","v":0}]
[null,null,null,null,{"$f":"IF(D352=\"\",0,SUM(D$8:D352))","v":0},null,{"$f":"IF(F352=\"\",0,SUM(F$8:F352))","v":0}]
[null,null,null,null,{"$f":"IF(D353=\"\",0,SUM(D$8:D353))","v":0},null,{"$f":"IF(F353=\"\",0,SUM(F$8:F353))","v":0}]
[null,null,null,null,{"$f":"IF(D354=\"\",0,SUM(D$8:D354))","v":0},null,{"$f":"IF(F354=\"\",0,SUM(F$8:F354))","v":0}]
[null,null,null,null,{"$f":"IF(D355=\"\",0,SUM(D$8:D355))","v":0},null,{"$f":"IF(F355=\"\",0,SUM(F$8:F355))","v":0}]
[null,null,null,null,{"$f":"IF(D356=\"\",0,SUM(D$8:D356))","v":0},null,{"$f":"IF(F356=\"\",0,SUM(F$8:F356))","v":0}]
[null,null,null,null,{"$f":"IF(D357=\"\",0,SUM(D$8:D357))","v":0},null,{"$f":"IF(F357=\"\",0,SUM(F$8:F357))","v":0}]
[null,null,null,null,{"$f":"IF(D358=\"\",0,SUM(D$8:D358))","v":0},null,{"$f":"IF(F358=\"\",0,SUM(F$8:F358))","v":0}]
[null,null,null,null,{"$f":"IF(D359=\"\",0,SUM(D$8:D359))","v":0},null,{"$f":"IF(F359=\"\",0,SUM(F$8:F359))","v":0}]
[null,null,null,null,{"$f":"IF(D360=\"\",0,SUM(D$8:D360))","v":0},null,{"$f":"IF(F360=\"\",0,SUM(F$8:F360))","v":0}]
[null,null,null,null,{"$f":"IF(D361=\"\",0,SUM(D$8:D361))","v":0},null,{"$f":"IF(F361=\"\",0,SUM(F$8:F361))","v":0}]
[null,null,null,null,{"$f":"IF(D362=\"\",0,SUM(D$8:D362))","v":0},null,{"$f":"IF(F362=\"\",0,SUM(F$8:F362))","v":0}]
[null,null,null,null,{"$f":"IF(D363=\"\",0,SUM(D$8:D363))","v":0},null,{"$f":"IF(F363=\"\",0,SUM(F$8:F363))","v":0}]
[null,null,null,null,{"$f":"IF(D364=\"\",0,SUM(D$8:D364))","v":0},null,{"$f":"IF(F364=\"\",0,SUM(F$8:F364))","v":0}]
[null,null,null,null,{"$f":"IF(D365=\"\",0,SUM(D$8:D365))","v":0},null,{"$f":"IF(F365=\"\",0,SUM(F$8:F365))","v":0}]
[null,null,null,null,{"$f":"IF(D366=\"\",0,SUM(D$8:D366))","v":0},null,{"$f":"IF(F366=\"\",0,SUM(F$8:F366))","v":0}]
[null,null,null,null,{"$f":"IF(D367=\"\",0,SUM(D$8:D367))","v":0},null,{"$f":"IF(F367=\"\",0,SUM(F$8:F367))","v":0}]
[null,null,null,null,{"$f":"IF(D368=\"\",0,SUM(D$8:D368))","v":0},null,{"$f":"IF(F368=\"\",0,SUM(F$8:F368))","v":0}]
[null,null,null,null,{"$f":"IF(D369=\"\",0,SUM(D$8:D369))","v":0},null,{"$f":"IF(F369=\"\",0,SUM(F$8:F369))","v":0}]
[null,null,null,null,{"$f":"IF(D370=\"\",0,SUM(D$8:D370))","v":0},null,{"$f":"IF(F370=\"\",0,SUM(F$8:F370))","v":0}]
[null,null,null,null,{"$f":"IF(D371=\"\",0,SUM(D$8:D371))","v":0},null,{"$f":"IF(F371=\"\",0,SUM(F$8:F371))","v":0}]
[null,null,null,null,{"$f":"IF(D372=\"\",0,SUM(D$8:D372))","v":0},null,{"$f":"IF(F372=\"\",0,SUM(F$8:F372))","v":0}]
[null,null,null,null,{"$f":"IF(D373=\"\",0,SUM(D$8:D373))","v":0},null,{"$f":"IF(F373=\"\",0,SUM(F$8:F373))","v":0}]
[null,null,null,null,{"$f":"IF(D374=\"\",0,SUM(D$8:D374))","v":0},null,{"$f":"IF(F374=\"\",0,SUM(F$8:F374))","v":0}]
[null,null,null,null,{"$f":"IF(D375=\"\",0,SUM(D$8:D375))","v":0},null,{"$f":"IF(F375=\"\",0,SUM(F$8:F375))","v":0}]
[null,null,null,null,{"$f":"IF(D376=\"\",0,SUM(D$8:D376))","v":0},null,{"$f":"IF(F376=\"\",0,SUM(F$8:F376))","v":0}]
[null,null,null,null,{"$f":"IF(D377=\"\",0,SUM(D$8:D377))","v":0},null,{"$f":"IF(F377=\"\",0,SUM(F$8:F377))","v":0}]
[null,null,null,null,{"$f":"IF(D378=\"\",0,SUM(D$8:D378))","v":0},null,{"$f":"IF(F378=\"\",0,SUM(F$8:F378))","v":0}]
[null,null,null,null,{"$f":"IF(D379=\"\",0,SUM(D$8:D379))","v":0},null,{"$f":"IF(F379=\"\",0,SUM(F$8:F379))","v":0}]
[null,null,null,null,{"$f":"IF(D380=\"\",0,SUM(D$8:D380))","v":0},null,{"$f":"IF(F380=\"\",0,SUM(F$8:F380))","v":0}]
[null,null,null,null,{"$f":"IF(D381=\"\",0,SUM(D$8:D381))","v":0},null,{"$f":"IF(F381=\"\",0,SUM(F$8:F381))","v":0}]
[null,null,null,null,{"$f":"IF(D382=\"\",0,SUM(D$8:D382))","v":0},null,{"$f":"IF(F382=\"\",0,SUM(F$8:F382))","v":0}]
[null,null,null,null,{"$f":"IF(D383=\"\",0,SUM(D$8:D383))","v":0},null,{"$f":"IF(F383=\"\",0,SUM(F$8:F383))","v":0}]
[null,null,null,null,{"$f":"IF(D384=\"\",0,SUM(D$8:D384))","v":0},null,{"$f":"IF(F384=\"\",0,SUM(F$8:F384))","v":0}]
[null,null,null,null,{"$f":"IF(D385=\"\",0,SUM(D$8:D385))","v":0},null,{"$f":"IF(F385=\"\",0,SUM(F$8:F385))","v":0}]
[null,null,null,null,{"$f":"IF(D386=\"\",0,SUM(D$8:D386))","v":0},null,{"$f":"IF(F386=\"\",0,SUM(F$8:F386))","v":0}]
[null,null,null,null,{"$f":"IF(D387=\"\",0,SUM(D$8:D387))","v":0},null,{"$f":"IF(F387=\"\",0,SUM(F$8:F387))","v":0}]
[null,null,null,null,{"$f":"IF(D388=\"\",0,SUM(D$8:D388))","v":0},null,{"$f":"IF(F388=\"\",0,SUM(F$8:F388))","v":0}]
[null,null,null,null,{"$f":"IF(D389=\"\",0,SUM(D$8:D389))","v":0},null,{"$f":"IF(F389=\"\",0,SUM(F$8:F389))","v":0}]
[null,null,null,null,{"$f":"IF(D390=\"\",0,SUM(D$8:D390))","v":0},null,{"$f":"IF(F390=\"\",0,SUM(F$8:F390))","v":0}]
[null,null,null,null,{"$f":"IF(D391=\"\",0,SUM(D$8:D391))","v":0},null,{"$f":"IF(F391=\"\",0,SUM(F$8:F391))","v":0}]
[null,null,null,null,{"$f":"IF(D392=\"\",0,SUM(D$8:D392))","v":0},null,{"$f":"IF(F392=\"\",0,SUM(F$8:F392))","v":0}]
[null,null,null,null,{"$f":"IF(D393=\"\",0,SUM(D$8:D393))","v":0},null,{"$f":"IF(F393=\"\",0,SUM(F$8:F393))","v":0}]
[null,null,null,null,{"$f":"IF(D394=\"\",0,SUM(D$8:D394))","v":0},null,{"$f":"IF(F394=\"\",0,SUM(F$8:F394))","v":0}]
[null,null,null,null,{"$f":"IF(D395=\"\",0,SUM(D$8:D395))","v":0},null,{"$f":"IF(F395=\"\",0,SUM(F$8:F395))","v":0}]
[null,null,null,null,{"$f":"IF(D396=\"\",0,SUM(D$8:D396))","v":0},null,{"$f":"IF(F396=\"\",0,SUM(F$8:F396))","v":0}]
[null,null,null,null,{"$f":"IF(D397=\"\",0,SUM(D$8:D397))","v":0},null,{"$f":"IF(F397=\"\",0,SUM(F$8:F397))","v":0}]
[null,null,null,null,{"$f":"IF(D398=\"\",0,SUM(D$8:D398))","v":0},null,{"$f":"IF(F398=\"\",0,SUM(F$8:F398))","v":0}]
[null,null,null,null,{"$f":"IF(D399=\"\",0,SUM(D$8:D399))","v":0},null,{"$f":"IF(F399=\"\",0,SUM(F$8:F399))","v":0}]
[null,null,null,null,{"$f":"IF(D400=\"\",0,SUM(D$8:D400))","v":0},null,{"$f":"IF(F400=\"\",0,SUM(F$8:F400))","v":0}]
[null,null,null,null,{"$f":"IF(D401=\"\",0,SUM(D$8:D401))","v":0},null,{"$f":"IF(F401=\"\",0,SUM(F$8:F401))","v":0}]
[null,null,null,null,{"$f":"IF(D402=\"\",0,SUM(D$8:D402))","v":0},null,{"$f":"IF(F402=\"\",0,SUM(F$8:F402))","v":0}]
[null,null,null,null,{"$f":"IF(D403=\"\",0,SUM(D$8:D403))","v":0},null,{"$f":"IF(F403=\"\",0,SUM(F$8:F403))","v":0}]
[null,null,null,null,{"$f":"IF(D404=\"\",0,SUM(D$8:D404))","v":0},null,{"$f":"IF(F404=\"\",0,SUM(F$8:F404))","v":0}]
[null,null,null,null,{"$f":"IF(D405=\"\",0,SUM(D$8:D405))","v":0},null,{"$f":"IF(F405=\"\",0,SUM(F$8:F405))","v":0}]
[null,null,null,null,{"$f":"IF(D406=\"\",0,SUM(D$8:D406))","v":0},null,{"$f":"IF(F406=\"\",0,SUM(F$8:F406))","v":0}]
[null,null,null,null,{"$f":"IF(D407=\"\",0,SUM(D$8:D407))","v":0},null,{"$f":"IF(F407=\"\",0,SUM(F$8:F407))","v":0}]
[null,null,null,null,{"$f":"IF(D408=\"\",0,SUM(D$8:D408))","v":0},null,{"$f":"IF(F408=\"\",0,SUM(F$8:F408))","v":0}]
[null,null,null,null,{"$f":"IF(D409=\"\",0,SUM(D$8:D409))","v":0},null,{"$f":"IF(F409=\"\",0,SUM(F$8:F409))","v":0}]
[null,null,null,null,{"$f":"IF(D410=\"\",0,SUM(D$8:D410))","v":0},null,{"$f":"IF(F410=\"\",0,SUM(F$8:F410))","v":0}]
[null,null,null,null,{"$f":"IF(D411=\"\",0,SUM(D$8:D411))","v":0},null,{"$f":"IF(F411=\"\",0,SUM(F$8:F411))","v":0}]
[null,null,null,null,{"$f":"IF(D412=\"\",0,SUM(D$8:D412))","v":0},null,{"$f":"IF(F412=\"\",0,SUM(F$8:F412))","v":0}]
[null,null,null,null,{"$f":"IF(D413=\"\",0,SUM(D$8:D413))","v":0},null,{"$f":"IF(F413=\"\",0,SUM(F$8:F413))","v":0}]
[null,null,null,null,{"$f":"IF(D414=\"\",0,SUM(D$8:D414))","v":0},null,{"$f":"IF(F414=\"\",0,SUM(F$8:F414))","v":0}]
[null,null,null,null,{"$f":"IF(D415=\"\",0,SUM(D$8:D415))","v":0},null,{"$f":"IF(F415=\"\",0,SUM(F$8:F415))","v":0}]
[null,null,null,null,{"$f":"IF(D416=\"\",0,SUM(D$8:D416))","v":0},null,{"$f":"IF(F416=\"\",0,SUM(F$8:F416))","v":0}]
[null,null,null,null,{"$f":"IF(D417=\"\",0,SUM(D$8:D417))","v":0},null,{"$f":"IF(F417=\"\",0,SUM(F$8:F417))","v":0}]
[null,null,null,null,{"$f":"IF(D418=\"\",0,SUM(D$8:D418))","v":0},null,{"$f":"IF(F418=\"\",0,SUM(F$8:F418))","v":0}]
[null,null,null,null,{"$f":"IF(D419=\"\",0,SUM(D$8:D419))","v":0},null,{"$f":"IF(F419=\"\",0,SUM(F$8:F419))","v":0}]
[null,null,null,null,{"$f":"IF(D420=\"\",0,SUM(D$8:D420))","v":0},null,{"$f":"IF(F420=\"\",0,SUM(F$8:F420))","v":0}]
[null,null,null,null,{"$f":"IF(D421=\"\",0,SUM(D$8:D421))","v":0},null,{"$f":"IF(F421=\"\",0,SUM(F$8:F421))","v":0}]
[null,null,null,null,{"$f":"IF(D422=\"\",0,SUM(D$8:D422))","v":0},null,{"$f":"IF(F422=\"\",0,SUM(F$8:F422))","v":0}]
[null,null,null,null,{"$f":"IF(D423=\"\",0,SUM(D$8:D423))","v":0},null,{"$f":"IF(F423=\"\",0,SUM(F$8:F423))","v":0}]
[null,null,null,null,{"$f":"IF(D424=\"\",0,SUM(D$8:D424))","v":0},null,{"$f":"IF(F424=\"\",0,SUM(F$8:F424))","v":0}]
[null,null,null,null,{"$f":"IF(D425=\"\",0,SUM(D$8:D425))","v":0},null,{"$f":"IF(F425=\"\",0,SUM(F$8:F425))","v":0}]
[null,null,null,null,{"$f":"IF(D426=\"\",0,SUM(D$8:D426))","v":0},null,{"$f":"IF(F426=\"\",0,SUM(F$8:F426))","v":0}]
[null,null,null,null,{"$f":"IF(D427=\"\",0,SUM(D$8:D427))","v":0},null,{"$f":"IF(F427=\"\",0,SUM(F$8:F427))","v":0}]
[null,null,null,null,{"$f":"IF(D428=\"\",0,SUM(D$8:D428))","v":0},null,{"$f":"IF(F428=\"\",0,SUM(F$8:F428))","v":0}]
[null,null,null,null,{"$f":"IF(D429=\"\",0,SUM(D$8:D429))","v":0},null,{"$f":"IF(F429=\"\",0,SUM(F$8:F429))","v":0}]
[null,null,null,null,{"$f":"IF(D430=\"\",0,SUM(D$8:D430))","v":0},null,{"$f":"IF(F430=\"\",0,SUM(F$8:F430))","v":0}]
[null,null,null,null,{"$f":"IF(D431=\"\",0,SUM(D$8:D431))","v":0},null,{"$f":"IF(F431=\"\",0,SUM(F$8:F431))","v":0}]
[null,null,null,null,{"$f":"IF(D432=\"\",0,SUM(D$8:D432))","v":0},null,{"$f":"IF(F432=\"\",0,SUM(F$8:F432))","v":0}]
[null,null,null,null,{"$f":"IF(D433=\"\",0,SUM(D$8:D433))","v":0},null,{"$f":"IF(F433=\"\",0,SUM(F$8:F433))","v":0}]
[null,null,null,null,{"$f":"IF(D434=\"\",0,SUM(D$8:D434))","v":0},null,{"$f":"IF(F434=\"\",0,SUM(F$8:F434))","v":0}]
[null,null,null,null,{"$f":"IF(D435=\"\",0,SUM(D$8:D435))","v":0},null,{"$f":"IF(F435=\"\",0,SUM(F$8:F435))","v":0}]
[null,null,null,null,{"$f":"IF(D436=\"\",0,SUM(D$8:D436))","v":0},null,{"$f":"IF(F436=\"\",0,SUM(F$8:F436))","v":0}]
[null,null,null,null,{"$f":"IF(D437=\"\",0,SUM(D$8:D437))","v":0},null,{"$f":"IF(F437=\"\",0,SUM(F$8:F437))","v":0}]
[null,null,null,null,{"$f":"IF(D438=\"\",0,SUM(D$8:D438))","v":0},null,{"$f":"IF(F438=\"\",0,SUM(F$8:F438))","v":0}]
[null,null,null,null,{"$f":"IF(D439=\"\",0,SUM(D$8:D439))","v":0},null,{"$f":"IF(F439=\"\",0,SUM(F$8:F439))","v":0}]
[null,null,null,null,{"$f":"IF(D440=\"\",0,SUM(D$8:D440))","v":0},null,{"$f":"IF(F440=\"\",0,SUM(F$8:F440))","v":0}]
[null,null,null,null,{"$f":"IF(D441=\"\",0,SUM(D$8:D441))","v":0},null,{"$f":"IF(F441=\"\",0,SUM(F$8:F441))","v":0}]
[null,null,null,null,{"$f":"IF(D442=\"\",0,SUM(D$8:D442))","v":0},null,{"$f":"IF(F442=\"\",0,SUM(F$8:F442))","v":0}]
[null,null,null,null,{"$f":"IF(D443=\"\",0,SUM(D$8:D443))","v":0},null,{"$f":"IF(F443=\"\",0,SUM(F$8:F443))","v":0}]
[null,null,null,null,{"$f":"IF(D444=\"\",0,SUM(D$8:D444))","v":0},null,{"$f":"IF(F444=\"\",0,SUM(F$8:F444))","v":0}]
[null,null,null,null,{"$f":"IF(D445=\"\",0,SUM(D$8:D445))","v":0},null,{"$f":"IF(F445=\"\",0,SUM(F$8:F445))","v":0}]
[null,null,null,null,{"$f":"IF(D446=\"\",0,SUM(D$8:D446))","v":0},null,{"$f":"IF(F446=\"\",0,SUM(F$8:F446))","v":0}]
[null,null,null,null,{"$f":"IF(D447=\"\",0,SUM(D$8:D447))","v":0},null,{"$f":"IF(F447=\"\",0,SUM(F$8:F447))","v":0}]
[null,null,null,null,{"$f":"IF(D448=\"\",0,SUM(D$8:D448))","v":0},null,{"$f":"IF(F448=\"\",0,SUM(F$8:F448))","v":0}]
[null,null,null,null,{"$f":"IF(D449=\"\",0,SUM(D$8:D449))","v":0},null,{"$f":"IF(F449=\"\",0,SUM(F$8:F449))","v":0}]
[null,null,null,null,{"$f":"IF(D450=\"\",0,SUM(D$8:D450))","v":0},null,{"$f":"IF(F450=\"\",0,SUM(F$8:F450))","v":0}]
[null,null,null,null,{"$f":"IF(D451=\"\",0,SUM(D$8:D451))","v":0},null,{"$f":"IF(F451=\"\",0,SUM(F$8:F451))","v":0}]
[null,null,null,null,{"$f":"IF(D452=\"\",0,SUM(D$8:D452))","v":0},null,{"$f":"IF(F452=\"\",0,SUM(F$8:F452))","v":0}]
[null,null,null,null,{"$f":"IF(D453=\"\",0,SUM(D$8:D453))","v":0},null,{"$f":"IF(F453=\"\",0,SUM(F$8:F453))","v":0}]
[null,null,null,null,{"$f":"IF(D454=\"\",0,SUM(D$8:D454))","v":0},null,{"$f":"IF(F454=\"\",0,SUM(F$8:F454))","v":0}]
[null,null,null,null,{"$f":"IF(D455=\"\",0,SUM(D$8:D455))","v":0},null,{"$f":"IF(F455=\"\",0,SUM(F$8:F455))","v":0}]
[null,null,null,null,{"$f":"IF(D456=\"\",0,SUM(D$8:D456))","v":0},null,{"$f":"IF(F456=\"\",0,SUM(F$8:F456))","v":0}]
[null,null,null,null,{"$f":"IF(D457=\"\",0,SUM(D$8:D457))","v":0},null,{"$f":"IF(F457=\"\",0,SUM(F$8:F457))","v":0}]
[null,null,null,null,{"$f":"IF(D458=\"\",0,SUM(D$8:D458))","v":0},null,{"$f":"IF(F458=\"\",0,SUM(F$8:F458))","v":0}]
[null,null,null,null,{"$f":"IF(D459=\"\",0,SUM(D$8:D459))","v":0},null,{"$f":"IF(F459=\"\",0,SUM(F$8:F459))","v":0}]
[null,null,null,null,{"$f":"IF(D460=\"\",0,SUM(D$8:D460))","v":0},null,{"$f":"IF(F460=\"\",0,SUM(F$8:F460))","v":0}]
[null,null,null,null,{"$f":"IF(D461=\"\",0,SUM(D$8:D461))","v":0},null,{"$f":"IF(F461=\"\",0,SUM(F$8:F461))","v":0}]
[null,null,null,null,{"$f":"IF(D462=\"\",0,SUM(D$8:D462))","v":0},null,{"$f":"IF(F462=\"\",0,SUM(F$8:F462))","v":0}]
[null,null,null,null,{"$f":"IF(D463=\"\",0,SUM(D$8:D463))","v":0},null,{"$f":"IF(F463=\"\",0,SUM(F$8:F463))","v":0}]
[null,null,null,null,{"$f":"IF(D464=\"\",0,SUM(D$8:D464))","v":0},null,{"$f":"IF(F464=\"\",0,SUM(F$8:F464))","v":0}]
[null,null,null,null,{"$f":"IF(D465=\"\",0,SUM(D$8:D465))","v":0},null,{"$f":"IF(F465=\"\",0,SUM(F$8:F465))","v":0}]
[null,null,null,null,{"$f":"IF(D466=\"\",0,SUM(D$8:D466))","v":0},null,{"$f":"IF(F466=\"\",0,SUM(F$8:F466))","v":0}]
[null,null,null,null,{"$f":"IF(D467=\"\",0,SUM(D$8:D467))","v":0},null,{"$f":"IF(F467=\"\",0,SUM(F$8:F467))","v":0}]
[null,null,null,null,{"$f":"IF(D468=\"\",0,SUM(D$8:D468))","v":0},null,{"$f":"IF(F468=\"\",0,SUM(F$8:F468))","v":0}]
[null,null,null,null,{"$f":"IF(D469=\"\",0,SUM(D$8:D469))","v":0},null,{"$f":"IF(F469=\"\",0,SUM(F$8:F469))","v":0}]
[null,null,null,null,{"$f":"IF(D470=\"\",0,SUM(D$8:D470))","v":0},null,{"$f":"IF(F470=\"\",0,SUM(F$8:F470))","v":0}]
[null,null,null,null,{"$f":"IF(D471=\"\",0,SUM(D$8:D471))","v":0},null,{"$f":"IF(F471=\"\",0,SUM(F$8:F471))","v":0}]
[null,null,null,null,{"$f":"IF(D472=\"\",0,SUM(D$8:D472))","v":0},null,{"$f":"IF(F472=\"\",0,SUM(F$8:F472))","v":0}]
[null,null,null,null,{"$f":"IF(D473=\"\",0,SUM(D$8:D473))","v":0},null,{"$f":"IF(F473=\"\",0,SUM(F$8:F473))","v":0}]
[null,null,null,null,{"$f":"IF(D474=\"\",0,SUM(D$8:D474))","v":0},null,{"$f":"IF(F474=\"\",0,SUM(F$8:F474))","v":0}]
[null,null,null,null,{"$f":"IF(D475=\"\",0,SUM(D$8:D475))","v":0},null,{"$f":"IF(F475=\"\",0,SUM(F$8:F475))","v":0}]
[null,null,null,null,{"$f":"IF(D476=\"\",0,SUM(D$8:D476))","v":0},null,{"$f":"IF(F476=\"\",0,SUM(F$8:F476))","v":0}]
[null,null,null,null,{"$f":"IF(D477=\"\",0,SUM(D$8:D477))","v":0},null,{"$f":"IF(F477=\"\",0,SUM(F$8:F477))","v":0}]
[null,null,null,null,{"$f":"IF(D478=\"\",0,SUM(D$8:D478))","v":0},null,{"$f":"IF(F478=\"\",0,SUM(F$8:F478))","v":0}]
[null,null,null,null,{"$f":"IF(D479=\"\",0,SUM(D$8:D479))","v":0},null,{"$f":"IF(F479=\"\",0,SUM(F$8:F479))","v":0}]
[null,null,null,null,{"$f":"IF(D480=\"\",0,SUM(D$8:D480))","v":0},null,{"$f":"IF(F480=\"\",0,SUM(F$8:F480))","v":0}]
[null,null,null,null,{"$f":"IF(D481=\"\",0,SUM(D$8:D481))","v":0},null,{"$f":"IF(F481=\"\",0,SUM(F$8:F481))","v":0}]
[null,null,null,null,{"$f":"IF(D482=\"\",0,SUM(D$8:D482))","v":0},null,{"$f":"IF(F482=\"\",0,SUM(F$8:F482))","v":0}]
[null,null,null,null,{"$f":"IF(D483=\"\",0,SUM(D$8:D483))","v":0},null,{"$f":"IF(F483=\"\",0,SUM(F$8:F483))","v":0}]
[null,null,null,null,{"$f":"IF(D484=\"\",0,SUM(D$8:D484))","v":0},null,{"$f":"IF(F484=\"\",0,SUM(F$8:F484))","v":0}]
[null,null,null,null,{"$f":"IF(D485=\"\",0,SUM(D$8:D485))","v":0},null,{"$f":"IF(F485=\"\",0,SUM(F$8:F485))","v":0}]
[null,null,null,null,{"$f":"IF(D486=\"\",0,SUM(D$8:D486))","v":0},null,{"$f":"IF(F486=\"\",0,SUM(F$8:F486))","v":0}]

{"sheet":"Fine Agg 2","index":16,"n_rows":486,"n_cols":8,"rows_kept":486,"cut":false,"hidden":false,"merged":[]}
["Fine Aggregate  Certification  2",null,null,null,null,null,null,{"$f":"Info!B2","v":"E"}]
["Spec. Grav.: ",{"$f":"IF(AND(Info!B55=\"\", Info!C55=\"\"),\"\", IF(Info!B55<>\"\", Info!B55, Info!C55))","v":""},null,null,null,"Page No.: "]
["Source: ",{"$f":"IF(AND(Info!B54=\"\", Info!C54=\"\"),\"\", IF(Info!B54<>\"\", Info!B54, Info!C54))","v":""},null,null,null,"Grad. No.: ",{"$f":"IF(AND(Info!B53=\"\", Info!C53=\"\"),\"\", IF(Info!B53<>\"\", Info!B53, Info!C53))","v":""}]
["Project No.: ",{"$f":"IF(Info!B3=\"\",\"\",(Info!B3))","v":""},null,null,null,"Contract ID.: ",{"$f":"IF(Info!B4=\"\",\"\",(Info!B4))","v":""}]
[]
[null,"Ticket #",null,"Certified","To Date","Used","To Date"," "]
["Date","From","To",{"$f":"IF(Info!$B$2=\"M\",\"(Mg's)\",\"(Tons)\")","v":"(Tons)"},{"$f":"IF(Info!$B$2=\"M\",\"(Mg's)\",\"(Tons)\")","v":"(Tons)"},{"$f":"IF(Info!$B$2=\"M\",\"(Mg's)\",\"(Tons)\")","v":"(Tons)"},{"$f":"IF(Info!$B$2=\"M\",\"(Mg's)\",\"(Tons)\")","v":"(Tons)"},"By"]
[null,null,null,null,{"$f":"SUM(D8)","v":0},null,{"$f":"SUM(F8)","v":0}]
[null,null,null,null,{"$f":"IF(D9=\"\",0,SUM(D$8:D9))","v":0},null,{"$f":"IF(F9=\"\",0,SUM(F$8:F9))","v":0}]
[null,null,null,null,{"$f":"IF(D10=\"\",0,SUM(D$8:D10))","v":0},null,{"$f":"IF(F10=\"\",0,SUM(F$8:F10))","v":0}]
[null,null,null,null,{"$f":"IF(D11=\"\",0,SUM(D$8:D11))","v":0},null,{"$f":"IF(F11=\"\",0,SUM(F$8:F11))","v":0}]
[null,null,null,null,{"$f":"IF(D12=\"\",0,SUM(D$8:D12))","v":0},null,{"$f":"IF(F12=\"\",0,SUM(F$8:F12))","v":0}]
[null,null,null,null,{"$f":"IF(D13=\"\",0,SUM(D$8:D13))","v":0},null,{"$f":"IF(F13=\"\",0,SUM(F$8:F13))","v":0}]
[null,null,null,null,{"$f":"IF(D14=\"\",0,SUM(D$8:D14))","v":0},null,{"$f":"IF(F14=\"\",0,SUM(F$8:F14))","v":0}]
[null,null,null,null,{"$f":"IF(D15=\"\",0,SUM(D$8:D15))","v":0},null,{"$f":"IF(F15=\"\",0,SUM(F$8:F15))","v":0}]
[null,null,null,null,{"$f":"IF(D16=\"\",0,SUM(D$8:D16))","v":0},null,{"$f":"IF(F16=\"\",0,SUM(F$8:F16))","v":0}]
[null,null,null,null,{"$f":"IF(D17=\"\",0,SUM(D$8:D17))","v":0},null,{"$f":"IF(F17=\"\",0,SUM(F$8:F17))","v":0}]
[null,null,null,null,{"$f":"IF(D18=\"\",0,SUM(D$8:D18))","v":0},null,{"$f":"IF(F18=\"\",0,SUM(F$8:F18))","v":0}]
[null,null,null,null,{"$f":"IF(D19=\"\",0,SUM(D$8:D19))","v":0},null,{"$f":"IF(F19=\"\",0,SUM(F$8:F19))","v":0}]
[null,null,null,null,{"$f":"IF(D20=\"\",0,SUM(D$8:D20))","v":0},null,{"$f":"IF(F20=\"\",0,SUM(F$8:F20))","v":0}]
[null,null,null,null,{"$f":"IF(D21=\"\",0,SUM(D$8:D21))","v":0},null,{"$f":"IF(F21=\"\",0,SUM(F$8:F21))","v":0}]
[null,null,null,null,{"$f":"IF(D22=\"\",0,SUM(D$8:D22))","v":0},null,{"$f":"IF(F22=\"\",0,SUM(F$8:F22))","v":0}]
[null,null,null,null,{"$f":"IF(D23=\"\",0,SUM(D$8:D23))","v":0},null,{"$f":"IF(F23=\"\",0,SUM(F$8:F23))","v":0}]
[null,null,null,null,{"$f":"IF(D24=\"\",0,SUM(D$8:D24))","v":0},null,{"$f":"IF(F24=\"\",0,SUM(F$8:F24))","v":0}]
[null,null,null,null,{"$f":"IF(D25=\"\",0,SUM(D$8:D25))","v":0},null,{"$f":"IF(F25=\"\",0,SUM(F$8:F25))","v":0}]
[null,null,null,null,{"$f":"IF(D26=\"\",0,SUM(D$8:D26))","v":0},null,{"$f":"IF(F26=\"\",0,SUM(F$8:F26))","v":0}]
[null,null,null,null,{"$f":"IF(D27=\"\",0,SUM(D$8:D27))","v":0},null,{"$f":"IF(F27=\"\",0,SUM(F$8:F27))","v":0}]
[null,null,null,null,{"$f":"IF(D28=\"\",0,SUM(D$8:D28))","v":0},null,{"$f":"IF(F28=\"\",0,SUM(F$8:F28))","v":0}]
[null,null,null,null,{"$f":"IF(D29=\"\",0,SUM(D$8:D29))","v":0},null,{"$f":"IF(F29=\"\",0,SUM(F$8:F29))","v":0}]
[null,null,null,null,{"$f":"IF(D30=\"\",0,SUM(D$8:D30))","v":0},null,{"$f":"IF(F30=\"\",0,SUM(F$8:F30))","v":0}]
[null,null,null,null,{"$f":"IF(D31=\"\",0,SUM(D$8:D31))","v":0},null,{"$f":"IF(F31=\"\",0,SUM(F$8:F31))","v":0}]
[null,null,null,null,{"$f":"IF(D32=\"\",0,SUM(D$8:D32))","v":0},null,{"$f":"IF(F32=\"\",0,SUM(F$8:F32))","v":0}]
[null,null,null,null,{"$f":"IF(D33=\"\",0,SUM(D$8:D33))","v":0},null,{"$f":"IF(F33=\"\",0,SUM(F$8:F33))","v":0}]
[null,null,null,null,{"$f":"IF(D34=\"\",0,SUM(D$8:D34))","v":0},null,{"$f":"IF(F34=\"\",0,SUM(F$8:F34))","v":0}]
[null,null,null,null,{"$f":"IF(D35=\"\",0,SUM(D$8:D35))","v":0},null,{"$f":"IF(F35=\"\",0,SUM(F$8:F35))","v":0}]
[null,null,null,null,{"$f":"IF(D36=\"\",0,SUM(D$8:D36))","v":0},null,{"$f":"IF(F36=\"\",0,SUM(F$8:F36))","v":0}]
[null,null,null,null,{"$f":"IF(D37=\"\",0,SUM(D$8:D37))","v":0},null,{"$f":"IF(F37=\"\",0,SUM(F$8:F37))","v":0}]
[null,null,null,null,{"$f":"IF(D38=\"\",0,SUM(D$8:D38))","v":0},null,{"$f":"IF(F38=\"\",0,SUM(F$8:F38))","v":0}]
[null,null,null,null,{"$f":"IF(D39=\"\",0,SUM(D$8:D39))","v":0},null,{"$f":"IF(F39=\"\",0,SUM(F$8:F39))","v":0}]
[null,null,null,null,{"$f":"IF(D40=\"\",0,SUM(D$8:D40))","v":0},null,{"$f":"IF(F40=\"\",0,SUM(F$8:F40))","v":0}]
[null,null,null,null,{"$f":"IF(D41=\"\",0,SUM(D$8:D41))","v":0},null,{"$f":"IF(F41=\"\",0,SUM(F$8:F41))","v":0}]
[null,null,null,null,{"$f":"IF(D42=\"\",0,SUM(D$8:D42))","v":0},null,{"$f":"IF(F42=\"\",0,SUM(F$8:F42))","v":0}]
[null,null,null,null,{"$f":"IF(D43=\"\",0,SUM(D$8:D43))","v":0},null,{"$f":"IF(F43=\"\",0,SUM(F$8:F43))","v":0}]
[null,null,null,null,{"$f":"IF(D44=\"\",0,SUM(D$8:D44))","v":0},null,{"$f":"IF(F44=\"\",0,SUM(F$8:F44))","v":0}]
[null,null,null,null,{"$f":"IF(D45=\"\",0,SUM(D$8:D45))","v":0},null,{"$f":"IF(F45=\"\",0,SUM(F$8:F45))","v":0}]
[null,null,null,null,{"$f":"IF(D46=\"\",0,SUM(D$8:D46))","v":0},null,{"$f":"IF(F46=\"\",0,SUM(F$8:F46))","v":0}]
[null,null,null,null,{"$f":"IF(D47=\"\",0,SUM(D$8:D47))","v":0},null,{"$f":"IF(F47=\"\",0,SUM(F$8:F47))","v":0}]
[null,null,null,null,{"$f":"IF(D48=\"\",0,SUM(D$8:D48))","v":0},null,{"$f":"IF(F48=\"\",0,SUM(F$8:F48))","v":0}]
[null,null,null,null,{"$f":"IF(D49=\"\",0,SUM(D$8:D49))","v":0},null,{"$f":"IF(F49=\"\",0,SUM(F$8:F49))","v":0}]
[null,null,null,null,{"$f":"IF(D50=\"\",0,SUM(D$8:D50))","v":0},null,{"$f":"IF(F50=\"\",0,SUM(F$8:F50))","v":0}]
[null,null,null,null,{"$f":"IF(D51=\"\",0,SUM(D$8:D51))","v":0},null,{"$f":"IF(F51=\"\",0,SUM(F$8:F51))","v":0}]
[null,null,null,null,{"$f":"IF(D52=\"\",0,SUM(D$8:D52))","v":0},null,{"$f":"IF(F52=\"\",0,SUM(F$8:F52))","v":0}]
[null,null,null,null,{"$f":"IF(D53=\"\",0,SUM(D$8:D53))","v":0},null,{"$f":"IF(F53=\"\",0,SUM(F$8:F53))","v":0}]
[null,null,null,null,{"$f":"IF(D54=\"\",0,SUM(D$8:D54))","v":0},null,{"$f":"IF(F54=\"\",0,SUM(F$8:F54))","v":0}]
[null,null,null,null,{"$f":"IF(D55=\"\",0,SUM(D$8:D55))","v":0},null,{"$f":"IF(F55=\"\",0,SUM(F$8:F55))","v":0}]
[null,null,null,null,{"$f":"IF(D56=\"\",0,SUM(D$8:D56))","v":0},null,{"$f":"IF(F56=\"\",0,SUM(F$8:F56))","v":0}]
[null,null,null,null,{"$f":"IF(D57=\"\",0,SUM(D$8:D57))","v":0},null,{"$f":"IF(F57=\"\",0,SUM(F$8:F57))","v":0}]
[null,null,null,null,{"$f":"IF(D58=\"\",0,SUM(D$8:D58))","v":0},null,{"$f":"IF(F58=\"\",0,SUM(F$8:F58))","v":0}]
[null,null,null,null,{"$f":"IF(D59=\"\",0,SUM(D$8:D59))","v":0},null,{"$f":"IF(F59=\"\",0,SUM(F$8:F59))","v":0}]
[null,null,null,null,{"$f":"IF(D60=\"\",0,SUM(D$8:D60))","v":0},null,{"$f":"IF(F60=\"\",0,SUM(F$8:F60))","v":0}]
[null,null,null,null,{"$f":"IF(D61=\"\",0,SUM(D$8:D61))","v":0},null,{"$f":"IF(F61=\"\",0,SUM(F$8:F61))","v":0}]
[null,null,null,null,{"$f":"IF(D62=\"\",0,SUM(D$8:D62))","v":0},null,{"$f":"IF(F62=\"\",0,SUM(F$8:F62))","v":0}]
[null,null,null,null,{"$f":"IF(D63=\"\",0,SUM(D$8:D63))","v":0},null,{"$f":"IF(F63=\"\",0,SUM(F$8:F63))","v":0}]
[null,null,null,null,{"$f":"IF(D64=\"\",0,SUM(D$8:D64))","v":0},null,{"$f":"IF(F64=\"\",0,SUM(F$8:F64))","v":0}]
[null,null,null,null,{"$f":"IF(D65=\"\",0,SUM(D$8:D65))","v":0},null,{"$f":"IF(F65=\"\",0,SUM(F$8:F65))","v":0}]
[null,null,null,null,{"$f":"IF(D66=\"\",0,SUM(D$8:D66))","v":0},null,{"$f":"IF(F66=\"\",0,SUM(F$8:F66))","v":0}]
[null,null,null,null,{"$f":"IF(D67=\"\",0,SUM(D$8:D67))","v":0},null,{"$f":"IF(F67=\"\",0,SUM(F$8:F67))","v":0}]
[null,null,null,null,{"$f":"IF(D68=\"\",0,SUM(D$8:D68))","v":0},null,{"$f":"IF(F68=\"\",0,SUM(F$8:F68))","v":0}]
[null,null,null,null,{"$f":"IF(D69=\"\",0,SUM(D$8:D69))","v":0},null,{"$f":"IF(F69=\"\",0,SUM(F$8:F69))","v":0}]
[null,null,null,null,{"$f":"IF(D70=\"\",0,SUM(D$8:D70))","v":0},null,{"$f":"IF(F70=\"\",0,SUM(F$8:F70))","v":0}]
[null,null,null,null,{"$f":"IF(D71=\"\",0,SUM(D$8:D71))","v":0},null,{"$f":"IF(F71=\"\",0,SUM(F$8:F71))","v":0}]
[null,null,null,null,{"$f":"IF(D72=\"\",0,SUM(D$8:D72))","v":0},null,{"$f":"IF(F72=\"\",0,SUM(F$8:F72))","v":0}]
[null,null,null,null,{"$f":"IF(D73=\"\",0,SUM(D$8:D73))","v":0},null,{"$f":"IF(F73=\"\",0,SUM(F$8:F73))","v":0}]
[null,null,null,null,{"$f":"IF(D74=\"\",0,SUM(D$8:D74))","v":0},null,{"$f":"IF(F74=\"\",0,SUM(F$8:F74))","v":0}]
[null,null,null,null,{"$f":"IF(D75=\"\",0,SUM(D$8:D75))","v":0},null,{"$f":"IF(F75=\"\",0,SUM(F$8:F75))","v":0}]
[null,null,null,null,{"$f":"IF(D76=\"\",0,SUM(D$8:D76))","v":0},null,{"$f":"IF(F76=\"\",0,SUM(F$8:F76))","v":0}]
[null,null,null,null,{"$f":"IF(D77=\"\",0,SUM(D$8:D77))","v":0},null,{"$f":"IF(F77=\"\",0,SUM(F$8:F77))","v":0}]
[null,null,null,null,{"$f":"IF(D78=\"\",0,SUM(D$8:D78))","v":0},null,{"$f":"IF(F78=\"\",0,SUM(F$8:F78))","v":0}]
[null,null,null,null,{"$f":"IF(D79=\"\",0,SUM(D$8:D79))","v":0},null,{"$f":"IF(F79=\"\",0,SUM(F$8:F79))","v":0}]
[null,null,null,null,{"$f":"IF(D80=\"\",0,SUM(D$8:D80))","v":0},null,{"$f":"IF(F80=\"\",0,SUM(F$8:F80))","v":0}]
[null,null,null,null,{"$f":"IF(D81=\"\",0,SUM(D$8:D81))","v":0},null,{"$f":"IF(F81=\"\",0,SUM(F$8:F81))","v":0}]
[null,null,null,null,{"$f":"IF(D82=\"\",0,SUM(D$8:D82))","v":0},null,{"$f":"IF(F82=\"\",0,SUM(F$8:F82))","v":0}]
[null,null,null,null,{"$f":"IF(D83=\"\",0,SUM(D$8:D83))","v":0},null,{"$f":"IF(F83=\"\",0,SUM(F$8:F83))","v":0}]
[null,null,null,null,{"$f":"IF(D84=\"\",0,SUM(D$8:D84))","v":0},null,{"$f":"IF(F84=\"\",0,SUM(F$8:F84))","v":0}]
[null,null,null,null,{"$f":"IF(D85=\"\",0,SUM(D$8:D85))","v":0},null,{"$f":"IF(F85=\"\",0,SUM(F$8:F85))","v":0}]
[null,null,null,null,{"$f":"IF(D86=\"\",0,SUM(D$8:D86))","v":0},null,{"$f":"IF(F86=\"\",0,SUM(F$8:F86))","v":0}]
[null,null,null,null,{"$f":"IF(D87=\"\",0,SUM(D$8:D87))","v":0},null,{"$f":"IF(F87=\"\",0,SUM(F$8:F87))","v":0}]
[null,null,null,null,{"$f":"IF(D88=\"\",0,SUM(D$8:D88))","v":0},null,{"$f":"IF(F88=\"\",0,SUM(F$8:F88))","v":0}]
[null,null,null,null,{"$f":"IF(D89=\"\",0,SUM(D$8:D89))","v":0},null,{"$f":"IF(F89=\"\",0,SUM(F$8:F89))","v":0}]
[null,null,null,null,{"$f":"IF(D90=\"\",0,SUM(D$8:D90))","v":0},null,{"$f":"IF(F90=\"\",0,SUM(F$8:F90))","v":0}]
[null,null,null,null,{"$f":"IF(D91=\"\",0,SUM(D$8:D91))","v":0},null,{"$f":"IF(F91=\"\",0,SUM(F$8:F91))","v":0}]
[null,null,null,null,{"$f":"IF(D92=\"\",0,SUM(D$8:D92))","v":0},null,{"$f":"IF(F92=\"\",0,SUM(F$8:F92))","v":0}]
[null,null,null,null,{"$f":"IF(D93=\"\",0,SUM(D$8:D93))","v":0},null,{"$f":"IF(F93=\"\",0,SUM(F$8:F93))","v":0}]
[null,null,null,null,{"$f":"IF(D94=\"\",0,SUM(D$8:D94))","v":0},null,{"$f":"IF(F94=\"\",0,SUM(F$8:F94))","v":0}]
[null,null,null,null,{"$f":"IF(D95=\"\",0,SUM(D$8:D95))","v":0},null,{"$f":"IF(F95=\"\",0,SUM(F$8:F95))","v":0}]
[null,null,null,null,{"$f":"IF(D96=\"\",0,SUM(D$8:D96))","v":0},null,{"$f":"IF(F96=\"\",0,SUM(F$8:F96))","v":0}]
[null,null,null,null,{"$f":"IF(D97=\"\",0,SUM(D$8:D97))","v":0},null,{"$f":"IF(F97=\"\",0,SUM(F$8:F97))","v":0}]
[null,null,null,null,{"$f":"IF(D98=\"\",0,SUM(D$8:D98))","v":0},null,{"$f":"IF(F98=\"\",0,SUM(F$8:F98))","v":0}]
[null,null,null,null,{"$f":"IF(D99=\"\",0,SUM(D$8:D99))","v":0},null,{"$f":"IF(F99=\"\",0,SUM(F$8:F99))","v":0}]
[null,null,null,null,{"$f":"IF(D100=\"\",0,SUM(D$8:D100))","v":0},null,{"$f":"IF(F100=\"\",0,SUM(F$8:F100))","v":0}]
[null,null,null,null,{"$f":"IF(D101=\"\",0,SUM(D$8:D101))","v":0},null,{"$f":"IF(F101=\"\",0,SUM(F$8:F101))","v":0}]
[null,null,null,null,{"$f":"IF(D102=\"\",0,SUM(D$8:D102))","v":0},null,{"$f":"IF(F102=\"\",0,SUM(F$8:F102))","v":0}]
[null,null,null,null,{"$f":"IF(D103=\"\",0,SUM(D$8:D103))","v":0},null,{"$f":"IF(F103=\"\",0,SUM(F$8:F103))","v":0}]
[null,null,null,null,{"$f":"IF(D104=\"\",0,SUM(D$8:D104))","v":0},null,{"$f":"IF(F104=\"\",0,SUM(F$8:F104))","v":0}]
[null,null,null,null,{"$f":"IF(D105=\"\",0,SUM(D$8:D105))","v":0},null,{"$f":"IF(F105=\"\",0,SUM(F$8:F105))","v":0}]
[null,null,null,null,{"$f":"IF(D106=\"\",0,SUM(D$8:D106))","v":0},null,{"$f":"IF(F106=\"\",0,SUM(F$8:F106))","v":0}]
[null,null,null,null,{"$f":"IF(D107=\"\",0,SUM(D$8:D107))","v":0},null,{"$f":"IF(F107=\"\",0,SUM(F$8:F107))","v":0}]
[null,null,null,null,{"$f":"IF(D108=\"\",0,SUM(D$8:D108))","v":0},null,{"$f":"IF(F108=\"\",0,SUM(F$8:F108))","v":0}]
[null,null,null,null,{"$f":"IF(D109=\"\",0,SUM(D$8:D109))","v":0},null,{"$f":"IF(F109=\"\",0,SUM(F$8:F109))","v":0}]
[null,null,null,null,{"$f":"IF(D110=\"\",0,SUM(D$8:D110))","v":0},null,{"$f":"IF(F110=\"\",0,SUM(F$8:F110))","v":0}]
[null,null,null,null,{"$f":"IF(D111=\"\",0,SUM(D$8:D111))","v":0},null,{"$f":"IF(F111=\"\",0,SUM(F$8:F111))","v":0}]
[null,null,null,null,{"$f":"IF(D112=\"\",0,SUM(D$8:D112))","v":0},null,{"$f":"IF(F112=\"\",0,SUM(F$8:F112))","v":0}]
[null,null,null,null,{"$f":"IF(D113=\"\",0,SUM(D$8:D113))","v":0},null,{"$f":"IF(F113=\"\",0,SUM(F$8:F113))","v":0}]
[null,null,null,null,{"$f":"IF(D114=\"\",0,SUM(D$8:D114))","v":0},null,{"$f":"IF(F114=\"\",0,SUM(F$8:F114))","v":0}]
[null,null,null,null,{"$f":"IF(D115=\"\",0,SUM(D$8:D115))","v":0},null,{"$f":"IF(F115=\"\",0,SUM(F$8:F115))","v":0}]
[null,null,null,null,{"$f":"IF(D116=\"\",0,SUM(D$8:D116))","v":0},null,{"$f":"IF(F116=\"\",0,SUM(F$8:F116))","v":0}]
[null,null,null,null,{"$f":"IF(D117=\"\",0,SUM(D$8:D117))","v":0},null,{"$f":"IF(F117=\"\",0,SUM(F$8:F117))","v":0}]
[null,null,null,null,{"$f":"IF(D118=\"\",0,SUM(D$8:D118))","v":0},null,{"$f":"IF(F118=\"\",0,SUM(F$8:F118))","v":0}]
[null,null,null,null,{"$f":"IF(D119=\"\",0,SUM(D$8:D119))","v":0},null,{"$f":"IF(F119=\"\",0,SUM(F$8:F119))","v":0}]
[null,null,null,null,{"$f":"IF(D120=\"\",0,SUM(D$8:D120))","v":0},null,{"$f":"IF(F120=\"\",0,SUM(F$8:F120))","v":0}]
[null,null,null,null,{"$f":"IF(D121=\"\",0,SUM(D$8:D121))","v":0},null,{"$f":"IF(F121=\"\",0,SUM(F$8:F121))","v":0}]
[null,null,null,null,{"$f":"IF(D122=\"\",0,SUM(D$8:D122))","v":0},null,{"$f":"IF(F122=\"\",0,SUM(F$8:F122))","v":0}]
[null,null,null,null,{"$f":"IF(D123=\"\",0,SUM(D$8:D123))","v":0},null,{"$f":"IF(F123=\"\",0,SUM(F$8:F123))","v":0}]
[null,null,null,null,{"$f":"IF(D124=\"\",0,SUM(D$8:D124))","v":0},null,{"$f":"IF(F124=\"\",0,SUM(F$8:F124))","v":0}]
[null,null,null,null,{"$f":"IF(D125=\"\",0,SUM(D$8:D125))","v":0},null,{"$f":"IF(F125=\"\",0,SUM(F$8:F125))","v":0}]
[null,null,null,null,{"$f":"IF(D126=\"\",0,SUM(D$8:D126))","v":0},null,{"$f":"IF(F126=\"\",0,SUM(F$8:F126))","v":0}]
[null,null,null,null,{"$f":"IF(D127=\"\",0,SUM(D$8:D127))","v":0},null,{"$f":"IF(F127=\"\",0,SUM(F$8:F127))","v":0}]
[null,null,null,null,{"$f":"IF(D128=\"\",0,SUM(D$8:D128))","v":0},null,{"$f":"IF(F128=\"\",0,SUM(F$8:F128))","v":0}]
[null,null,null,null,{"$f":"IF(D129=\"\",0,SUM(D$8:D129))","v":0},null,{"$f":"IF(F129=\"\",0,SUM(F$8:F129))","v":0}]
[null,null,null,null,{"$f":"IF(D130=\"\",0,SUM(D$8:D130))","v":0},null,{"$f":"IF(F130=\"\",0,SUM(F$8:F130))","v":0}]
[null,null,null,null,{"$f":"IF(D131=\"\",0,SUM(D$8:D131))","v":0},null,{"$f":"IF(F131=\"\",0,SUM(F$8:F131))","v":0}]
[null,null,null,null,{"$f":"IF(D132=\"\",0,SUM(D$8:D132))","v":0},null,{"$f":"IF(F132=\"\",0,SUM(F$8:F132))","v":0}]
[null,null,null,null,{"$f":"IF(D133=\"\",0,SUM(D$8:D133))","v":0},null,{"$f":"IF(F133=\"\",0,SUM(F$8:F133))","v":0}]
[null,null,null,null,{"$f":"IF(D134=\"\",0,SUM(D$8:D134))","v":0},null,{"$f":"IF(F134=\"\",0,SUM(F$8:F134))","v":0}]
[null,null,null,null,{"$f":"IF(D135=\"\",0,SUM(D$8:D135))","v":0},null,{"$f":"IF(F135=\"\",0,SUM(F$8:F135))","v":0}]
[null,null,null,null,{"$f":"IF(D136=\"\",0,SUM(D$8:D136))","v":0},null,{"$f":"IF(F136=\"\",0,SUM(F$8:F136))","v":0}]
[null,null,null,null,{"$f":"IF(D137=\"\",0,SUM(D$8:D137))","v":0},null,{"$f":"IF(F137=\"\",0,SUM(F$8:F137))","v":0}]
[null,null,null,null,{"$f":"IF(D138=\"\",0,SUM(D$8:D138))","v":0},null,{"$f":"IF(F138=\"\",0,SUM(F$8:F138))","v":0}]
[null,null,null,null,{"$f":"IF(D139=\"\",0,SUM(D$8:D139))","v":0},null,{"$f":"IF(F139=\"\",0,SUM(F$8:F139))","v":0}]
[null,null,null,null,{"$f":"IF(D140=\"\",0,SUM(D$8:D140))","v":0},null,{"$f":"IF(F140=\"\",0,SUM(F$8:F140))","v":0}]
[null,null,null,null,{"$f":"IF(D141=\"\",0,SUM(D$8:D141))","v":0},null,{"$f":"IF(F141=\"\",0,SUM(F$8:F141))","v":0}]
[null,null,null,null,{"$f":"IF(D142=\"\",0,SUM(D$8:D142))","v":0},null,{"$f":"IF(F142=\"\",0,SUM(F$8:F142))","v":0}]
[null,null,null,null,{"$f":"IF(D143=\"\",0,SUM(D$8:D143))","v":0},null,{"$f":"IF(F143=\"\",0,SUM(F$8:F143))","v":0}]
[null,null,null,null,{"$f":"IF(D144=\"\",0,SUM(D$8:D144))","v":0},null,{"$f":"IF(F144=\"\",0,SUM(F$8:F144))","v":0}]
[null,null,null,null,{"$f":"IF(D145=\"\",0,SUM(D$8:D145))","v":0},null,{"$f":"IF(F145=\"\",0,SUM(F$8:F145))","v":0}]
[null,null,null,null,{"$f":"IF(D146=\"\",0,SUM(D$8:D146))","v":0},null,{"$f":"IF(F146=\"\",0,SUM(F$8:F146))","v":0}]
[null,null,null,null,{"$f":"IF(D147=\"\",0,SUM(D$8:D147))","v":0},null,{"$f":"IF(F147=\"\",0,SUM(F$8:F147))","v":0}]
[null,null,null,null,{"$f":"IF(D148=\"\",0,SUM(D$8:D148))","v":0},null,{"$f":"IF(F148=\"\",0,SUM(F$8:F148))","v":0}]
[null,null,null,null,{"$f":"IF(D149=\"\",0,SUM(D$8:D149))","v":0},null,{"$f":"IF(F149=\"\",0,SUM(F$8:F149))","v":0}]
[null,null,null,null,{"$f":"IF(D150=\"\",0,SUM(D$8:D150))","v":0},null,{"$f":"IF(F150=\"\",0,SUM(F$8:F150))","v":0}]
[null,null,null,null,{"$f":"IF(D151=\"\",0,SUM(D$8:D151))","v":0},null,{"$f":"IF(F151=\"\",0,SUM(F$8:F151))","v":0}]
[null,null,null,null,{"$f":"IF(D152=\"\",0,SUM(D$8:D152))","v":0},null,{"$f":"IF(F152=\"\",0,SUM(F$8:F152))","v":0}]
[null,null,null,null,{"$f":"IF(D153=\"\",0,SUM(D$8:D153))","v":0},null,{"$f":"IF(F153=\"\",0,SUM(F$8:F153))","v":0}]
[null,null,null,null,{"$f":"IF(D154=\"\",0,SUM(D$8:D154))","v":0},null,{"$f":"IF(F154=\"\",0,SUM(F$8:F154))","v":0}]
[null,null,null,null,{"$f":"IF(D155=\"\",0,SUM(D$8:D155))","v":0},null,{"$f":"IF(F155=\"\",0,SUM(F$8:F155))","v":0}]
[null,null,null,null,{"$f":"IF(D156=\"\",0,SUM(D$8:D156))","v":0},null,{"$f":"IF(F156=\"\",0,SUM(F$8:F156))","v":0}]
[null,null,null,null,{"$f":"IF(D157=\"\",0,SUM(D$8:D157))","v":0},null,{"$f":"IF(F157=\"\",0,SUM(F$8:F157))","v":0}]
[null,null,null,null,{"$f":"IF(D158=\"\",0,SUM(D$8:D158))","v":0},null,{"$f":"IF(F158=\"\",0,SUM(F$8:F158))","v":0}]
[null,null,null,null,{"$f":"IF(D159=\"\",0,SUM(D$8:D159))","v":0},null,{"$f":"IF(F159=\"\",0,SUM(F$8:F159))","v":0}]
[null,null,null,null,{"$f":"IF(D160=\"\",0,SUM(D$8:D160))","v":0},null,{"$f":"IF(F160=\"\",0,SUM(F$8:F160))","v":0}]
[null,null,null,null,{"$f":"IF(D161=\"\",0,SUM(D$8:D161))","v":0},null,{"$f":"IF(F161=\"\",0,SUM(F$8:F161))","v":0}]
[null,null,null,null,{"$f":"IF(D162=\"\",0,SUM(D$8:D162))","v":0},null,{"$f":"IF(F162=\"\",0,SUM(F$8:F162))","v":0}]
[null,null,null,null,{"$f":"IF(D163=\"\",0,SUM(D$8:D163))","v":0},null,{"$f":"IF(F163=\"\",0,SUM(F$8:F163))","v":0}]
[null,null,null,null,{"$f":"IF(D164=\"\",0,SUM(D$8:D164))","v":0},null,{"$f":"IF(F164=\"\",0,SUM(F$8:F164))","v":0}]
[null,null,null,null,{"$f":"IF(D165=\"\",0,SUM(D$8:D165))","v":0},null,{"$f":"IF(F165=\"\",0,SUM(F$8:F165))","v":0}]
[null,null,null,null,{"$f":"IF(D166=\"\",0,SUM(D$8:D166))","v":0},null,{"$f":"IF(F166=\"\",0,SUM(F$8:F166))","v":0}]
[null,null,null,null,{"$f":"IF(D167=\"\",0,SUM(D$8:D167))","v":0},null,{"$f":"IF(F167=\"\",0,SUM(F$8:F167))","v":0}]
[null,null,null,null,{"$f":"IF(D168=\"\",0,SUM(D$8:D168))","v":0},null,{"$f":"IF(F168=\"\",0,SUM(F$8:F168))","v":0}]
[null,null,null,null,{"$f":"IF(D169=\"\",0,SUM(D$8:D169))","v":0},null,{"$f":"IF(F169=\"\",0,SUM(F$8:F169))","v":0}]
[null,null,null,null,{"$f":"IF(D170=\"\",0,SUM(D$8:D170))","v":0},null,{"$f":"IF(F170=\"\",0,SUM(F$8:F170))","v":0}]
[null,null,null,null,{"$f":"IF(D171=\"\",0,SUM(D$8:D171))","v":0},null,{"$f":"IF(F171=\"\",0,SUM(F$8:F171))","v":0}]
[null,null,null,null,{"$f":"IF(D172=\"\",0,SUM(D$8:D172))","v":0},null,{"$f":"IF(F172=\"\",0,SUM(F$8:F172))","v":0}]
[null,null,null,null,{"$f":"IF(D173=\"\",0,SUM(D$8:D173))","v":0},null,{"$f":"IF(F173=\"\",0,SUM(F$8:F173))","v":0}]
[null,null,null,null,{"$f":"IF(D174=\"\",0,SUM(D$8:D174))","v":0},null,{"$f":"IF(F174=\"\",0,SUM(F$8:F174))","v":0}]
[null,null,null,null,{"$f":"IF(D175=\"\",0,SUM(D$8:D175))","v":0},null,{"$f":"IF(F175=\"\",0,SUM(F$8:F175))","v":0}]
[null,null,null,null,{"$f":"IF(D176=\"\",0,SUM(D$8:D176))","v":0},null,{"$f":"IF(F176=\"\",0,SUM(F$8:F176))","v":0}]
[null,null,null,null,{"$f":"IF(D177=\"\",0,SUM(D$8:D177))","v":0},null,{"$f":"IF(F177=\"\",0,SUM(F$8:F177))","v":0}]
[null,null,null,null,{"$f":"IF(D178=\"\",0,SUM(D$8:D178))","v":0},null,{"$f":"IF(F178=\"\",0,SUM(F$8:F178))","v":0}]
[null,null,null,null,{"$f":"IF(D179=\"\",0,SUM(D$8:D179))","v":0},null,{"$f":"IF(F179=\"\",0,SUM(F$8:F179))","v":0}]
[null,null,null,null,{"$f":"IF(D180=\"\",0,SUM(D$8:D180))","v":0},null,{"$f":"IF(F180=\"\",0,SUM(F$8:F180))","v":0}]
[null,null,null,null,{"$f":"IF(D181=\"\",0,SUM(D$8:D181))","v":0},null,{"$f":"IF(F181=\"\",0,SUM(F$8:F181))","v":0}]
[null,null,null,null,{"$f":"IF(D182=\"\",0,SUM(D$8:D182))","v":0},null,{"$f":"IF(F182=\"\",0,SUM(F$8:F182))","v":0}]
[null,null,null,null,{"$f":"IF(D183=\"\",0,SUM(D$8:D183))","v":0},null,{"$f":"IF(F183=\"\",0,SUM(F$8:F183))","v":0}]
[null,null,null,null,{"$f":"IF(D184=\"\",0,SUM(D$8:D184))","v":0},null,{"$f":"IF(F184=\"\",0,SUM(F$8:F184))","v":0}]
[null,null,null,null,{"$f":"IF(D185=\"\",0,SUM(D$8:D185))","v":0},null,{"$f":"IF(F185=\"\",0,SUM(F$8:F185))","v":0}]
[null,null,null,null,{"$f":"IF(D186=\"\",0,SUM(D$8:D186))","v":0},null,{"$f":"IF(F186=\"\",0,SUM(F$8:F186))","v":0}]
[null,null,null,null,{"$f":"IF(D187=\"\",0,SUM(D$8:D187))","v":0},null,{"$f":"IF(F187=\"\",0,SUM(F$8:F187))","v":0}]
[null,null,null,null,{"$f":"IF(D188=\"\",0,SUM(D$8:D188))","v":0},null,{"$f":"IF(F188=\"\",0,SUM(F$8:F188))","v":0}]
[null,null,null,null,{"$f":"IF(D189=\"\",0,SUM(D$8:D189))","v":0},null,{"$f":"IF(F189=\"\",0,SUM(F$8:F189))","v":0}]
[null,null,null,null,{"$f":"IF(D190=\"\",0,SUM(D$8:D190))","v":0},null,{"$f":"IF(F190=\"\",0,SUM(F$8:F190))","v":0}]
[null,null,null,null,{"$f":"IF(D191=\"\",0,SUM(D$8:D191))","v":0},null,{"$f":"IF(F191=\"\",0,SUM(F$8:F191))","v":0}]
[null,null,null,null,{"$f":"IF(D192=\"\",0,SUM(D$8:D192))","v":0},null,{"$f":"IF(F192=\"\",0,SUM(F$8:F192))","v":0}]
[null,null,null,null,{"$f":"IF(D193=\"\",0,SUM(D$8:D193))","v":0},null,{"$f":"IF(F193=\"\",0,SUM(F$8:F193))","v":0}]
[null,null,null,null,{"$f":"IF(D194=\"\",0,SUM(D$8:D194))","v":0},null,{"$f":"IF(F194=\"\",0,SUM(F$8:F194))","v":0}]
[null,null,null,null,{"$f":"IF(D195=\"\",0,SUM(D$8:D195))","v":0},null,{"$f":"IF(F195=\"\",0,SUM(F$8:F195))","v":0}]
[null,null,null,null,{"$f":"IF(D196=\"\",0,SUM(D$8:D196))","v":0},null,{"$f":"IF(F196=\"\",0,SUM(F$8:F196))","v":0}]
[null,null,null,null,{"$f":"IF(D197=\"\",0,SUM(D$8:D197))","v":0},null,{"$f":"IF(F197=\"\",0,SUM(F$8:F197))","v":0}]
[null,null,null,null,{"$f":"IF(D198=\"\",0,SUM(D$8:D198))","v":0},null,{"$f":"IF(F198=\"\",0,SUM(F$8:F198))","v":0}]
[null,null,null,null,{"$f":"IF(D199=\"\",0,SUM(D$8:D199))","v":0},null,{"$f":"IF(F199=\"\",0,SUM(F$8:F199))","v":0}]
[null,null,null,null,{"$f":"IF(D200=\"\",0,SUM(D$8:D200))","v":0},null,{"$f":"IF(F200=\"\",0,SUM(F$8:F200))","v":0}]
[null,null,null,null,{"$f":"IF(D201=\"\",0,SUM(D$8:D201))","v":0},null,{"$f":"IF(F201=\"\",0,SUM(F$8:F201))","v":0}]
[null,null,null,null,{"$f":"IF(D202=\"\",0,SUM(D$8:D202))","v":0},null,{"$f":"IF(F202=\"\",0,SUM(F$8:F202))","v":0}]
[null,null,null,null,{"$f":"IF(D203=\"\",0,SUM(D$8:D203))","v":0},null,{"$f":"IF(F203=\"\",0,SUM(F$8:F203))","v":0}]
[null,null,null,null,{"$f":"IF(D204=\"\",0,SUM(D$8:D204))","v":0},null,{"$f":"IF(F204=\"\",0,SUM(F$8:F204))","v":0}]
[null,null,null,null,{"$f":"IF(D205=\"\",0,SUM(D$8:D205))","v":0},null,{"$f":"IF(F205=\"\",0,SUM(F$8:F205))","v":0}]
[null,null,null,null,{"$f":"IF(D206=\"\",0,SUM(D$8:D206))","v":0},null,{"$f":"IF(F206=\"\",0,SUM(F$8:F206))","v":0}]
[null,null,null,null,{"$f":"IF(D207=\"\",0,SUM(D$8:D207))","v":0},null,{"$f":"IF(F207=\"\",0,SUM(F$8:F207))","v":0}]
[null,null,null,null,{"$f":"IF(D208=\"\",0,SUM(D$8:D208))","v":0},null,{"$f":"IF(F208=\"\",0,SUM(F$8:F208))","v":0}]
[null,null,null,null,{"$f":"IF(D209=\"\",0,SUM(D$8:D209))","v":0},null,{"$f":"IF(F209=\"\",0,SUM(F$8:F209))","v":0}]
[null,null,null,null,{"$f":"IF(D210=\"\",0,SUM(D$8:D210))","v":0},null,{"$f":"IF(F210=\"\",0,SUM(F$8:F210))","v":0}]
[null,null,null,null,{"$f":"IF(D211=\"\",0,SUM(D$8:D211))","v":0},null,{"$f":"IF(F211=\"\",0,SUM(F$8:F211))","v":0}]
[null,null,null,null,{"$f":"IF(D212=\"\",0,SUM(D$8:D212))","v":0},null,{"$f":"IF(F212=\"\",0,SUM(F$8:F212))","v":0}]
[null,null,null,null,{"$f":"IF(D213=\"\",0,SUM(D$8:D213))","v":0},null,{"$f":"IF(F213=\"\",0,SUM(F$8:F213))","v":0}]
[null,null,null,null,{"$f":"IF(D214=\"\",0,SUM(D$8:D214))","v":0},null,{"$f":"IF(F214=\"\",0,SUM(F$8:F214))","v":0}]
[null,null,null,null,{"$f":"IF(D215=\"\",0,SUM(D$8:D215))","v":0},null,{"$f":"IF(F215=\"\",0,SUM(F$8:F215))","v":0}]
[null,null,null,null,{"$f":"IF(D216=\"\",0,SUM(D$8:D216))","v":0},null,{"$f":"IF(F216=\"\",0,SUM(F$8:F216))","v":0}]
[null,null,null,null,{"$f":"IF(D217=\"\",0,SUM(D$8:D217))","v":0},null,{"$f":"IF(F217=\"\",0,SUM(F$8:F217))","v":0}]
[null,null,null,null,{"$f":"IF(D218=\"\",0,SUM(D$8:D218))","v":0},null,{"$f":"IF(F218=\"\",0,SUM(F$8:F218))","v":0}]
[null,null,null,null,{"$f":"IF(D219=\"\",0,SUM(D$8:D219))","v":0},null,{"$f":"IF(F219=\"\",0,SUM(F$8:F219))","v":0}]
[null,null,null,null,{"$f":"IF(D220=\"\",0,SUM(D$8:D220))","v":0},null,{"$f":"IF(F220=\"\",0,SUM(F$8:F220))","v":0}]
[null,null,null,null,{"$f":"IF(D221=\"\",0,SUM(D$8:D221))","v":0},null,{"$f":"IF(F221=\"\",0,SUM(F$8:F221))","v":0}]
[null,null,null,null,{"$f":"IF(D222=\"\",0,SUM(D$8:D222))","v":0},null,{"$f":"IF(F222=\"\",0,SUM(F$8:F222))","v":0}]
[null,null,null,null,{"$f":"IF(D223=\"\",0,SUM(D$8:D223))","v":0},null,{"$f":"IF(F223=\"\",0,SUM(F$8:F223))","v":0}]
[null,null,null,null,{"$f":"IF(D224=\"\",0,SUM(D$8:D224))","v":0},null,{"$f":"IF(F224=\"\",0,SUM(F$8:F224))","v":0}]
[null,null,null,null,{"$f":"IF(D225=\"\",0,SUM(D$8:D225))","v":0},null,{"$f":"IF(F225=\"\",0,SUM(F$8:F225))","v":0}]
[null,null,null,null,{"$f":"IF(D226=\"\",0,SUM(D$8:D226))","v":0},null,{"$f":"IF(F226=\"\",0,SUM(F$8:F226))","v":0}]
[null,null,null,null,{"$f":"IF(D227=\"\",0,SUM(D$8:D227))","v":0},null,{"$f":"IF(F227=\"\",0,SUM(F$8:F227))","v":0}]
[null,null,null,null,{"$f":"IF(D228=\"\",0,SUM(D$8:D228))","v":0},null,{"$f":"IF(F228=\"\",0,SUM(F$8:F228))","v":0}]
[null,null,null,null,{"$f":"IF(D229=\"\",0,SUM(D$8:D229))","v":0},null,{"$f":"IF(F229=\"\",0,SUM(F$8:F229))","v":0}]
[null,null,null,null,{"$f":"IF(D230=\"\",0,SUM(D$8:D230))","v":0},null,{"$f":"IF(F230=\"\",0,SUM(F$8:F230))","v":0}]
[null,null,null,null,{"$f":"IF(D231=\"\",0,SUM(D$8:D231))","v":0},null,{"$f":"IF(F231=\"\",0,SUM(F$8:F231))","v":0}]
[null,null,null,null,{"$f":"IF(D232=\"\",0,SUM(D$8:D232))","v":0},null,{"$f":"IF(F232=\"\",0,SUM(F$8:F232))","v":0}]
[null,null,null,null,{"$f":"IF(D233=\"\",0,SUM(D$8:D233))","v":0},null,{"$f":"IF(F233=\"\",0,SUM(F$8:F233))","v":0}]
[null,null,null,null,{"$f":"IF(D234=\"\",0,SUM(D$8:D234))","v":0},null,{"$f":"IF(F234=\"\",0,SUM(F$8:F234))","v":0}]
[null,null,null,null,{"$f":"IF(D235=\"\",0,SUM(D$8:D235))","v":0},null,{"$f":"IF(F235=\"\",0,SUM(F$8:F235))","v":0}]
[null,null,null,null,{"$f":"IF(D236=\"\",0,SUM(D$8:D236))","v":0},null,{"$f":"IF(F236=\"\",0,SUM(F$8:F236))","v":0}]
[null,null,null,null,{"$f":"IF(D237=\"\",0,SUM(D$8:D237))","v":0},null,{"$f":"IF(F237=\"\",0,SUM(F$8:F237))","v":0}]
[null,null,null,null,{"$f":"IF(D238=\"\",0,SUM(D$8:D238))","v":0},null,{"$f":"IF(F238=\"\",0,SUM(F$8:F238))","v":0}]
[null,null,null,null,{"$f":"IF(D239=\"\",0,SUM(D$8:D239))","v":0},null,{"$f":"IF(F239=\"\",0,SUM(F$8:F239))","v":0}]
[null,null,null,null,{"$f":"IF(D240=\"\",0,SUM(D$8:D240))","v":0},null,{"$f":"IF(F240=\"\",0,SUM(F$8:F240))","v":0}]
[null,null,null,null,{"$f":"IF(D241=\"\",0,SUM(D$8:D241))","v":0},null,{"$f":"IF(F241=\"\",0,SUM(F$8:F241))","v":0}]
[null,null,null,null,{"$f":"IF(D242=\"\",0,SUM(D$8:D242))","v":0},null,{"$f":"IF(F242=\"\",0,SUM(F$8:F242))","v":0}]
[null,null,null,null,{"$f":"IF(D243=\"\",0,SUM(D$8:D243))","v":0},null,{"$f":"IF(F243=\"\",0,SUM(F$8:F243))","v":0}]
[null,null,null,null,{"$f":"IF(D244=\"\",0,SUM(D$8:D244))","v":0},null,{"$f":"IF(F244=\"\",0,SUM(F$8:F244))","v":0}]
[null,null,null,null,{"$f":"IF(D245=\"\",0,SUM(D$8:D245))","v":0},null,{"$f":"IF(F245=\"\",0,SUM(F$8:F245))","v":0}]
[null,null,null,null,{"$f":"IF(D246=\"\",0,SUM(D$8:D246))","v":0},null,{"$f":"IF(F246=\"\",0,SUM(F$8:F246))","v":0}]
[null,null,null,null,{"$f":"IF(D247=\"\",0,SUM(D$8:D247))","v":0},null,{"$f":"IF(F247=\"\",0,SUM(F$8:F247))","v":0}]
[null,null,null,null,{"$f":"IF(D248=\"\",0,SUM(D$8:D248))","v":0},null,{"$f":"IF(F248=\"\",0,SUM(F$8:F248))","v":0}]
[null,null,null,null,{"$f":"IF(D249=\"\",0,SUM(D$8:D249))","v":0},null,{"$f":"IF(F249=\"\",0,SUM(F$8:F249))","v":0}]
[null,null,null,null,{"$f":"IF(D250=\"\",0,SUM(D$8:D250))","v":0},null,{"$f":"IF(F250=\"\",0,SUM(F$8:F250))","v":0}]
[null,null,null,null,{"$f":"IF(D251=\"\",0,SUM(D$8:D251))","v":0},null,{"$f":"IF(F251=\"\",0,SUM(F$8:F251))","v":0}]
[null,null,null,null,{"$f":"IF(D252=\"\",0,SUM(D$8:D252))","v":0},null,{"$f":"IF(F252=\"\",0,SUM(F$8:F252))","v":0}]
[null,null,null,null,{"$f":"IF(D253=\"\",0,SUM(D$8:D253))","v":0},null,{"$f":"IF(F253=\"\",0,SUM(F$8:F253))","v":0}]
[null,null,null,null,{"$f":"IF(D254=\"\",0,SUM(D$8:D254))","v":0},null,{"$f":"IF(F254=\"\",0,SUM(F$8:F254))","v":0}]
[null,null,null,null,{"$f":"IF(D255=\"\",0,SUM(D$8:D255))","v":0},null,{"$f":"IF(F255=\"\",0,SUM(F$8:F255))","v":0}]
[null,null,null,null,{"$f":"IF(D256=\"\",0,SUM(D$8:D256))","v":0},null,{"$f":"IF(F256=\"\",0,SUM(F$8:F256))","v":0}]
[null,null,null,null,{"$f":"IF(D257=\"\",0,SUM(D$8:D257))","v":0},null,{"$f":"IF(F257=\"\",0,SUM(F$8:F257))","v":0}]
[null,null,null,null,{"$f":"IF(D258=\"\",0,SUM(D$8:D258))","v":0},null,{"$f":"IF(F258=\"\",0,SUM(F$8:F258))","v":0}]
[null,null,null,null,{"$f":"IF(D259=\"\",0,SUM(D$8:D259))","v":0},null,{"$f":"IF(F259=\"\",0,SUM(F$8:F259))","v":0}]
[null,null,null,null,{"$f":"IF(D260=\"\",0,SUM(D$8:D260))","v":0},null,{"$f":"IF(F260=\"\",0,SUM(F$8:F260))","v":0}]
[null,null,null,null,{"$f":"IF(D261=\"\",0,SUM(D$8:D261))","v":0},null,{"$f":"IF(F261=\"\",0,SUM(F$8:F261))","v":0}]
[null,null,null,null,{"$f":"IF(D262=\"\",0,SUM(D$8:D262))","v":0},null,{"$f":"IF(F262=\"\",0,SUM(F$8:F262))","v":0}]
[null,null,null,null,{"$f":"IF(D263=\"\",0,SUM(D$8:D263))","v":0},null,{"$f":"IF(F263=\"\",0,SUM(F$8:F263))","v":0}]
[null,null,null,null,{"$f":"IF(D264=\"\",0,SUM(D$8:D264))","v":0},null,{"$f":"IF(F264=\"\",0,SUM(F$8:F264))","v":0}]
[null,null,null,null,{"$f":"IF(D265=\"\",0,SUM(D$8:D265))","v":0},null,{"$f":"IF(F265=\"\",0,SUM(F$8:F265))","v":0}]
[null,null,null,null,{"$f":"IF(D266=\"\",0,SUM(D$8:D266))","v":0},null,{"$f":"IF(F266=\"\",0,SUM(F$8:F266))","v":0}]
[null,null,null,null,{"$f":"IF(D267=\"\",0,SUM(D$8:D267))","v":0},null,{"$f":"IF(F267=\"\",0,SUM(F$8:F267))","v":0}]
[null,null,null,null,{"$f":"IF(D268=\"\",0,SUM(D$8:D268))","v":0},null,{"$f":"IF(F268=\"\",0,SUM(F$8:F268))","v":0}]
[null,null,null,null,{"$f":"IF(D269=\"\",0,SUM(D$8:D269))","v":0},null,{"$f":"IF(F269=\"\",0,SUM(F$8:F269))","v":0}]
[null,null,null,null,{"$f":"IF(D270=\"\",0,SUM(D$8:D270))","v":0},null,{"$f":"IF(F270=\"\",0,SUM(F$8:F270))","v":0}]
[null,null,null,null,{"$f":"IF(D271=\"\",0,SUM(D$8:D271))","v":0},null,{"$f":"IF(F271=\"\",0,SUM(F$8:F271))","v":0}]
[null,null,null,null,{"$f":"IF(D272=\"\",0,SUM(D$8:D272))","v":0},null,{"$f":"IF(F272=\"\",0,SUM(F$8:F272))","v":0}]
[null,null,null,null,{"$f":"IF(D273=\"\",0,SUM(D$8:D273))","v":0},null,{"$f":"IF(F273=\"\",0,SUM(F$8:F273))","v":0}]
[null,null,null,null,{"$f":"IF(D274=\"\",0,SUM(D$8:D274))","v":0},null,{"$f":"IF(F274=\"\",0,SUM(F$8:F274))","v":0}]
[null,null,null,null,{"$f":"IF(D275=\"\",0,SUM(D$8:D275))","v":0},null,{"$f":"IF(F275=\"\",0,SUM(F$8:F275))","v":0}]
[null,null,null,null,{"$f":"IF(D276=\"\",0,SUM(D$8:D276))","v":0},null,{"$f":"IF(F276=\"\",0,SUM(F$8:F276))","v":0}]
[null,null,null,null,{"$f":"IF(D277=\"\",0,SUM(D$8:D277))","v":0},null,{"$f":"IF(F277=\"\",0,SUM(F$8:F277))","v":0}]
[null,null,null,null,{"$f":"IF(D278=\"\",0,SUM(D$8:D278))","v":0},null,{"$f":"IF(F278=\"\",0,SUM(F$8:F278))","v":0}]
[null,null,null,null,{"$f":"IF(D279=\"\",0,SUM(D$8:D279))","v":0},null,{"$f":"IF(F279=\"\",0,SUM(F$8:F279))","v":0}]
[null,null,null,null,{"$f":"IF(D280=\"\",0,SUM(D$8:D280))","v":0},null,{"$f":"IF(F280=\"\",0,SUM(F$8:F280))","v":0}]
[null,null,null,null,{"$f":"IF(D281=\"\",0,SUM(D$8:D281))","v":0},null,{"$f":"IF(F281=\"\",0,SUM(F$8:F281))","v":0}]
[null,null,null,null,{"$f":"IF(D282=\"\",0,SUM(D$8:D282))","v":0},null,{"$f":"IF(F282=\"\",0,SUM(F$8:F282))","v":0}]
[null,null,null,null,{"$f":"IF(D283=\"\",0,SUM(D$8:D283))","v":0},null,{"$f":"IF(F283=\"\",0,SUM(F$8:F283))","v":0}]
[null,null,null,null,{"$f":"IF(D284=\"\",0,SUM(D$8:D284))","v":0},null,{"$f":"IF(F284=\"\",0,SUM(F$8:F284))","v":0}]
[null,null,null,null,{"$f":"IF(D285=\"\",0,SUM(D$8:D285))","v":0},null,{"$f":"IF(F285=\"\",0,SUM(F$8:F285))","v":0}]
[null,null,null,null,{"$f":"IF(D286=\"\",0,SUM(D$8:D286))","v":0},null,{"$f":"IF(F286=\"\",0,SUM(F$8:F286))","v":0}]
[null,null,null,null,{"$f":"IF(D287=\"\",0,SUM(D$8:D287))","v":0},null,{"$f":"IF(F287=\"\",0,SUM(F$8:F287))","v":0}]
[null,null,null,null,{"$f":"IF(D288=\"\",0,SUM(D$8:D288))","v":0},null,{"$f":"IF(F288=\"\",0,SUM(F$8:F288))","v":0}]
[null,null,null,null,{"$f":"IF(D289=\"\",0,SUM(D$8:D289))","v":0},null,{"$f":"IF(F289=\"\",0,SUM(F$8:F289))","v":0}]
[null,null,null,null,{"$f":"IF(D290=\"\",0,SUM(D$8:D290))","v":0},null,{"$f":"IF(F290=\"\",0,SUM(F$8:F290))","v":0}]
[null,null,null,null,{"$f":"IF(D291=\"\",0,SUM(D$8:D291))","v":0},null,{"$f":"IF(F291=\"\",0,SUM(F$8:F291))","v":0}]
[null,null,null,null,{"$f":"IF(D292=\"\",0,SUM(D$8:D292))","v":0},null,{"$f":"IF(F292=\"\",0,SUM(F$8:F292))","v":0}]
[null,null,null,null,{"$f":"IF(D293=\"\",0,SUM(D$8:D293))","v":0},null,{"$f":"IF(F293=\"\",0,SUM(F$8:F293))","v":0}]
[null,null,null,null,{"$f":"IF(D294=\"\",0,SUM(D$8:D294))","v":0},null,{"$f":"IF(F294=\"\",0,SUM(F$8:F294))","v":0}]
[null,null,null,null,{"$f":"IF(D295=\"\",0,SUM(D$8:D295))","v":0},null,{"$f":"IF(F295=\"\",0,SUM(F$8:F295))","v":0}]
[null,null,null,null,{"$f":"IF(D296=\"\",0,SUM(D$8:D296))","v":0},null,{"$f":"IF(F296=\"\",0,SUM(F$8:F296))","v":0}]
[null,null,null,null,{"$f":"IF(D297=\"\",0,SUM(D$8:D297))","v":0},null,{"$f":"IF(F297=\"\",0,SUM(F$8:F297))","v":0}]
[null,null,null,null,{"$f":"IF(D298=\"\",0,SUM(D$8:D298))","v":0},null,{"$f":"IF(F298=\"\",0,SUM(F$8:F298))","v":0}]
[null,null,null,null,{"$f":"IF(D299=\"\",0,SUM(D$8:D299))","v":0},null,{"$f":"IF(F299=\"\",0,SUM(F$8:F299))","v":0}]
[null,null,null,null,{"$f":"IF(D300=\"\",0,SUM(D$8:D300))","v":0},null,{"$f":"IF(F300=\"\",0,SUM(F$8:F300))","v":0}]
[null,null,null,null,{"$f":"IF(D301=\"\",0,SUM(D$8:D301))","v":0},null,{"$f":"IF(F301=\"\",0,SUM(F$8:F301))","v":0}]
[null,null,null,null,{"$f":"IF(D302=\"\",0,SUM(D$8:D302))","v":0},null,{"$f":"IF(F302=\"\",0,SUM(F$8:F302))","v":0}]
[null,null,null,null,{"$f":"IF(D303=\"\",0,SUM(D$8:D303))","v":0},null,{"$f":"IF(F303=\"\",0,SUM(F$8:F303))","v":0}]
[null,null,null,null,{"$f":"IF(D304=\"\",0,SUM(D$8:D304))","v":0},null,{"$f":"IF(F304=\"\",0,SUM(F$8:F304))","v":0}]
[null,null,null,null,{"$f":"IF(D305=\"\",0,SUM(D$8:D305))","v":0},null,{"$f":"IF(F305=\"\",0,SUM(F$8:F305))","v":0}]
[null,null,null,null,{"$f":"IF(D306=\"\",0,SUM(D$8:D306))","v":0},null,{"$f":"IF(F306=\"\",0,SUM(F$8:F306))","v":0}]
[null,null,null,null,{"$f":"IF(D307=\"\",0,SUM(D$8:D307))","v":0},null,{"$f":"IF(F307=\"\",0,SUM(F$8:F307))","v":0}]
[null,null,null,null,{"$f":"IF(D308=\"\",0,SUM(D$8:D308))","v":0},null,{"$f":"IF(F308=\"\",0,SUM(F$8:F308))","v":0}]
[null,null,null,null,{"$f":"IF(D309=\"\",0,SUM(D$8:D309))","v":0},null,{"$f":"IF(F309=\"\",0,SUM(F$8:F309))","v":0}]
[null,null,null,null,{"$f":"IF(D310=\"\",0,SUM(D$8:D310))","v":0},null,{"$f":"IF(F310=\"\",0,SUM(F$8:F310))","v":0}]
[null,null,null,null,{"$f":"IF(D311=\"\",0,SUM(D$8:D311))","v":0},null,{"$f":"IF(F311=\"\",0,SUM(F$8:F311))","v":0}]
[null,null,null,null,{"$f":"IF(D312=\"\",0,SUM(D$8:D312))","v":0},null,{"$f":"IF(F312=\"\",0,SUM(F$8:F312))","v":0}]
[null,null,null,null,{"$f":"IF(D313=\"\",0,SUM(D$8:D313))","v":0},null,{"$f":"IF(F313=\"\",0,SUM(F$8:F313))","v":0}]
[null,null,null,null,{"$f":"IF(D314=\"\",0,SUM(D$8:D314))","v":0},null,{"$f":"IF(F314=\"\",0,SUM(F$8:F314))","v":0}]
[null,null,null,null,{"$f":"IF(D315=\"\",0,SUM(D$8:D315))","v":0},null,{"$f":"IF(F315=\"\",0,SUM(F$8:F315))","v":0}]
[null,null,null,null,{"$f":"IF(D316=\"\",0,SUM(D$8:D316))","v":0},null,{"$f":"IF(F316=\"\",0,SUM(F$8:F316))","v":0}]
[null,null,null,null,{"$f":"IF(D317=\"\",0,SUM(D$8:D317))","v":0},null,{"$f":"IF(F317=\"\",0,SUM(F$8:F317))","v":0}]
[null,null,null,null,{"$f":"IF(D318=\"\",0,SUM(D$8:D318))","v":0},null,{"$f":"IF(F318=\"\",0,SUM(F$8:F318))","v":0}]
[null,null,null,null,{"$f":"IF(D319=\"\",0,SUM(D$8:D319))","v":0},null,{"$f":"IF(F319=\"\",0,SUM(F$8:F319))","v":0}]
[null,null,null,null,{"$f":"IF(D320=\"\",0,SUM(D$8:D320))","v":0},null,{"$f":"IF(F320=\"\",0,SUM(F$8:F320))","v":0}]
[null,null,null,null,{"$f":"IF(D321=\"\",0,SUM(D$8:D321))","v":0},null,{"$f":"IF(F321=\"\",0,SUM(F$8:F321))","v":0}]
[null,null,null,null,{"$f":"IF(D322=\"\",0,SUM(D$8:D322))","v":0},null,{"$f":"IF(F322=\"\",0,SUM(F$8:F322))","v":0}]
[null,null,null,null,{"$f":"IF(D323=\"\",0,SUM(D$8:D323))","v":0},null,{"$f":"IF(F323=\"\",0,SUM(F$8:F323))","v":0}]
[null,null,null,null,{"$f":"IF(D324=\"\",0,SUM(D$8:D324))","v":0},null,{"$f":"IF(F324=\"\",0,SUM(F$8:F324))","v":0}]
[null,null,null,null,{"$f":"IF(D325=\"\",0,SUM(D$8:D325))","v":0},null,{"$f":"IF(F325=\"\",0,SUM(F$8:F325))","v":0}]
[null,null,null,null,{"$f":"IF(D326=\"\",0,SUM(D$8:D326))","v":0},null,{"$f":"IF(F326=\"\",0,SUM(F$8:F326))","v":0}]
[null,null,null,null,{"$f":"IF(D327=\"\",0,SUM(D$8:D327))","v":0},null,{"$f":"IF(F327=\"\",0,SUM(F$8:F327))","v":0}]
[null,null,null,null,{"$f":"IF(D328=\"\",0,SUM(D$8:D328))","v":0},null,{"$f":"IF(F328=\"\",0,SUM(F$8:F328))","v":0}]
[null,null,null,null,{"$f":"IF(D329=\"\",0,SUM(D$8:D329))","v":0},null,{"$f":"IF(F329=\"\",0,SUM(F$8:F329))","v":0}]
[null,null,null,null,{"$f":"IF(D330=\"\",0,SUM(D$8:D330))","v":0},null,{"$f":"IF(F330=\"\",0,SUM(F$8:F330))","v":0}]
[null,null,null,null,{"$f":"IF(D331=\"\",0,SUM(D$8:D331))","v":0},null,{"$f":"IF(F331=\"\",0,SUM(F$8:F331))","v":0}]
[null,null,null,null,{"$f":"IF(D332=\"\",0,SUM(D$8:D332))","v":0},null,{"$f":"IF(F332=\"\",0,SUM(F$8:F332))","v":0}]
[null,null,null,null,{"$f":"IF(D333=\"\",0,SUM(D$8:D333))","v":0},null,{"$f":"IF(F333=\"\",0,SUM(F$8:F333))","v":0}]
[null,null,null,null,{"$f":"IF(D334=\"\",0,SUM(D$8:D334))","v":0},null,{"$f":"IF(F334=\"\",0,SUM(F$8:F334))","v":0}]
[null,null,null,null,{"$f":"IF(D335=\"\",0,SUM(D$8:D335))","v":0},null,{"$f":"IF(F335=\"\",0,SUM(F$8:F335))","v":0}]
[null,null,null,null,{"$f":"IF(D336=\"\",0,SUM(D$8:D336))","v":0},null,{"$f":"IF(F336=\"\",0,SUM(F$8:F336))","v":0}]
[null,null,null,null,{"$f":"IF(D337=\"\",0,SUM(D$8:D337))","v":0},null,{"$f":"IF(F337=\"\",0,SUM(F$8:F337))","v":0}]
[null,null,null,null,{"$f":"IF(D338=\"\",0,SUM(D$8:D338))","v":0},null,{"$f":"IF(F338=\"\",0,SUM(F$8:F338))","v":0}]
[null,null,null,null,{"$f":"IF(D339=\"\",0,SUM(D$8:D339))","v":0},null,{"$f":"IF(F339=\"\",0,SUM(F$8:F339))","v":0}]
[null,null,null,null,{"$f":"IF(D340=\"\",0,SUM(D$8:D340))","v":0},null,{"$f":"IF(F340=\"\",0,SUM(F$8:F340))","v":0}]
[null,null,null,null,{"$f":"IF(D341=\"\",0,SUM(D$8:D341))","v":0},null,{"$f":"IF(F341=\"\",0,SUM(F$8:F341))","v":0}]
[null,null,null,null,{"$f":"IF(D342=\"\",0,SUM(D$8:D342))","v":0},null,{"$f":"IF(F342=\"\",0,SUM(F$8:F342))","v":0}]
[null,null,null,null,{"$f":"IF(D343=\"\",0,SUM(D$8:D343))","v":0},null,{"$f":"IF(F343=\"\",0,SUM(F$8:F343))","v":0}]
[null,null,null,null,{"$f":"IF(D344=\"\",0,SUM(D$8:D344))","v":0},null,{"$f":"IF(F344=\"\",0,SUM(F$8:F344))","v":0}]
[null,null,null,null,{"$f":"IF(D345=\"\",0,SUM(D$8:D345))","v":0},null,{"$f":"IF(F345=\"\",0,SUM(F$8:F345))","v":0}]
[null,null,null,null,{"$f":"IF(D346=\"\",0,SUM(D$8:D346))","v":0},null,{"$f":"IF(F346=\"\",0,SUM(F$8:F346))","v":0}]
[null,null,null,null,{"$f":"IF(D347=\"\",0,SUM(D$8:D347))","v":0},null,{"$f":"IF(F347=\"\",0,SUM(F$8:F347))","v":0}]
[null,null,null,null,{"$f":"IF(D348=\"\",0,SUM(D$8:D348))","v":0},null,{"$f":"IF(F348=\"\",0,SUM(F$8:F348))","v":0}]
[null,null,null,null,{"$f":"IF(D349=\"\",0,SUM(D$8:D349))","v":0},null,{"$f":"IF(F349=\"\",0,SUM(F$8:F349))","v":0}]
[null,null,null,null,{"$f":"IF(D350=\"\",0,SUM(D$8:D350))","v":0},null,{"$f":"IF(F350=\"\",0,SUM(F$8:F350))","v":0}]
[null,null,null,null,{"$f":"IF(D351=\"\",0,SUM(D$8:D351))","v":0},null,{"$f":"IF(F351=\"\",0,SUM(F$8:F351))","v":0}]
[null,null,null,null,{"$f":"IF(D352=\"\",0,SUM(D$8:D352))","v":0},null,{"$f":"IF(F352=\"\",0,SUM(F$8:F352))","v":0}]
[null,null,null,null,{"$f":"IF(D353=\"\",0,SUM(D$8:D353))","v":0},null,{"$f":"IF(F353=\"\",0,SUM(F$8:F353))","v":0}]
[null,null,null,null,{"$f":"IF(D354=\"\",0,SUM(D$8:D354))","v":0},null,{"$f":"IF(F354=\"\",0,SUM(F$8:F354))","v":0}]
[null,null,null,null,{"$f":"IF(D355=\"\",0,SUM(D$8:D355))","v":0},null,{"$f":"IF(F355=\"\",0,SUM(F$8:F355))","v":0}]
[null,null,null,null,{"$f":"IF(D356=\"\",0,SUM(D$8:D356))","v":0},null,{"$f":"IF(F356=\"\",0,SUM(F$8:F356))","v":0}]
[null,null,null,null,{"$f":"IF(D357=\"\",0,SUM(D$8:D357))","v":0},null,{"$f":"IF(F357=\"\",0,SUM(F$8:F357))","v":0}]
[null,null,null,null,{"$f":"IF(D358=\"\",0,SUM(D$8:D358))","v":0},null,{"$f":"IF(F358=\"\",0,SUM(F$8:F358))","v":0}]
[null,null,null,null,{"$f":"IF(D359=\"\",0,SUM(D$8:D359))","v":0},null,{"$f":"IF(F359=\"\",0,SUM(F$8:F359))","v":0}]
[null,null,null,null,{"$f":"IF(D360=\"\",0,SUM(D$8:D360))","v":0},null,{"$f":"IF(F360=\"\",0,SUM(F$8:F360))","v":0}]
[null,null,null,null,{"$f":"IF(D361=\"\",0,SUM(D$8:D361))","v":0},null,{"$f":"IF(F361=\"\",0,SUM(F$8:F361))","v":0}]
[null,null,null,null,{"$f":"IF(D362=\"\",0,SUM(D$8:D362))","v":0},null,{"$f":"IF(F362=\"\",0,SUM(F$8:F362))","v":0}]
[null,null,null,null,{"$f":"IF(D363=\"\",0,SUM(D$8:D363))","v":0},null,{"$f":"IF(F363=\"\",0,SUM(F$8:F363))","v":0}]
[null,null,null,null,{"$f":"IF(D364=\"\",0,SUM(D$8:D364))","v":0},null,{"$f":"IF(F364=\"\",0,SUM(F$8:F364))","v":0}]
[null,null,null,null,{"$f":"IF(D365=\"\",0,SUM(D$8:D365))","v":0},null,{"$f":"IF(F365=\"\",0,SUM(F$8:F365))","v":0}]
[null,null,null,null,{"$f":"IF(D366=\"\",0,SUM(D$8:D366))","v":0},null,{"$f":"IF(F366=\"\",0,SUM(F$8:F366))","v":0}]
[null,null,null,null,{"$f":"IF(D367=\"\",0,SUM(D$8:D367))","v":0},null,{"$f":"IF(F367=\"\",0,SUM(F$8:F367))","v":0}]
[null,null,null,null,{"$f":"IF(D368=\"\",0,SUM(D$8:D368))","v":0},null,{"$f":"IF(F368=\"\",0,SUM(F$8:F368))","v":0}]
[null,null,null,null,{"$f":"IF(D369=\"\",0,SUM(D$8:D369))","v":0},null,{"$f":"IF(F369=\"\",0,SUM(F$8:F369))","v":0}]
[null,null,null,null,{"$f":"IF(D370=\"\",0,SUM(D$8:D370))","v":0},null,{"$f":"IF(F370=\"\",0,SUM(F$8:F370))","v":0}]
[null,null,null,null,{"$f":"IF(D371=\"\",0,SUM(D$8:D371))","v":0},null,{"$f":"IF(F371=\"\",0,SUM(F$8:F371))","v":0}]
[null,null,null,null,{"$f":"IF(D372=\"\",0,SUM(D$8:D372))","v":0},null,{"$f":"IF(F372=\"\",0,SUM(F$8:F372))","v":0}]
[null,null,null,null,{"$f":"IF(D373=\"\",0,SUM(D$8:D373))","v":0},null,{"$f":"IF(F373=\"\",0,SUM(F$8:F373))","v":0}]
[null,null,null,null,{"$f":"IF(D374=\"\",0,SUM(D$8:D374))","v":0},null,{"$f":"IF(F374=\"\",0,SUM(F$8:F374))","v":0}]
[null,null,null,null,{"$f":"IF(D375=\"\",0,SUM(D$8:D375))","v":0},null,{"$f":"IF(F375=\"\",0,SUM(F$8:F375))","v":0}]
[null,null,null,null,{"$f":"IF(D376=\"\",0,SUM(D$8:D376))","v":0},null,{"$f":"IF(F376=\"\",0,SUM(F$8:F376))","v":0}]
[null,null,null,null,{"$f":"IF(D377=\"\",0,SUM(D$8:D377))","v":0},null,{"$f":"IF(F377=\"\",0,SUM(F$8:F377))","v":0}]
[null,null,null,null,{"$f":"IF(D378=\"\",0,SUM(D$8:D378))","v":0},null,{"$f":"IF(F378=\"\",0,SUM(F$8:F378))","v":0}]
[null,null,null,null,{"$f":"IF(D379=\"\",0,SUM(D$8:D379))","v":0},null,{"$f":"IF(F379=\"\",0,SUM(F$8:F379))","v":0}]
[null,null,null,null,{"$f":"IF(D380=\"\",0,SUM(D$8:D380))","v":0},null,{"$f":"IF(F380=\"\",0,SUM(F$8:F380))","v":0}]
[null,null,null,null,{"$f":"IF(D381=\"\",0,SUM(D$8:D381))","v":0},null,{"$f":"IF(F381=\"\",0,SUM(F$8:F381))","v":0}]
[null,null,null,null,{"$f":"IF(D382=\"\",0,SUM(D$8:D382))","v":0},null,{"$f":"IF(F382=\"\",0,SUM(F$8:F382))","v":0}]
[null,null,null,null,{"$f":"IF(D383=\"\",0,SUM(D$8:D383))","v":0},null,{"$f":"IF(F383=\"\",0,SUM(F$8:F383))","v":0}]
[null,null,null,null,{"$f":"IF(D384=\"\",0,SUM(D$8:D384))","v":0},null,{"$f":"IF(F384=\"\",0,SUM(F$8:F384))","v":0}]
[null,null,null,null,{"$f":"IF(D385=\"\",0,SUM(D$8:D385))","v":0},null,{"$f":"IF(F385=\"\",0,SUM(F$8:F385))","v":0}]
[null,null,null,null,{"$f":"IF(D386=\"\",0,SUM(D$8:D386))","v":0},null,{"$f":"IF(F386=\"\",0,SUM(F$8:F386))","v":0}]
[null,null,null,null,{"$f":"IF(D387=\"\",0,SUM(D$8:D387))","v":0},null,{"$f":"IF(F387=\"\",0,SUM(F$8:F387))","v":0}]
[null,null,null,null,{"$f":"IF(D388=\"\",0,SUM(D$8:D388))","v":0},null,{"$f":"IF(F388=\"\",0,SUM(F$8:F388))","v":0}]
[null,null,null,null,{"$f":"IF(D389=\"\",0,SUM(D$8:D389))","v":0},null,{"$f":"IF(F389=\"\",0,SUM(F$8:F389))","v":0}]
[null,null,null,null,{"$f":"IF(D390=\"\",0,SUM(D$8:D390))","v":0},null,{"$f":"IF(F390=\"\",0,SUM(F$8:F390))","v":0}]
[null,null,null,null,{"$f":"IF(D391=\"\",0,SUM(D$8:D391))","v":0},null,{"$f":"IF(F391=\"\",0,SUM(F$8:F391))","v":0}]
[null,null,null,null,{"$f":"IF(D392=\"\",0,SUM(D$8:D392))","v":0},null,{"$f":"IF(F392=\"\",0,SUM(F$8:F392))","v":0}]
[null,null,null,null,{"$f":"IF(D393=\"\",0,SUM(D$8:D393))","v":0},null,{"$f":"IF(F393=\"\",0,SUM(F$8:F393))","v":0}]
[null,null,null,null,{"$f":"IF(D394=\"\",0,SUM(D$8:D394))","v":0},null,{"$f":"IF(F394=\"\",0,SUM(F$8:F394))","v":0}]
[null,null,null,null,{"$f":"IF(D395=\"\",0,SUM(D$8:D395))","v":0},null,{"$f":"IF(F395=\"\",0,SUM(F$8:F395))","v":0}]
[null,null,null,null,{"$f":"IF(D396=\"\",0,SUM(D$8:D396))","v":0},null,{"$f":"IF(F396=\"\",0,SUM(F$8:F396))","v":0}]
[null,null,null,null,{"$f":"IF(D397=\"\",0,SUM(D$8:D397))","v":0},null,{"$f":"IF(F397=\"\",0,SUM(F$8:F397))","v":0}]
[null,null,null,null,{"$f":"IF(D398=\"\",0,SUM(D$8:D398))","v":0},null,{"$f":"IF(F398=\"\",0,SUM(F$8:F398))","v":0}]
[null,null,null,null,{"$f":"IF(D399=\"\",0,SUM(D$8:D399))","v":0},null,{"$f":"IF(F399=\"\",0,SUM(F$8:F399))","v":0}]
[null,null,null,null,{"$f":"IF(D400=\"\",0,SUM(D$8:D400))","v":0},null,{"$f":"IF(F400=\"\",0,SUM(F$8:F400))","v":0}]
[null,null,null,null,{"$f":"IF(D401=\"\",0,SUM(D$8:D401))","v":0},null,{"$f":"IF(F401=\"\",0,SUM(F$8:F401))","v":0}]
[null,null,null,null,{"$f":"IF(D402=\"\",0,SUM(D$8:D402))","v":0},null,{"$f":"IF(F402=\"\",0,SUM(F$8:F402))","v":0}]
[null,null,null,null,{"$f":"IF(D403=\"\",0,SUM(D$8:D403))","v":0},null,{"$f":"IF(F403=\"\",0,SUM(F$8:F403))","v":0}]
[null,null,null,null,{"$f":"IF(D404=\"\",0,SUM(D$8:D404))","v":0},null,{"$f":"IF(F404=\"\",0,SUM(F$8:F404))","v":0}]
[null,null,null,null,{"$f":"IF(D405=\"\",0,SUM(D$8:D405))","v":0},null,{"$f":"IF(F405=\"\",0,SUM(F$8:F405))","v":0}]
[null,null,null,null,{"$f":"IF(D406=\"\",0,SUM(D$8:D406))","v":0},null,{"$f":"IF(F406=\"\",0,SUM(F$8:F406))","v":0}]
[null,null,null,null,{"$f":"IF(D407=\"\",0,SUM(D$8:D407))","v":0},null,{"$f":"IF(F407=\"\",0,SUM(F$8:F407))","v":0}]
[null,null,null,null,{"$f":"IF(D408=\"\",0,SUM(D$8:D408))","v":0},null,{"$f":"IF(F408=\"\",0,SUM(F$8:F408))","v":0}]
[null,null,null,null,{"$f":"IF(D409=\"\",0,SUM(D$8:D409))","v":0},null,{"$f":"IF(F409=\"\",0,SUM(F$8:F409))","v":0}]
[null,null,null,null,{"$f":"IF(D410=\"\",0,SUM(D$8:D410))","v":0},null,{"$f":"IF(F410=\"\",0,SUM(F$8:F410))","v":0}]
[null,null,null,null,{"$f":"IF(D411=\"\",0,SUM(D$8:D411))","v":0},null,{"$f":"IF(F411=\"\",0,SUM(F$8:F411))","v":0}]
[null,null,null,null,{"$f":"IF(D412=\"\",0,SUM(D$8:D412))","v":0},null,{"$f":"IF(F412=\"\",0,SUM(F$8:F412))","v":0}]
[null,null,null,null,{"$f":"IF(D413=\"\",0,SUM(D$8:D413))","v":0},null,{"$f":"IF(F413=\"\",0,SUM(F$8:F413))","v":0}]
[null,null,null,null,{"$f":"IF(D414=\"\",0,SUM(D$8:D414))","v":0},null,{"$f":"IF(F414=\"\",0,SUM(F$8:F414))","v":0}]
[null,null,null,null,{"$f":"IF(D415=\"\",0,SUM(D$8:D415))","v":0},null,{"$f":"IF(F415=\"\",0,SUM(F$8:F415))","v":0}]
[null,null,null,null,{"$f":"IF(D416=\"\",0,SUM(D$8:D416))","v":0},null,{"$f":"IF(F416=\"\",0,SUM(F$8:F416))","v":0}]
[null,null,null,null,{"$f":"IF(D417=\"\",0,SUM(D$8:D417))","v":0},null,{"$f":"IF(F417=\"\",0,SUM(F$8:F417))","v":0}]
[null,null,null,null,{"$f":"IF(D418=\"\",0,SUM(D$8:D418))","v":0},null,{"$f":"IF(F418=\"\",0,SUM(F$8:F418))","v":0}]
[null,null,null,null,{"$f":"IF(D419=\"\",0,SUM(D$8:D419))","v":0},null,{"$f":"IF(F419=\"\",0,SUM(F$8:F419))","v":0}]
[null,null,null,null,{"$f":"IF(D420=\"\",0,SUM(D$8:D420))","v":0},null,{"$f":"IF(F420=\"\",0,SUM(F$8:F420))","v":0}]
[null,null,null,null,{"$f":"IF(D421=\"\",0,SUM(D$8:D421))","v":0},null,{"$f":"IF(F421=\"\",0,SUM(F$8:F421))","v":0}]
[null,null,null,null,{"$f":"IF(D422=\"\",0,SUM(D$8:D422))","v":0},null,{"$f":"IF(F422=\"\",0,SUM(F$8:F422))","v":0}]
[null,null,null,null,{"$f":"IF(D423=\"\",0,SUM(D$8:D423))","v":0},null,{"$f":"IF(F423=\"\",0,SUM(F$8:F423))","v":0}]
[null,null,null,null,{"$f":"IF(D424=\"\",0,SUM(D$8:D424))","v":0},null,{"$f":"IF(F424=\"\",0,SUM(F$8:F424))","v":0}]
[null,null,null,null,{"$f":"IF(D425=\"\",0,SUM(D$8:D425))","v":0},null,{"$f":"IF(F425=\"\",0,SUM(F$8:F425))","v":0}]
[null,null,null,null,{"$f":"IF(D426=\"\",0,SUM(D$8:D426))","v":0},null,{"$f":"IF(F426=\"\",0,SUM(F$8:F426))","v":0}]
[null,null,null,null,{"$f":"IF(D427=\"\",0,SUM(D$8:D427))","v":0},null,{"$f":"IF(F427=\"\",0,SUM(F$8:F427))","v":0}]
[null,null,null,null,{"$f":"IF(D428=\"\",0,SUM(D$8:D428))","v":0},null,{"$f":"IF(F428=\"\",0,SUM(F$8:F428))","v":0}]
[null,null,null,null,{"$f":"IF(D429=\"\",0,SUM(D$8:D429))","v":0},null,{"$f":"IF(F429=\"\",0,SUM(F$8:F429))","v":0}]
[null,null,null,null,{"$f":"IF(D430=\"\",0,SUM(D$8:D430))","v":0},null,{"$f":"IF(F430=\"\",0,SUM(F$8:F430))","v":0}]
[null,null,null,null,{"$f":"IF(D431=\"\",0,SUM(D$8:D431))","v":0},null,{"$f":"IF(F431=\"\",0,SUM(F$8:F431))","v":0}]
[null,null,null,null,{"$f":"IF(D432=\"\",0,SUM(D$8:D432))","v":0},null,{"$f":"IF(F432=\"\",0,SUM(F$8:F432))","v":0}]
[null,null,null,null,{"$f":"IF(D433=\"\",0,SUM(D$8:D433))","v":0},null,{"$f":"IF(F433=\"\",0,SUM(F$8:F433))","v":0}]
[null,null,null,null,{"$f":"IF(D434=\"\",0,SUM(D$8:D434))","v":0},null,{"$f":"IF(F434=\"\",0,SUM(F$8:F434))","v":0}]
[null,null,null,null,{"$f":"IF(D435=\"\",0,SUM(D$8:D435))","v":0},null,{"$f":"IF(F435=\"\",0,SUM(F$8:F435))","v":0}]
[null,null,null,null,{"$f":"IF(D436=\"\",0,SUM(D$8:D436))","v":0},null,{"$f":"IF(F436=\"\",0,SUM(F$8:F436))","v":0}]
[null,null,null,null,{"$f":"IF(D437=\"\",0,SUM(D$8:D437))","v":0},null,{"$f":"IF(F437=\"\",0,SUM(F$8:F437))","v":0}]
[null,null,null,null,{"$f":"IF(D438=\"\",0,SUM(D$8:D438))","v":0},null,{"$f":"IF(F438=\"\",0,SUM(F$8:F438))","v":0}]
[null,null,null,null,{"$f":"IF(D439=\"\",0,SUM(D$8:D439))","v":0},null,{"$f":"IF(F439=\"\",0,SUM(F$8:F439))","v":0}]
[null,null,null,null,{"$f":"IF(D440=\"\",0,SUM(D$8:D440))","v":0},null,{"$f":"IF(F440=\"\",0,SUM(F$8:F440))","v":0}]
[null,null,null,null,{"$f":"IF(D441=\"\",0,SUM(D$8:D441))","v":0},null,{"$f":"IF(F441=\"\",0,SUM(F$8:F441))","v":0}]
[null,null,null,null,{"$f":"IF(D442=\"\",0,SUM(D$8:D442))","v":0},null,{"$f":"IF(F442=\"\",0,SUM(F$8:F442))","v":0}]
[null,null,null,null,{"$f":"IF(D443=\"\",0,SUM(D$8:D443))","v":0},null,{"$f":"IF(F443=\"\",0,SUM(F$8:F443))","v":0}]
[null,null,null,null,{"$f":"IF(D444=\"\",0,SUM(D$8:D444))","v":0},null,{"$f":"IF(F444=\"\",0,SUM(F$8:F444))","v":0}]
[null,null,null,null,{"$f":"IF(D445=\"\",0,SUM(D$8:D445))","v":0},null,{"$f":"IF(F445=\"\",0,SUM(F$8:F445))","v":0}]
[null,null,null,null,{"$f":"IF(D446=\"\",0,SUM(D$8:D446))","v":0},null,{"$f":"IF(F446=\"\",0,SUM(F$8:F446))","v":0}]
[null,null,null,null,{"$f":"IF(D447=\"\",0,SUM(D$8:D447))","v":0},null,{"$f":"IF(F447=\"\",0,SUM(F$8:F447))","v":0}]
[null,null,null,null,{"$f":"IF(D448=\"\",0,SUM(D$8:D448))","v":0},null,{"$f":"IF(F448=\"\",0,SUM(F$8:F448))","v":0}]
[null,null,null,null,{"$f":"IF(D449=\"\",0,SUM(D$8:D449))","v":0},null,{"$f":"IF(F449=\"\",0,SUM(F$8:F449))","v":0}]
[null,null,null,null,{"$f":"IF(D450=\"\",0,SUM(D$8:D450))","v":0},null,{"$f":"IF(F450=\"\",0,SUM(F$8:F450))","v":0}]
[null,null,null,null,{"$f":"IF(D451=\"\",0,SUM(D$8:D451))","v":0},null,{"$f":"IF(F451=\"\",0,SUM(F$8:F451))","v":0}]
[null,null,null,null,{"$f":"IF(D452=\"\",0,SUM(D$8:D452))","v":0},null,{"$f":"IF(F452=\"\",0,SUM(F$8:F452))","v":0}]
[null,null,null,null,{"$f":"IF(D453=\"\",0,SUM(D$8:D453))","v":0},null,{"$f":"IF(F453=\"\",0,SUM(F$8:F453))","v":0}]
[null,null,null,null,{"$f":"IF(D454=\"\",0,SUM(D$8:D454))","v":0},null,{"$f":"IF(F454=\"\",0,SUM(F$8:F454))","v":0}]
[null,null,null,null,{"$f":"IF(D455=\"\",0,SUM(D$8:D455))","v":0},null,{"$f":"IF(F455=\"\",0,SUM(F$8:F455))","v":0}]
[null,null,null,null,{"$f":"IF(D456=\"\",0,SUM(D$8:D456))","v":0},null,{"$f":"IF(F456=\"\",0,SUM(F$8:F456))","v":0}]
[null,null,null,null,{"$f":"IF(D457=\"\",0,SUM(D$8:D457))","v":0},null,{"$f":"IF(F457=\"\",0,SUM(F$8:F457))","v":0}]
[null,null,null,null,{"$f":"IF(D458=\"\",0,SUM(D$8:D458))","v":0},null,{"$f":"IF(F458=\"\",0,SUM(F$8:F458))","v":0}]
[null,null,null,null,{"$f":"IF(D459=\"\",0,SUM(D$8:D459))","v":0},null,{"$f":"IF(F459=\"\",0,SUM(F$8:F459))","v":0}]
[null,null,null,null,{"$f":"IF(D460=\"\",0,SUM(D$8:D460))","v":0},null,{"$f":"IF(F460=\"\",0,SUM(F$8:F460))","v":0}]
[null,null,null,null,{"$f":"IF(D461=\"\",0,SUM(D$8:D461))","v":0},null,{"$f":"IF(F461=\"\",0,SUM(F$8:F461))","v":0}]
[null,null,null,null,{"$f":"IF(D462=\"\",0,SUM(D$8:D462))","v":0},null,{"$f":"IF(F462=\"\",0,SUM(F$8:F462))","v":0}]
[null,null,null,null,{"$f":"IF(D463=\"\",0,SUM(D$8:D463))","v":0},null,{"$f":"IF(F463=\"\",0,SUM(F$8:F463))","v":0}]
[null,null,null,null,{"$f":"IF(D464=\"\",0,SUM(D$8:D464))","v":0},null,{"$f":"IF(F464=\"\",0,SUM(F$8:F464))","v":0}]
[null,null,null,null,{"$f":"IF(D465=\"\",0,SUM(D$8:D465))","v":0},null,{"$f":"IF(F465=\"\",0,SUM(F$8:F465))","v":0}]
[null,null,null,null,{"$f":"IF(D466=\"\",0,SUM(D$8:D466))","v":0},null,{"$f":"IF(F466=\"\",0,SUM(F$8:F466))","v":0}]
[null,null,null,null,{"$f":"IF(D467=\"\",0,SUM(D$8:D467))","v":0},null,{"$f":"IF(F467=\"\",0,SUM(F$8:F467))","v":0}]
[null,null,null,null,{"$f":"IF(D468=\"\",0,SUM(D$8:D468))","v":0},null,{"$f":"IF(F468=\"\",0,SUM(F$8:F468))","v":0}]
[null,null,null,null,{"$f":"IF(D469=\"\",0,SUM(D$8:D469))","v":0},null,{"$f":"IF(F469=\"\",0,SUM(F$8:F469))","v":0}]
[null,null,null,null,{"$f":"IF(D470=\"\",0,SUM(D$8:D470))","v":0},null,{"$f":"IF(F470=\"\",0,SUM(F$8:F470))","v":0}]
[null,null,null,null,{"$f":"IF(D471=\"\",0,SUM(D$8:D471))","v":0},null,{"$f":"IF(F471=\"\",0,SUM(F$8:F471))","v":0}]
[null,null,null,null,{"$f":"IF(D472=\"\",0,SUM(D$8:D472))","v":0},null,{"$f":"IF(F472=\"\",0,SUM(F$8:F472))","v":0}]
[null,null,null,null,{"$f":"IF(D473=\"\",0,SUM(D$8:D473))","v":0},null,{"$f":"IF(F473=\"\",0,SUM(F$8:F473))","v":0}]
[null,null,null,null,{"$f":"IF(D474=\"\",0,SUM(D$8:D474))","v":0},null,{"$f":"IF(F474=\"\",0,SUM(F$8:F474))","v":0}]
[null,null,null,null,{"$f":"IF(D475=\"\",0,SUM(D$8:D475))","v":0},null,{"$f":"IF(F475=\"\",0,SUM(F$8:F475))","v":0}]
[null,null,null,null,{"$f":"IF(D476=\"\",0,SUM(D$8:D476))","v":0},null,{"$f":"IF(F476=\"\",0,SUM(F$8:F476))","v":0}]
[null,null,null,null,{"$f":"IF(D477=\"\",0,SUM(D$8:D477))","v":0},null,{"$f":"IF(F477=\"\",0,SUM(F$8:F477))","v":0}]
[null,null,null,null,{"$f":"IF(D478=\"\",0,SUM(D$8:D478))","v":0},null,{"$f":"IF(F478=\"\",0,SUM(F$8:F478))","v":0}]
[null,null,null,null,{"$f":"IF(D479=\"\",0,SUM(D$8:D479))","v":0},null,{"$f":"IF(F479=\"\",0,SUM(F$8:F479))","v":0}]
[null,null,null,null,{"$f":"IF(D480=\"\",0,SUM(D$8:D480))","v":0},null,{"$f":"IF(F480=\"\",0,SUM(F$8:F480))","v":0}]
[null,null,null,null,{"$f":"IF(D481=\"\",0,SUM(D$8:D481))","v":0},null,{"$f":"IF(F481=\"\",0,SUM(F$8:F481))","v":0}]
[null,null,null,null,{"$f":"IF(D482=\"\",0,SUM(D$8:D482))","v":0},null,{"$f":"IF(F482=\"\",0,SUM(F$8:F482))","v":0}]
[null,null,null,null,{"$f":"IF(D483=\"\",0,SUM(D$8:D483))","v":0},null,{"$f":"IF(F483=\"\",0,SUM(F$8:F483))","v":0}]
[null,null,null,null,{"$f":"IF(D484=\"\",0,SUM(D$8:D484))","v":0},null,{"$f":"IF(F484=\"\",0,SUM(F$8:F484))","v":0}]
[null,null,null,null,{"$f":"IF(D485=\"\",0,SUM(D$8:D485))","v":0},null,{"$f":"IF(F485=\"\",0,SUM(F$8:F485))","v":0}]
[null,null,null,null,{"$f":"IF(D486=\"\",0,SUM(D$8:D486))","v":0},null,{"$f":"IF(F486=\"\",0,SUM(F$8:F486))","v":0}]

{"sheet":"Fine Agg 3","index":17,"n_rows":486,"n_cols":8,"rows_kept":486,"cut":false,"hidden":false,"merged":[]}
["Fine Aggregate  Certification  3",null,null,null,null,null,null,{"$f":"Info!B2","v":"E"}]
["Spec. Grav.: ",{"$f":"IF(AND(Info!B58=\"\", Info!C58=\"\"),\"\", IF(Info!B58<>\"\", Info!B58, Info!C58))","v":""},null,null,null,"Page No.: "]
["Source: ",{"$f":"IF(AND(Info!B57=\"\", Info!C57=\"\"),\"\", IF(Info!B57<>\"\", Info!B57, Info!C57))","v":""},null,null,null,"Grad. No.: ",{"$f":"IF(AND(Info!B53=\"\", Info!C53=\"\"),\"\", IF(Info!B53<>\"\", Info!B53, Info!C53))","v":""}]
["Project No.: ",{"$f":"IF(Info!B3=\"\",\"\",(Info!B3))","v":""},null,null,null,"Contract ID.: ",{"$f":"IF(Info!B4=\"\",\"\",(Info!B4))","v":""}]
[]
[null,"Ticket #",null,"Certified","To Date","Used","To Date"," "]
["Date","From","To",{"$f":"IF(Info!$B$2=\"M\",\"(Mg's)\",\"(Tons)\")","v":"(Tons)"},{"$f":"IF(Info!$B$2=\"M\",\"(Mg's)\",\"(Tons)\")","v":"(Tons)"},{"$f":"IF(Info!$B$2=\"M\",\"(Mg's)\",\"(Tons)\")","v":"(Tons)"},{"$f":"IF(Info!$B$2=\"M\",\"(Mg's)\",\"(Tons)\")","v":"(Tons)"},"By"]
[null,null,null,null,{"$f":"SUM(D8)","v":0},null,{"$f":"SUM(F8)","v":0}]
[null,null,null,null,{"$f":"IF(D9=\"\",0,SUM(D$8:D9))","v":0},null,{"$f":"IF(F9=\"\",0,SUM(F$8:F9))","v":0}]
[null,null,null,null,{"$f":"IF(D10=\"\",0,SUM(D$8:D10))","v":0},null,{"$f":"IF(F10=\"\",0,SUM(F$8:F10))","v":0}]
[null,null,null,null,{"$f":"IF(D11=\"\",0,SUM(D$8:D11))","v":0},null,{"$f":"IF(F11=\"\",0,SUM(F$8:F11))","v":0}]
[null,null,null,null,{"$f":"IF(D12=\"\",0,SUM(D$8:D12))","v":0},null,{"$f":"IF(F12=\"\",0,SUM(F$8:F12))","v":0}]
[null,null,null,null,{"$f":"IF(D13=\"\",0,SUM(D$8:D13))","v":0},null,{"$f":"IF(F13=\"\",0,SUM(F$8:F13))","v":0}]
[null,null,null,null,{"$f":"IF(D14=\"\",0,SUM(D$8:D14))","v":0},null,{"$f":"IF(F14=\"\",0,SUM(F$8:F14))","v":0}]
[null,null,null,null,{"$f":"IF(D15=\"\",0,SUM(D$8:D15))","v":0},null,{"$f":"IF(F15=\"\",0,SUM(F$8:F15))","v":0}]
[null,null,null,null,{"$f":"IF(D16=\"\",0,SUM(D$8:D16))","v":0},null,{"$f":"IF(F16=\"\",0,SUM(F$8:F16))","v":0}]
[null,null,null,null,{"$f":"IF(D17=\"\",0,SUM(D$8:D17))","v":0},null,{"$f":"IF(F17=\"\",0,SUM(F$8:F17))","v":0}]
[null,null,null,null,{"$f":"IF(D18=\"\",0,SUM(D$8:D18))","v":0},null,{"$f":"IF(F18=\"\",0,SUM(F$8:F18))","v":0}]
[null,null,null,null,{"$f":"IF(D19=\"\",0,SUM(D$8:D19))","v":0},null,{"$f":"IF(F19=\"\",0,SUM(F$8:F19))","v":0}]
[null,null,null,null,{"$f":"IF(D20=\"\",0,SUM(D$8:D20))","v":0},null,{"$f":"IF(F20=\"\",0,SUM(F$8:F20))","v":0}]
[null,null,null,null,{"$f":"IF(D21=\"\",0,SUM(D$8:D21))","v":0},null,{"$f":"IF(F21=\"\",0,SUM(F$8:F21))","v":0}]
[null,null,null,null,{"$f":"IF(D22=\"\",0,SUM(D$8:D22))","v":0},null,{"$f":"IF(F22=\"\",0,SUM(F$8:F22))","v":0}]
[null,null,null,null,{"$f":"IF(D23=\"\",0,SUM(D$8:D23))","v":0},null,{"$f":"IF(F23=\"\",0,SUM(F$8:F23))","v":0}]
[null,null,null,null,{"$f":"IF(D24=\"\",0,SUM(D$8:D24))","v":0},null,{"$f":"IF(F24=\"\",0,SUM(F$8:F24))","v":0}]
[null,null,null,null,{"$f":"IF(D25=\"\",0,SUM(D$8:D25))","v":0},null,{"$f":"IF(F25=\"\",0,SUM(F$8:F25))","v":0}]
[null,null,null,null,{"$f":"IF(D26=\"\",0,SUM(D$8:D26))","v":0},null,{"$f":"IF(F26=\"\",0,SUM(F$8:F26))","v":0}]
[null,null,null,null,{"$f":"IF(D27=\"\",0,SUM(D$8:D27))","v":0},null,{"$f":"IF(F27=\"\",0,SUM(F$8:F27))","v":0}]
[null,null,null,null,{"$f":"IF(D28=\"\",0,SUM(D$8:D28))","v":0},null,{"$f":"IF(F28=\"\",0,SUM(F$8:F28))","v":0}]
[null,null,null,null,{"$f":"IF(D29=\"\",0,SUM(D$8:D29))","v":0},null,{"$f":"IF(F29=\"\",0,SUM(F$8:F29))","v":0}]
[null,null,null,null,{"$f":"IF(D30=\"\",0,SUM(D$8:D30))","v":0},null,{"$f":"IF(F30=\"\",0,SUM(F$8:F30))","v":0}]
[null,null,null,null,{"$f":"IF(D31=\"\",0,SUM(D$8:D31))","v":0},null,{"$f":"IF(F31=\"\",0,SUM(F$8:F31))","v":0}]
[null,null,null,null,{"$f":"IF(D32=\"\",0,SUM(D$8:D32))","v":0},null,{"$f":"IF(F32=\"\",0,SUM(F$8:F32))","v":0}]
[null,null,null,null,{"$f":"IF(D33=\"\",0,SUM(D$8:D33))","v":0},null,{"$f":"IF(F33=\"\",0,SUM(F$8:F33))","v":0}]
[null,null,null,null,{"$f":"IF(D34=\"\",0,SUM(D$8:D34))","v":0},null,{"$f":"IF(F34=\"\",0,SUM(F$8:F34))","v":0}]
[null,null,null,null,{"$f":"IF(D35=\"\",0,SUM(D$8:D35))","v":0},null,{"$f":"IF(F35=\"\",0,SUM(F$8:F35))","v":0}]
[null,null,null,null,{"$f":"IF(D36=\"\",0,SUM(D$8:D36))","v":0},null,{"$f":"IF(F36=\"\",0,SUM(F$8:F36))","v":0}]
[null,null,null,null,{"$f":"IF(D37=\"\",0,SUM(D$8:D37))","v":0},null,{"$f":"IF(F37=\"\",0,SUM(F$8:F37))","v":0}]
[null,null,null,null,{"$f":"IF(D38=\"\",0,SUM(D$8:D38))","v":0},null,{"$f":"IF(F38=\"\",0,SUM(F$8:F38))","v":0}]
[null,null,null,null,{"$f":"IF(D39=\"\",0,SUM(D$8:D39))","v":0},null,{"$f":"IF(F39=\"\",0,SUM(F$8:F39))","v":0}]
[null,null,null,null,{"$f":"IF(D40=\"\",0,SUM(D$8:D40))","v":0},null,{"$f":"IF(F40=\"\",0,SUM(F$8:F40))","v":0}]
[null,null,null,null,{"$f":"IF(D41=\"\",0,SUM(D$8:D41))","v":0},null,{"$f":"IF(F41=\"\",0,SUM(F$8:F41))","v":0}]
[null,null,null,null,{"$f":"IF(D42=\"\",0,SUM(D$8:D42))","v":0},null,{"$f":"IF(F42=\"\",0,SUM(F$8:F42))","v":0}]
[null,null,null,null,{"$f":"IF(D43=\"\",0,SUM(D$8:D43))","v":0},null,{"$f":"IF(F43=\"\",0,SUM(F$8:F43))","v":0}]
[null,null,null,null,{"$f":"IF(D44=\"\",0,SUM(D$8:D44))","v":0},null,{"$f":"IF(F44=\"\",0,SUM(F$8:F44))","v":0}]
[null,null,null,null,{"$f":"IF(D45=\"\",0,SUM(D$8:D45))","v":0},null,{"$f":"IF(F45=\"\",0,SUM(F$8:F45))","v":0}]
[null,null,null,null,{"$f":"IF(D46=\"\",0,SUM(D$8:D46))","v":0},null,{"$f":"IF(F46=\"\",0,SUM(F$8:F46))","v":0}]
[null,null,null,null,{"$f":"IF(D47=\"\",0,SUM(D$8:D47))","v":0},null,{"$f":"IF(F47=\"\",0,SUM(F$8:F47))","v":0}]
[null,null,null,null,{"$f":"IF(D48=\"\",0,SUM(D$8:D48))","v":0},null,{"$f":"IF(F48=\"\",0,SUM(F$8:F48))","v":0}]
[null,null,null,null,{"$f":"IF(D49=\"\",0,SUM(D$8:D49))","v":0},null,{"$f":"IF(F49=\"\",0,SUM(F$8:F49))","v":0}]
[null,null,null,null,{"$f":"IF(D50=\"\",0,SUM(D$8:D50))","v":0},null,{"$f":"IF(F50=\"\",0,SUM(F$8:F50))","v":0}]
[null,null,null,null,{"$f":"IF(D51=\"\",0,SUM(D$8:D51))","v":0},null,{"$f":"IF(F51=\"\",0,SUM(F$8:F51))","v":0}]
[null,null,null,null,{"$f":"IF(D52=\"\",0,SUM(D$8:D52))","v":0},null,{"$f":"IF(F52=\"\",0,SUM(F$8:F52))","v":0}]
[null,null,null,null,{"$f":"IF(D53=\"\",0,SUM(D$8:D53))","v":0},null,{"$f":"IF(F53=\"\",0,SUM(F$8:F53))","v":0}]
[null,null,null,null,{"$f":"IF(D54=\"\",0,SUM(D$8:D54))","v":0},null,{"$f":"IF(F54=\"\",0,SUM(F$8:F54))","v":0}]
[null,null,null,null,{"$f":"IF(D55=\"\",0,SUM(D$8:D55))","v":0},null,{"$f":"IF(F55=\"\",0,SUM(F$8:F55))","v":0}]
[null,null,null,null,{"$f":"IF(D56=\"\",0,SUM(D$8:D56))","v":0},null,{"$f":"IF(F56=\"\",0,SUM(F$8:F56))","v":0}]
[null,null,null,null,{"$f":"IF(D57=\"\",0,SUM(D$8:D57))","v":0},null,{"$f":"IF(F57=\"\",0,SUM(F$8:F57))","v":0}]
[null,null,null,null,{"$f":"IF(D58=\"\",0,SUM(D$8:D58))","v":0},null,{"$f":"IF(F58=\"\",0,SUM(F$8:F58))","v":0}]
[null,null,null,null,{"$f":"IF(D59=\"\",0,SUM(D$8:D59))","v":0},null,{"$f":"IF(F59=\"\",0,SUM(F$8:F59))","v":0}]
[null,null,null,null,{"$f":"IF(D60=\"\",0,SUM(D$8:D60))","v":0},null,{"$f":"IF(F60=\"\",0,SUM(F$8:F60))","v":0}]
[null,null,null,null,{"$f":"IF(D61=\"\",0,SUM(D$8:D61))","v":0},null,{"$f":"IF(F61=\"\",0,SUM(F$8:F61))","v":0}]
[null,null,null,null,{"$f":"IF(D62=\"\",0,SUM(D$8:D62))","v":0},null,{"$f":"IF(F62=\"\",0,SUM(F$8:F62))","v":0}]
[null,null,null,null,{"$f":"IF(D63=\"\",0,SUM(D$8:D63))","v":0},null,{"$f":"IF(F63=\"\",0,SUM(F$8:F63))","v":0}]
[null,null,null,null,{"$f":"IF(D64=\"\",0,SUM(D$8:D64))","v":0},null,{"$f":"IF(F64=\"\",0,SUM(F$8:F64))","v":0}]
[null,null,null,null,{"$f":"IF(D65=\"\",0,SUM(D$8:D65))","v":0},null,{"$f":"IF(F65=\"\",0,SUM(F$8:F65))","v":0}]
[null,null,null,null,{"$f":"IF(D66=\"\",0,SUM(D$8:D66))","v":0},null,{"$f":"IF(F66=\"\",0,SUM(F$8:F66))","v":0}]
[null,null,null,null,{"$f":"IF(D67=\"\",0,SUM(D$8:D67))","v":0},null,{"$f":"IF(F67=\"\",0,SUM(F$8:F67))","v":0}]
[null,null,null,null,{"$f":"IF(D68=\"\",0,SUM(D$8:D68))","v":0},null,{"$f":"IF(F68=\"\",0,SUM(F$8:F68))","v":0}]
[null,null,null,null,{"$f":"IF(D69=\"\",0,SUM(D$8:D69))","v":0},null,{"$f":"IF(F69=\"\",0,SUM(F$8:F69))","v":0}]
[null,null,null,null,{"$f":"IF(D70=\"\",0,SUM(D$8:D70))","v":0},null,{"$f":"IF(F70=\"\",0,SUM(F$8:F70))","v":0}]
[null,null,null,null,{"$f":"IF(D71=\"\",0,SUM(D$8:D71))","v":0},null,{"$f":"IF(F71=\"\",0,SUM(F$8:F71))","v":0}]
[null,null,null,null,{"$f":"IF(D72=\"\",0,SUM(D$8:D72))","v":0},null,{"$f":"IF(F72=\"\",0,SUM(F$8:F72))","v":0}]
[null,null,null,null,{"$f":"IF(D73=\"\",0,SUM(D$8:D73))","v":0},null,{"$f":"IF(F73=\"\",0,SUM(F$8:F73))","v":0}]
[null,null,null,null,{"$f":"IF(D74=\"\",0,SUM(D$8:D74))","v":0},null,{"$f":"IF(F74=\"\",0,SUM(F$8:F74))","v":0}]
[null,null,null,null,{"$f":"IF(D75=\"\",0,SUM(D$8:D75))","v":0},null,{"$f":"IF(F75=\"\",0,SUM(F$8:F75))","v":0}]
[null,null,null,null,{"$f":"IF(D76=\"\",0,SUM(D$8:D76))","v":0},null,{"$f":"IF(F76=\"\",0,SUM(F$8:F76))","v":0}]
[null,null,null,null,{"$f":"IF(D77=\"\",0,SUM(D$8:D77))","v":0},null,{"$f":"IF(F77=\"\",0,SUM(F$8:F77))","v":0}]
[null,null,null,null,{"$f":"IF(D78=\"\",0,SUM(D$8:D78))","v":0},null,{"$f":"IF(F78=\"\",0,SUM(F$8:F78))","v":0}]
[null,null,null,null,{"$f":"IF(D79=\"\",0,SUM(D$8:D79))","v":0},null,{"$f":"IF(F79=\"\",0,SUM(F$8:F79))","v":0}]
[null,null,null,null,{"$f":"IF(D80=\"\",0,SUM(D$8:D80))","v":0},null,{"$f":"IF(F80=\"\",0,SUM(F$8:F80))","v":0}]
[null,null,null,null,{"$f":"IF(D81=\"\",0,SUM(D$8:D81))","v":0},null,{"$f":"IF(F81=\"\",0,SUM(F$8:F81))","v":0}]
[null,null,null,null,{"$f":"IF(D82=\"\",0,SUM(D$8:D82))","v":0},null,{"$f":"IF(F82=\"\",0,SUM(F$8:F82))","v":0}]
[null,null,null,null,{"$f":"IF(D83=\"\",0,SUM(D$8:D83))","v":0},null,{"$f":"IF(F83=\"\",0,SUM(F$8:F83))","v":0}]
[null,null,null,null,{"$f":"IF(D84=\"\",0,SUM(D$8:D84))","v":0},null,{"$f":"IF(F84=\"\",0,SUM(F$8:F84))","v":0}]
[null,null,null,null,{"$f":"IF(D85=\"\",0,SUM(D$8:D85))","v":0},null,{"$f":"IF(F85=\"\",0,SUM(F$8:F85))","v":0}]
[null,null,null,null,{"$f":"IF(D86=\"\",0,SUM(D$8:D86))","v":0},null,{"$f":"IF(F86=\"\",0,SUM(F$8:F86))","v":0}]
[null,null,null,null,{"$f":"IF(D87=\"\",0,SUM(D$8:D87))","v":0},null,{"$f":"IF(F87=\"\",0,SUM(F$8:F87))","v":0}]
[null,null,null,null,{"$f":"IF(D88=\"\",0,SUM(D$8:D88))","v":0},null,{"$f":"IF(F88=\"\",0,SUM(F$8:F88))","v":0}]
[null,null,null,null,{"$f":"IF(D89=\"\",0,SUM(D$8:D89))","v":0},null,{"$f":"IF(F89=\"\",0,SUM(F$8:F89))","v":0}]
[null,null,null,null,{"$f":"IF(D90=\"\",0,SUM(D$8:D90))","v":0},null,{"$f":"IF(F90=\"\",0,SUM(F$8:F90))","v":0}]
[null,null,null,null,{"$f":"IF(D91=\"\",0,SUM(D$8:D91))","v":0},null,{"$f":"IF(F91=\"\",0,SUM(F$8:F91))","v":0}]
[null,null,null,null,{"$f":"IF(D92=\"\",0,SUM(D$8:D92))","v":0},null,{"$f":"IF(F92=\"\",0,SUM(F$8:F92))","v":0}]
[null,null,null,null,{"$f":"IF(D93=\"\",0,SUM(D$8:D93))","v":0},null,{"$f":"IF(F93=\"\",0,SUM(F$8:F93))","v":0}]
[null,null,null,null,{"$f":"IF(D94=\"\",0,SUM(D$8:D94))","v":0},null,{"$f":"IF(F94=\"\",0,SUM(F$8:F94))","v":0}]
[null,null,null,null,{"$f":"IF(D95=\"\",0,SUM(D$8:D95))","v":0},null,{"$f":"IF(F95=\"\",0,SUM(F$8:F95))","v":0}]
[null,null,null,null,{"$f":"IF(D96=\"\",0,SUM(D$8:D96))","v":0},null,{"$f":"IF(F96=\"\",0,SUM(F$8:F96))","v":0}]
[null,null,null,null,{"$f":"IF(D97=\"\",0,SUM(D$8:D97))","v":0},null,{"$f":"IF(F97=\"\",0,SUM(F$8:F97))","v":0}]
[null,null,null,null,{"$f":"IF(D98=\"\",0,SUM(D$8:D98))","v":0},null,{"$f":"IF(F98=\"\",0,SUM(F$8:F98))","v":0}]
[null,null,null,null,{"$f":"IF(D99=\"\",0,SUM(D$8:D99))","v":0},null,{"$f":"IF(F99=\"\",0,SUM(F$8:F99))","v":0}]
[null,null,null,null,{"$f":"IF(D100=\"\",0,SUM(D$8:D100))","v":0},null,{"$f":"IF(F100=\"\",0,SUM(F$8:F100))","v":0}]
[null,null,null,null,{"$f":"IF(D101=\"\",0,SUM(D$8:D101))","v":0},null,{"$f":"IF(F101=\"\",0,SUM(F$8:F101))","v":0}]
[null,null,null,null,{"$f":"IF(D102=\"\",0,SUM(D$8:D102))","v":0},null,{"$f":"IF(F102=\"\",0,SUM(F$8:F102))","v":0}]
[null,null,null,null,{"$f":"IF(D103=\"\",0,SUM(D$8:D103))","v":0},null,{"$f":"IF(F103=\"\",0,SUM(F$8:F103))","v":0}]
[null,null,null,null,{"$f":"IF(D104=\"\",0,SUM(D$8:D104))","v":0},null,{"$f":"IF(F104=\"\",0,SUM(F$8:F104))","v":0}]
[null,null,null,null,{"$f":"IF(D105=\"\",0,SUM(D$8:D105))","v":0},null,{"$f":"IF(F105=\"\",0,SUM(F$8:F105))","v":0}]
[null,null,null,null,{"$f":"IF(D106=\"\",0,SUM(D$8:D106))","v":0},null,{"$f":"IF(F106=\"\",0,SUM(F$8:F106))","v":0}]
[null,null,null,null,{"$f":"IF(D107=\"\",0,SUM(D$8:D107))","v":0},null,{"$f":"IF(F107=\"\",0,SUM(F$8:F107))","v":0}]
[null,null,null,null,{"$f":"IF(D108=\"\",0,SUM(D$8:D108))","v":0},null,{"$f":"IF(F108=\"\",0,SUM(F$8:F108))","v":0}]
[null,null,null,null,{"$f":"IF(D109=\"\",0,SUM(D$8:D109))","v":0},null,{"$f":"IF(F109=\"\",0,SUM(F$8:F109))","v":0}]
[null,null,null,null,{"$f":"IF(D110=\"\",0,SUM(D$8:D110))","v":0},null,{"$f":"IF(F110=\"\",0,SUM(F$8:F110))","v":0}]
[null,null,null,null,{"$f":"IF(D111=\"\",0,SUM(D$8:D111))","v":0},null,{"$f":"IF(F111=\"\",0,SUM(F$8:F111))","v":0}]
[null,null,null,null,{"$f":"IF(D112=\"\",0,SUM(D$8:D112))","v":0},null,{"$f":"IF(F112=\"\",0,SUM(F$8:F112))","v":0}]
[null,null,null,null,{"$f":"IF(D113=\"\",0,SUM(D$8:D113))","v":0},null,{"$f":"IF(F113=\"\",0,SUM(F$8:F113))","v":0}]
[null,null,null,null,{"$f":"IF(D114=\"\",0,SUM(D$8:D114))","v":0},null,{"$f":"IF(F114=\"\",0,SUM(F$8:F114))","v":0}]
[null,null,null,null,{"$f":"IF(D115=\"\",0,SUM(D$8:D115))","v":0},null,{"$f":"IF(F115=\"\",0,SUM(F$8:F115))","v":0}]
[null,null,null,null,{"$f":"IF(D116=\"\",0,SUM(D$8:D116))","v":0},null,{"$f":"IF(F116=\"\",0,SUM(F$8:F116))","v":0}]
[null,null,null,null,{"$f":"IF(D117=\"\",0,SUM(D$8:D117))","v":0},null,{"$f":"IF(F117=\"\",0,SUM(F$8:F117))","v":0}]
[null,null,null,null,{"$f":"IF(D118=\"\",0,SUM(D$8:D118))","v":0},null,{"$f":"IF(F118=\"\",0,SUM(F$8:F118))","v":0}]
[null,null,null,null,{"$f":"IF(D119=\"\",0,SUM(D$8:D119))","v":0},null,{"$f":"IF(F119=\"\",0,SUM(F$8:F119))","v":0}]
[null,null,null,null,{"$f":"IF(D120=\"\",0,SUM(D$8:D120))","v":0},null,{"$f":"IF(F120=\"\",0,SUM(F$8:F120))","v":0}]
[null,null,null,null,{"$f":"IF(D121=\"\",0,SUM(D$8:D121))","v":0},null,{"$f":"IF(F121=\"\",0,SUM(F$8:F121))","v":0}]
[null,null,null,null,{"$f":"IF(D122=\"\",0,SUM(D$8:D122))","v":0},null,{"$f":"IF(F122=\"\",0,SUM(F$8:F122))","v":0}]
[null,null,null,null,{"$f":"IF(D123=\"\",0,SUM(D$8:D123))","v":0},null,{"$f":"IF(F123=\"\",0,SUM(F$8:F123))","v":0}]
[null,null,null,null,{"$f":"IF(D124=\"\",0,SUM(D$8:D124))","v":0},null,{"$f":"IF(F124=\"\",0,SUM(F$8:F124))","v":0}]
[null,null,null,null,{"$f":"IF(D125=\"\",0,SUM(D$8:D125))","v":0},null,{"$f":"IF(F125=\"\",0,SUM(F$8:F125))","v":0}]
[null,null,null,null,{"$f":"IF(D126=\"\",0,SUM(D$8:D126))","v":0},null,{"$f":"IF(F126=\"\",0,SUM(F$8:F126))","v":0}]
[null,null,null,null,{"$f":"IF(D127=\"\",0,SUM(D$8:D127))","v":0},null,{"$f":"IF(F127=\"\",0,SUM(F$8:F127))","v":0}]
[null,null,null,null,{"$f":"IF(D128=\"\",0,SUM(D$8:D128))","v":0},null,{"$f":"IF(F128=\"\",0,SUM(F$8:F128))","v":0}]
[null,null,null,null,{"$f":"IF(D129=\"\",0,SUM(D$8:D129))","v":0},null,{"$f":"IF(F129=\"\",0,SUM(F$8:F129))","v":0}]
[null,null,null,null,{"$f":"IF(D130=\"\",0,SUM(D$8:D130))","v":0},null,{"$f":"IF(F130=\"\",0,SUM(F$8:F130))","v":0}]
[null,null,null,null,{"$f":"IF(D131=\"\",0,SUM(D$8:D131))","v":0},null,{"$f":"IF(F131=\"\",0,SUM(F$8:F131))","v":0}]
[null,null,null,null,{"$f":"IF(D132=\"\",0,SUM(D$8:D132))","v":0},null,{"$f":"IF(F132=\"\",0,SUM(F$8:F132))","v":0}]
[null,null,null,null,{"$f":"IF(D133=\"\",0,SUM(D$8:D133))","v":0},null,{"$f":"IF(F133=\"\",0,SUM(F$8:F133))","v":0}]
[null,null,null,null,{"$f":"IF(D134=\"\",0,SUM(D$8:D134))","v":0},null,{"$f":"IF(F134=\"\",0,SUM(F$8:F134))","v":0}]
[null,null,null,null,{"$f":"IF(D135=\"\",0,SUM(D$8:D135))","v":0},null,{"$f":"IF(F135=\"\",0,SUM(F$8:F135))","v":0}]
[null,null,null,null,{"$f":"IF(D136=\"\",0,SUM(D$8:D136))","v":0},null,{"$f":"IF(F136=\"\",0,SUM(F$8:F136))","v":0}]
[null,null,null,null,{"$f":"IF(D137=\"\",0,SUM(D$8:D137))","v":0},null,{"$f":"IF(F137=\"\",0,SUM(F$8:F137))","v":0}]
[null,null,null,null,{"$f":"IF(D138=\"\",0,SUM(D$8:D138))","v":0},null,{"$f":"IF(F138=\"\",0,SUM(F$8:F138))","v":0}]
[null,null,null,null,{"$f":"IF(D139=\"\",0,SUM(D$8:D139))","v":0},null,{"$f":"IF(F139=\"\",0,SUM(F$8:F139))","v":0}]
[null,null,null,null,{"$f":"IF(D140=\"\",0,SUM(D$8:D140))","v":0},null,{"$f":"IF(F140=\"\",0,SUM(F$8:F140))","v":0}]
[null,null,null,null,{"$f":"IF(D141=\"\",0,SUM(D$8:D141))","v":0},null,{"$f":"IF(F141=\"\",0,SUM(F$8:F141))","v":0}]
[null,null,null,null,{"$f":"IF(D142=\"\",0,SUM(D$8:D142))","v":0},null,{"$f":"IF(F142=\"\",0,SUM(F$8:F142))","v":0}]
[null,null,null,null,{"$f":"IF(D143=\"\",0,SUM(D$8:D143))","v":0},null,{"$f":"IF(F143=\"\",0,SUM(F$8:F143))","v":0}]
[null,null,null,null,{"$f":"IF(D144=\"\",0,SUM(D$8:D144))","v":0},null,{"$f":"IF(F144=\"\",0,SUM(F$8:F144))","v":0}]
[null,null,null,null,{"$f":"IF(D145=\"\",0,SUM(D$8:D145))","v":0},null,{"$f":"IF(F145=\"\",0,SUM(F$8:F145))","v":0}]
[null,null,null,null,{"$f":"IF(D146=\"\",0,SUM(D$8:D146))","v":0},null,{"$f":"IF(F146=\"\",0,SUM(F$8:F146))","v":0}]
[null,null,null,null,{"$f":"IF(D147=\"\",0,SUM(D$8:D147))","v":0},null,{"$f":"IF(F147=\"\",0,SUM(F$8:F147))","v":0}]
[null,null,null,null,{"$f":"IF(D148=\"\",0,SUM(D$8:D148))","v":0},null,{"$f":"IF(F148=\"\",0,SUM(F$8:F148))","v":0}]
[null,null,null,null,{"$f":"IF(D149=\"\",0,SUM(D$8:D149))","v":0},null,{"$f":"IF(F149=\"\",0,SUM(F$8:F149))","v":0}]
[null,null,null,null,{"$f":"IF(D150=\"\",0,SUM(D$8:D150))","v":0},null,{"$f":"IF(F150=\"\",0,SUM(F$8:F150))","v":0}]
[null,null,null,null,{"$f":"IF(D151=\"\",0,SUM(D$8:D151))","v":0},null,{"$f":"IF(F151=\"\",0,SUM(F$8:F151))","v":0}]
[null,null,null,null,{"$f":"IF(D152=\"\",0,SUM(D$8:D152))","v":0},null,{"$f":"IF(F152=\"\",0,SUM(F$8:F152))","v":0}]
[null,null,null,null,{"$f":"IF(D153=\"\",0,SUM(D$8:D153))","v":0},null,{"$f":"IF(F153=\"\",0,SUM(F$8:F153))","v":0}]
[null,null,null,null,{"$f":"IF(D154=\"\",0,SUM(D$8:D154))","v":0},null,{"$f":"IF(F154=\"\",0,SUM(F$8:F154))","v":0}]
[null,null,null,null,{"$f":"IF(D155=\"\",0,SUM(D$8:D155))","v":0},null,{"$f":"IF(F155=\"\",0,SUM(F$8:F155))","v":0}]
[null,null,null,null,{"$f":"IF(D156=\"\",0,SUM(D$8:D156))","v":0},null,{"$f":"IF(F156=\"\",0,SUM(F$8:F156))","v":0}]
[null,null,null,null,{"$f":"IF(D157=\"\",0,SUM(D$8:D157))","v":0},null,{"$f":"IF(F157=\"\",0,SUM(F$8:F157))","v":0}]
[null,null,null,null,{"$f":"IF(D158=\"\",0,SUM(D$8:D158))","v":0},null,{"$f":"IF(F158=\"\",0,SUM(F$8:F158))","v":0}]
[null,null,null,null,{"$f":"IF(D159=\"\",0,SUM(D$8:D159))","v":0},null,{"$f":"IF(F159=\"\",0,SUM(F$8:F159))","v":0}]
[null,null,null,null,{"$f":"IF(D160=\"\",0,SUM(D$8:D160))","v":0},null,{"$f":"IF(F160=\"\",0,SUM(F$8:F160))","v":0}]
[null,null,null,null,{"$f":"IF(D161=\"\",0,SUM(D$8:D161))","v":0},null,{"$f":"IF(F161=\"\",0,SUM(F$8:F161))","v":0}]
[null,null,null,null,{"$f":"IF(D162=\"\",0,SUM(D$8:D162))","v":0},null,{"$f":"IF(F162=\"\",0,SUM(F$8:F162))","v":0}]
[null,null,null,null,{"$f":"IF(D163=\"\",0,SUM(D$8:D163))","v":0},null,{"$f":"IF(F163=\"\",0,SUM(F$8:F163))","v":0}]
[null,null,null,null,{"$f":"IF(D164=\"\",0,SUM(D$8:D164))","v":0},null,{"$f":"IF(F164=\"\",0,SUM(F$8:F164))","v":0}]
[null,null,null,null,{"$f":"IF(D165=\"\",0,SUM(D$8:D165))","v":0},null,{"$f":"IF(F165=\"\",0,SUM(F$8:F165))","v":0}]
[null,null,null,null,{"$f":"IF(D166=\"\",0,SUM(D$8:D166))","v":0},null,{"$f":"IF(F166=\"\",0,SUM(F$8:F166))","v":0}]
[null,null,null,null,{"$f":"IF(D167=\"\",0,SUM(D$8:D167))","v":0},null,{"$f":"IF(F167=\"\",0,SUM(F$8:F167))","v":0}]
[null,null,null,null,{"$f":"IF(D168=\"\",0,SUM(D$8:D168))","v":0},null,{"$f":"IF(F168=\"\",0,SUM(F$8:F168))","v":0}]
[null,null,null,null,{"$f":"IF(D169=\"\",0,SUM(D$8:D169))","v":0},null,{"$f":"IF(F169=\"\",0,SUM(F$8:F169))","v":0}]
[null,null,null,null,{"$f":"IF(D170=\"\",0,SUM(D$8:D170))","v":0},null,{"$f":"IF(F170=\"\",0,SUM(F$8:F170))","v":0}]
[null,null,null,null,{"$f":"IF(D171=\"\",0,SUM(D$8:D171))","v":0},null,{"$f":"IF(F171=\"\",0,SUM(F$8:F171))","v":0}]
[null,null,null,null,{"$f":"IF(D172=\"\",0,SUM(D$8:D172))","v":0},null,{"$f":"IF(F172=\"\",0,SUM(F$8:F172))","v":0}]
[null,null,null,null,{"$f":"IF(D173=\"\",0,SUM(D$8:D173))","v":0},null,{"$f":"IF(F173=\"\",0,SUM(F$8:F173))","v":0}]
[null,null,null,null,{"$f":"IF(D174=\"\",0,SUM(D$8:D174))","v":0},null,{"$f":"IF(F174=\"\",0,SUM(F$8:F174))","v":0}]
[null,null,null,null,{"$f":"IF(D175=\"\",0,SUM(D$8:D175))","v":0},null,{"$f":"IF(F175=\"\",0,SUM(F$8:F175))","v":0}]
[null,null,null,null,{"$f":"IF(D176=\"\",0,SUM(D$8:D176))","v":0},null,{"$f":"IF(F176=\"\",0,SUM(F$8:F176))","v":0}]
[null,null,null,null,{"$f":"IF(D177=\"\",0,SUM(D$8:D177))","v":0},null,{"$f":"IF(F177=\"\",0,SUM(F$8:F177))","v":0}]
[null,null,null,null,{"$f":"IF(D178=\"\",0,SUM(D$8:D178))","v":0},null,{"$f":"IF(F178=\"\",0,SUM(F$8:F178))","v":0}]
[null,null,null,null,{"$f":"IF(D179=\"\",0,SUM(D$8:D179))","v":0},null,{"$f":"IF(F179=\"\",0,SUM(F$8:F179))","v":0}]
[null,null,null,null,{"$f":"IF(D180=\"\",0,SUM(D$8:D180))","v":0},null,{"$f":"IF(F180=\"\",0,SUM(F$8:F180))","v":0}]
[null,null,null,null,{"$f":"IF(D181=\"\",0,SUM(D$8:D181))","v":0},null,{"$f":"IF(F181=\"\",0,SUM(F$8:F181))","v":0}]
[null,null,null,null,{"$f":"IF(D182=\"\",0,SUM(D$8:D182))","v":0},null,{"$f":"IF(F182=\"\",0,SUM(F$8:F182))","v":0}]
[null,null,null,null,{"$f":"IF(D183=\"\",0,SUM(D$8:D183))","v":0},null,{"$f":"IF(F183=\"\",0,SUM(F$8:F183))","v":0}]
[null,null,null,null,{"$f":"IF(D184=\"\",0,SUM(D$8:D184))","v":0},null,{"$f":"IF(F184=\"\",0,SUM(F$8:F184))","v":0}]
[null,null,null,null,{"$f":"IF(D185=\"\",0,SUM(D$8:D185))","v":0},null,{"$f":"IF(F185=\"\",0,SUM(F$8:F185))","v":0}]
[null,null,null,null,{"$f":"IF(D186=\"\",0,SUM(D$8:D186))","v":0},null,{"$f":"IF(F186=\"\",0,SUM(F$8:F186))","v":0}]
[null,null,null,null,{"$f":"IF(D187=\"\",0,SUM(D$8:D187))","v":0},null,{"$f":"IF(F187=\"\",0,SUM(F$8:F187))","v":0}]
[null,null,null,null,{"$f":"IF(D188=\"\",0,SUM(D$8:D188))","v":0},null,{"$f":"IF(F188=\"\",0,SUM(F$8:F188))","v":0}]
[null,null,null,null,{"$f":"IF(D189=\"\",0,SUM(D$8:D189))","v":0},null,{"$f":"IF(F189=\"\",0,SUM(F$8:F189))","v":0}]
[null,null,null,null,{"$f":"IF(D190=\"\",0,SUM(D$8:D190))","v":0},null,{"$f":"IF(F190=\"\",0,SUM(F$8:F190))","v":0}]
[null,null,null,null,{"$f":"IF(D191=\"\",0,SUM(D$8:D191))","v":0},null,{"$f":"IF(F191=\"\",0,SUM(F$8:F191))","v":0}]
[null,null,null,null,{"$f":"IF(D192=\"\",0,SUM(D$8:D192))","v":0},null,{"$f":"IF(F192=\"\",0,SUM(F$8:F192))","v":0}]
[null,null,null,null,{"$f":"IF(D193=\"\",0,SUM(D$8:D193))","v":0},null,{"$f":"IF(F193=\"\",0,SUM(F$8:F193))","v":0}]
[null,null,null,null,{"$f":"IF(D194=\"\",0,SUM(D$8:D194))","v":0},null,{"$f":"IF(F194=\"\",0,SUM(F$8:F194))","v":0}]
[null,null,null,null,{"$f":"IF(D195=\"\",0,SUM(D$8:D195))","v":0},null,{"$f":"IF(F195=\"\",0,SUM(F$8:F195))","v":0}]
[null,null,null,null,{"$f":"IF(D196=\"\",0,SUM(D$8:D196))","v":0},null,{"$f":"IF(F196=\"\",0,SUM(F$8:F196))","v":0}]
[null,null,null,null,{"$f":"IF(D197=\"\",0,SUM(D$8:D197))","v":0},null,{"$f":"IF(F197=\"\",0,SUM(F$8:F197))","v":0}]
[null,null,null,null,{"$f":"IF(D198=\"\",0,SUM(D$8:D198))","v":0},null,{"$f":"IF(F198=\"\",0,SUM(F$8:F198))","v":0}]
[null,null,null,null,{"$f":"IF(D199=\"\",0,SUM(D$8:D199))","v":0},null,{"$f":"IF(F199=\"\",0,SUM(F$8:F199))","v":0}]
[null,null,null,null,{"$f":"IF(D200=\"\",0,SUM(D$8:D200))","v":0},null,{"$f":"IF(F200=\"\",0,SUM(F$8:F200))","v":0}]
[null,null,null,null,{"$f":"IF(D201=\"\",0,SUM(D$8:D201))","v":0},null,{"$f":"IF(F201=\"\",0,SUM(F$8:F201))","v":0}]
[null,null,null,null,{"$f":"IF(D202=\"\",0,SUM(D$8:D202))","v":0},null,{"$f":"IF(F202=\"\",0,SUM(F$8:F202))","v":0}]
[null,null,null,null,{"$f":"IF(D203=\"\",0,SUM(D$8:D203))","v":0},null,{"$f":"IF(F203=\"\",0,SUM(F$8:F203))","v":0}]
[null,null,null,null,{"$f":"IF(D204=\"\",0,SUM(D$8:D204))","v":0},null,{"$f":"IF(F204=\"\",0,SUM(F$8:F204))","v":0}]
[null,null,null,null,{"$f":"IF(D205=\"\",0,SUM(D$8:D205))","v":0},null,{"$f":"IF(F205=\"\",0,SUM(F$8:F205))","v":0}]
[null,null,null,null,{"$f":"IF(D206=\"\",0,SUM(D$8:D206))","v":0},null,{"$f":"IF(F206=\"\",0,SUM(F$8:F206))","v":0}]
[null,null,null,null,{"$f":"IF(D207=\"\",0,SUM(D$8:D207))","v":0},null,{"$f":"IF(F207=\"\",0,SUM(F$8:F207))","v":0}]
[null,null,null,null,{"$f":"IF(D208=\"\",0,SUM(D$8:D208))","v":0},null,{"$f":"IF(F208=\"\",0,SUM(F$8:F208))","v":0}]
[null,null,null,null,{"$f":"IF(D209=\"\",0,SUM(D$8:D209))","v":0},null,{"$f":"IF(F209=\"\",0,SUM(F$8:F209))","v":0}]
[null,null,null,null,{"$f":"IF(D210=\"\",0,SUM(D$8:D210))","v":0},null,{"$f":"IF(F210=\"\",0,SUM(F$8:F210))","v":0}]
[null,null,null,null,{"$f":"IF(D211=\"\",0,SUM(D$8:D211))","v":0},null,{"$f":"IF(F211=\"\",0,SUM(F$8:F211))","v":0}]
[null,null,null,null,{"$f":"IF(D212=\"\",0,SUM(D$8:D212))","v":0},null,{"$f":"IF(F212=\"\",0,SUM(F$8:F212))","v":0}]
[null,null,null,null,{"$f":"IF(D213=\"\",0,SUM(D$8:D213))","v":0},null,{"$f":"IF(F213=\"\",0,SUM(F$8:F213))","v":0}]
[null,null,null,null,{"$f":"IF(D214=\"\",0,SUM(D$8:D214))","v":0},null,{"$f":"IF(F214=\"\",0,SUM(F$8:F214))","v":0}]
[null,null,null,null,{"$f":"IF(D215=\"\",0,SUM(D$8:D215))","v":0},null,{"$f":"IF(F215=\"\",0,SUM(F$8:F215))","v":0}]
[null,null,null,null,{"$f":"IF(D216=\"\",0,SUM(D$8:D216))","v":0},null,{"$f":"IF(F216=\"\",0,SUM(F$8:F216))","v":0}]
[null,null,null,null,{"$f":"IF(D217=\"\",0,SUM(D$8:D217))","v":0},null,{"$f":"IF(F217=\"\",0,SUM(F$8:F217))","v":0}]
[null,null,null,null,{"$f":"IF(D218=\"\",0,SUM(D$8:D218))","v":0},null,{"$f":"IF(F218=\"\",0,SUM(F$8:F218))","v":0}]
[null,null,null,null,{"$f":"IF(D219=\"\",0,SUM(D$8:D219))","v":0},null,{"$f":"IF(F219=\"\",0,SUM(F$8:F219))","v":0}]
[null,null,null,null,{"$f":"IF(D220=\"\",0,SUM(D$8:D220))","v":0},null,{"$f":"IF(F220=\"\",0,SUM(F$8:F220))","v":0}]
[null,null,null,null,{"$f":"IF(D221=\"\",0,SUM(D$8:D221))","v":0},null,{"$f":"IF(F221=\"\",0,SUM(F$8:F221))","v":0}]
[null,null,null,null,{"$f":"IF(D222=\"\",0,SUM(D$8:D222))","v":0},null,{"$f":"IF(F222=\"\",0,SUM(F$8:F222))","v":0}]
[null,null,null,null,{"$f":"IF(D223=\"\",0,SUM(D$8:D223))","v":0},null,{"$f":"IF(F223=\"\",0,SUM(F$8:F223))","v":0}]
[null,null,null,null,{"$f":"IF(D224=\"\",0,SUM(D$8:D224))","v":0},null,{"$f":"IF(F224=\"\",0,SUM(F$8:F224))","v":0}]
[null,null,null,null,{"$f":"IF(D225=\"\",0,SUM(D$8:D225))","v":0},null,{"$f":"IF(F225=\"\",0,SUM(F$8:F225))","v":0}]
[null,null,null,null,{"$f":"IF(D226=\"\",0,SUM(D$8:D226))","v":0},null,{"$f":"IF(F226=\"\",0,SUM(F$8:F226))","v":0}]
[null,null,null,null,{"$f":"IF(D227=\"\",0,SUM(D$8:D227))","v":0},null,{"$f":"IF(F227=\"\",0,SUM(F$8:F227))","v":0}]
[null,null,null,null,{"$f":"IF(D228=\"\",0,SUM(D$8:D228))","v":0},null,{"$f":"IF(F228=\"\",0,SUM(F$8:F228))","v":0}]
[null,null,null,null,{"$f":"IF(D229=\"\",0,SUM(D$8:D229))","v":0},null,{"$f":"IF(F229=\"\",0,SUM(F$8:F229))","v":0}]
[null,null,null,null,{"$f":"IF(D230=\"\",0,SUM(D$8:D230))","v":0},null,{"$f":"IF(F230=\"\",0,SUM(F$8:F230))","v":0}]
[null,null,null,null,{"$f":"IF(D231=\"\",0,SUM(D$8:D231))","v":0},null,{"$f":"IF(F231=\"\",0,SUM(F$8:F231))","v":0}]
[null,null,null,null,{"$f":"IF(D232=\"\",0,SUM(D$8:D232))","v":0},null,{"$f":"IF(F232=\"\",0,SUM(F$8:F232))","v":0}]
[null,null,null,null,{"$f":"IF(D233=\"\",0,SUM(D$8:D233))","v":0},null,{"$f":"IF(F233=\"\",0,SUM(F$8:F233))","v":0}]
[null,null,null,null,{"$f":"IF(D234=\"\",0,SUM(D$8:D234))","v":0},null,{"$f":"IF(F234=\"\",0,SUM(F$8:F234))","v":0}]
[null,null,null,null,{"$f":"IF(D235=\"\",0,SUM(D$8:D235))","v":0},null,{"$f":"IF(F235=\"\",0,SUM(F$8:F235))","v":0}]
[null,null,null,null,{"$f":"IF(D236=\"\",0,SUM(D$8:D236))","v":0},null,{"$f":"IF(F236=\"\",0,SUM(F$8:F236))","v":0}]
[null,null,null,null,{"$f":"IF(D237=\"\",0,SUM(D$8:D237))","v":0},null,{"$f":"IF(F237=\"\",0,SUM(F$8:F237))","v":0}]
[null,null,null,null,{"$f":"IF(D238=\"\",0,SUM(D$8:D238))","v":0},null,{"$f":"IF(F238=\"\",0,SUM(F$8:F238))","v":0}]
[null,null,null,null,{"$f":"IF(D239=\"\",0,SUM(D$8:D239))","v":0},null,{"$f":"IF(F239=\"\",0,SUM(F$8:F239))","v":0}]
[null,null,null,null,{"$f":"IF(D240=\"\",0,SUM(D$8:D240))","v":0},null,{"$f":"IF(F240=\"\",0,SUM(F$8:F240))","v":0}]
[null,null,null,null,{"$f":"IF(D241=\"\",0,SUM(D$8:D241))","v":0},null,{"$f":"IF(F241=\"\",0,SUM(F$8:F241))","v":0}]
[null,null,null,null,{"$f":"IF(D242=\"\",0,SUM(D$8:D242))","v":0},null,{"$f":"IF(F242=\"\",0,SUM(F$8:F242))","v":0}]
[null,null,null,null,{"$f":"IF(D243=\"\",0,SUM(D$8:D243))","v":0},null,{"$f":"IF(F243=\"\",0,SUM(F$8:F243))","v":0}]
[null,null,null,null,{"$f":"IF(D244=\"\",0,SUM(D$8:D244))","v":0},null,{"$f":"IF(F244=\"\",0,SUM(F$8:F244))","v":0}]
[null,null,null,null,{"$f":"IF(D245=\"\",0,SUM(D$8:D245))","v":0},null,{"$f":"IF(F245=\"\",0,SUM(F$8:F245))","v":0}]
[null,null,null,null,{"$f":"IF(D246=\"\",0,SUM(D$8:D246))","v":0},null,{"$f":"IF(F246=\"\",0,SUM(F$8:F246))","v":0}]
[null,null,null,null,{"$f":"IF(D247=\"\",0,SUM(D$8:D247))","v":0},null,{"$f":"IF(F247=\"\",0,SUM(F$8:F247))","v":0}]
[null,null,null,null,{"$f":"IF(D248=\"\",0,SUM(D$8:D248))","v":0},null,{"$f":"IF(F248=\"\",0,SUM(F$8:F248))","v":0}]
[null,null,null,null,{"$f":"IF(D249=\"\",0,SUM(D$8:D249))","v":0},null,{"$f":"IF(F249=\"\",0,SUM(F$8:F249))","v":0}]
[null,null,null,null,{"$f":"IF(D250=\"\",0,SUM(D$8:D250))","v":0},null,{"$f":"IF(F250=\"\",0,SUM(F$8:F250))","v":0}]
[null,null,null,null,{"$f":"IF(D251=\"\",0,SUM(D$8:D251))","v":0},null,{"$f":"IF(F251=\"\",0,SUM(F$8:F251))","v":0}]
[null,null,null,null,{"$f":"IF(D252=\"\",0,SUM(D$8:D252))","v":0},null,{"$f":"IF(F252=\"\",0,SUM(F$8:F252))","v":0}]
[null,null,null,null,{"$f":"IF(D253=\"\",0,SUM(D$8:D253))","v":0},null,{"$f":"IF(F253=\"\",0,SUM(F$8:F253))","v":0}]
[null,null,null,null,{"$f":"IF(D254=\"\",0,SUM(D$8:D254))","v":0},null,{"$f":"IF(F254=\"\",0,SUM(F$8:F254))","v":0}]
[null,null,null,null,{"$f":"IF(D255=\"\",0,SUM(D$8:D255))","v":0},null,{"$f":"IF(F255=\"\",0,SUM(F$8:F255))","v":0}]
[null,null,null,null,{"$f":"IF(D256=\"\",0,SUM(D$8:D256))","v":0},null,{"$f":"IF(F256=\"\",0,SUM(F$8:F256))","v":0}]
[null,null,null,null,{"$f":"IF(D257=\"\",0,SUM(D$8:D257))","v":0},null,{"$f":"IF(F257=\"\",0,SUM(F$8:F257))","v":0}]
[null,null,null,null,{"$f":"IF(D258=\"\",0,SUM(D$8:D258))","v":0},null,{"$f":"IF(F258=\"\",0,SUM(F$8:F258))","v":0}]
[null,null,null,null,{"$f":"IF(D259=\"\",0,SUM(D$8:D259))","v":0},null,{"$f":"IF(F259=\"\",0,SUM(F$8:F259))","v":0}]
[null,null,null,null,{"$f":"IF(D260=\"\",0,SUM(D$8:D260))","v":0},null,{"$f":"IF(F260=\"\",0,SUM(F$8:F260))","v":0}]
[null,null,null,null,{"$f":"IF(D261=\"\",0,SUM(D$8:D261))","v":0},null,{"$f":"IF(F261=\"\",0,SUM(F$8:F261))","v":0}]
[null,null,null,null,{"$f":"IF(D262=\"\",0,SUM(D$8:D262))","v":0},null,{"$f":"IF(F262=\"\",0,SUM(F$8:F262))","v":0}]
[null,null,null,null,{"$f":"IF(D263=\"\",0,SUM(D$8:D263))","v":0},null,{"$f":"IF(F263=\"\",0,SUM(F$8:F263))","v":0}]
[null,null,null,null,{"$f":"IF(D264=\"\",0,SUM(D$8:D264))","v":0},null,{"$f":"IF(F264=\"\",0,SUM(F$8:F264))","v":0}]
[null,null,null,null,{"$f":"IF(D265=\"\",0,SUM(D$8:D265))","v":0},null,{"$f":"IF(F265=\"\",0,SUM(F$8:F265))","v":0}]
[null,null,null,null,{"$f":"IF(D266=\"\",0,SUM(D$8:D266))","v":0},null,{"$f":"IF(F266=\"\",0,SUM(F$8:F266))","v":0}]
[null,null,null,null,{"$f":"IF(D267=\"\",0,SUM(D$8:D267))","v":0},null,{"$f":"IF(F267=\"\",0,SUM(F$8:F267))","v":0}]
[null,null,null,null,{"$f":"IF(D268=\"\",0,SUM(D$8:D268))","v":0},null,{"$f":"IF(F268=\"\",0,SUM(F$8:F268))","v":0}]
[null,null,null,null,{"$f":"IF(D269=\"\",0,SUM(D$8:D269))","v":0},null,{"$f":"IF(F269=\"\",0,SUM(F$8:F269))","v":0}]
[null,null,null,null,{"$f":"IF(D270=\"\",0,SUM(D$8:D270))","v":0},null,{"$f":"IF(F270=\"\",0,SUM(F$8:F270))","v":0}]
[null,null,null,null,{"$f":"IF(D271=\"\",0,SUM(D$8:D271))","v":0},null,{"$f":"IF(F271=\"\",0,SUM(F$8:F271))","v":0}]
[null,null,null,null,{"$f":"IF(D272=\"\",0,SUM(D$8:D272))","v":0},null,{"$f":"IF(F272=\"\",0,SUM(F$8:F272))","v":0}]
[null,null,null,null,{"$f":"IF(D273=\"\",0,SUM(D$8:D273))","v":0},null,{"$f":"IF(F273=\"\",0,SUM(F$8:F273))","v":0}]
[null,null,null,null,{"$f":"IF(D274=\"\",0,SUM(D$8:D274))","v":0},null,{"$f":"IF(F274=\"\",0,SUM(F$8:F274))","v":0}]
[null,null,null,null,{"$f":"IF(D275=\"\",0,SUM(D$8:D275))","v":0},null,{"$f":"IF(F275=\"\",0,SUM(F$8:F275))","v":0}]
[null,null,null,null,{"$f":"IF(D276=\"\",0,SUM(D$8:D276))","v":0},null,{"$f":"IF(F276=\"\",0,SUM(F$8:F276))","v":0}]
[null,null,null,null,{"$f":"IF(D277=\"\",0,SUM(D$8:D277))","v":0},null,{"$f":"IF(F277=\"\",0,SUM(F$8:F277))","v":0}]
[null,null,null,null,{"$f":"IF(D278=\"\",0,SUM(D$8:D278))","v":0},null,{"$f":"IF(F278=\"\",0,SUM(F$8:F278))","v":0}]
[null,null,null,null,{"$f":"IF(D279=\"\",0,SUM(D$8:D279))","v":0},null,{"$f":"IF(F279=\"\",0,SUM(F$8:F279))","v":0}]
[null,null,null,null,{"$f":"IF(D280=\"\",0,SUM(D$8:D280))","v":0},null,{"$f":"IF(F280=\"\",0,SUM(F$8:F280))","v":0}]
[null,null,null,null,{"$f":"IF(D281=\"\",0,SUM(D$8:D281))","v":0},null,{"$f":"IF(F281=\"\",0,SUM(F$8:F281))","v":0}]
[null,null,null,null,{"$f":"IF(D282=\"\",0,SUM(D$8:D282))","v":0},null,{"$f":"IF(F282=\"\",0,SUM(F$8:F282))","v":0}]
[null,null,null,null,{"$f":"IF(D283=\"\",0,SUM(D$8:D283))","v":0},null,{"$f":"IF(F283=\"\",0,SUM(F$8:F283))","v":0}]
[null,null,null,null,{"$f":"IF(D284=\"\",0,SUM(D$8:D284))","v":0},null,{"$f":"IF(F284=\"\",0,SUM(F$8:F284))","v":0}]
[null,null,null,null,{"$f":"IF(D285=\"\",0,SUM(D$8:D285))","v":0},null,{"$f":"IF(F285=\"\",0,SUM(F$8:F285))","v":0}]
[null,null,null,null,{"$f":"IF(D286=\"\",0,SUM(D$8:D286))","v":0},null,{"$f":"IF(F286=\"\",0,SUM(F$8:F286))","v":0}]
[null,null,null,null,{"$f":"IF(D287=\"\",0,SUM(D$8:D287))","v":0},null,{"$f":"IF(F287=\"\",0,SUM(F$8:F287))","v":0}]
[null,null,null,null,{"$f":"IF(D288=\"\",0,SUM(D$8:D288))","v":0},null,{"$f":"IF(F288=\"\",0,SUM(F$8:F288))","v":0}]
[null,null,null,null,{"$f":"IF(D289=\"\",0,SUM(D$8:D289))","v":0},null,{"$f":"IF(F289=\"\",0,SUM(F$8:F289))","v":0}]
[null,null,null,null,{"$f":"IF(D290=\"\",0,SUM(D$8:D290))","v":0},null,{"$f":"IF(F290=\"\",0,SUM(F$8:F290))","v":0}]
[null,null,null,null,{"$f":"IF(D291=\"\",0,SUM(D$8:D291))","v":0},null,{"$f":"IF(F291=\"\",0,SUM(F$8:F291))","v":0}]
[null,null,null,null,{"$f":"IF(D292=\"\",0,SUM(D$8:D292))","v":0},null,{"$f":"IF(F292=\"\",0,SUM(F$8:F292))","v":0}]
[null,null,null,null,{"$f":"IF(D293=\"\",0,SUM(D$8:D293))","v":0},null,{"$f":"IF(F293=\"\",0,SUM(F$8:F293))","v":0}]
[null,null,null,null,{"$f":"IF(D294=\"\",0,SUM(D$8:D294))","v":0},null,{"$f":"IF(F294=\"\",0,SUM(F$8:F294))","v":0}]
[null,null,null,null,{"$f":"IF(D295=\"\",0,SUM(D$8:D295))","v":0},null,{"$f":"IF(F295=\"\",0,SUM(F$8:F295))","v":0}]
[null,null,null,null,{"$f":"IF(D296=\"\",0,SUM(D$8:D296))","v":0},null,{"$f":"IF(F296=\"\",0,SUM(F$8:F296))","v":0}]
[null,null,null,null,{"$f":"IF(D297=\"\",0,SUM(D$8:D297))","v":0},null,{"$f":"IF(F297=\"\",0,SUM(F$8:F297))","v":0}]
[null,null,null,null,{"$f":"IF(D298=\"\",0,SUM(D$8:D298))","v":0},null,{"$f":"IF(F298=\"\",0,SUM(F$8:F298))","v":0}]
[null,null,null,null,{"$f":"IF(D299=\"\",0,SUM(D$8:D299))","v":0},null,{"$f":"IF(F299=\"\",0,SUM(F$8:F299))","v":0}]
[null,null,null,null,{"$f":"IF(D300=\"\",0,SUM(D$8:D300))","v":0},null,{"$f":"IF(F300=\"\",0,SUM(F$8:F300))","v":0}]
[null,null,null,null,{"$f":"IF(D301=\"\",0,SUM(D$8:D301))","v":0},null,{"$f":"IF(F301=\"\",0,SUM(F$8:F301))","v":0}]
[null,null,null,null,{"$f":"IF(D302=\"\",0,SUM(D$8:D302))","v":0},null,{"$f":"IF(F302=\"\",0,SUM(F$8:F302))","v":0}]
[null,null,null,null,{"$f":"IF(D303=\"\",0,SUM(D$8:D303))","v":0},null,{"$f":"IF(F303=\"\",0,SUM(F$8:F303))","v":0}]
[null,null,null,null,{"$f":"IF(D304=\"\",0,SUM(D$8:D304))","v":0},null,{"$f":"IF(F304=\"\",0,SUM(F$8:F304))","v":0}]
[null,null,null,null,{"$f":"IF(D305=\"\",0,SUM(D$8:D305))","v":0},null,{"$f":"IF(F305=\"\",0,SUM(F$8:F305))","v":0}]
[null,null,null,null,{"$f":"IF(D306=\"\",0,SUM(D$8:D306))","v":0},null,{"$f":"IF(F306=\"\",0,SUM(F$8:F306))","v":0}]
[null,null,null,null,{"$f":"IF(D307=\"\",0,SUM(D$8:D307))","v":0},null,{"$f":"IF(F307=\"\",0,SUM(F$8:F307))","v":0}]
[null,null,null,null,{"$f":"IF(D308=\"\",0,SUM(D$8:D308))","v":0},null,{"$f":"IF(F308=\"\",0,SUM(F$8:F308))","v":0}]
[null,null,null,null,{"$f":"IF(D309=\"\",0,SUM(D$8:D309))","v":0},null,{"$f":"IF(F309=\"\",0,SUM(F$8:F309))","v":0}]
[null,null,null,null,{"$f":"IF(D310=\"\",0,SUM(D$8:D310))","v":0},null,{"$f":"IF(F310=\"\",0,SUM(F$8:F310))","v":0}]
[null,null,null,null,{"$f":"IF(D311=\"\",0,SUM(D$8:D311))","v":0},null,{"$f":"IF(F311=\"\",0,SUM(F$8:F311))","v":0}]
[null,null,null,null,{"$f":"IF(D312=\"\",0,SUM(D$8:D312))","v":0},null,{"$f":"IF(F312=\"\",0,SUM(F$8:F312))","v":0}]
[null,null,null,null,{"$f":"IF(D313=\"\",0,SUM(D$8:D313))","v":0},null,{"$f":"IF(F313=\"\",0,SUM(F$8:F313))","v":0}]
[null,null,null,null,{"$f":"IF(D314=\"\",0,SUM(D$8:D314))","v":0},null,{"$f":"IF(F314=\"\",0,SUM(F$8:F314))","v":0}]
[null,null,null,null,{"$f":"IF(D315=\"\",0,SUM(D$8:D315))","v":0},null,{"$f":"IF(F315=\"\",0,SUM(F$8:F315))","v":0}]
[null,null,null,null,{"$f":"IF(D316=\"\",0,SUM(D$8:D316))","v":0},null,{"$f":"IF(F316=\"\",0,SUM(F$8:F316))","v":0}]
[null,null,null,null,{"$f":"IF(D317=\"\",0,SUM(D$8:D317))","v":0},null,{"$f":"IF(F317=\"\",0,SUM(F$8:F317))","v":0}]
[null,null,null,null,{"$f":"IF(D318=\"\",0,SUM(D$8:D318))","v":0},null,{"$f":"IF(F318=\"\",0,SUM(F$8:F318))","v":0}]
[null,null,null,null,{"$f":"IF(D319=\"\",0,SUM(D$8:D319))","v":0},null,{"$f":"IF(F319=\"\",0,SUM(F$8:F319))","v":0}]
[null,null,null,null,{"$f":"IF(D320=\"\",0,SUM(D$8:D320))","v":0},null,{"$f":"IF(F320=\"\",0,SUM(F$8:F320))","v":0}]
[null,null,null,null,{"$f":"IF(D321=\"\",0,SUM(D$8:D321))","v":0},null,{"$f":"IF(F321=\"\",0,SUM(F$8:F321))","v":0}]
[null,null,null,null,{"$f":"IF(D322=\"\",0,SUM(D$8:D322))","v":0},null,{"$f":"IF(F322=\"\",0,SUM(F$8:F322))","v":0}]
[null,null,null,null,{"$f":"IF(D323=\"\",0,SUM(D$8:D323))","v":0},null,{"$f":"IF(F323=\"\",0,SUM(F$8:F323))","v":0}]
[null,null,null,null,{"$f":"IF(D324=\"\",0,SUM(D$8:D324))","v":0},null,{"$f":"IF(F324=\"\",0,SUM(F$8:F324))","v":0}]
[null,null,null,null,{"$f":"IF(D325=\"\",0,SUM(D$8:D325))","v":0},null,{"$f":"IF(F325=\"\",0,SUM(F$8:F325))","v":0}]
[null,null,null,null,{"$f":"IF(D326=\"\",0,SUM(D$8:D326))","v":0},null,{"$f":"IF(F326=\"\",0,SUM(F$8:F326))","v":0}]
[null,null,null,null,{"$f":"IF(D327=\"\",0,SUM(D$8:D327))","v":0},null,{"$f":"IF(F327=\"\",0,SUM(F$8:F327))","v":0}]
[null,null,null,null,{"$f":"IF(D328=\"\",0,SUM(D$8:D328))","v":0},null,{"$f":"IF(F328=\"\",0,SUM(F$8:F328))","v":0}]
[null,null,null,null,{"$f":"IF(D329=\"\",0,SUM(D$8:D329))","v":0},null,{"$f":"IF(F329=\"\",0,SUM(F$8:F329))","v":0}]
[null,null,null,null,{"$f":"IF(D330=\"\",0,SUM(D$8:D330))","v":0},null,{"$f":"IF(F330=\"\",0,SUM(F$8:F330))","v":0}]
[null,null,null,null,{"$f":"IF(D331=\"\",0,SUM(D$8:D331))","v":0},null,{"$f":"IF(F331=\"\",0,SUM(F$8:F331))","v":0}]
[null,null,null,null,{"$f":"IF(D332=\"\",0,SUM(D$8:D332))","v":0},null,{"$f":"IF(F332=\"\",0,SUM(F$8:F332))","v":0}]
[null,null,null,null,{"$f":"IF(D333=\"\",0,SUM(D$8:D333))","v":0},null,{"$f":"IF(F333=\"\",0,SUM(F$8:F333))","v":0}]
[null,null,null,null,{"$f":"IF(D334=\"\",0,SUM(D$8:D334))","v":0},null,{"$f":"IF(F334=\"\",0,SUM(F$8:F334))","v":0}]
[null,null,null,null,{"$f":"IF(D335=\"\",0,SUM(D$8:D335))","v":0},null,{"$f":"IF(F335=\"\",0,SUM(F$8:F335))","v":0}]
[null,null,null,null,{"$f":"IF(D336=\"\",0,SUM(D$8:D336))","v":0},null,{"$f":"IF(F336=\"\",0,SUM(F$8:F336))","v":0}]
[null,null,null,null,{"$f":"IF(D337=\"\",0,SUM(D$8:D337))","v":0},null,{"$f":"IF(F337=\"\",0,SUM(F$8:F337))","v":0}]
[null,null,null,null,{"$f":"IF(D338=\"\",0,SUM(D$8:D338))","v":0},null,{"$f":"IF(F338=\"\",0,SUM(F$8:F338))","v":0}]
[null,null,null,null,{"$f":"IF(D339=\"\",0,SUM(D$8:D339))","v":0},null,{"$f":"IF(F339=\"\",0,SUM(F$8:F339))","v":0}]
[null,null,null,null,{"$f":"IF(D340=\"\",0,SUM(D$8:D340))","v":0},null,{"$f":"IF(F340=\"\",0,SUM(F$8:F340))","v":0}]
[null,null,null,null,{"$f":"IF(D341=\"\",0,SUM(D$8:D341))","v":0},null,{"$f":"IF(F341=\"\",0,SUM(F$8:F341))","v":0}]
[null,null,null,null,{"$f":"IF(D342=\"\",0,SUM(D$8:D342))","v":0},null,{"$f":"IF(F342=\"\",0,SUM(F$8:F342))","v":0}]
[null,null,null,null,{"$f":"IF(D343=\"\",0,SUM(D$8:D343))","v":0},null,{"$f":"IF(F343=\"\",0,SUM(F$8:F343))","v":0}]
[null,null,null,null,{"$f":"IF(D344=\"\",0,SUM(D$8:D344))","v":0},null,{"$f":"IF(F344=\"\",0,SUM(F$8:F344))","v":0}]
[null,null,null,null,{"$f":"IF(D345=\"\",0,SUM(D$8:D345))","v":0},null,{"$f":"IF(F345=\"\",0,SUM(F$8:F345))","v":0}]
[null,null,null,null,{"$f":"IF(D346=\"\",0,SUM(D$8:D346))","v":0},null,{"$f":"IF(F346=\"\",0,SUM(F$8:F346))","v":0}]
[null,null,null,null,{"$f":"IF(D347=\"\",0,SUM(D$8:D347))","v":0},null,{"$f":"IF(F347=\"\",0,SUM(F$8:F347))","v":0}]
[null,null,null,null,{"$f":"IF(D348=\"\",0,SUM(D$8:D348))","v":0},null,{"$f":"IF(F348=\"\",0,SUM(F$8:F348))","v":0}]
[null,null,null,null,{"$f":"IF(D349=\"\",0,SUM(D$8:D349))","v":0},null,{"$f":"IF(F349=\"\",0,SUM(F$8:F349))","v":0}]
[null,null,null,null,{"$f":"IF(D350=\"\",0,SUM(D$8:D350))","v":0},null,{"$f":"IF(F350=\"\",0,SUM(F$8:F350))","v":0}]
[null,null,null,null,{"$f":"IF(D351=\"\",0,SUM(D$8:D351))","v":0},null,{"$f":"IF(F351=\"\",0,SUM(F$8:F351))","v":0}]
[null,null,null,null,{"$f":"IF(D352=\"\",0,SUM(D$8:D352))","v":0},null,{"$f":"IF(F352=\"\",0,SUM(F$8:F352))","v":0}]
[null,null,null,null,{"$f":"IF(D353=\"\",0,SUM(D$8:D353))","v":0},null,{"$f":"IF(F353=\"\",0,SUM(F$8:F353))","v":0}]
[null,null,null,null,{"$f":"IF(D354=\"\",0,SUM(D$8:D354))","v":0},null,{"$f":"IF(F354=\"\",0,SUM(F$8:F354))","v":0}]
[null,null,null,null,{"$f":"IF(D355=\"\",0,SUM(D$8:D355))","v":0},null,{"$f":"IF(F355=\"\",0,SUM(F$8:F355))","v":0}]
[null,null,null,null,{"$f":"IF(D356=\"\",0,SUM(D$8:D356))","v":0},null,{"$f":"IF(F356=\"\",0,SUM(F$8:F356))","v":0}]
[null,null,null,null,{"$f":"IF(D357=\"\",0,SUM(D$8:D357))","v":0},null,{"$f":"IF(F357=\"\",0,SUM(F$8:F357))","v":0}]
[null,null,null,null,{"$f":"IF(D358=\"\",0,SUM(D$8:D358))","v":0},null,{"$f":"IF(F358=\"\",0,SUM(F$8:F358))","v":0}]
[null,null,null,null,{"$f":"IF(D359=\"\",0,SUM(D$8:D359))","v":0},null,{"$f":"IF(F359=\"\",0,SUM(F$8:F359))","v":0}]
[null,null,null,null,{"$f":"IF(D360=\"\",0,SUM(D$8:D360))","v":0},null,{"$f":"IF(F360=\"\",0,SUM(F$8:F360))","v":0}]
[null,null,null,null,{"$f":"IF(D361=\"\",0,SUM(D$8:D361))","v":0},null,{"$f":"IF(F361=\"\",0,SUM(F$8:F361))","v":0}]
[null,null,null,null,{"$f":"IF(D362=\"\",0,SUM(D$8:D362))","v":0},null,{"$f":"IF(F362=\"\",0,SUM(F$8:F362))","v":0}]
[null,null,null,null,{"$f":"IF(D363=\"\",0,SUM(D$8:D363))","v":0},null,{"$f":"IF(F363=\"\",0,SUM(F$8:F363))","v":0}]
[null,null,null,null,{"$f":"IF(D364=\"\",0,SUM(D$8:D364))","v":0},null,{"$f":"IF(F364=\"\",0,SUM(F$8:F364))","v":0}]
[null,null,null,null,{"$f":"IF(D365=\"\",0,SUM(D$8:D365))","v":0},null,{"$f":"IF(F365=\"\",0,SUM(F$8:F365))","v":0}]
[null,null,null,null,{"$f":"IF(D366=\"\",0,SUM(D$8:D366))","v":0},null,{"$f":"IF(F366=\"\",0,SUM(F$8:F366))","v":0}]
[null,null,null,null,{"$f":"IF(D367=\"\",0,SUM(D$8:D367))","v":0},null,{"$f":"IF(F367=\"\",0,SUM(F$8:F367))","v":0}]
[null,null,null,null,{"$f":"IF(D368=\"\",0,SUM(D$8:D368))","v":0},null,{"$f":"IF(F368=\"\",0,SUM(F$8:F368))","v":0}]
[null,null,null,null,{"$f":"IF(D369=\"\",0,SUM(D$8:D369))","v":0},null,{"$f":"IF(F369=\"\",0,SUM(F$8:F369))","v":0}]
[null,null,null,null,{"$f":"IF(D370=\"\",0,SUM(D$8:D370))","v":0},null,{"$f":"IF(F370=\"\",0,SUM(F$8:F370))","v":0}]
[null,null,null,null,{"$f":"IF(D371=\"\",0,SUM(D$8:D371))","v":0},null,{"$f":"IF(F371=\"\",0,SUM(F$8:F371))","v":0}]
[null,null,null,null,{"$f":"IF(D372=\"\",0,SUM(D$8:D372))","v":0},null,{"$f":"IF(F372=\"\",0,SUM(F$8:F372))","v":0}]
[null,null,null,null,{"$f":"IF(D373=\"\",0,SUM(D$8:D373))","v":0},null,{"$f":"IF(F373=\"\",0,SUM(F$8:F373))","v":0}]
[null,null,null,null,{"$f":"IF(D374=\"\",0,SUM(D$8:D374))","v":0},null,{"$f":"IF(F374=\"\",0,SUM(F$8:F374))","v":0}]
[null,null,null,null,{"$f":"IF(D375=\"\",0,SUM(D$8:D375))","v":0},null,{"$f":"IF(F375=\"\",0,SUM(F$8:F375))","v":0}]
[null,null,null,null,{"$f":"IF(D376=\"\",0,SUM(D$8:D376))","v":0},null,{"$f":"IF(F376=\"\",0,SUM(F$8:F376))","v":0}]
[null,null,null,null,{"$f":"IF(D377=\"\",0,SUM(D$8:D377))","v":0},null,{"$f":"IF(F377=\"\",0,SUM(F$8:F377))","v":0}]
[null,null,null,null,{"$f":"IF(D378=\"\",0,SUM(D$8:D378))","v":0},null,{"$f":"IF(F378=\"\",0,SUM(F$8:F378))","v":0}]
[null,null,null,null,{"$f":"IF(D379=\"\",0,SUM(D$8:D379))","v":0},null,{"$f":"IF(F379=\"\",0,SUM(F$8:F379))","v":0}]
[null,null,null,null,{"$f":"IF(D380=\"\",0,SUM(D$8:D380))","v":0},null,{"$f":"IF(F380=\"\",0,SUM(F$8:F380))","v":0}]
[null,null,null,null,{"$f":"IF(D381=\"\",0,SUM(D$8:D381))","v":0},null,{"$f":"IF(F381=\"\",0,SUM(F$8:F381))","v":0}]
[null,null,null,null,{"$f":"IF(D382=\"\",0,SUM(D$8:D382))","v":0},null,{"$f":"IF(F382=\"\",0,SUM(F$8:F382))","v":0}]
[null,null,null,null,{"$f":"IF(D383=\"\",0,SUM(D$8:D383))","v":0},null,{"$f":"IF(F383=\"\",0,SUM(F$8:F383))","v":0}]
[null,null,null,null,{"$f":"IF(D384=\"\",0,SUM(D$8:D384))","v":0},null,{"$f":"IF(F384=\"\",0,SUM(F$8:F384))","v":0}]
[null,null,null,null,{"$f":"IF(D385=\"\",0,SUM(D$8:D385))","v":0},null,{"$f":"IF(F385=\"\",0,SUM(F$8:F385))","v":0}]
[null,null,null,null,{"$f":"IF(D386=\"\",0,SUM(D$8:D386))","v":0},null,{"$f":"IF(F386=\"\",0,SUM(F$8:F386))","v":0}]
[null,null,null,null,{"$f":"IF(D387=\"\",0,SUM(D$8:D387))","v":0},null,{"$f":"IF(F387=\"\",0,SUM(F$8:F387))","v":0}]
[null,null,null,null,{"$f":"IF(D388=\"\",0,SUM(D$8:D388))","v":0},null,{"$f":"IF(F388=\"\",0,SUM(F$8:F388))","v":0}]
[null,null,null,null,{"$f":"IF(D389=\"\",0,SUM(D$8:D389))","v":0},null,{"$f":"IF(F389=\"\",0,SUM(F$8:F389))","v":0}]
[null,null,null,null,{"$f":"IF(D390=\"\",0,SUM(D$8:D390))","v":0},null,{"$f":"IF(F390=\"\",0,SUM(F$8:F390))","v":0}]
[null,null,null,null,{"$f":"IF(D391=\"\",0,SUM(D$8:D391))","v":0},null,{"$f":"IF(F391=\"\",0,SUM(F$8:F391))","v":0}]
[null,null,null,null,{"$f":"IF(D392=\"\",0,SUM(D$8:D392))","v":0},null,{"$f":"IF(F392=\"\",0,SUM(F$8:F392))","v":0}]
[null,null,null,null,{"$f":"IF(D393=\"\",0,SUM(D$8:D393))","v":0},null,{"$f":"IF(F393=\"\",0,SUM(F$8:F393))","v":0}]
[null,null,null,null,{"$f":"IF(D394=\"\",0,SUM(D$8:D394))","v":0},null,{"$f":"IF(F394=\"\",0,SUM(F$8:F394))","v":0}]
[null,null,null,null,{"$f":"IF(D395=\"\",0,SUM(D$8:D395))","v":0},null,{"$f":"IF(F395=\"\",0,SUM(F$8:F395))","v":0}]
[null,null,null,null,{"$f":"IF(D396=\"\",0,SUM(D$8:D396))","v":0},null,{"$f":"IF(F396=\"\",0,SUM(F$8:F396))","v":0}]
[null,null,null,null,{"$f":"IF(D397=\"\",0,SUM(D$8:D397))","v":0},null,{"$f":"IF(F397=\"\",0,SUM(F$8:F397))","v":0}]
[null,null,null,null,{"$f":"IF(D398=\"\",0,SUM(D$8:D398))","v":0},null,{"$f":"IF(F398=\"\",0,SUM(F$8:F398))","v":0}]
[null,null,null,null,{"$f":"IF(D399=\"\",0,SUM(D$8:D399))","v":0},null,{"$f":"IF(F399=\"\",0,SUM(F$8:F399))","v":0}]
[null,null,null,null,{"$f":"IF(D400=\"\",0,SUM(D$8:D400))","v":0},null,{"$f":"IF(F400=\"\",0,SUM(F$8:F400))","v":0}]
[null,null,null,null,{"$f":"IF(D401=\"\",0,SUM(D$8:D401))","v":0},null,{"$f":"IF(F401=\"\",0,SUM(F$8:F401))","v":0}]
[null,null,null,null,{"$f":"IF(D402=\"\",0,SUM(D$8:D402))","v":0},null,{"$f":"IF(F402=\"\",0,SUM(F$8:F402))","v":0}]
[null,null,null,null,{"$f":"IF(D403=\"\",0,SUM(D$8:D403))","v":0},null,{"$f":"IF(F403=\"\",0,SUM(F$8:F403))","v":0}]
[null,null,null,null,{"$f":"IF(D404=\"\",0,SUM(D$8:D404))","v":0},null,{"$f":"IF(F404=\"\",0,SUM(F$8:F404))","v":0}]
[null,null,null,null,{"$f":"IF(D405=\"\",0,SUM(D$8:D405))","v":0},null,{"$f":"IF(F405=\"\",0,SUM(F$8:F405))","v":0}]
[null,null,null,null,{"$f":"IF(D406=\"\",0,SUM(D$8:D406))","v":0},null,{"$f":"IF(F406=\"\",0,SUM(F$8:F406))","v":0}]
[null,null,null,null,{"$f":"IF(D407=\"\",0,SUM(D$8:D407))","v":0},null,{"$f":"IF(F407=\"\",0,SUM(F$8:F407))","v":0}]
[null,null,null,null,{"$f":"IF(D408=\"\",0,SUM(D$8:D408))","v":0},null,{"$f":"IF(F408=\"\",0,SUM(F$8:F408))","v":0}]
[null,null,null,null,{"$f":"IF(D409=\"\",0,SUM(D$8:D409))","v":0},null,{"$f":"IF(F409=\"\",0,SUM(F$8:F409))","v":0}]
[null,null,null,null,{"$f":"IF(D410=\"\",0,SUM(D$8:D410))","v":0},null,{"$f":"IF(F410=\"\",0,SUM(F$8:F410))","v":0}]
[null,null,null,null,{"$f":"IF(D411=\"\",0,SUM(D$8:D411))","v":0},null,{"$f":"IF(F411=\"\",0,SUM(F$8:F411))","v":0}]
[null,null,null,null,{"$f":"IF(D412=\"\",0,SUM(D$8:D412))","v":0},null,{"$f":"IF(F412=\"\",0,SUM(F$8:F412))","v":0}]
[null,null,null,null,{"$f":"IF(D413=\"\",0,SUM(D$8:D413))","v":0},null,{"$f":"IF(F413=\"\",0,SUM(F$8:F413))","v":0}]
[null,null,null,null,{"$f":"IF(D414=\"\",0,SUM(D$8:D414))","v":0},null,{"$f":"IF(F414=\"\",0,SUM(F$8:F414))","v":0}]
[null,null,null,null,{"$f":"IF(D415=\"\",0,SUM(D$8:D415))","v":0},null,{"$f":"IF(F415=\"\",0,SUM(F$8:F415))","v":0}]
[null,null,null,null,{"$f":"IF(D416=\"\",0,SUM(D$8:D416))","v":0},null,{"$f":"IF(F416=\"\",0,SUM(F$8:F416))","v":0}]
[null,null,null,null,{"$f":"IF(D417=\"\",0,SUM(D$8:D417))","v":0},null,{"$f":"IF(F417=\"\",0,SUM(F$8:F417))","v":0}]
[null,null,null,null,{"$f":"IF(D418=\"\",0,SUM(D$8:D418))","v":0},null,{"$f":"IF(F418=\"\",0,SUM(F$8:F418))","v":0}]
[null,null,null,null,{"$f":"IF(D419=\"\",0,SUM(D$8:D419))","v":0},null,{"$f":"IF(F419=\"\",0,SUM(F$8:F419))","v":0}]
[null,null,null,null,{"$f":"IF(D420=\"\",0,SUM(D$8:D420))","v":0},null,{"$f":"IF(F420=\"\",0,SUM(F$8:F420))","v":0}]
[null,null,null,null,{"$f":"IF(D421=\"\",0,SUM(D$8:D421))","v":0},null,{"$f":"IF(F421=\"\",0,SUM(F$8:F421))","v":0}]
[null,null,null,null,{"$f":"IF(D422=\"\",0,SUM(D$8:D422))","v":0},null,{"$f":"IF(F422=\"\",0,SUM(F$8:F422))","v":0}]
[null,null,null,null,{"$f":"IF(D423=\"\",0,SUM(D$8:D423))","v":0},null,{"$f":"IF(F423=\"\",0,SUM(F$8:F423))","v":0}]
[null,null,null,null,{"$f":"IF(D424=\"\",0,SUM(D$8:D424))","v":0},null,{"$f":"IF(F424=\"\",0,SUM(F$8:F424))","v":0}]
[null,null,null,null,{"$f":"IF(D425=\"\",0,SUM(D$8:D425))","v":0},null,{"$f":"IF(F425=\"\",0,SUM(F$8:F425))","v":0}]
[null,null,null,null,{"$f":"IF(D426=\"\",0,SUM(D$8:D426))","v":0},null,{"$f":"IF(F426=\"\",0,SUM(F$8:F426))","v":0}]
[null,null,null,null,{"$f":"IF(D427=\"\",0,SUM(D$8:D427))","v":0},null,{"$f":"IF(F427=\"\",0,SUM(F$8:F427))","v":0}]
[null,null,null,null,{"$f":"IF(D428=\"\",0,SUM(D$8:D428))","v":0},null,{"$f":"IF(F428=\"\",0,SUM(F$8:F428))","v":0}]
[null,null,null,null,{"$f":"IF(D429=\"\",0,SUM(D$8:D429))","v":0},null,{"$f":"IF(F429=\"\",0,SUM(F$8:F429))","v":0}]
[null,null,null,null,{"$f":"IF(D430=\"\",0,SUM(D$8:D430))","v":0},null,{"$f":"IF(F430=\"\",0,SUM(F$8:F430))","v":0}]
[null,null,null,null,{"$f":"IF(D431=\"\",0,SUM(D$8:D431))","v":0},null,{"$f":"IF(F431=\"\",0,SUM(F$8:F431))","v":0}]
[null,null,null,null,{"$f":"IF(D432=\"\",0,SUM(D$8:D432))","v":0},null,{"$f":"IF(F432=\"\",0,SUM(F$8:F432))","v":0}]
[null,null,null,null,{"$f":"IF(D433=\"\",0,SUM(D$8:D433))","v":0},null,{"$f":"IF(F433=\"\",0,SUM(F$8:F433))","v":0}]
[null,null,null,null,{"$f":"IF(D434=\"\",0,SUM(D$8:D434))","v":0},null,{"$f":"IF(F434=\"\",0,SUM(F$8:F434))","v":0}]
[null,null,null,null,{"$f":"IF(D435=\"\",0,SUM(D$8:D435))","v":0},null,{"$f":"IF(F435=\"\",0,SUM(F$8:F435))","v":0}]
[null,null,null,null,{"$f":"IF(D436=\"\",0,SUM(D$8:D436))","v":0},null,{"$f":"IF(F436=\"\",0,SUM(F$8:F436))","v":0}]
[null,null,null,null,{"$f":"IF(D437=\"\",0,SUM(D$8:D437))","v":0},null,{"$f":"IF(F437=\"\",0,SUM(F$8:F437))","v":0}]
[null,null,null,null,{"$f":"IF(D438=\"\",0,SUM(D$8:D438))","v":0},null,{"$f":"IF(F438=\"\",0,SUM(F$8:F438))","v":0}]
[null,null,null,null,{"$f":"IF(D439=\"\",0,SUM(D$8:D439))","v":0},null,{"$f":"IF(F439=\"\",0,SUM(F$8:F439))","v":0}]
[null,null,null,null,{"$f":"IF(D440=\"\",0,SUM(D$8:D440))","v":0},null,{"$f":"IF(F440=\"\",0,SUM(F$8:F440))","v":0}]
[null,null,null,null,{"$f":"IF(D441=\"\",0,SUM(D$8:D441))","v":0},null,{"$f":"IF(F441=\"\",0,SUM(F$8:F441))","v":0}]
[null,null,null,null,{"$f":"IF(D442=\"\",0,SUM(D$8:D442))","v":0},null,{"$f":"IF(F442=\"\",0,SUM(F$8:F442))","v":0}]
[null,null,null,null,{"$f":"IF(D443=\"\",0,SUM(D$8:D443))","v":0},null,{"$f":"IF(F443=\"\",0,SUM(F$8:F443))","v":0}]
[null,null,null,null,{"$f":"IF(D444=\"\",0,SUM(D$8:D444))","v":0},null,{"$f":"IF(F444=\"\",0,SUM(F$8:F444))","v":0}]
[null,null,null,null,{"$f":"IF(D445=\"\",0,SUM(D$8:D445))","v":0},null,{"$f":"IF(F445=\"\",0,SUM(F$8:F445))","v":0}]
[null,null,null,null,{"$f":"IF(D446=\"\",0,SUM(D$8:D446))","v":0},null,{"$f":"IF(F446=\"\",0,SUM(F$8:F446))","v":0}]
[null,null,null,null,{"$f":"IF(D447=\"\",0,SUM(D$8:D447))","v":0},null,{"$f":"IF(F447=\"\",0,SUM(F$8:F447))","v":0}]
[null,null,null,null,{"$f":"IF(D448=\"\",0,SUM(D$8:D448))","v":0},null,{"$f":"IF(F448=\"\",0,SUM(F$8:F448))","v":0}]
[null,null,null,null,{"$f":"IF(D449=\"\",0,SUM(D$8:D449))","v":0},null,{"$f":"IF(F449=\"\",0,SUM(F$8:F449))","v":0}]
[null,null,null,null,{"$f":"IF(D450=\"\",0,SUM(D$8:D450))","v":0},null,{"$f":"IF(F450=\"\",0,SUM(F$8:F450))","v":0}]
[null,null,null,null,{"$f":"IF(D451=\"\",0,SUM(D$8:D451))","v":0},null,{"$f":"IF(F451=\"\",0,SUM(F$8:F451))","v":0}]
[null,null,null,null,{"$f":"IF(D452=\"\",0,SUM(D$8:D452))","v":0},null,{"$f":"IF(F452=\"\",0,SUM(F$8:F452))","v":0}]
[null,null,null,null,{"$f":"IF(D453=\"\",0,SUM(D$8:D453))","v":0},null,{"$f":"IF(F453=\"\",0,SUM(F$8:F453))","v":0}]
[null,null,null,null,{"$f":"IF(D454=\"\",0,SUM(D$8:D454))","v":0},null,{"$f":"IF(F454=\"\",0,SUM(F$8:F454))","v":0}]
[null,null,null,null,{"$f":"IF(D455=\"\",0,SUM(D$8:D455))","v":0},null,{"$f":"IF(F455=\"\",0,SUM(F$8:F455))","v":0}]
[null,null,null,null,{"$f":"IF(D456=\"\",0,SUM(D$8:D456))","v":0},null,{"$f":"IF(F456=\"\",0,SUM(F$8:F456))","v":0}]
[null,null,null,null,{"$f":"IF(D457=\"\",0,SUM(D$8:D457))","v":0},null,{"$f":"IF(F457=\"\",0,SUM(F$8:F457))","v":0}]
[null,null,null,null,{"$f":"IF(D458=\"\",0,SUM(D$8:D458))","v":0},null,{"$f":"IF(F458=\"\",0,SUM(F$8:F458))","v":0}]
[null,null,null,null,{"$f":"IF(D459=\"\",0,SUM(D$8:D459))","v":0},null,{"$f":"IF(F459=\"\",0,SUM(F$8:F459))","v":0}]
[null,null,null,null,{"$f":"IF(D460=\"\",0,SUM(D$8:D460))","v":0},null,{"$f":"IF(F460=\"\",0,SUM(F$8:F460))","v":0}]
[null,null,null,null,{"$f":"IF(D461=\"\",0,SUM(D$8:D461))","v":0},null,{"$f":"IF(F461=\"\",0,SUM(F$8:F461))","v":0}]
[null,null,null,null,{"$f":"IF(D462=\"\",0,SUM(D$8:D462))","v":0},null,{"$f":"IF(F462=\"\",0,SUM(F$8:F462))","v":0}]
[null,null,null,null,{"$f":"IF(D463=\"\",0,SUM(D$8:D463))","v":0},null,{"$f":"IF(F463=\"\",0,SUM(F$8:F463))","v":0}]
[null,null,null,null,{"$f":"IF(D464=\"\",0,SUM(D$8:D464))","v":0},null,{"$f":"IF(F464=\"\",0,SUM(F$8:F464))","v":0}]
[null,null,null,null,{"$f":"IF(D465=\"\",0,SUM(D$8:D465))","v":0},null,{"$f":"IF(F465=\"\",0,SUM(F$8:F465))","v":0}]
[null,null,null,null,{"$f":"IF(D466=\"\",0,SUM(D$8:D466))","v":0},null,{"$f":"IF(F466=\"\",0,SUM(F$8:F466))","v":0}]
[null,null,null,null,{"$f":"IF(D467=\"\",0,SUM(D$8:D467))","v":0},null,{"$f":"IF(F467=\"\",0,SUM(F$8:F467))","v":0}]
[null,null,null,null,{"$f":"IF(D468=\"\",0,SUM(D$8:D468))","v":0},null,{"$f":"IF(F468=\"\",0,SUM(F$8:F468))","v":0}]
[null,null,null,null,{"$f":"IF(D469=\"\",0,SUM(D$8:D469))","v":0},null,{"$f":"IF(F469=\"\",0,SUM(F$8:F469))","v":0}]
[null,null,null,null,{"$f":"IF(D470=\"\",0,SUM(D$8:D470))","v":0},null,{"$f":"IF(F470=\"\",0,SUM(F$8:F470))","v":0}]
[null,null,null,null,{"$f":"IF(D471=\"\",0,SUM(D$8:D471))","v":0},null,{"$f":"IF(F471=\"\",0,SUM(F$8:F471))","v":0}]
[null,null,null,null,{"$f":"IF(D472=\"\",0,SUM(D$8:D472))","v":0},null,{"$f":"IF(F472=\"\",0,SUM(F$8:F472))","v":0}]
[null,null,null,null,{"$f":"IF(D473=\"\",0,SUM(D$8:D473))","v":0},null,{"$f":"IF(F473=\"\",0,SUM(F$8:F473))","v":0}]
[null,null,null,null,{"$f":"IF(D474=\"\",0,SUM(D$8:D474))","v":0},null,{"$f":"IF(F474=\"\",0,SUM(F$8:F474))","v":0}]
[null,null,null,null,{"$f":"IF(D475=\"\",0,SUM(D$8:D475))","v":0},null,{"$f":"IF(F475=\"\",0,SUM(F$8:F475))","v":0}]
[null,null,null,null,{"$f":"IF(D476=\"\",0,SUM(D$8:D476))","v":0},null,{"$f":"IF(F476=\"\",0,SUM(F$8:F476))","v":0}]
[null,null,null,null,{"$f":"IF(D477=\"\",0,SUM(D$8:D477))","v":0},null,{"$f":"IF(F477=\"\",0,SUM(F$8:F477))","v":0}]
[null,null,null,null,{"$f":"IF(D478=\"\",0,SUM(D$8:D478))","v":0},null,{"$f":"IF(F478=\"\",0,SUM(F$8:F478))","v":0}]
[null,null,null,null,{"$f":"IF(D479=\"\",0,SUM(D$8:D479))","v":0},null,{"$f":"IF(F479=\"\",0,SUM(F$8:F479))","v":0}]
[null,null,null,null,{"$f":"IF(D480=\"\",0,SUM(D$8:D480))","v":0},null,{"$f":"IF(F480=\"\",0,SUM(F$8:F480))","v":0}]
[null,null,null,null,{"$f":"IF(D481=\"\",0,SUM(D$8:D481))","v":0},null,{"$f":"IF(F481=\"\",0,SUM(F$8:F481))","v":0}]
[null,null,null,null,{"$f":"IF(D482=\"\",0,SUM(D$8:D482))","v":0},null,{"$f":"IF(F482=\"\",0,SUM(F$8:F482))","v":0}]
[null,null,null,null,{"$f":"IF(D483=\"\",0,SUM(D$8:D483))","v":0},null,{"$f":"IF(F483=\"\",0,SUM(F$8:F483))","v":0}]
[null,null,null,null,{"$f":"IF(D484=\"\",0,SUM(D$8:D484))","v":0},null,{"$f":"IF(F484=\"\",0,SUM(F$8:F484))","v":0}]
[null,null,null,null,{"$f":"IF(D485=\"\",0,SUM(D$8:D485))","v":0},null,{"$f":"IF(F485=\"\",0,SUM(F$8:F485))","v":0}]
[null,null,null,null,{"$f":"IF(D486=\"\",0,SUM(D$8:D486))","v":0},null,{"$f":"IF(F486=\"\",0,SUM(F$8:F486))","v":0}]

{"sheet":"Maturity 1","index":18,"n_rows":196,"n_cols":13,"rows_kept":196,"cut":false,"hidden":false,"merged":[[0,0,1,14],[3,0,3,1],[4,2,4,4],[4,7,4,9],[4,12,4,14],[5,2,5,4],[5,7,5,9],[5,12,5,14],[9,0,9,1],[10,2,10,4],[10,7,10,9],[10,12,10,14],[11,2,11,4],[11,7,11,9],[11,12,11,14],[6,2,6,4],[6,7,6,9],[6,12,6,14],[7,12,7,14],[8,2,8,4],[8,7,8,9],[8,12,8,14],[17,2,17,6],[18,2,18,6],[19,2,19,6],[20,2,20,6],[23,0,23,1],[24,2,24,4],[12,2,12,4],[12,7,12,9],[13,2,13,4],[13,7,13,9],[15,2,15,6],[16,2,16,6],[14,8,15,11],[29,0,29,1],[24,7,24,9],[24,12,24,14],[25,2,25,4],[25,7,25,9],[25,12,25,14],[26,2,26,4],[26,7,26,9],[26,12,26,14],[30,2,30,4],[30,7,30,9],[30,12,30,14],[31,2,31,4],[31,7,31,9],[31,12,31,14],[27,7,27,9],[27,12,27,14],[28,2,28,4],[28,7,28,9],[28,12,28,14],[35,2,35,6],[36,2,36,6],[37,2,37,6],[38,2,38,6],[39,2,39,6],[40,2,40,6],[32,2,32,4],[32,7,32,9],[32,16,33,17],[33,2,33,4],[33,7,33,9],[33,12,33,14],[46,2,46,4],[46,7,46,9],[46,12,46,14],[47,7,47,9],[47,12,47,14],[48,2,48,4],[48,7,48,9],[48,12,48,14],[43,0,43,1],[44,2,44,4],[44,7,44,9],[44,12,44,14],[45,2,45,4],[45,7,45,9],[45,12,45,14],[52,2,52,4],[52,7,52,9],[52,16,53,17],[53,2,53,4],[53,7,53,9],[53,12,53,14],[49,0,49,1],[50,2,50,4],[50,7,50,9],[50,12,50,14],[51,2,51,4],[51,7,51,9],[51,12,51,14],[63,0,63,1],[64,2,64,4],[64,7,64,9],[64,12,64,14],[65,2,65,4],[65,7,65,9],[65,12,65,14],[55,2,55,6],[56,2,56,6],[57,2,57,6],[58,2,58,6],[59,2,59,6],[60,2,60,6],[69,0,69,1],[70,2,70,4],[70,7,70,9],[70,12,70,14],[71,2,71,4],[71,7,71,9],[71,12,71,14],[66,2,66,4],[66,7,66,9],[66,12,66,14],[67,7,67,9],[67,12,67,14],[68,2,68,4],[68,7,68,9],[68,12,68,14],[75,2,75,6],[76,2,76,6],[77,2,77,6],[78,2,78,6],[79,2,79,6],[80,2,80,6],[72,2,72,4],[72,7,72,9],[72,16,73,17],[73,2,73,4],[73,7,73,9],[73,12,73,14],[86,2,86,4],[86,7,86,9],[86,12,86,14],[87,7,87,9],[87,12,87,14],[88,2,88,4],[88,7,88,9],[88,12,88,14],[83,0,83,1],[84,2,84,4],[84,7,84,9],[84,12,84,14],[85,2,85,4],[85,7,85,9],[85,12,85,14],[92,2,92,4],[92,7,92,9],[92,16,93,17],[93,2,93,4],[93,7,93,9],[93,12,93,14],[89,0,89,1],[90,2,90,4],[90,7,90,9],[90,12,90,14],[91,2,91,4],[91,7,91,9],[91,12,91,14],[103,0,103,1],[104,2,104,4],[104,7,104,9],[104,12,104,14],[105,2,105,4],[105,7,105,9],[105,12,105,14],[95,2,95,6],[96,2,96,6],[97,2,97,6],[98,2,98,6],[99,2,99,6],[100,2,100,6],[109,0,109,1],[110,2,110,4],[110,7,110,9],[110,12,110,14],[111,2,111,4],[111,7,111,9],[111,12,111,14],[106,2,106,4],[106,7,106,9],[106,12,106,14],[107,7,107,9],[107,12,107,14],[108,2,108,4],[108,7,108,9],[108,12,108,14],[115,2,115,6],[116,2,116,6],[117,2,117,6],[118,2,118,6],[119,2,119,6],[120,2,120,6],[112,2,112,4],[112,7,112,9],[112,16,113,17],[113,2,113,4],[113,7,113,9],[113,12,113,14],[126,2,126,4],[126,7,126,9],[126,12,126,14],[127,7,127,9],[127,12,127,14],[128,2,128,4],[128,7,128,9],[128,12,128,14],[123,0,123,1],[124,2,124,4],[124,7,124,9],[124,12,124,14],[125,2,125,4],[125,7,125,9],[125,12,125,14],[132,2,132,4],[132,7,132,9],[132,16,133,17],[133,2,133,4],[133,7,133,9],[133,12,133,14],[129,0,129,1],[130,2,130,4],[130,7,130,9],[130,12,130,14],[131,2,131,4],[131,7,131,9],[131,12,131,14],[143,0,143,1],[144,2,144,4],[144,7,144,9],[144,12,144,14],[145,2,145,4],[145,7,145,9],[145,12,145,14],[135,2,135,6],[136,2,136,6],[137,2,137,6],[138,2,138,6],[139,2,139,6],[140,2,140,6],[149,0,149,1],[150,2,150,4],[150,7,150,9],[150,12,150,14],[151,2,151,4],[151,7,151,9],[151,12,151,14],[146,2,146,4],[146,7,146,9],[146,12,146,14],[147,7,147,9],[147,12,147,14],[148,2,148,4],[148,7,148,9],[148,12,148,14],[155,2,155,6],[156,2,156,6],[157,2,157,6],[158,2,158,6],[159,2,159,6],[160,2,160,6],[152,2,152,4],[152,7,152,9],[152,16,153,17],[153,2,153,4],[153,7,153,9],[153,12,153,14],[166,2,166,4],[166,7,166,9],[166,12,166,14],[167,7,167,9],[167,12,167,14],[168,2,168,4],[168,7,168,9],[168,12,168,14],[163,0,163,1],[164,2,164,4],[164,7,164,9],[164,12,164,14],[165,2,165,4],[165,7,165,9],[165,12,165,14],[172,2,172,4],[172,7,172,9],[172,16,173,17],[173,2,173,4],[173,7,173,9],[173,12,173,14],[169,0,169,1],[170,2,170,4],[170,7,170,9],[170,12,170,14],[171,2,171,4],[171,7,171,9],[171,12,171,14],[183,0,183,1],[184,2,184,4],[184,7,184,9],[184,12,184,14],[185,2,185,4],[185,7,185,9],[185,12,185,14],[175,2,175,6],[176,2,176,6],[177,2,177,6],[178,2,178,6],[179,2,179,6],[180,2,180,6],[189,0,189,1],[190,2,190,4],[190,7,190,9],[190,12,190,14],[191,2,191,4],[191,7,191,9],[191,12,191,14],[186,2,186,4],[186,7,186,9],[186,12,186,14],[187,7,187,9],[187,12,187,14],[188,2,188,4],[188,7,188,9],[188,12,188,14],[195,2,195,6],[196,2,196,6],[197,2,197,6],[198,2,198,6],[199,2,199,6],[200,2,200,6],[192,2,192,4],[192,7,192,9],[192,16,193,17],[193,2,193,4],[193,7,193,9],[193,12,193,14],[194,12,194,14],[12,12,12,14],[34,12,34,14],[54,12,54,14],[74,12,74,14],[94,12,94,14],[114,12,114,14],[134,12,134,14],[154,12,154,14],[174,12,174,14]]}
["Flexural Maturity Summary"]
[]
["NOTE: IF YOU ARE USING A MATURITY REPORT OLDER THAN v2.5; PLEASE UPDATE TO THE NEWEST VERSION BEFORE USING THIS TAB."]
["Original Curve",null,"C. Barko",null,null,null,null,null,null,null,null,null,"v 6.0"]
[null,"Curve #:",null,null,null,null,"Monitor:",null,null,null,null,"Inspector:"]
[null,"Project #:",null,null,null,null,"Concrete Suplier:",null,null,null,null,"Date Valid:"]
[null,"Beam Size:",null,null,null,null,"Plant Location:",null,null,null,null,{"$f":"IF(L8<>\"\",\"\", \"Expiration Date:\")","v":"Expiration Date:"}]
[null,null,null,null,null,null,null,null,null,null,null,{"$f":"IF(M6=\"\",\"\", IF(M7<>\"\",\"\", \"Expiration Date:\"))","v":""},{"$f":"IF(AND(M6<>\"\", M7=\"\"), (M6+90),\"\")","v":""}]
[null,"Mix:",null,null,null,null,"W/C Ratio:",null,null,null,null,"Max W/C on Grade:"]
["Mix Info"]
[null,"Cement:",null,null,null,null,"FlyAsh:",null,null,null,null,"GGBFS:"]
[null,"Coarse Agg:",null,null,null,null,"Intermediate Agg:",null,null,null,null,"Fine Agg:"]
[null,"Water Reducer:",null,null,null,null,"Air:",null,null,null,null,"CarbonCure:",0]
[null,"Flexural Strength PSI:",null,null,null,null,"TTF to Open:"]
[null,null,null,null,null,null,null,null,"Click Here To Import Your Maturity Curve"]
[null,"Comments:"]
[]
[]
[]
[]
[]
[]
[]
["Validation 1",null,{"$f":"IF(C25=\"\",\"\", IF($C$5<>C25, \"Oops, Something Went Wrong. Please Verify You Imported the Correct Validation\",\"\"))","v":""}]
[null,"Curve #:",null,null,null,null,"Monitor:",null,null,null,null,"Inspector:"]
[null,"Project #:",{"$f":"IF(AND($C$6<>\"\",H29<>\"\"), $C$6,\"\")","v":""},null,null,null,"Concrete Suplier:",{"$f":"IF(AND($H$6<>\"\",H29<>\"\"),$H$6,\"\")","v":""},null,null,null,"Validation Date:"]
[null,"Validation Project #:",null,null,null,null,"Plant Location:",null,null,null,null,{"$f":"IF(L28<>\"\",\"\", \"Expiration Date:\")","v":"Expiration Date:"}]
[null,null,null,null,null,null,"Beam Size:",null,null,null,null,{"$f":"IF(M26=\"\",\"\", IF(M27<>\"\",\"\", \"Expiration Date:\"))","v":""},{"$f":"IF(AND(M26<>\"\", M27=\"\"), (M26+90),\"\")","v":""}]
[null,"Mix:",null,null,null,null,"W/C Ratio:",null,null,null,null,"Max W/C on Grade:",{"$f":"IF(AND(M9<>\"\", H29<>\"\"),M9,\"\")","v":""}]
["Mix Changes",null,{"$f":"IF(C29=\"\",\"\", IF($C$9<>C29, \"Oops, Something Went Wrong. Please Verify You Imported the Correct Validation\",\"\"))","v":""}]
[null,"Cement:",null,null,null,null,"FlyAsh:",null,null,null,null,"GGBFS:"]
[null,"Coarse Agg:",null,null,null,null,"Intermediate Agg:",null,null,null,null,"Fine Agg:"]
[null,"Water Reducer:",null,null,null,null,"Air:"]
[null,"Flexural Strength PSI:",null,null,null,null,"TTF to Open:",null,null,null,null,"TTF @ Break:"]
[null,null,null,null,null,null,null,null,null,null,null,"CarbonCure:"]
[null,"Comments:"]
[]
[]
[]
[]
[]
[]
[]
["Validation 2",null,{"$f":"IF(C45=\"\",\"\", IF($C$5<>C45, \"Oops, Something Went Wrong. Please Verify You Imported the Correct Validation\",\"\"))","v":""}]
[null,"Curve #:",null,null,null,null,"Monitor:",null,null,null,null,"Inspector:"]
[null,"Project #:",{"$f":"IF(AND($C$6<>\"\",H49<>\"\"), $C$6,\"\")","v":""},null,null,null,"Concrete Suplier:",{"$f":"IF(AND($H$6<>\"\",H49<>\"\"),$H$6,\"\")","v":""},null,null,null,"Validation Date:"]
[null,"Validation Project #:",null,null,null,null,"Plant Location:",null,null,null,null,{"$f":"IF(L48<>\"\",\"\", \"Expiration Date:\")","v":"Expiration Date:"}]
[null,null,null,null,null,null,"Beam Size:",null,null,null,null,{"$f":"IF(M46=\"\",\"\", IF(M47<>\"\",\"\", \"Expiration Date:\"))","v":""},{"$f":"IF(AND(M46<>\"\", M47=\"\"), (M46+90),\"\")","v":""}]
[null,"Mix:",null,null,null,null,"W/C Ratio:",null,null,null,null,"Max W/C on Grade:",{"$f":"IF(AND(M9<>\"\", H49<>\"\"),M9,\"\")","v":""}]
["Mix Changes",null,{"$f":"IF(C49=\"\",\"\", IF($C$9<>C49, \"Oops, Something Went Wrong. Please Verify You Imported the Correct Validation\",\"\"))","v":""}]
[null,"Cement:",null,null,null,null,"FlyAsh:",null,null,null,null,"GGBFS:"]
[null,"Coarse Agg:",null,null,null,null,"Intermediate Agg:",null,null,null,null,"Fine Agg:"]
[null,"Water Reducer:",null,null,null,null,"Air:"]
[null,"Flexural Strength PSI:",null,null,null,null,"TTF to Open:",null,null,null,null,"TTF @ Break:"]
[null,null,null,null,null,null,null,null,null,null,null,"CarbonCure:"]
[null,"Comments:"]
[]
[]
[]
[]
[]
[]
[]
["Validation 3",null,{"$f":"IF(C65=\"\",\"\", IF($C$5<>C65, \"Oops, Something Went Wrong. Please Verify You Imported the Correct Validation\",\"\"))","v":""}]
[null,"Curve #:",null,null,null,null,"Monitor:",null,null,null,null,"Inspector:"]
[null,"Project #:",{"$f":"IF(AND($C$6<>\"\",H69<>\"\"), $C$6,\"\")","v":""},null,null,null,"Concrete Suplier:",{"$f":"IF(AND($H$6<>\"\",H69<>\"\"),$H$6,\"\")","v":""},null,null,null,"Validation Date:"]
[null,"Validation Project #:",null,null,null,null,"Plant Location:",null,null,null,null,{"$f":"IF(L68<>\"\",\"\", \"Expiration Date:\")","v":"Expiration Date:"}]
[null,null,null,null,null,null,"Beam Size:",null,null,null,null,{"$f":"IF(M66=\"\",\"\", IF(M67<>\"\",\"\", \"Expiration Date:\"))","v":""},{"$f":"IF(AND(M66<>\"\", M67=\"\"), (M66+90),\"\")","v":""}]
[null,"Mix:",null,null,null,null,"W/C Ratio:",null,null,null,null,"Max W/C on Grade:",{"$f":"IF(AND(M9<>\"\",H69<>\"\"),M9,\"\")","v":""}]
["Mix Changes",null,{"$f":"IF(C69=\"\",\"\", IF($C$9<>C69, \"Oops, Something Went Wrong. Please Verify You Imported the Correct Validation\",\"\"))","v":""}]
[null,"Cement:",null,null,null,null,"FlyAsh:",null,null,null,null,"GGBFS:"]
[null,"Coarse Agg:",null,null,null,null,"Intermediate Agg:",null,null,null,null,"Fine Agg:"]
[null,"Water Reducer:",null,null,null,null,"Air:"]
[null,"Flexural Strength PSI:",null,null,null,null,"TTF to Open:",null,null,null,null,"TTF @ Break:"]
[null,null,null,null,null,null,null,null,null,null,null,"CarbonCure:"]
[null,"Comments:"]
[]
[]
[]
[]
[]
[]
[]
["Validation 4",null,{"$f":"IF(C85=\"\",\"\", IF($C$5<>C85, \"Oops, Something Went Wrong. Please Verify You Imported the Correct Validation\",\"\"))","v":""}]
[null,"Curve #:",null,null,null,null,"Monitor:",null,null,null,null,"Inspector:"]
[null,"Project #:",{"$f":"IF(AND($C$6<>\"\",H89<>\"\"), $C$6,\"\")","v":""},null,null,null,"Concrete Suplier:",{"$f":"IF(AND($H$6<>\"\",H89<>\"\"),$H$6,\"\")","v":""},null,null,null,"Validation Date:"]
[null,"Validation Project #:",null,null,null,null,"Plant Location:",null,null,null,null,{"$f":"IF(L88<>\"\",\"\", \"Expiration Date:\")","v":"Expiration Date:"}]
[null,null,null,null,null,null,"Beam Size:",null,null,null,null,{"$f":"IF(M86=\"\",\"\", IF(M87<>\"\",\"\", \"Expiration Date:\"))","v":""},{"$f":"IF(AND(M86<>\"\", M87=\"\"), (M86+90),\"\")","v":""}]
[null,"Mix:",null,null,null,null,"W/C Ratio:",null,null,null,null,"Max W/C on Grade:",{"$f":"IF(AND(M9<>\"\", H89<>\"\"),M9,\"\")","v":""}]
["Mix Changes",null,{"$f":"IF(C89=\"\",\"\", IF($C$9<>C89, \"Oops, Something Went Wrong. Please Verify You Imported the Correct Validation\",\"\"))","v":""}]
[null,"Cement:",null,null,null,null,"FlyAsh:",null,null,null,null,"GGBFS:"]
[null,"Coarse Agg:",null,null,null,null,"Intermediate Agg:",null,null,null,null,"Fine Agg:"]
[null,"Water Reducer:",null,null,null,null,"Air:"]
[null,"Flexural Strength PSI:",null,null,null,null,"TTF to Open:",null,null,null,null,"TTF @ Break:"]
[null,null,null,null,null,null,null,null,null,null,null,"CarbonCure:"]
[null,"Comments:"]
[]
[]
[]
[]
[]
[]
[]
["Validation 5",null,{"$f":"IF(C105=\"\",\"\", IF($C$5<>C105, \"Oops, Something Went Wrong. Please Verify You Imported the Correct Validation\",\"\"))","v":""}]
[null,"Curve #:",null,null,null,null,"Monitor:",null,null,null,null,"Inspector:"]
[null,"Project #:",{"$f":"IF(AND($C$6<>\"\",H109<>\"\"), $C$6,\"\")","v":""},null,null,null,"Concrete Suplier:",{"$f":"IF(AND($H$6<>\"\",H109<>\"\"),$H$6,\"\")","v":""},null,null,null,"Validation Date:"]
[null,"Validation Project #:",null,null,null,null,"Plant Location:",null,null,null,null,{"$f":"IF(L108<>\"\",\"\", \"Expiration Date:\")","v":"Expiration Date:"}]
[null,null,null,null,null,null,"Beam Size:",null,null,null,null,{"$f":"IF(M106=\"\",\"\", IF(M107<>\"\",\"\", \"Expiration Date:\"))","v":""},{"$f":"IF(AND(M106<>\"\", M107=\"\"), (M106+90),\"\")","v":""}]
[null,"Mix:",null,null,null,null,"W/C Ratio:",null,null,null,null,"Max W/C on Grade:",{"$f":"IF(AND(M9<>\"\", H109<>\"\"),M9,\"\")","v":""}]
["Mix Changes",null,{"$f":"IF(C109=\"\",\"\", IF($C$9<>C109, \"Oops, Something Went Wrong. Please Verify You Imported the Correct Validation\",\"\"))","v":""}]
[null,"Cement:",null,null,null,null,"FlyAsh:",null,null,null,null,"GGBFS:"]
[null,"Coarse Agg:",null,null,null,null,"Intermediate Agg:",null,null,null,null,"Fine Agg:"]
[null,"Water Reducer:",null,null,null,null,"Air:"]
[null,"Flexural Strength PSI:",null,null,null,null,"TTF to Open:",null,null,null,null,"TTF @ Break:"]
[null,null,null,null,null,null,null,null,null,null,null,"CarbonCure:"]
[null,"Comments:"]
[]
[]
[]
[]
[]
[]
[]
["Validation 6",null,{"$f":"IF(C125=\"\",\"\", IF($C$5<>C125, \"Oops, Something Went Wrong. Please Verify You Imported the Correct Validation\",\"\"))","v":""}]
[null,"Curve #:",null,null,null,null,"Monitor:",null,null,null,null,"Inspector:"]
[null,"Project #:",{"$f":"IF(AND($C$6<>\"\",H129<>\"\"), $C$6,\"\")","v":""},null,null,null,"Concrete Suplier:",{"$f":"IF(AND($H$6<>\"\",H129<>\"\"),$H$6,\"\")","v":""},null,null,null,"Validation Date:"]
[null,"Validation Project #:",null,null,null,null,"Plant Location:",null,null,null,null,{"$f":"IF(L128<>\"\",\"\", \"Expiration Date:\")","v":"Expiration Date:"}]
[null,null,null,null,null,null,"Beam Size:",null,null,null,null,{"$f":"IF(M126=\"\",\"\", IF(M127<>\"\",\"\", \"Expiration Date:\"))","v":""},{"$f":"IF(AND(M126<>\"\", M127=\"\"), (M126+90),\"\")","v":""}]
[null,"Mix:",null,null,null,null,"W/C Ratio:",null,null,null,null,"Max W/C on Grade:",{"$f":"IF(AND(M9<>\"\", H129<>\"\"),M9,\"\")","v":""}]
["Mix Changes",null,{"$f":"IF(C129=\"\",\"\", IF($C$9<>C129, \"Oops, Something Went Wrong. Please Verify You Imported the Correct Validation\",\"\"))","v":""}]
[null,"Cement:",null,null,null,null,"FlyAsh:",null,null,null,null,"GGBFS:"]
[null,"Coarse Agg:",null,null,null,null,"Intermediate Agg:",null,null,null,null,"Fine Agg:"]
[null,"Water Reducer:",null,null,null,null,"Air:"]
[null,"Flexural Strength PSI:",null,null,null,null,"TTF to Open:",null,null,null,null,"TTF @ Break:"]
[null,null,null,null,null,null,null,null,null,null,null,"CarbonCure:"]
[null,"Comments:"]
[]
[]
[]
[]
[]
[]
[]
["Validation 7",null,{"$f":"IF(C145=\"\",\"\", IF($C$5<>C145, \"Oops, Something Went Wrong. Please Verify You Imported the Correct Validation\",\"\"))","v":""}]
[null,"Curve #:",null,null,null,null,"Monitor:",null,null,null,null,"Inspector:"]
[null,"Project #:",{"$f":"IF(AND($C$6<>\"\",H149<>\"\"), $C$6,\"\")","v":""},null,null,null,"Concrete Suplier:",{"$f":"IF(AND($H$6<>\"\",H149<>\"\"),$H$6,\"\")","v":""},null,null,null,"Validation Date:"]
[null,"Validation Project #:",null,null,null,null,"Plant Location:",null,null,null,null,{"$f":"IF(L148<>\"\",\"\", \"Expiration Date:\")","v":"Expiration Date:"}]
[null,null,null,null,null,null,"Beam Size:",null,null,null,null,{"$f":"IF(M146=\"\",\"\", IF(M147<>\"\",\"\", \"Expiration Date:\"))","v":""},{"$f":"IF(AND(M146<>\"\", M147=\"\"), (M146+90),\"\")","v":""}]
[null,"Mix:",null,null,null,null,"W/C Ratio:",null,null,null,null,"Max W/C on Grade:",{"$f":"IF(AND(M9<>\"\", H149<>\"\"),M9,\"\")","v":""}]
["Mix Changes",null,{"$f":"IF(C149=\"\",\"\", IF($C$9<>C149, \"Oops, Something Went Wrong. Please Verify You Imported the Correct Validation\",\"\"))","v":""}]
[null,"Cement:",null,null,null,null,"FlyAsh:",null,null,null,null,"GGBFS:"]
[null,"Coarse Agg:",null,null,null,null,"Intermediate Agg:",null,null,null,null,"Fine Agg:"]
[null,"Water Reducer:",null,null,null,null,"Air:"]
[null,"Flexural Strength PSI:",null,null,null,null,"TTF to Open:",null,null,null,null,"TTF @ Break:"]
[null,null,null,null,null,null,null,null,null,null,null,"CarbonCure:"]
[null,"Comments:"]
[]
[]
[]
[]
[]
[]
[]
["Validation 8",null,{"$f":"IF(C165=\"\",\"\", IF($C$5<>C165, \"Oops, Something Went Wrong. Please Verify You Imported the Correct Validation\",\"\"))","v":""}]
[null,"Curve #:",null,null,null,null,"Monitor:",null,null,null,null,"Inspector:"]
[null,"Project #:",{"$f":"IF(AND($C$6<>\"\",H169<>\"\"), $C$6,\"\")","v":""},null,null,null,"Concrete Suplier:",{"$f":"IF(AND($H$6<>\"\",H169<>\"\"),$H$6,\"\")","v":""},null,null,null,"Validation Date:"]
[null,"Validation Project #:",null,null,null,null,"Plant Location:",null,null,null,null,{"$f":"IF(L168<>\"\",\"\", \"Expiration Date:\")","v":"Expiration Date:"}]
[null,null,null,null,null,null,"Beam Size:",null,null,null,null,{"$f":"IF(M166=\"\",\"\", IF(M167<>\"\",\"\", \"Expiration Date:\"))","v":""},{"$f":"IF(AND(M166<>\"\", M167=\"\"), (M166+90),\"\")","v":""}]
[null,"Mix:",null,null,null,null,"W/C Ratio:",null,null,null,null,"Max W/C on Grade:",{"$f":"IF(AND(M9<>\"\", H169<>\"\"),M9,\"\")","v":""}]
["Mix Changes",null,{"$f":"IF(C169=\"\",\"\", IF($C$9<>C169, \"Oops, Something Went Wrong. Please Verify You Imported the Correct Validation\",\"\"))","v":""}]
[null,"Cement:",null,null,null,null,"FlyAsh:",null,null,null,null,"GGBFS:"]
[null,"Coarse Agg:",null,null,null,null,"Intermediate Agg:",null,null,null,null,"Fine Agg:"]
[null,"Water Reducer:",null,null,null,null,"Air:"]
[null,"Flexural Strength PSI:",null,null,null,null,"TTF to Open:",null,null,null,null,"TTF @ Break:"]
[null,null,null,null,null,null,null,null,null,null,null,"CarbonCure:"]
[null,"Comments:"]
[]
[]
[]
[]
[]
[]
[]
["Validation 9",null,{"$f":"IF(C185=\"\",\"\", IF($C$5<>C185, \"Oops, Something Went Wrong. Please Verify You Imported the Correct Validation\",\"\"))","v":""}]
[null,"Curve #:",null,null,null,null,"Monitor:",null,null,null,null,"Inspector:"]
[null,"Project #:",{"$f":"IF(AND($C$6<>\"\",H189<>\"\"), $C$6,\"\")","v":""},null,null,null,"Concrete Suplier:",{"$f":"IF(AND($H$6<>\"\",H189<>\"\"),$H$6,\"\")","v":""},null,null,null,"Validation Date:"]
[null,"Validation Project #:",null,null,null,null,"Plant Location:",null,null,null,null,{"$f":"IF(L188<>\"\",\"\", \"Expiration Date:\")","v":"Expiration Date:"}]
[null,null,null,null,null,null,"Beam Size:",null,null,null,null,{"$f":"IF(M186=\"\",\"\", IF(M187<>\"\",\"\", \"Expiration Date:\"))","v":""},{"$f":"IF(AND(M186<>\"\", M187=\"\"), (M186+90),\"\")","v":""}]
[null,"Mix:",null,null,null,null,"W/C Ratio:",null,null,null,null,"Max W/C on Grade:",{"$f":"IF(AND(M9<>\"\",H189<>\"\"),M9,\"\")","v":""}]
["Mix Changes",null,{"$f":"IF(C189=\"\",\"\", IF($C$9<>C189, \"Oops, Something Went Wrong. Please Verify You Imported the Correct Validation\",\"\"))","v":""}]
[null,"Cement:",null,null,null,null,"FlyAsh:",null,null,null,null,"GGBFS:"]
[null,"Coarse Agg:",null,null,null,null,"Intermediate Agg:",null,null,null,null,"Fine Agg:"]
[null,"Water Reducer:",null,null,null,null,"Air:"]
[null,"Flexural Strength PSI:",null,null,null,null,"TTF to Open:",null,null,null,null,"TTF @ Break:"]
[null,null,null,null,null,null,null,null,null,null,null,"CarbonCure:"]
[null,"Comments:"]

{"sheet":"Maturity 2","index":19,"n_rows":196,"n_cols":13,"rows_kept":196,"cut":false,"hidden":false,"merged":[[0,0,1,14],[3,0,3,1],[4,2,4,4],[4,7,4,9],[4,12,4,14],[5,2,5,4],[5,7,5,9],[5,12,5,14],[9,0,9,1],[10,2,10,4],[10,7,10,9],[10,12,10,14],[11,2,11,4],[11,7,11,9],[11,12,11,14],[6,2,6,4],[6,7,6,9],[6,12,6,14],[7,12,7,14],[8,2,8,4],[8,7,8,9],[8,12,8,14],[17,2,17,6],[18,2,18,6],[19,2,19,6],[20,2,20,6],[23,0,23,1],[24,2,24,4],[12,2,12,4],[12,7,12,9],[13,2,13,4],[13,7,13,9],[15,2,15,6],[16,2,16,6],[14,8,15,11],[29,0,29,1],[24,7,24,9],[24,12,24,14],[25,2,25,4],[25,7,25,9],[25,12,25,14],[26,2,26,4],[26,7,26,9],[26,12,26,14],[30,2,30,4],[30,7,30,9],[30,12,30,14],[31,2,31,4],[31,7,31,9],[31,12,31,14],[27,7,27,9],[27,12,27,14],[28,2,28,4],[28,7,28,9],[28,12,28,14],[35,2,35,6],[36,2,36,6],[37,2,37,6],[38,2,38,6],[39,2,39,6],[40,2,40,6],[32,2,32,4],[32,7,32,9],[32,16,33,17],[33,2,33,4],[33,7,33,9],[33,12,33,14],[46,2,46,4],[46,7,46,9],[46,12,46,14],[47,7,47,9],[47,12,47,14],[48,2,48,4],[48,7,48,9],[48,12,48,14],[43,0,43,1],[44,2,44,4],[44,7,44,9],[44,12,44,14],[45,2,45,4],[45,7,45,9],[45,12,45,14],[52,2,52,4],[52,7,52,9],[52,16,53,17],[53,2,53,4],[53,7,53,9],[53,12,53,14],[49,0,49,1],[50,2,50,4],[50,7,50,9],[50,12,50,14],[51,2,51,4],[51,7,51,9],[51,12,51,14],[63,0,63,1],[64,2,64,4],[64,7,64,9],[64,12,64,14],[65,2,65,4],[65,7,65,9],[65,12,65,14],[55,2,55,6],[56,2,56,6],[57,2,57,6],[58,2,58,6],[59,2,59,6],[60,2,60,6],[69,0,69,1],[70,2,70,4],[70,7,70,9],[70,12,70,14],[71,2,71,4],[71,7,71,9],[71,12,71,14],[66,2,66,4],[66,7,66,9],[66,12,66,14],[67,7,67,9],[67,12,67,14],[68,2,68,4],[68,7,68,9],[68,12,68,14],[75,2,75,6],[76,2,76,6],[77,2,77,6],[78,2,78,6],[79,2,79,6],[80,2,80,6],[72,2,72,4],[72,7,72,9],[72,16,73,17],[73,2,73,4],[73,7,73,9],[73,12,73,14],[86,2,86,4],[86,7,86,9],[86,12,86,14],[87,7,87,9],[87,12,87,14],[88,2,88,4],[88,7,88,9],[88,12,88,14],[83,0,83,1],[84,2,84,4],[84,7,84,9],[84,12,84,14],[85,2,85,4],[85,7,85,9],[85,12,85,14],[92,2,92,4],[92,7,92,9],[92,16,93,17],[93,2,93,4],[93,7,93,9],[93,12,93,14],[89,0,89,1],[90,2,90,4],[90,7,90,9],[90,12,90,14],[91,2,91,4],[91,7,91,9],[91,12,91,14],[103,0,103,1],[104,2,104,4],[104,7,104,9],[104,12,104,14],[105,2,105,4],[105,7,105,9],[105,12,105,14],[95,2,95,6],[96,2,96,6],[97,2,97,6],[98,2,98,6],[99,2,99,6],[100,2,100,6],[109,0,109,1],[110,2,110,4],[110,7,110,9],[110,12,110,14],[111,2,111,4],[111,7,111,9],[111,12,111,14],[106,2,106,4],[106,7,106,9],[106,12,106,14],[107,7,107,9],[107,12,107,14],[108,2,108,4],[108,7,108,9],[108,12,108,14],[115,2,115,6],[116,2,116,6],[117,2,117,6],[118,2,118,6],[119,2,119,6],[120,2,120,6],[112,2,112,4],[112,7,112,9],[112,16,113,17],[113,2,113,4],[113,7,113,9],[113,12,113,14],[126,2,126,4],[126,7,126,9],[126,12,126,14],[127,7,127,9],[127,12,127,14],[128,2,128,4],[128,7,128,9],[128,12,128,14],[123,0,123,1],[124,2,124,4],[124,7,124,9],[124,12,124,14],[125,2,125,4],[125,7,125,9],[125,12,125,14],[132,2,132,4],[132,7,132,9],[132,16,133,17],[133,2,133,4],[133,7,133,9],[133,12,133,14],[129,0,129,1],[130,2,130,4],[130,7,130,9],[130,12,130,14],[131,2,131,4],[131,7,131,9],[131,12,131,14],[143,0,143,1],[144,2,144,4],[144,7,144,9],[144,12,144,14],[145,2,145,4],[145,7,145,9],[145,12,145,14],[135,2,135,6],[136,2,136,6],[137,2,137,6],[138,2,138,6],[139,2,139,6],[140,2,140,6],[149,0,149,1],[150,2,150,4],[150,7,150,9],[150,12,150,14],[151,2,151,4],[151,7,151,9],[151,12,151,14],[146,2,146,4],[146,7,146,9],[146,12,146,14],[147,7,147,9],[147,12,147,14],[148,2,148,4],[148,7,148,9],[148,12,148,14],[155,2,155,6],[156,2,156,6],[157,2,157,6],[158,2,158,6],[159,2,159,6],[160,2,160,6],[152,2,152,4],[152,7,152,9],[152,16,153,17],[153,2,153,4],[153,7,153,9],[153,12,153,14],[166,2,166,4],[166,7,166,9],[166,12,166,14],[167,7,167,9],[167,12,167,14],[168,2,168,4],[168,7,168,9],[168,12,168,14],[163,0,163,1],[164,2,164,4],[164,7,164,9],[164,12,164,14],[165,2,165,4],[165,7,165,9],[165,12,165,14],[172,2,172,4],[172,7,172,9],[172,16,173,17],[173,2,173,4],[173,7,173,9],[173,12,173,14],[169,0,169,1],[170,2,170,4],[170,7,170,9],[170,12,170,14],[171,2,171,4],[171,7,171,9],[171,12,171,14],[183,0,183,1],[184,2,184,4],[184,7,184,9],[184,12,184,14],[185,2,185,4],[185,7,185,9],[185,12,185,14],[175,2,175,6],[176,2,176,6],[177,2,177,6],[178,2,178,6],[179,2,179,6],[180,2,180,6],[189,0,189,1],[190,2,190,4],[190,7,190,9],[190,12,190,14],[191,2,191,4],[191,7,191,9],[191,12,191,14],[186,2,186,4],[186,7,186,9],[186,12,186,14],[187,7,187,9],[187,12,187,14],[188,2,188,4],[188,7,188,9],[188,12,188,14],[195,2,195,6],[196,2,196,6],[197,2,197,6],[198,2,198,6],[199,2,199,6],[200,2,200,6],[192,2,192,4],[192,7,192,9],[192,16,193,17],[193,2,193,4],[193,7,193,9],[193,12,193,14]]}
["Flexural Maturity Summary"]
[]
["NOTE: IF YOU ARE USING A MATURITY REPORT OLDER THAN v2.5; PLEASE UPDATE TO THE NEWEST VERSION BEFORE USING THIS TAB."]
["Original Curve",null,"C. Barko"]
[null,"Curve #:",null,null,null,null,"Monitor:",null,null,null,null,"Inspector:"]
[null,"Project #:",null,null,null,null,"Concrete Suplier:",null,null,null,null,"Date Valid:"]
[null,"Beam Size:",null,null,null,null,"Plant Location:",null,null,null,null,{"$f":"IF(L8<>\"\",\"\", \"Expiration Date:\")","v":"Expiration Date:"}]
[null,null,null,null,null,null,null,null,null,null,null,{"$f":"IF(M6=\"\",\"\", IF(M7<>\"\",\"\", \"Expiration Date:\"))","v":""},{"$f":"IF(AND(M6<>\"\", M7=\"\"), (M6+90),\"\")","v":""}]
[null,"Mix:",null,null,null,null,"W/C Ratio:",null,null,null,null,"Max W/C on Grade:"]
["Mix Info"]
[null,"Cement:",null,null,null,null,"FlyAsh:",null,null,null,null,"GGBFS:"]
[null,"Coarse Agg:",null,null,null,null,"Intermediate Agg:",null,null,null,null,"Fine Agg:"]
[null,"Water Reducer:",null,null,null,null,"Air:"]
[null,"Flexural Strength PSI:",null,null,null,null,"TTF to Open:"]
[null,null,null,null,null,null,null,null,"Click Here To Import Your Maturity Curve"]
[null,"Comments:"]
[]
[]
[]
[]
[]
[]
[]
["Validation 1",null,{"$f":"IF(C25=\"\",\"\", IF($C$5<>C25, \"Oops, Something Went Wrong. Please Verify You Imported the Correct Validation\",\"\"))","v":""}]
[null,"Curve #:",null,null,null,null,"Monitor:",null,null,null,null,"Inspector:"]
[null,"Project #:",{"$f":"IF(AND($C$6<>\"\",H29<>\"\"), $C$6,\"\")","v":""},null,null,null,"Concrete Suplier:",{"$f":"IF(AND($H$6<>\"\",H29<>\"\"),$H$6,\"\")","v":""},null,null,null,"Validation Date:"]
[null,"Validation Project #:",null,null,null,null,"Plant Location:",null,null,null,null,{"$f":"IF(L28<>\"\",\"\", \"Expiration Date:\")","v":"Expiration Date:"}]
[null,null,null,null,null,null,"Beam Size:",null,null,null,null,{"$f":"IF(M26=\"\",\"\", IF(M27<>\"\",\"\", \"Expiration Date:\"))","v":""},{"$f":"IF(AND(M26<>\"\", M27=\"\"), (M26+90),\"\")","v":""}]
[null,"Mix:",null,null,null,null,"W/C Ratio:",null,null,null,null,"Max W/C on Grade:",{"$f":"IF(AND(M9<>\"\", H29<>\"\"),M9,\"\")","v":""}]
["Mix Changes",null,{"$f":"IF(C29=\"\",\"\", IF($C$9<>C29, \"Oops, Something Went Wrong. Please Verify You Imported the Correct Validation\",\"\"))","v":""}]
[null,"Cement:",null,null,null,null,"FlyAsh:",null,null,null,null,"GGBFS:"]
[null,"Coarse Agg:",null,null,null,null,"Intermediate Agg:",null,null,null,null,"Fine Agg:"]
[null,"Water Reducer:",null,null,null,null,"Air:"]
[null,"Flexural Strength PSI:",null,null,null,null,"TTF to Open:",null,null,null,null,"TTF @ Break:"]
[]
[null,"Comments:"]
[]
[]
[]
[]
[]
[]
[]
["Validation 2",null,{"$f":"IF(C45=\"\",\"\", IF($C$5<>C45, \"Oops, Something Went Wrong. Please Verify You Imported the Correct Validation\",\"\"))","v":""}]
[null,"Curve #:",null,null,null,null,"Monitor:",null,null,null,null,"Inspector:"]
[null,"Project #:",{"$f":"IF(AND($C$6<>\"\",H49<>\"\"), $C$6,\"\")","v":""},null,null,null,"Concrete Suplier:",{"$f":"IF(AND($H$6<>\"\",H49<>\"\"),$H$6,\"\")","v":""},null,null,null,"Validation Date:"]
[null,"Validation Project #:",null,null,null,null,"Plant Location:",null,null,null,null,{"$f":"IF(L48<>\"\",\"\", \"Expiration Date:\")","v":"Expiration Date:"}]
[null,null,null,null,null,null,"Beam Size:",null,null,null,null,{"$f":"IF(M46=\"\",\"\", IF(M47<>\"\",\"\", \"Expiration Date:\"))","v":""},{"$f":"IF(AND(M46<>\"\", M47=\"\"), (M46+90),\"\")","v":""}]
[null,"Mix:",null,null,null,null,"W/C Ratio:",null,null,null,null,"Max W/C on Grade:",{"$f":"IF(AND(M9<>\"\", H49<>\"\"),M9,\"\")","v":""}]
["Mix Changes",null,{"$f":"IF(C49=\"\",\"\", IF($C$9<>C49, \"Oops, Something Went Wrong. Please Verify You Imported the Correct Validation\",\"\"))","v":""}]
[null,"Cement:",null,null,null,null,"FlyAsh:",null,null,null,null,"GGBFS:"]
[null,"Coarse Agg:",null,null,null,null,"Intermediate Agg:",null,null,null,null,"Fine Agg:"]
[null,"Water Reducer:",null,null,null,null,"Air:"]
[null,"Flexural Strength PSI:",null,null,null,null,"TTF to Open:",null,null,null,null,"TTF @ Break:"]
[]
[null,"Comments:"]
[]
[]
[]
[]
[]
[]
[]
["Validation 3",null,{"$f":"IF(C65=\"\",\"\", IF($C$5<>C65, \"Oops, Something Went Wrong. Please Verify You Imported the Correct Validation\",\"\"))","v":""}]
[null,"Curve #:",null,null,null,null,"Monitor:",null,null,null,null,"Inspector:"]
[null,"Project #:",{"$f":"IF(AND($C$6<>\"\",H69<>\"\"), $C$6,\"\")","v":""},null,null,null,"Concrete Suplier:",{"$f":"IF(AND($H$6<>\"\",H69<>\"\"),$H$6,\"\")","v":""},null,null,null,"Validation Date:"]
[null,"Validation Project #:",null,null,null,null,"Plant Location:",null,null,null,null,{"$f":"IF(L68<>\"\",\"\", \"Expiration Date:\")","v":"Expiration Date:"}]
[null,null,null,null,null,null,"Beam Size:",null,null,null,null,{"$f":"IF(M66=\"\",\"\", IF(M67<>\"\",\"\", \"Expiration Date:\"))","v":""},{"$f":"IF(AND(M66<>\"\", M67=\"\"), (M66+90),\"\")","v":""}]
[null,"Mix:",null,null,null,null,"W/C Ratio:",null,null,null,null,"Max W/C on Grade:",{"$f":"IF(AND(M9<>\"\",H69<>\"\"),M9,\"\")","v":""}]
["Mix Changes",null,{"$f":"IF(C69=\"\",\"\", IF($C$9<>C69, \"Oops, Something Went Wrong. Please Verify You Imported the Correct Validation\",\"\"))","v":""}]
[null,"Cement:",null,null,null,null,"FlyAsh:",null,null,null,null,"GGBFS:"]
[null,"Coarse Agg:",null,null,null,null,"Intermediate Agg:",null,null,null,null,"Fine Agg:"]
[null,"Water Reducer:",null,null,null,null,"Air:"]
[null,"Flexural Strength PSI:",null,null,null,null,"TTF to Open:",null,null,null,null,"TTF @ Break:"]
[]
[null,"Comments:"]
[]
[]
[]
[]
[]
[]
[]
["Validation 4",null,{"$f":"IF(C85=\"\",\"\", IF($C$5<>C85, \"Oops, Something Went Wrong. Please Verify You Imported the Correct Validation\",\"\"))","v":""}]
[null,"Curve #:",null,null,null,null,"Monitor:",null,null,null,null,"Inspector:"]
[null,"Project #:",{"$f":"IF(AND($C$6<>\"\",H89<>\"\"), $C$6,\"\")","v":""},null,null,null,"Concrete Suplier:",{"$f":"IF(AND($H$6<>\"\",H89<>\"\"),$H$6,\"\")","v":""},null,null,null,"Validation Date:"]
[null,"Validation Project #:",null,null,null,null,"Plant Location:",null,null,null,null,{"$f":"IF(L88<>\"\",\"\", \"Expiration Date:\")","v":"Expiration Date:"}]
[null,null,null,null,null,null,"Beam Size:",null,null,null,null,{"$f":"IF(M86=\"\",\"\", IF(M87<>\"\",\"\", \"Expiration Date:\"))","v":""},{"$f":"IF(AND(M86<>\"\", M87=\"\"), (M86+90),\"\")","v":""}]
[null,"Mix:",null,null,null,null,"W/C Ratio:",null,null,null,null,"Max W/C on Grade:",{"$f":"IF(AND(M9<>\"\", H89<>\"\"),M9,\"\")","v":""}]
["Mix Changes",null,{"$f":"IF(C89=\"\",\"\", IF($C$9<>C89, \"Oops, Something Went Wrong. Please Verify You Imported the Correct Validation\",\"\"))","v":""}]
[null,"Cement:",null,null,null,null,"FlyAsh:",null,null,null,null,"GGBFS:"]
[null,"Coarse Agg:",null,null,null,null,"Intermediate Agg:",null,null,null,null,"Fine Agg:"]
[null,"Water Reducer:",null,null,null,null,"Air:"]
[null,"Flexural Strength PSI:",null,null,null,null,"TTF to Open:",null,null,null,null,"TTF @ Break:"]
[]
[null,"Comments:"]
[]
[]
[]
[]
[]
[]
[]
["Validation 5",null,{"$f":"IF(C105=\"\",\"\", IF($C$5<>C105, \"Oops, Something Went Wrong. Please Verify You Imported the Correct Validation\",\"\"))","v":""}]
[null,"Curve #:",null,null,null,null,"Monitor:",null,null,null,null,"Inspector:"]
[null,"Project #:",{"$f":"IF(AND($C$6<>\"\",H109<>\"\"), $C$6,\"\")","v":""},null,null,null,"Concrete Suplier:",{"$f":"IF(AND($H$6<>\"\",H109<>\"\"),$H$6,\"\")","v":""},null,null,null,"Validation Date:"]
[null,"Validation Project #:",null,null,null,null,"Plant Location:",null,null,null,null,{"$f":"IF(L108<>\"\",\"\", \"Expiration Date:\")","v":"Expiration Date:"}]
[null,null,null,null,null,null,"Beam Size:",null,null,null,null,{"$f":"IF(M106=\"\",\"\", IF(M107<>\"\",\"\", \"Expiration Date:\"))","v":""},{"$f":"IF(AND(M106<>\"\", M107=\"\"), (M106+90),\"\")","v":""}]
[null,"Mix:",null,null,null,null,"W/C Ratio:",null,null,null,null,"Max W/C on Grade:",{"$f":"IF(AND(M9<>\"\", H109<>\"\"),M9,\"\")","v":""}]
["Mix Changes",null,{"$f":"IF(C109=\"\",\"\", IF($C$9<>C109, \"Oops, Something Went Wrong. Please Verify You Imported the Correct Validation\",\"\"))","v":""}]
[null,"Cement:",null,null,null,null,"FlyAsh:",null,null,null,null,"GGBFS:"]
[null,"Coarse Agg:",null,null,null,null,"Intermediate Agg:",null,null,null,null,"Fine Agg:"]
[null,"Water Reducer:",null,null,null,null,"Air:"]
[null,"Flexural Strength PSI:",null,null,null,null,"TTF to Open:",null,null,null,null,"TTF @ Break:"]
[]
[null,"Comments:"]
[]
[]
[]
[]
[]
[]
[]
["Validation 6",null,{"$f":"IF(C125=\"\",\"\", IF($C$5<>C125, \"Oops, Something Went Wrong. Please Verify You Imported the Correct Validation\",\"\"))","v":""}]
[null,"Curve #:",null,null,null,null,"Monitor:",null,null,null,null,"Inspector:"]
[null,"Project #:",{"$f":"IF(AND($C$6<>\"\",H129<>\"\"), $C$6,\"\")","v":""},null,null,null,"Concrete Suplier:",{"$f":"IF(AND($H$6<>\"\",H129<>\"\"),$H$6,\"\")","v":""},null,null,null,"Validation Date:"]
[null,"Validation Project #:",null,null,null,null,"Plant Location:",null,null,null,null,{"$f":"IF(L128<>\"\",\"\", \"Expiration Date:\")","v":"Expiration Date:"}]
[null,null,null,null,null,null,"Beam Size:",null,null,null,null,{"$f":"IF(M126=\"\",\"\", IF(M127<>\"\",\"\", \"Expiration Date:\"))","v":""},{"$f":"IF(AND(M126<>\"\", M127=\"\"), (M126+90),\"\")","v":""}]
[null,"Mix:",null,null,null,null,"W/C Ratio:",null,null,null,null,"Max W/C on Grade:",{"$f":"IF(AND(M9<>\"\", H129<>\"\"),M9,\"\")","v":""}]
["Mix Changes",null,{"$f":"IF(C129=\"\",\"\", IF($C$9<>C129, \"Oops, Something Went Wrong. Please Verify You Imported the Correct Validation\",\"\"))","v":""}]
[null,"Cement:",null,null,null,null,"FlyAsh:",null,null,null,null,"GGBFS:"]
[null,"Coarse Agg:",null,null,null,null,"Intermediate Agg:",null,null,null,null,"Fine Agg:"]
[null,"Water Reducer:",null,null,null,null,"Air:"]
[null,"Flexural Strength PSI:",null,null,null,null,"TTF to Open:",null,null,null,null,"TTF @ Break:"]
[]
[null,"Comments:"]
[]
[]
[]
[]
[]
[]
[]
["Validation 7",null,{"$f":"IF(C145=\"\",\"\", IF($C$5<>C145, \"Oops, Something Went Wrong. Please Verify You Imported the Correct Validation\",\"\"))","v":""}]
[null,"Curve #:",null,null,null,null,"Monitor:",null,null,null,null,"Inspector:"]
[null,"Project #:",{"$f":"IF(AND($C$6<>\"\",H149<>\"\"), $C$6,\"\")","v":""},null,null,null,"Concrete Suplier:",{"$f":"IF(AND($H$6<>\"\",H149<>\"\"),$H$6,\"\")","v":""},null,null,null,"Validation Date:"]
[null,"Validation Project #:",null,null,null,null,"Plant Location:",null,null,null,null,{"$f":"IF(L148<>\"\",\"\", \"Expiration Date:\")","v":"Expiration Date:"}]
[null,null,null,null,null,null,"Beam Size:",null,null,null,null,{"$f":"IF(M146=\"\",\"\", IF(M147<>\"\",\"\", \"Expiration Date:\"))","v":""},{"$f":"IF(AND(M146<>\"\", M147=\"\"), (M146+90),\"\")","v":""}]
[null,"Mix:",null,null,null,null,"W/C Ratio:",null,null,null,null,"Max W/C on Grade:",{"$f":"IF(AND(M9<>\"\", H149<>\"\"),M9,\"\")","v":""}]
["Mix Changes",null,{"$f":"IF(C149=\"\",\"\", IF($C$9<>C149, \"Oops, Something Went Wrong. Please Verify You Imported the Correct Validation\",\"\"))","v":""}]
[null,"Cement:",null,null,null,null,"FlyAsh:",null,null,null,null,"GGBFS:"]
[null,"Coarse Agg:",null,null,null,null,"Intermediate Agg:",null,null,null,null,"Fine Agg:"]
[null,"Water Reducer:",null,null,null,null,"Air:"]
[null,"Flexural Strength PSI:",null,null,null,null,"TTF to Open:",null,null,null,null,"TTF @ Break:"]
[]
[null,"Comments:"]
[]
[]
[]
[]
[]
[]
[]
["Validation 8",null,{"$f":"IF(C165=\"\",\"\", IF($C$5<>C165, \"Oops, Something Went Wrong. Please Verify You Imported the Correct Validation\",\"\"))","v":""}]
[null,"Curve #:",null,null,null,null,"Monitor:",null,null,null,null,"Inspector:"]
[null,"Project #:",{"$f":"IF(AND($C$6<>\"\",H169<>\"\"), $C$6,\"\")","v":""},null,null,null,"Concrete Suplier:",{"$f":"IF(AND($H$6<>\"\",H169<>\"\"),$H$6,\"\")","v":""},null,null,null,"Validation Date:"]
[null,"Validation Project #:",null,null,null,null,"Plant Location:",null,null,null,null,{"$f":"IF(L168<>\"\",\"\", \"Expiration Date:\")","v":"Expiration Date:"}]
[null,null,null,null,null,null,"Beam Size:",null,null,null,null,{"$f":"IF(M166=\"\",\"\", IF(M167<>\"\",\"\", \"Expiration Date:\"))","v":""},{"$f":"IF(AND(M166<>\"\", M167=\"\"), (M166+90),\"\")","v":""}]
[null,"Mix:",null,null,null,null,"W/C Ratio:",null,null,null,null,"Max W/C on Grade:",{"$f":"IF(AND(M9<>\"\", H169<>\"\"),M9,\"\")","v":""}]
["Mix Changes",null,{"$f":"IF(C169=\"\",\"\", IF($C$9<>C169, \"Oops, Something Went Wrong. Please Verify You Imported the Correct Validation\",\"\"))","v":""}]
[null,"Cement:",null,null,null,null,"FlyAsh:",null,null,null,null,"GGBFS:"]
[null,"Coarse Agg:",null,null,null,null,"Intermediate Agg:",null,null,null,null,"Fine Agg:"]
[null,"Water Reducer:",null,null,null,null,"Air:"]
[null,"Flexural Strength PSI:",null,null,null,null,"TTF to Open:",null,null,null,null,"TTF @ Break:"]
[]
[null,"Comments:"]
[]
[]
[]
[]
[]
[]
[]
["Validation 9",null,{"$f":"IF(C185=\"\",\"\", IF($C$5<>C185, \"Oops, Something Went Wrong. Please Verify You Imported the Correct Validation\",\"\"))","v":""}]
[null,"Curve #:",null,null,null,null,"Monitor:",null,null,null,null,"Inspector:"]
[null,"Project #:",{"$f":"IF(AND($C$6<>\"\",H189<>\"\"), $C$6,\"\")","v":""},null,null,null,"Concrete Suplier:",{"$f":"IF(AND($H$6<>\"\",H189<>\"\"),$H$6,\"\")","v":""},null,null,null,"Validation Date:"]
[null,"Validation Project #:",null,null,null,null,"Plant Location:",null,null,null,null,{"$f":"IF(L188<>\"\",\"\", \"Expiration Date:\")","v":"Expiration Date:"}]
[null,null,null,null,null,null,"Beam Size:",null,null,null,null,{"$f":"IF(M186=\"\",\"\", IF(M187<>\"\",\"\", \"Expiration Date:\"))","v":""},{"$f":"IF(AND(M186<>\"\", M187=\"\"), (M186+90),\"\")","v":""}]
[null,"Mix:",null,null,null,null,"W/C Ratio:",null,null,null,null,"Max W/C on Grade:",{"$f":"IF(AND(M9<>\"\",H189<>\"\"),M9,\"\")","v":""}]
["Mix Changes",null,{"$f":"IF(C189=\"\",\"\", IF($C$9<>C189, \"Oops, Something Went Wrong. Please Verify You Imported the Correct Validation\",\"\"))","v":""}]
[null,"Cement:",null,null,null,null,"FlyAsh:",null,null,null,null,"GGBFS:"]
[null,"Coarse Agg:",null,null,null,null,"Intermediate Agg:",null,null,null,null,"Fine Agg:"]
[null,"Water Reducer:",null,null,null,null,"Air:"]
[null,"Flexural Strength PSI:",null,null,null,null,"TTF to Open:",null,null,null,null,"TTF @ Break:"]
[]
[null,"Comments:"]

{"sheet":"Maturity 3","index":20,"n_rows":196,"n_cols":13,"rows_kept":196,"cut":false,"hidden":false,"merged":[[0,0,1,14],[3,0,3,1],[4,2,4,4],[4,7,4,9],[4,12,4,14],[5,2,5,4],[5,7,5,9],[5,12,5,14],[9,0,9,1],[10,2,10,4],[10,7,10,9],[10,12,10,14],[11,2,11,4],[11,7,11,9],[11,12,11,14],[6,2,6,4],[6,7,6,9],[6,12,6,14],[7,12,7,14],[8,2,8,4],[8,7,8,9],[8,12,8,14],[17,2,17,6],[18,2,18,6],[19,2,19,6],[20,2,20,6],[23,0,23,1],[24,2,24,4],[12,2,12,4],[12,7,12,9],[13,2,13,4],[13,7,13,9],[15,2,15,6],[16,2,16,6],[14,8,15,11],[29,0,29,1],[24,7,24,9],[24,12,24,14],[25,2,25,4],[25,7,25,9],[25,12,25,14],[26,2,26,4],[26,7,26,9],[26,12,26,14],[30,2,30,4],[30,7,30,9],[30,12,30,14],[31,2,31,4],[31,7,31,9],[31,12,31,14],[27,7,27,9],[27,12,27,14],[28,2,28,4],[28,7,28,9],[28,12,28,14],[35,2,35,6],[36,2,36,6],[37,2,37,6],[38,2,38,6],[39,2,39,6],[40,2,40,6],[32,2,32,4],[32,7,32,9],[32,16,33,17],[33,2,33,4],[33,7,33,9],[33,12,33,14],[46,2,46,4],[46,7,46,9],[46,12,46,14],[47,7,47,9],[47,12,47,14],[48,2,48,4],[48,7,48,9],[48,12,48,14],[43,0,43,1],[44,2,44,4],[44,7,44,9],[44,12,44,14],[45,2,45,4],[45,7,45,9],[45,12,45,14],[52,2,52,4],[52,7,52,9],[52,16,53,17],[53,2,53,4],[53,7,53,9],[53,12,53,14],[49,0,49,1],[50,2,50,4],[50,7,50,9],[50,12,50,14],[51,2,51,4],[51,7,51,9],[51,12,51,14],[63,0,63,1],[64,2,64,4],[64,7,64,9],[64,12,64,14],[65,2,65,4],[65,7,65,9],[65,12,65,14],[55,2,55,6],[56,2,56,6],[57,2,57,6],[58,2,58,6],[59,2,59,6],[60,2,60,6],[69,0,69,1],[70,2,70,4],[70,7,70,9],[70,12,70,14],[71,2,71,4],[71,7,71,9],[71,12,71,14],[66,2,66,4],[66,7,66,9],[66,12,66,14],[67,7,67,9],[67,12,67,14],[68,2,68,4],[68,7,68,9],[68,12,68,14],[75,2,75,6],[76,2,76,6],[77,2,77,6],[78,2,78,6],[79,2,79,6],[80,2,80,6],[72,2,72,4],[72,7,72,9],[72,16,73,17],[73,2,73,4],[73,7,73,9],[73,12,73,14],[86,2,86,4],[86,7,86,9],[86,12,86,14],[87,7,87,9],[87,12,87,14],[88,2,88,4],[88,7,88,9],[88,12,88,14],[83,0,83,1],[84,2,84,4],[84,7,84,9],[84,12,84,14],[85,2,85,4],[85,7,85,9],[85,12,85,14],[92,2,92,4],[92,7,92,9],[92,16,93,17],[93,2,93,4],[93,7,93,9],[93,12,93,14],[89,0,89,1],[90,2,90,4],[90,7,90,9],[90,12,90,14],[91,2,91,4],[91,7,91,9],[91,12,91,14],[103,0,103,1],[104,2,104,4],[104,7,104,9],[104,12,104,14],[105,2,105,4],[105,7,105,9],[105,12,105,14],[95,2,95,6],[96,2,96,6],[97,2,97,6],[98,2,98,6],[99,2,99,6],[100,2,100,6],[109,0,109,1],[110,2,110,4],[110,7,110,9],[110,12,110,14],[111,2,111,4],[111,7,111,9],[111,12,111,14],[106,2,106,4],[106,7,106,9],[106,12,106,14],[107,7,107,9],[107,12,107,14],[108,2,108,4],[108,7,108,9],[108,12,108,14],[115,2,115,6],[116,2,116,6],[117,2,117,6],[118,2,118,6],[119,2,119,6],[120,2,120,6],[112,2,112,4],[112,7,112,9],[112,16,113,17],[113,2,113,4],[113,7,113,9],[113,12,113,14],[126,2,126,4],[126,7,126,9],[126,12,126,14],[127,7,127,9],[127,12,127,14],[128,2,128,4],[128,7,128,9],[128,12,128,14],[123,0,123,1],[124,2,124,4],[124,7,124,9],[124,12,124,14],[125,2,125,4],[125,7,125,9],[125,12,125,14],[132,2,132,4],[132,7,132,9],[132,16,133,17],[133,2,133,4],[133,7,133,9],[133,12,133,14],[129,0,129,1],[130,2,130,4],[130,7,130,9],[130,12,130,14],[131,2,131,4],[131,7,131,9],[131,12,131,14],[143,0,143,1],[144,2,144,4],[144,7,144,9],[144,12,144,14],[145,2,145,4],[145,7,145,9],[145,12,145,14],[135,2,135,6],[136,2,136,6],[137,2,137,6],[138,2,138,6],[139,2,139,6],[140,2,140,6],[149,0,149,1],[150,2,150,4],[150,7,150,9],[150,12,150,14],[151,2,151,4],[151,7,151,9],[151,12,151,14],[146,2,146,4],[146,7,146,9],[146,12,146,14],[147,7,147,9],[147,12,147,14],[148,2,148,4],[148,7,148,9],[148,12,148,14],[155,2,155,6],[156,2,156,6],[157,2,157,6],[158,2,158,6],[159,2,159,6],[160,2,160,6],[152,2,152,4],[152,7,152,9],[152,16,153,17],[153,2,153,4],[153,7,153,9],[153,12,153,14],[166,2,166,4],[166,7,166,9],[166,12,166,14],[167,7,167,9],[167,12,167,14],[168,2,168,4],[168,7,168,9],[168,12,168,14],[163,0,163,1],[164,2,164,4],[164,7,164,9],[164,12,164,14],[165,2,165,4],[165,7,165,9],[165,12,165,14],[172,2,172,4],[172,7,172,9],[172,16,173,17],[173,2,173,4],[173,7,173,9],[173,12,173,14],[169,0,169,1],[170,2,170,4],[170,7,170,9],[170,12,170,14],[171,2,171,4],[171,7,171,9],[171,12,171,14],[183,0,183,1],[184,2,184,4],[184,7,184,9],[184,12,184,14],[185,2,185,4],[185,7,185,9],[185,12,185,14],[175,2,175,6],[176,2,176,6],[177,2,177,6],[178,2,178,6],[179,2,179,6],[180,2,180,6],[189,0,189,1],[190,2,190,4],[190,7,190,9],[190,12,190,14],[191,2,191,4],[191,7,191,9],[191,12,191,14],[186,2,186,4],[186,7,186,9],[186,12,186,14],[187,7,187,9],[187,12,187,14],[188,2,188,4],[188,7,188,9],[188,12,188,14],[195,2,195,6],[196,2,196,6],[197,2,197,6],[198,2,198,6],[199,2,199,6],[200,2,200,6],[192,2,192,4],[192,7,192,9],[192,16,193,17],[193,2,193,4],[193,7,193,9],[193,12,193,14]]}
["Flexural Maturity Summary"]
[]
["NOTE: IF YOU ARE USING A MATURITY REPORT OLDER THAN v2.5; PLEASE UPDATE TO THE NEWEST VERSION BEFORE USING THIS TAB."]
["Original Curve",null,"C. Barko"]
[null,"Curve #:",null,null,null,null,"Monitor:",null,null,null,null,"Inspector:"]
[null,"Project #:",null,null,null,null,"Concrete Suplier:",null,null,null,null,"Date Valid:"]
[null,"Beam Size:",null,null,null,null,"Plant Location:",null,null,null,null,{"$f":"IF(L8<>\"\",\"\", \"Expiration Date:\")","v":"Expiration Date:"}]
[null,null,null,null,null,null,null,null,null,null,null,{"$f":"IF(M6=\"\",\"\", IF(M7<>\"\",\"\", \"Expiration Date:\"))","v":""},{"$f":"IF(AND(M6<>\"\", M7=\"\"), (M6+90),\"\")","v":""}]
[null,"Mix:",null,null,null,null,"W/C Ratio:",null,null,null,null,"Max W/C on Grade:"]
["Mix Info"]
[null,"Cement:",null,null,null,null,"FlyAsh:",null,null,null,null,"GGBFS:"]
[null,"Coarse Agg:",null,null,null,null,"Intermediate Agg:",null,null,null,null,"Fine Agg:"]
[null,"Water Reducer:",null,null,null,null,"Air:"]
[null,"Flexural Strength PSI:",null,null,null,null,"TTF to Open:"]
[null,null,null,null,null,null,null,null,"Click Here To Import Your Maturity Curve"]
[null,"Comments:"]
[]
[]
[]
[]
[]
[]
[]
["Validation 1",null,{"$f":"IF(C25=\"\",\"\", IF($C$5<>C25, \"Oops, Something Went Wrong. Please Verify You Imported the Correct Validation\",\"\"))","v":""}]
[null,"Curve #:",null,null,null,null,"Monitor:",null,null,null,null,"Inspector:"]
[null,"Project #:",{"$f":"IF(AND($C$6<>\"\",H29<>\"\"), $C$6,\"\")","v":""},null,null,null,"Concrete Suplier:",{"$f":"IF(AND($H$6<>\"\",H29<>\"\"),$H$6,\"\")","v":""},null,null,null,"Validation Date:"]
[null,"Validation Project #:",null,null,null,null,"Plant Location:",null,null,null,null,{"$f":"IF(L28<>\"\",\"\", \"Expiration Date:\")","v":"Expiration Date:"}]
[null,null,null,null,null,null,"Beam Size:",null,null,null,null,{"$f":"IF(M26=\"\",\"\", IF(M27<>\"\",\"\", \"Expiration Date:\"))","v":""},{"$f":"IF(AND(M26<>\"\", M27=\"\"), (M26+90),\"\")","v":""}]
[null,"Mix:",null,null,null,null,"W/C Ratio:",null,null,null,null,"Max W/C on Grade:",{"$f":"IF(AND(M9<>\"\", H29<>\"\"),M9,\"\")","v":""}]
["Mix Changes",null,{"$f":"IF(C29=\"\",\"\", IF($C$9<>C29, \"Oops, Something Went Wrong. Please Verify You Imported the Correct Validation\",\"\"))","v":""}]
[null,"Cement:",null,null,null,null,"FlyAsh:",null,null,null,null,"GGBFS:"]
[null,"Coarse Agg:",null,null,null,null,"Intermediate Agg:",null,null,null,null,"Fine Agg:"]
[null,"Water Reducer:",null,null,null,null,"Air:"]
[null,"Flexural Strength PSI:",null,null,null,null,"TTF to Open:",null,null,null,null,"TTF @ Break:"]
[]
[null,"Comments:"]
[]
[]
[]
[]
[]
[]
[]
["Validation 2",null,{"$f":"IF(C45=\"\",\"\", IF($C$5<>C45, \"Oops, Something Went Wrong. Please Verify You Imported the Correct Validation\",\"\"))","v":""}]
[null,"Curve #:",null,null,null,null,"Monitor:",null,null,null,null,"Inspector:"]
[null,"Project #:",{"$f":"IF(AND($C$6<>\"\",H49<>\"\"), $C$6,\"\")","v":""},null,null,null,"Concrete Suplier:",{"$f":"IF(AND($H$6<>\"\",H49<>\"\"),$H$6,\"\")","v":""},null,null,null,"Validation Date:"]
[null,"Validation Project #:",null,null,null,null,"Plant Location:",null,null,null,null,{"$f":"IF(L48<>\"\",\"\", \"Expiration Date:\")","v":"Expiration Date:"}]
[null,null,null,null,null,null,"Beam Size:",null,null,null,null,{"$f":"IF(M46=\"\",\"\", IF(M47<>\"\",\"\", \"Expiration Date:\"))","v":""},{"$f":"IF(AND(M46<>\"\", M47=\"\"), (M46+90),\"\")","v":""}]
[null,"Mix:",null,null,null,null,"W/C Ratio:",null,null,null,null,"Max W/C on Grade:",{"$f":"IF(AND(M9<>\"\", H49<>\"\"),M9,\"\")","v":""}]
["Mix Changes",null,{"$f":"IF(C49=\"\",\"\", IF($C$9<>C49, \"Oops, Something Went Wrong. Please Verify You Imported the Correct Validation\",\"\"))","v":""}]
[null,"Cement:",null,null,null,null,"FlyAsh:",null,null,null,null,"GGBFS:"]
[null,"Coarse Agg:",null,null,null,null,"Intermediate Agg:",null,null,null,null,"Fine Agg:"]
[null,"Water Reducer:",null,null,null,null,"Air:"]
[null,"Flexural Strength PSI:",null,null,null,null,"TTF to Open:",null,null,null,null,"TTF @ Break:"]
[]
[null,"Comments:"]
[]
[]
[]
[]
[]
[]
[]
["Validation 3",null,{"$f":"IF(C65=\"\",\"\", IF($C$5<>C65, \"Oops, Something Went Wrong. Please Verify You Imported the Correct Validation\",\"\"))","v":""}]
[null,"Curve #:",null,null,null,null,"Monitor:",null,null,null,null,"Inspector:"]
[null,"Project #:",{"$f":"IF(AND($C$6<>\"\",H69<>\"\"), $C$6,\"\")","v":""},null,null,null,"Concrete Suplier:",{"$f":"IF(AND($H$6<>\"\",H69<>\"\"),$H$6,\"\")","v":""},null,null,null,"Validation Date:"]
[null,"Validation Project #:",null,null,null,null,"Plant Location:",null,null,null,null,{"$f":"IF(L68<>\"\",\"\", \"Expiration Date:\")","v":"Expiration Date:"}]
[null,null,null,null,null,null,"Beam Size:",null,null,null,null,{"$f":"IF(M66=\"\",\"\", IF(M67<>\"\",\"\", \"Expiration Date:\"))","v":""},{"$f":"IF(AND(M66<>\"\", M67=\"\"), (M66+90),\"\")","v":""}]
[null,"Mix:",null,null,null,null,"W/C Ratio:",null,null,null,null,"Max W/C on Grade:",{"$f":"IF(AND(M9<>\"\",H69<>\"\"),M9,\"\")","v":""}]
["Mix Changes",null,{"$f":"IF(C69=\"\",\"\", IF($C$9<>C69, \"Oops, Something Went Wrong. Please Verify You Imported the Correct Validation\",\"\"))","v":""}]
[null,"Cement:",null,null,null,null,"FlyAsh:",null,null,null,null,"GGBFS:"]
[null,"Coarse Agg:",null,null,null,null,"Intermediate Agg:",null,null,null,null,"Fine Agg:"]
[null,"Water Reducer:",null,null,null,null,"Air:"]
[null,"Flexural Strength PSI:",null,null,null,null,"TTF to Open:",null,null,null,null,"TTF @ Break:"]
[]
[null,"Comments:"]
[]
[]
[]
[]
[]
[]
[]
["Validation 4",null,{"$f":"IF(C85=\"\",\"\", IF($C$5<>C85, \"Oops, Something Went Wrong. Please Verify You Imported the Correct Validation\",\"\"))","v":""}]
[null,"Curve #:",null,null,null,null,"Monitor:",null,null,null,null,"Inspector:"]
[null,"Project #:",{"$f":"IF(AND($C$6<>\"\",H89<>\"\"), $C$6,\"\")","v":""},null,null,null,"Concrete Suplier:",{"$f":"IF(AND($H$6<>\"\",H89<>\"\"),$H$6,\"\")","v":""},null,null,null,"Validation Date:"]
[null,"Validation Project #:",null,null,null,null,"Plant Location:",null,null,null,null,{"$f":"IF(L88<>\"\",\"\", \"Expiration Date:\")","v":"Expiration Date:"}]
[null,null,null,null,null,null,"Beam Size:",null,null,null,null,{"$f":"IF(M86=\"\",\"\", IF(M87<>\"\",\"\", \"Expiration Date:\"))","v":""},{"$f":"IF(AND(M86<>\"\", M87=\"\"), (M86+90),\"\")","v":""}]
[null,"Mix:",null,null,null,null,"W/C Ratio:",null,null,null,null,"Max W/C on Grade:",{"$f":"IF(AND(M9<>\"\", H89<>\"\"),M9,\"\")","v":""}]
["Mix Changes",null,{"$f":"IF(C89=\"\",\"\", IF($C$9<>C89, \"Oops, Something Went Wrong. Please Verify You Imported the Correct Validation\",\"\"))","v":""}]
[null,"Cement:",null,null,null,null,"FlyAsh:",null,null,null,null,"GGBFS:"]
[null,"Coarse Agg:",null,null,null,null,"Intermediate Agg:",null,null,null,null,"Fine Agg:"]
[null,"Water Reducer:",null,null,null,null,"Air:"]
[null,"Flexural Strength PSI:",null,null,null,null,"TTF to Open:",null,null,null,null,"TTF @ Break:"]
[]
[null,"Comments:"]
[]
[]
[]
[]
[]
[]
[]
["Validation 5",null,{"$f":"IF(C105=\"\",\"\", IF($C$5<>C105, \"Oops, Something Went Wrong. Please Verify You Imported the Correct Validation\",\"\"))","v":""}]
[null,"Curve #:",null,null,null,null,"Monitor:",null,null,null,null,"Inspector:"]
[null,"Project #:",{"$f":"IF(AND($C$6<>\"\",H109<>\"\"), $C$6,\"\")","v":""},null,null,null,"Concrete Suplier:",{"$f":"IF(AND($H$6<>\"\",H109<>\"\"),$H$6,\"\")","v":""},null,null,null,"Validation Date:"]
[null,"Validation Project #:",null,null,null,null,"Plant Location:",null,null,null,null,{"$f":"IF(L108<>\"\",\"\", \"Expiration Date:\")","v":"Expiration Date:"}]
[null,null,null,null,null,null,"Beam Size:",null,null,null,null,{"$f":"IF(M106=\"\",\"\", IF(M107<>\"\",\"\", \"Expiration Date:\"))","v":""},{"$f":"IF(AND(M106<>\"\", M107=\"\"), (M106+90),\"\")","v":""}]
[null,"Mix:",null,null,null,null,"W/C Ratio:",null,null,null,null,"Max W/C on Grade:",{"$f":"IF(AND(M9<>\"\", H109<>\"\"),M9,\"\")","v":""}]
["Mix Changes",null,{"$f":"IF(C109=\"\",\"\", IF($C$9<>C109, \"Oops, Something Went Wrong. Please Verify You Imported the Correct Validation\",\"\"))","v":""}]
[null,"Cement:",null,null,null,null,"FlyAsh:",null,null,null,null,"GGBFS:"]
[null,"Coarse Agg:",null,null,null,null,"Intermediate Agg:",null,null,null,null,"Fine Agg:"]
[null,"Water Reducer:",null,null,null,null,"Air:"]
[null,"Flexural Strength PSI:",null,null,null,null,"TTF to Open:",null,null,null,null,"TTF @ Break:"]
[]
[null,"Comments:"]
[]
[]
[]
[]
[]
[]
[]
["Validation 6",null,{"$f":"IF(C125=\"\",\"\", IF($C$5<>C125, \"Oops, Something Went Wrong. Please Verify You Imported the Correct Validation\",\"\"))","v":""}]
[null,"Curve #:",null,null,null,null,"Monitor:",null,null,null,null,"Inspector:"]
[null,"Project #:",{"$f":"IF(AND($C$6<>\"\",H129<>\"\"), $C$6,\"\")","v":""},null,null,null,"Concrete Suplier:",{"$f":"IF(AND($H$6<>\"\",H129<>\"\"),$H$6,\"\")","v":""},null,null,null,"Validation Date:"]
[null,"Validation Project #:",null,null,null,null,"Plant Location:",null,null,null,null,{"$f":"IF(L128<>\"\",\"\", \"Expiration Date:\")","v":"Expiration Date:"}]
[null,null,null,null,null,null,"Beam Size:",null,null,null,null,{"$f":"IF(M126=\"\",\"\", IF(M127<>\"\",\"\", \"Expiration Date:\"))","v":""},{"$f":"IF(AND(M126<>\"\", M127=\"\"), (M126+90),\"\")","v":""}]
[null,"Mix:",null,null,null,null,"W/C Ratio:",null,null,null,null,"Max W/C on Grade:",{"$f":"IF(AND(M9<>\"\", H129<>\"\"),M9,\"\")","v":""}]
["Mix Changes",null,{"$f":"IF(C129=\"\",\"\", IF($C$9<>C129, \"Oops, Something Went Wrong. Please Verify You Imported the Correct Validation\",\"\"))","v":""}]
[null,"Cement:",null,null,null,null,"FlyAsh:",null,null,null,null,"GGBFS:"]
[null,"Coarse Agg:",null,null,null,null,"Intermediate Agg:",null,null,null,null,"Fine Agg:"]
[null,"Water Reducer:",null,null,null,null,"Air:"]
[null,"Flexural Strength PSI:",null,null,null,null,"TTF to Open:",null,null,null,null,"TTF @ Break:"]
[]
[null,"Comments:"]
[]
[]
[]
[]
[]
[]
[]
["Validation 7",null,{"$f":"IF(C145=\"\",\"\", IF($C$5<>C145, \"Oops, Something Went Wrong. Please Verify You Imported the Correct Validation\",\"\"))","v":""}]
[null,"Curve #:",null,null,null,null,"Monitor:",null,null,null,null,"Inspector:"]
[null,"Project #:",{"$f":"IF(AND($C$6<>\"\",H149<>\"\"), $C$6,\"\")","v":""},null,null,null,"Concrete Suplier:",{"$f":"IF(AND($H$6<>\"\",H149<>\"\"),$H$6,\"\")","v":""},null,null,null,"Validation Date:"]
[null,"Validation Project #:",null,null,null,null,"Plant Location:",null,null,null,null,{"$f":"IF(L148<>\"\",\"\", \"Expiration Date:\")","v":"Expiration Date:"}]
[null,null,null,null,null,null,"Beam Size:",null,null,null,null,{"$f":"IF(M146=\"\",\"\", IF(M147<>\"\",\"\", \"Expiration Date:\"))","v":""},{"$f":"IF(AND(M146<>\"\", M147=\"\"), (M146+90),\"\")","v":""}]
[null,"Mix:",null,null,null,null,"W/C Ratio:",null,null,null,null,"Max W/C on Grade:",{"$f":"IF(AND(M9<>\"\", H149<>\"\"),M9,\"\")","v":""}]
["Mix Changes",null,{"$f":"IF(C149=\"\",\"\", IF($C$9<>C149, \"Oops, Something Went Wrong. Please Verify You Imported the Correct Validation\",\"\"))","v":""}]
[null,"Cement:",null,null,null,null,"FlyAsh:",null,null,null,null,"GGBFS:"]
[null,"Coarse Agg:",null,null,null,null,"Intermediate Agg:",null,null,null,null,"Fine Agg:"]
[null,"Water Reducer:",null,null,null,null,"Air:"]
[null,"Flexural Strength PSI:",null,null,null,null,"TTF to Open:",null,null,null,null,"TTF @ Break:"]
[]
[null,"Comments:"]
[]
[]
[]
[]
[]
[]
[]
["Validation 8",null,{"$f":"IF(C165=\"\",\"\", IF($C$5<>C165, \"Oops, Something Went Wrong. Please Verify You Imported the Correct Validation\",\"\"))","v":""}]
[null,"Curve #:",null,null,null,null,"Monitor:",null,null,null,null,"Inspector:"]
[null,"Project #:",{"$f":"IF(AND($C$6<>\"\",H169<>\"\"), $C$6,\"\")","v":""},null,null,null,"Concrete Suplier:",{"$f":"IF(AND($H$6<>\"\",H169<>\"\"),$H$6,\"\")","v":""},null,null,null,"Validation Date:"]
[null,"Validation Project #:",null,null,null,null,"Plant Location:",null,null,null,null,{"$f":"IF(L168<>\"\",\"\", \"Expiration Date:\")","v":"Expiration Date:"}]
[null,null,null,null,null,null,"Beam Size:",null,null,null,null,{"$f":"IF(M166=\"\",\"\", IF(M167<>\"\",\"\", \"Expiration Date:\"))","v":""},{"$f":"IF(AND(M166<>\"\", M167=\"\"), (M166+90),\"\")","v":""}]
[null,"Mix:",null,null,null,null,"W/C Ratio:",null,null,null,null,"Max W/C on Grade:",{"$f":"IF(AND(M9<>\"\", H169<>\"\"),M9,\"\")","v":""}]
["Mix Changes",null,{"$f":"IF(C169=\"\",\"\", IF($C$9<>C169, \"Oops, Something Went Wrong. Please Verify You Imported the Correct Validation\",\"\"))","v":""}]
[null,"Cement:",null,null,null,null,"FlyAsh:",null,null,null,null,"GGBFS:"]
[null,"Coarse Agg:",null,null,null,null,"Intermediate Agg:",null,null,null,null,"Fine Agg:"]
[null,"Water Reducer:",null,null,null,null,"Air:"]
[null,"Flexural Strength PSI:",null,null,null,null,"TTF to Open:",null,null,null,null,"TTF @ Break:"]
[]
[null,"Comments:"]
[]
[]
[]
[]
[]
[]
[]
["Validation 9",null,{"$f":"IF(C185=\"\",\"\", IF($C$5<>C185, \"Oops, Something Went Wrong. Please Verify You Imported the Correct Validation\",\"\"))","v":""}]
[null,"Curve #:",null,null,null,null,"Monitor:",null,null,null,null,"Inspector:"]
[null,"Project #:",{"$f":"IF(AND($C$6<>\"\",H189<>\"\"), $C$6,\"\")","v":""},null,null,null,"Concrete Suplier:",{"$f":"IF(AND($H$6<>\"\",H189<>\"\"),$H$6,\"\")","v":""},null,null,null,"Validation Date:"]
[null,"Validation Project #:",null,null,null,null,"Plant Location:",null,null,null,null,{"$f":"IF(L188<>\"\",\"\", \"Expiration Date:\")","v":"Expiration Date:"}]
[null,null,null,null,null,null,"Beam Size:",null,null,null,null,{"$f":"IF(M186=\"\",\"\", IF(M187<>\"\",\"\", \"Expiration Date:\"))","v":""},{"$f":"IF(AND(M186<>\"\", M187=\"\"), (M186+90),\"\")","v":""}]
[null,"Mix:",null,null,null,null,"W/C Ratio:",null,null,null,null,"Max W/C on Grade:",{"$f":"IF(AND(M9<>\"\",H189<>\"\"),M9,\"\")","v":""}]
["Mix Changes",null,{"$f":"IF(C189=\"\",\"\", IF($C$9<>C189, \"Oops, Something Went Wrong. Please Verify You Imported the Correct Validation\",\"\"))","v":""}]
[null,"Cement:",null,null,null,null,"FlyAsh:",null,null,null,null,"GGBFS:"]
[null,"Coarse Agg:",null,null,null,null,"Intermediate Agg:",null,null,null,null,"Fine Agg:"]
[null,"Water Reducer:",null,null,null,null,"Air:"]
[null,"Flexural Strength PSI:",null,null,null,null,"TTF to Open:",null,null,null,null,"TTF @ Break:"]
[]
[null,"Comments:"]

{"sheet":"ADMIX","index":21,"n_rows":27,"n_cols":16,"rows_kept":27,"cut":false,"hidden":false,"merged":[[41,14,41,15],[42,14,42,15],[0,0,1,15],[26,14,26,15],[27,14,27,15],[28,14,28,15],[29,14,29,15],[30,14,30,15],[31,14,31,15],[32,14,32,15],[33,14,33,15],[34,14,34,15],[35,14,35,15],[36,14,36,15],[37,14,37,15],[38,14,38,15],[39,14,39,15],[40,14,40,15],[24,0,25,2],[24,4,25,6],[24,8,25,10],[3,12,4,15],[3,0,4,2],[3,4,4,6],[3,8,4,10],[24,12,25,15]]}
["ADMIXTURE DATA"]
[]
[]
["ADMIX-AIR",null,null,null,"ADMIX-Water Reducer",null,null,null,"ADMIX-Mid-Range",null,null,null,"CO2 ADMIX"]
[]
["Brand/Source ","Date","Lot #",null,"Brand/Source ","Date","Lot #",null,"Brand/Source ","Date","Lot #",null,"Brand/Source ","Date","Delivered (lbs)","Used(lbs)"]
[]
[]
[]
[]
[]
[]
[]
[]
[]
[]
[]
[]
[]
[]
[]
[]
[]
[]
["ADMIX-High Range",null,null,null,"ADMIX-Retarder",null,null,null,"ADMIX-Special Performance",null,null,null,"ADMIX-Flowable Fill"]
[]
["Brand/Source ","Date","Lot #",null,"Brand/Source ","Date","Lot #",null,"Brand/Source ","Date","Lot #",null,"Brand/Source ","Date","Lot #"]

{"sheet":"Sp. Gr.","index":22,"n_rows":288,"n_cols":19,"rows_kept":288,"cut":false,"hidden":false,"merged":[[1,3,1,4],[0,0,0,16],[1,12,1,13]]}
["Specific  Gravity  ( IM. 307)"]
[null,null,null,"Method A",null,null,"Page No.: ",null,null,null,null,null,"Method B"]
["Project No.: ",{"$f":"IF(Info!B3=\"\",\"\",(Info!B3))","v":""},null,null,null,"Contract ID.: ",null,{"$f":"IF(Info!B4=\"\",\"\",(Info!B4))","v":""}]
[]
[null,"Aggregate","S","P","S + P","W","Actual","T - 203",null,null,null,"Aggregate","S","W","Actual","T - 203"]
["Date","Type","( Grams )","( Grams )","( Grams )","( Grams )","Sp.  Gr.","Sp.  Gr.","By",null,"Date","Type","( Grams )","( Grams )","Sp.  Gr.","Sp.  Gr.","By",null,"Coarse 1"]
[null,null,null,null,{"$f":"IF(D7=\"\",0,SUM(C7:D7))","v":0},null,{"$f":"ROUND(IF(F7=\"\",0,C7/(E7-F7)),2)","v":0},null,null,null,null,null,null,null,{"$f":"ROUND(IF(N7=\"\",0,M7/(M7-N7)),2)","v":0},null,null,null,"Coarse 2"]
[null,null,null,null,0,null,0,null,null,null,null,null,null,null,{"$f":"ROUND(IF(N8=\"\",0,M8/(M8-N8)),2)","v":0},null,null,null,"Coarse 3"]
[null,null,null,null,0,null,0,null,null,null,null,null,null,null,0,null,null,null,"Fine 1"]
[null,null,null,null,0,null,0,null,null,null,null,null,null,null,0,null,null,null,"Fine 2"]
[null,null,null,null,0,null,0,null,null,null,null,null,null,null,0,null,null,null,"Fine 3"]
[null,null,null,null,0,null,0,null,null,null,null,null,null,null,0]
[null,null,null,null,0,null,0,null,null,null,null,null,null,null,0]
[null,null,null,null,0,null,0,null,null,null,null,null,null,null,0]
[null,null,null,null,0,null,0,null,null,null,null,null,null,null,0]
[null,null,null,null,0,null,0,null,null,null,null,null,null,null,0]
[null,null,null,null,0,null,0,null,null,null,null,null,null,null,0]
[null,null,null,null,0,null,0,null,null,null,null,null,null,null,0]
[null,null,null,null,0,null,0,null,null,null,null,null,null,null,0]
[null,null,null,null,0,null,0,null,null,null,null,null,null,null,0]
[null,null,null,null,0,null,0,null,null,null,null,null,null,null,0]
[null,null,null,null,0,null,0,null,null,null,null,null,null,null,0]
[null,null,null,null,0,null,0,null,null,null,null,null,null,null,0]
[null,null,null,null,0,null,0,null,null,null,null,null,null,null,0]
[null,null,null,null,0,null,0,null,null,null,null,null,null,null,0]
[null,null,null,null,0,null,0,null,null,null,null,null,null,null,0]
[null,null,null,null,0,null,0,null,null,null,null,null,null,null,0]
[null,null,null,null,0,null,0,null,null,null,null,null,null,null,0]
[null,null,null,null,0,null,0,null,null,null,null,null,null,null,0]
[null,null,null,null,0,null,0,null,null,null,null,null,null,null,0]
[null,null,null,null,0,null,0,null,null,null,null,null,null,null,0]
[null,null,null,null,0,null,0,null,null,null,null,null,null,null,0]
[null,null,null,null,0,null,0,null,null,null,null,null,null,null,0]
[null,null,null,null,0,null,0,null,null,null,null,null,null,null,0]
[null,null,null,null,0,null,0,null,null,null,null,null,null,null,0]
[null,null,null,null,0,null,0,null,null,null,null,null,null,null,0]
[null,null,null,null,0,null,0,null,null,null,null,null,null,null,0]
[null,null,null,null,0,null,0,null,null,null,null,null,null,null,0]
[null,null,null,null,{"$f":"IF(D39=\"\",0,SUM(C39:D39))","v":0},null,{"$f":"ROUND(IF(F39=\"\",0,C39/(E39-F39)),2)","v":0},null,null,null,null,null,null,null,0]
[null,null,null,null,0,null,0,null,null,null,null,null,null,null,0]
[null,null,null,null,0,null,0,null,null,null,null,null,null,null,0]
[null,null,null,null,0,null,0,null,null,null,null,null,null,null,0]
[null,null,null,null,0,null,0,null,null,null,null,null,null,null,0]
[null,null,null,null,0,null,0,null,null,null,null,null,null,null,0]
[null,null,null,null,0,null,0,null,null,null,null,null,null,null,0]
[null,null,null,null,0,null,0,null,null,null,null,null,null,null,0]
[null,null,null,null,0,null,0,null,null,null,null,null,null,null,0]
[null,null,null,null,0,null,0,null,null,null,null,null,null,null,0]
[null,null,null,null,0,null,0,null,null,null,null,null,null,null,0]
[null,null,null,null,0,null,0,null,null,null,null,null,null,null,0]
[null,null,null,null,0,null,0,null,null,null,null,null,null,null,0]
[null,null,null,null,0,null,0,null,null,null,null,null,null,null,0]
[null,null,null,null,0,null,0,null,null,null,null,null,null,null,0]
[null,null,null,null,0,null,0,null,null,null,null,null,null,null,0]
[null,null,null,null,0,null,0,null,null,null,null,null,null,null,0]
[null,null,null,null,0,null,0,null,null,null,null,null,null,null,0]
[null,null,null,null,0,null,0,null,null,null,null,null,null,null,0]
[null,null,null,null,0,null,0,null,null,null,null,null,null,null,0]
[null,null,null,null,0,null,0,null,null,null,null,null,null,null,0]
[null,null,null,null,0,null,0,null,null,null,null,null,null,null,0]
[null,null,null,null,0,null,0,null,null,null,null,null,null,null,0]
[null,null,null,null,0,null,0,null,null,null,null,null,null,null,0]
[null,null,null,null,0,null,0,null,null,null,null,null,null,null,0]
[null,null,null,null,0,null,0,null,null,null,null,null,null,null,0]
[null,null,null,null,0,null,0,null,null,null,null,null,null,null,0]
[null,null,null,null,0,null,0,null,null,null,null,null,null,null,0]
[null,null,null,null,0,null,0,null,null,null,null,null,null,null,0]
[null,null,null,null,0,null,0,null,null,null,null,null,null,null,0]
[null,null,null,null,0,null,0,null,null,null,null,null,null,null,0]
[null,null,null,null,0,null,0,null,null,null,null,null,null,null,0]
[null,null,null,null,{"$f":"IF(D71=\"\",0,SUM(C71:D71))","v":0},null,{"$f":"ROUND(IF(F71=\"\",0,C71/(E71-F71)),2)","v":0},null,null,null,null,null,null,null,0]
[null,null,null,null,0,null,0,null,null,null,null,null,null,null,{"$f":"ROUND(IF(N72=\"\",0,M72/(M72-N72)),2)","v":0}]
[null,null,null,null,0,null,0,null,null,null,null,null,null,null,0]
[null,null,null,null,0,null,0,null,null,null,null,null,null,null,0]
[null,null,null,null,0,null,0,null,null,null,null,null,null,null,0]
[null,null,null,null,0,null,0,null,null,null,null,null,null,null,0]
[null,null,null,null,0,null,0,null,null,null,null,null,null,null,0]
[null,null,null,null,0,null,0,null,null,null,null,null,null,null,0]
[null,null,null,null,0,null,0,null,null,null,null,null,null,null,0]
[null,null,null,null,0,null,0,null,null,null,null,null,null,null,0]
[null,null,null,null,0,null,0,null,null,null,null,null,null,null,0]
[null,null,null,null,0,null,0,null,null,null,null,null,null,null,0]
[null,null,null,null,0,null,0,null,null,null,null,null,null,null,0]
[null,null,null,null,0,null,0,null,null,null,null,null,null,null,0]
[null,null,null,null,0,null,0,null,null,null,null,null,null,null,0]
[null,null,null,null,0,null,0,null,null,null,null,null,null,null,0]
[null,null,null,null,0,null,0,null,null,null,null,null,null,null,0]
[null,null,null,null,0,null,0,null,null,null,null,null,null,null,0]
[null,null,null,null,0,null,0,null,null,null,null,null,null,null,0]
[null,null,null,null,0,null,0,null,null,null,null,null,null,null,0]
[null,null,null,null,0,null,0,null,null,null,null,null,null,null,0]
[null,null,null,null,0,null,0,null,null,null,null,null,null,null,0]
[null,null,null,null,0,null,0,null,null,null,null,null,null,null,0]
[null,null,null,null,0,null,0,null,null,null,null,null,null,null,0]
[null,null,null,null,0,null,0,null,null,null,null,null,null,null,0]
[null,null,null,null,0,null,0,null,null,null,null,null,null,null,0]
[null,null,null,null,0,null,0,null,null,null,null,null,null,null,0]
[null,null,null,null,0,null,0,null,null,null,null,null,null,null,0]
[null,null,null,null,0,null,0,null,null,null,null,null,null,null,0]
[null,null,null,null,0,null,0,null,null,null,null,null,null,null,0]
[null,null,null,null,{"$f":"IF(D101=\"\",0,SUM(C101:D101))","v":0},null,0,null,null,null,null,null,null,null,0]
[null,null,null,null,0,null,0,null,null,null,null,null,null,null,0]
[null,null,null,null,0,null,0,null,null,null,null,null,null,null,0]
[null,null,null,null,0,null,0,null,null,null,null,null,null,null,0]
[null,null,null,null,0,null,0,null,null,null,null,null,null,null,0]
[null,null,null,null,0,null,0,null,null,null,null,null,null,null,0]
[null,null,null,null,0,null,0,null,null,null,null,null,null,null,0]
[null,null,null,null,0,null,0,null,null,null,null,null,null,null,0]
[null,null,null,null,0,null,0,null,null,null,null,null,null,null,0]
[null,null,null,null,0,null,0,null,null,null,null,null,null,null,0]
[null,null,null,null,0,null,0,null,null,null,null,null,null,null,0]
[null,null,null,null,0,null,0,null,null,null,null,null,null,null,0]
[null,null,null,null,0,null,0,null,null,null,null,null,null,null,0]
[null,null,null,null,0,null,0,null,null,null,null,null,null,null,0]
[null,null,null,null,0,null,0,null,null,null,null,null,null,null,0]
[null,null,null,null,0,null,0,null,null,null,null,null,null,null,0]
[null,null,null,null,0,null,0,null,null,null,null,null,null,null,0]
[null,null,null,null,0,null,0,null,null,null,null,null,null,null,0]
[null,null,null,null,0,null,0,null,null,null,null,null,null,null,0]
[null,null,null,null,0,null,0,null,null,null,null,null,null,null,0]
[null,null,null,null,0,null,0,null,null,null,null,null,null,null,0]
[null,null,null,null,0,null,0,null,null,null,null,null,null,null,0]
[null,null,null,null,0,null,0,null,null,null,null,null,null,null,0]
[null,null,null,null,0,null,0,null,null,null,null,null,null,null,0]
[null,null,null,null,0,null,0,null,null,null,null,null,null,null,0]
[null,null,null,null,0,null,0,null,null,null,null,null,null,null,0]
[null,null,null,null,0,null,0,null,null,null,null,null,null,null,0]
[null,null,null,null,0,null,0,null,null,null,null,null,null,null,0]
[null,null,null,null,0,null,0,null,null,null,null,null,null,null,0]
[null,null,null,null,0,null,0,null,null,null,null,null,null,null,0]
[null,null,null,null,0,null,0,null,null,null,null,null,null,null,0]
[null,null,null,null,0,null,0,null,null,null,null,null,null,null,0]
[null,null,null,null,{"$f":"IF(D133=\"\",0,SUM(C133:D133))","v":0},null,0,null,null,null,null,null,null,null,0]
[null,null,null,null,0,null,0,null,null,null,null,null,null,null,0]
[null,null,null,null,0,null,{"$f":"ROUND(IF(F135=\"\",0,C135/(E135-F135)),2)","v":0},null,null,null,null,null,null,null,0]
[null,null,null,null,0,null,0,null,null,null,null,null,null,null,{"$f":"ROUND(IF(N136=\"\",0,M136/(M136-N136)),2)","v":0}]
[null,null,null,null,0,null,0,null,null,null,null,null,null,null,0]
[null,null,null,null,0,null,0,null,null,null,null,null,null,null,0]
[null,null,null,null,0,null,0,null,null,null,null,null,null,null,0]
[null,null,null,null,0,null,0,null,null,null,null,null,null,null,0]
[null,null,null,null,0,null,0,null,null,null,null,null,null,null,0]
[null,null,null,null,0,null,0,null,null,null,null,null,null,null,0]
[null,null,null,null,0,null,0,null,null,null,null,null,null,null,0]
[null,null,null,null,0,null,0,null,null,null,null,null,null,null,0]
[null,null,null,null,0,null,0,null,null,null,null,null,null,null,0]
[null,null,null,null,0,null,0,null,null,null,null,null,null,null,0]
[null,null,null,null,0,null,0,null,null,null,null,null,null,null,0]
[null,null,null,null,0,null,0,null,null,null,null,null,null,null,0]
[null,null,null,null,0,null,0,null,null,null,null,null,null,null,0]
[null,null,null,null,0,null,0,null,null,null,null,null,null,null,0]
[null,null,null,null,0,null,0,null,null,null,null,null,null,null,0]
[null,null,null,null,0,null,0,null,null,null,null,null,null,null,0]
[null,null,null,null,0,null,0,null,null,null,null,null,null,null,0]
[null,null,null,null,0,null,0,null,null,null,null,null,null,null,0]
[null,null,null,null,0,null,0,null,null,null,null,null,null,null,0]
[null,null,null,null,0,null,0,null,null,null,null,null,null,null,0]
[null,null,null,null,0,null,0,null,null,null,null,null,null,null,0]
[null,null,null,null,0,null,0,null,null,null,null,null,null,null,0]
[null,null,null,null,0,null,0,null,null,null,null,null,null,null,0]
[null,null,null,null,0,null,0,null,null,null,null,null,null,null,0]
[null,null,null,null,0,null,0,null,null,null,null,null,null,null,0]
[null,null,null,null,0,null,0,null,null,null,null,null,null,null,0]
[null,null,null,null,0,null,0,null,null,null,null,null,null,null,0]
[null,null,null,null,0,null,0,null,null,null,null,null,null,null,0]
[null,null,null,null,0,null,0,null,null,null,null,null,null,null,0]
[null,null,null,null,0,null,0,null,null,null,null,null,null,null,0]
[null,null,null,null,0,null,0,null,null,null,null,null,null,null,0]
[null,null,null,null,0,null,0,null,null,null,null,null,null,null,0]
[null,null,null,null,0,null,0,null,null,null,null,null,null,null,0]
[null,null,null,null,0,null,0,null,null,null,null,null,null,null,0]
[null,null,null,null,0,null,0,null,null,null,null,null,null,null,0]
[null,null,null,null,0,null,0,null,null,null,null,null,null,null,0]
[null,null,null,null,0,null,0,null,null,null,null,null,null,null,0]
[null,null,null,null,0,null,0,null,null,null,null,null,null,null,0]
[null,null,null,null,0,null,0,null,null,null,null,null,null,null,0]
[null,null,null,null,0,null,0,null,null,null,null,null,null,null,0]
[null,null,null,null,0,null,0,null,null,null,null,null,null,null,0]
[null,null,null,null,0,null,0,null,null,null,null,null,null,null,0]
[null,null,null,null,0,null,0,null,null,null,null,null,null,null,0]
[null,null,null,null,0,null,0,null,null,null,null,null,null,null,0]
[null,null,null,null,0,null,0,null,null,null,null,null,null,null,0]
[null,null,null,null,0,null,0,null,null,null,null,null,null,null,0]
[null,null,null,null,0,null,0,null,null,null,null,null,null,null,0]
[null,null,null,null,0,null,0,null,null,null,null,null,null,null,0]
[null,null,null,null,0,null,0,null,null,null,null,null,null,null,0]
[null,null,null,null,0,null,0,null,null,null,null,null,null,null,0]
[null,null,null,null,0,null,0,null,null,null,null,null,null,null,0]
[null,null,null,null,0,null,0,null,null,null,null,null,null,null,0]
[null,null,null,null,0,null,0,null,null,null,null,null,null,null,0]
[null,null,null,null,0,null,0,null,null,null,null,null,null,null,0]
[null,null,null,null,0,null,0,null,null,null,null,null,null,null,0]
[null,null,null,null,0,null,0,null,null,null,null,null,null,null,0]
[null,null,null,null,0,null,0,null,null,null,null,null,null,null,0]
[null,null,null,null,0,null,0,null,null,null,null,null,null,null,0]
[null,null,null,null,{"$f":"IF(D195=\"\",0,SUM(C195:D195))","v":0},null,0,null,null,null,null,null,null,null,0]
[null,null,null,null,0,null,0,null,null,null,null,null,null,null,0]
[null,null,null,null,0,null,0,null,null,null,null,null,null,null,0]
[null,null,null,null,0,null,0,null,null,null,null,null,null,null,0]
[null,null,null,null,0,null,{"$f":"ROUND(IF(F199=\"\",0,C199/(E199-F199)),2)","v":0},null,null,null,null,null,null,null,0]
[null,null,null,null,0,null,0,null,null,null,null,null,null,null,{"$f":"ROUND(IF(N200=\"\",0,M200/(M200-N200)),2)","v":0}]
[null,null,null,null,0,null,0,null,null,null,null,null,null,null,0]
[null,null,null,null,0,null,0,null,null,null,null,null,null,null,0]
[null,null,null,null,0,null,0,null,null,null,null,null,null,null,0]
[null,null,null,null,0,null,0,null,null,null,null,null,null,null,0]
[null,null,null,null,0,null,0,null,null,null,null,null,null,null,0]
[null,null,null,null,0,null,0,null,null,null,null,null,null,null,0]
[null,null,null,null,0,null,0,null,null,null,null,null,null,null,0]
[null,null,null,null,0,null,0,null,null,null,null,null,null,null,0]
[null,null,null,null,0,null,0,null,null,null,null,null,null,null,0]
[null,null,null,null,0,null,0,null,null,null,null,null,null,null,0]
[null,null,null,null,0,null,0,null,null,null,null,null,null,null,0]
[null,null,null,null,0,null,0,null,null,null,null,null,null,null,0]
[null,null,null,null,0,null,0,null,null,null,null,null,null,null,0]
[null,null,null,null,0,null,0,null,null,null,null,null,null,null,0]
[null,null,null,null,0,null,0,null,null,null,null,null,null,null,0]
[null,null,null,null,0,null,0,null,null,null,null,null,null,null,0]
[null,null,null,null,0,null,0,null,null,null,null,null,null,null,0]
[null,null,null,null,0,null,0,null,null,null,null,null,null,null,0]
[null,null,null,null,0,null,0,null,null,null,null,null,null,null,0]
[null,null,null,null,0,null,0,null,null,null,null,null,null,null,0]
[null,null,null,null,0,null,0,null,null,null,null,null,null,null,0]
[null,null,null,null,0,null,0,null,null,null,null,null,null,null,0]
[null,null,null,null,0,null,0,null,null,null,null,null,null,null,0]
[null,null,null,null,0,null,0,null,null,null,null,null,null,null,0]
[null,null,null,null,0,null,0,null,null,null,null,null,null,null,0]
[null,null,null,null,0,null,0,null,null,null,null,null,null,null,0]
[null,null,null,null,{"$f":"IF(D227=\"\",0,SUM(C227:D227))","v":0},null,0,null,null,null,null,null,null,null,0]
[null,null,null,null,0,null,0,null,null,null,null,null,null,null,0]
[null,null,null,null,0,null,0,null,null,null,null,null,null,null,0]
[null,null,null,null,0,null,0,null,null,null,null,null,null,null,0]
[null,null,null,null,0,null,0,null,null,null,null,null,null,null,0]
[null,null,null,null,0,null,0,null,null,null,null,null,null,null,0]
[null,null,null,null,0,null,0,null,null,null,null,null,null,null,0]
[null,null,null,null,0,null,0,null,null,null,null,null,null,null,0]
[null,null,null,null,0,null,0,null,null,null,null,null,null,null,0]
[null,null,null,null,0,null,0,null,null,null,null,null,null,null,0]
[null,null,null,null,0,null,0,null,null,null,null,null,null,null,0]
[null,null,null,null,0,null,0,null,null,null,null,null,null,null,0]
[null,null,null,null,0,null,0,null,null,null,null,null,null,null,0]
[null,null,null,null,0,null,0,null,null,null,null,null,null,null,0]
[null,null,null,null,0,null,0,null,null,null,null,null,null,null,0]
[null,null,null,null,0,null,0,null,null,null,null,null,null,null,0]
[null,null,null,null,0,null,0,null,null,null,null,null,null,null,0]
[null,null,null,null,0,null,0,null,null,null,null,null,null,null,0]
[null,null,null,null,0,null,0,null,null,null,null,null,null,null,0]
[null,null,null,null,0,null,0,null,null,null,null,null,null,null,0]
[null,null,null,null,0,null,0,null,null,null,null,null,null,null,0]
[null,null,null,null,0,null,0,null,null,null,null,null,null,null,0]
[null,null,null,null,0,null,0,null,null,null,null,null,null,null,0]
[null,null,null,null,0,null,0,null,null,null,null,null,null,null,0]
[null,null,null,null,0,null,0,null,null,null,null,null,null,null,0]
[null,null,null,null,0,null,0,null,null,null,null,null,null,null,0]
[null,null,null,null,0,null,0,null,null,null,null,null,null,null,0]
[null,null,null,null,0,null,0,null,null,null,null,null,null,null,0]
[null,null,null,null,0,null,0,null,null,null,null,null,null,null,0]
[null,null,null,null,0,null,0,null,null,null,null,null,null,null,0]
[null,null,null,null,0,null,0,null,null,null,null,null,null,null,0]
[null,null,null,null,0,null,0,null,null,null,null,null,null,null,0]
[null,null,null,null,0,null,0,null,null,null,null,null,null,null,0]
[null,null,null,null,0,null,0,null,null,null,null,null,null,null,0]
[null,null,null,null,0,null,0,null,null,null,null,null,null,null,0]
[null,null,null,null,0,null,0,null,null,null,null,null,null,null,0]
[null,null,null,null,0,null,{"$f":"ROUND(IF(F263=\"\",0,C263/(E263-F263)),2)","v":0},null,null,null,null,null,null,null,0]
[null,null,null,null,0,null,0,null,null,null,null,null,null,null,{"$f":"ROUND(IF(N264=\"\",0,M264/(M264-N264)),2)","v":0}]
[null,null,null,null,0,null,0,null,null,null,null,null,null,null,0]
[null,null,null,null,0,null,0,null,null,null,null,null,null,null,0]
[null,null,null,null,0,null,0,null,null,null,null,null,null,null,0]
[null,null,null,null,0,null,0,null,null,null,null,null,null,null,0]
[null,null,null,null,0,null,0,null,null,null,null,null,null,null,0]
[null,null,null,null,0,null,0,null,null,null,null,null,null,null,0]
[null,null,null,null,0,null,0,null,null,null,null,null,null,null,0]
[null,null,null,null,0,null,0,null,null,null,null,null,null,null,0]
[null,null,null,null,0,null,0,null,null,null,null,null,null,null,0]
[null,null,null,null,0,null,0,null,null,null,null,null,null,null,0]
[null,null,null,null,0,null,0,null,null,null,null,null,null,null,0]
[null,null,null,null,0,null,0,null,null,null,null,null,null,null,0]
[null,null,null,null,0,null,0,null,null,null,null,null,null,null,0]
[null,null,null,null,0,null,0,null,null,null,null,null,null,null,0]
[null,null,null,null,0,null,0,null,null,null,null,null,null,null,0]
[null,null,null,null,0,null,0,null,null,null,null,null,null,null,0]
[null,null,null,null,0,null,0,null,null,null,null,null,null,null,0]
[null,null,null,null,0,null,0,null,null,null,null,null,null,null,0]
[null,null,null,null,0,null,0,null,null,null,null,null,null,null,0]
[null,null,null,null,0,null,0,null,null,null,null,null,null,null,0]
[null,null,null,null,0,null,0,null,null,null,null,null,null,null,0]
[null,null,null,null,0,null,0,null,null,null,null,null,null,null,0]
[null,null,null,null,0,null,0,null,null,null,null,null,null,null,0]
[null,null,null,null,0,null,0,null,null,null,null,null,null,null,0]

{"sheet":"Moist.","index":23,"n_rows":392,"n_cols":33,"rows_kept":392,"cut":false,"hidden":false,"merged":[]}
["Moistures by Pycnometer  ( IM 308)"]
[null,null,null,null,null,null,null,"Page No.: "]
["Project No.: ",{"$f":"IF(Info!B3=\"\",\"\",(Info!B3))","v":""},null,null,null,null,null,"Contract ID.: ",{"$f":"IF(Info!B4=\"\",\"\",(Info!B4))","v":""}]
[]
[null,"Aggregate",null,null,null,null,null,null,null,null,null,null,null,null,null,null,null,null,null,null,null,null,null,null,null,null,null,null,null,null,null,null,1]
[null,"Sample Size",null,null,null,null,null,null,null,null,null,null,null,null,null,null,null,null,null,null,null,null,null,null,null,null,null,null,null,null,null,null,2]
[null,"1000gm = 1","W","W1","Diff","Moisture","Aggregate"]
["Date","2000gm = 2","( Grams )","( Grams )","( Grams )","(%)","Type","Remarks",null,"By"]
[null,null,null,null,{"$f":"IF(D9=\"\",0,SUM(C9-D9))","v":0},{"$f":"IF(E9=\"\",\"\",VLOOKUP(E9,$K$10:$M$96,B9+1))","v":""}]
[null,null,null,null,0,{"$f":"IF(E10=\"\",\"\",VLOOKUP(E10,$K$10:$M$96,B10+1))","v":""},null,null,null,null,0,0,0]
[null,null,null,null,0,"",null,null,null,null,0.5,8.0303030303030307E-2,4.0151515151515153E-2]
[null,null,null,null,0,"",null,null,null,null,1,0.16060606060606061,8.0303030303030307E-2]
[null,null,null,null,0,"",null,null,null,null,1.5,0.24090909090909088,0.12045454545454544]
[null,null,null,null,0,"",null,null,null,null,2,0.32121212121212123,0.16060606060606061]
[null,null,null,null,0,"",null,null,null,null,2.5,0.40151515151515149,0.20075757575757575]
[null,null,null,null,0,"",null,null,null,null,3,0.48181818181818176,0.24090909090909088]
[null,null,null,null,0,"",null,null,null,null,3.5,0.56212121212121213,0.28106060606060607]
[null,null,null,null,0,"",null,null,null,null,4,0.64242424242424245,0.32121212121212123]
[null,null,null,null,0,"",null,null,null,null,4.5,0.72272727272727277,0.36136363636363639]
[null,null,null,null,0,"",null,null,null,null,5,0.80303030303030298,0.40151515151515149]
[null,null,null,null,0,"",null,null,null,null,5.5,0.8833333333333333,0.44166666666666665]
[null,null,null,null,0,"",null,null,null,null,6,0.96363636363636351,0.48181818181818176]
[null,null,null,null,0,"",null,null,null,null,6.5,1.0439393939393937,0.52196969696969686]
[null,null,null,null,0,"",null,null,null,null,7,1.1242424242424243,0.56212121212121213]
[null,null,null,null,0,"",null,null,null,null,7.5,1.2045454545454546,0.60227272727272729]
[null,null,null,null,0,"",null,null,null,null,8,1.2848484848484849,0.64242424242424245]
[null,null,null,null,0,"",null,null,null,null,8.5,1.3651515151515152,0.68257575757575761]
[null,null,null,null,0,"",null,null,null,null,9,1.4454545454545455,0.72272727272727277]
[null,null,null,null,0,"",null,null,null,null,9.5,1.5257575757575759,0.76287878787878793]
[null,null,null,null,0,"",null,null,null,null,10,1.606060606060606,0.80303030303030298]
[null,null,null,null,0,"",null,null,null,null,10.5,1.6863636363636363,0.84318181818181814]
[null,null,null,null,0,"",null,null,null,null,11,1.7666666666666666,0.8833333333333333]
[null,null,null,null,0,"",null,null,null,null,11.5,1.8469696969696969,0.92348484848484846]
[null,null,null,null,0,"",null,null,null,null,12,1.927272727272727,0.96363636363636351]
[null,null,null,null,0,"",null,null,null,null,12.5,2.0075757575757578,1.0037878787878789]
[null,null,null,null,0,"",null,null,null,null,13,2.0878787878787874,1.0439393939393937]
[null,null,null,null,0,"",null,null,null,null,13.5,2.168181818181818,1.084090909090909]
[null,null,null,null,0,"",null,null,null,null,14,2.2484848484848485,1.1242424242424243]
[null,null,null,null,0,"",null,null,null,null,14.5,2.3287878787878786,1.1643939393939393]
[null,null,null,null,0,"",null,null,null,null,15,2.4090909090909092,1.2045454545454546]
[null,null,null,null,{"$f":"IF(D41=\"\",0,SUM(C41-D41))","v":0},"",null,null,null,null,15.5,2.4893939393939393,1.2446969696969696]
[null,null,null,null,0,{"$f":"IF(E42=\"\",\"\",VLOOKUP(E42,$K$10:$M$96,B42+1))","v":""},null,null,null,null,16,2.5696969696969698,1.2848484848484849]
[null,null,null,null,0,"",null,null,null,null,16.5,2.65,1.325]
[null,null,null,null,0,"",null,null,null,null,17,2.7303030303030305,1.3651515151515152]
[null,null,null,null,0,"",null,null,null,null,17.5,2.8106060606060606,1.4053030303030303]
[null,null,null,null,0,"",null,null,null,null,18,2.8909090909090911,1.4454545454545455]
[null,null,null,null,0,"",null,null,null,null,18.5,2.9712121212121212,1.4856060606060606]
[null,null,null,null,0,"",null,null,null,null,19,3.0515151515151517,1.5257575757575759]
[null,null,null,null,0,"",null,null,null,null,19.5,3.1318181818181818,1.5659090909090909]
[null,null,null,null,0,"",null,null,null,null,20,3.2121212121212119,1.606060606060606]
[null,null,null,null,0,"",null,null,null,null,20.5,3.2924242424242425,1.6462121212121212]
[null,null,null,null,0,"",null,null,null,null,21,3.3727272727272726,1.6863636363636363]
[null,null,null,null,0,"",null,null,null,null,21.5,3.4530303030303031,1.7265151515151516]
[null,null,null,null,0,"",null,null,null,null,22,3.5333333333333332,1.7666666666666666]
[null,null,null,null,0,"",null,null,null,null,22.5,3.6136363636363638,1.8068181818181819]
[null,null,null,null,0,"",null,null,null,null,23,3.6939393939393939,1.8469696969696969]
[null,null,null,null,0,"",null,null,null,null,23.5,3.7742424242424244,1.8871212121212122]
[null,null,null,null,0,"",null,null,null,null,24,3.8545454545454541,1.927272727272727]
[null,null,null,null,0,"",null,null,null,null,24.5,3.934848484848485,1.9674242424242425]
[null,null,null,null,0,"",null,null,null,null,25,4.0151515151515156,2.0075757575757578]
[null,null,null,null,0,"",null,null,null,null,25.5,4.0954545454545457,2.0477272727272728]
[null,null,null,null,0,"",null,null,null,null,26,4.1757575757575749,2.0878787878787874]
[null,null,null,null,0,"",null,null,null,null,26.5,4.2560606060606059,2.1280303030303029]
[null,null,null,null,0,"",null,null,null,null,27,4.336363636363636,2.168181818181818]
[null,null,null,null,0,"",null,null,null,null,27.5,4.416666666666667,2.2083333333333335]
[null,null,null,null,0,"",null,null,null,null,28,4.4969696969696971,2.2484848484848485]
[null,null,null,null,0,"",null,null,null,null,28.5,4.5772727272727272,2.2886363636363636]
[null,null,null,null,0,"",null,null,null,null,29,4.6575757575757573,2.3287878787878786]
[null,null,null,null,0,"",null,null,null,null,29.5,4.7378787878787882,2.3689393939393941]
[null,null,null,null,0,"",null,null,null,null,30,4.8181818181818183,2.4090909090909092]
[null,null,null,null,0,"",null,null,null,null,30.5,4.8984848484848484,2.4492424242424242]
[null,null,null,null,0,"",null,null,null,null,31,4.9787878787878785,2.4893939393939393]
[null,null,null,null,{"$f":"IF(D73=\"\",0,SUM(C73-D73))","v":0},"",null,null,null,null,31.5,5.0590909090909095,2.5295454545454548]
[null,null,null,null,0,{"$f":"IF(E74=\"\",\"\",VLOOKUP(E74,$K$10:$M$96,B74+1))","v":""},null,null,null,null,32,5.1393939393939396,2.5696969696969698]
[null,null,null,null,0,"",null,null,null,null,32.5,5.2196969696969697,2.6098484848484849]
[null,null,null,null,0,"",null,null,null,null,33,5.3,2.65]
[null,null,null,null,0,"",null,null,null,null,33.5,5.3803030303030299,2.690151515151515]
[null,null,null,null,0,"",null,null,null,null,34,5.4606060606060609,2.7303030303030305]
[null,null,null,null,0,"",null,null,null,null,34.5,5.540909090909091,2.7704545454545455]
[null,null,null,null,0,"",null,null,null,null,35,5.6212121212121211,2.8106060606060606]
[null,null,null,null,0,"",null,null,null,null,35.5,5.7015151515151512,2.8507575757575756]
[null,null,null,null,0,"",null,null,null,null,36,5.7818181818181822,2.8909090909090911]
[null,null,null,null,0,"",null,null,null,null,36.5,5.8621212121212123,2.9310606060606061]
[null,null,null,null,0,"",null,null,null,null,37,5.9424242424242424,2.9712121212121212]
[null,null,null,null,0,"",null,null,null,null,37.5,6.0227272727272725,3.0113636363636362]
[null,null,null,null,0,"",null,null,null,null,38,6.1030303030303035,3.0515151515151517]
[null,null,null,null,0,"",null,null,null,null,38.5,6.1833333333333336,3.0916666666666668]
[null,null,null,null,0,"",null,null,null,null,39,6.2636363636363637,3.1318181818181818]
[null,null,null,null,0,"",null,null,null,null,39.5,6.3439393939393938,3.1719696969696969]
[null,null,null,null,0,"",null,null,null,null,40,6.4242424242424239,3.2121212121212119]
[null,null,null,null,0,"",null,null,null,null,40.5,6.5045454545454549,3.2522727272727274]
[null,null,null,null,0,"",null,null,null,null,41,6.584848484848485,3.2924242424242425]
[null,null,null,null,0,"",null,null,null,null,41.5,6.665151515151515,3.3325757575757575]
[null,null,null,null,0,"",null,null,null,null,42,6.7454545454545451,3.3727272727272726]
[null,null,null,null,0,"",null,null,null,null,42.5,6.8257575757575761,3.4128787878787881]
[null,null,null,null,0,"",null,null,null,null,43,6.9060606060606062,3.4530303030303031]
[null,null,null,null,0,""]
[null,null,null,null,0,""]
[null,null,null,null,0,""]
[null,null,null,null,0,""]
[null,null,null,null,0,""]
[null,null,null,null,0,""]
[null,null,null,null,0,""]
[null,null,null,null,0,""]
[null,null,null,null,{"$f":"IF(D105=\"\",0,SUM(C105-D105))","v":0},""]
[null,null,null,null,0,{"$f":"IF(E106=\"\",\"\",VLOOKUP(E106,$K$10:$M$96,B106+1))","v":""}]
[null,null,null,null,0,""]
[null,null,null,null,0,""]
[null,null,null,null,0,""]
[null,null,null,null,0,""]
[null,null,null,null,0,""]
[null,null,null,null,0,""]
[null,null,null,null,0,""]
[null,null,null,null,0,""]
[null,null,null,null,0,""]
[null,null,null,null,0,""]
[null,null,null,null,0,""]
[null,null,null,null,0,""]
[null,null,null,null,0,""]
[null,null,null,null,0,""]
[null,null,null,null,0,""]
[null,null,null,null,0,""]
[null,null,null,null,0,""]
[null,null,null,null,0,""]
[null,null,null,null,0,""]
[null,null,null,null,0,""]
[null,null,null,null,0,""]
[null,null,null,null,0,""]
[null,null,null,null,0,""]
[null,null,null,null,0,""]
[null,null,null,null,0,""]
[null,null,null,null,0,""]
[null,null,null,null,0,""]
[null,null,null,null,0,""]
[null,null,null,null,0,""]
[null,null,null,null,0,""]
[null,null,null,null,{"$f":"IF(D137=\"\",0,SUM(C137-D137))","v":0},""]
[null,null,null,null,0,{"$f":"IF(E138=\"\",\"\",VLOOKUP(E138,$K$10:$M$96,B138+1))","v":""}]
[null,null,null,null,0,""]
[null,null,null,null,0,""]
[null,null,null,null,0,""]
[null,null,null,null,0,""]
[null,null,null,null,0,""]
[null,null,null,null,0,""]
[null,null,null,null,0,""]
[null,null,null,null,0,""]
[null,null,null,null,0,""]
[null,null,null,null,0,""]
[null,null,null,null,0,""]
[null,null,null,null,0,""]
[null,null,null,null,0,""]
[null,null,null,null,0,""]
[null,null,null,null,0,""]
[null,null,null,null,0,""]
[null,null,null,null,0,""]
[null,null,null,null,0,""]
[null,null,null,null,0,""]
[null,null,null,null,0,""]
[null,null,null,null,0,""]
[null,null,null,null,0,""]
[null,null,null,null,0,""]
[null,null,null,null,0,""]
[null,null,null,null,0,""]
[null,null,null,null,0,""]
[null,null,null,null,0,""]
[null,null,null,null,0,""]
[null,null,null,null,0,""]
[null,null,null,null,0,""]
[null,null,null,null,{"$f":"IF(D169=\"\",0,SUM(C169-D169))","v":0},""]
[null,null,null,null,0,{"$f":"IF(E170=\"\",\"\",VLOOKUP(E170,$K$10:$M$96,B170+1))","v":""}]
[null,null,null,null,0,""]
[null,null,null,null,0,""]
[null,null,null,null,0,""]
[null,null,null,null,0,""]
[null,null,null,null,0,""]
[null,null,null,null,0,""]
[null,null,null,null,0,""]
[null,null,null,null,0,""]
[null,null,null,null,0,""]
[null,null,null,null,0,""]
[null,null,null,null,0,""]
[null,null,null,null,0,""]
[null,null,null,null,0,""]
[null,null,null,null,0,""]
[null,null,null,null,0,""]
[null,null,null,null,0,""]
[null,null,null,null,0,""]
[null,null,null,null,0,""]
[null,null,null,null,0,""]
[null,null,null,null,0,""]
[null,null,null,null,0,""]
[null,null,null,null,0,""]
[null,null,null,null,0,""]
[null,null,null,null,0,""]
[null,null,null,null,0,""]
[null,null,null,null,0,""]
[null,null,null,null,0,""]
[null,null,null,null,0,""]
[null,null,null,null,0,""]
[null,null,null,null,0,""]
[null,null,null,null,{"$f":"IF(D201=\"\",0,SUM(C201-D201))","v":0},{"$f":"IF(E201=\"\",\"\",VLOOKUP(E201,$K$10:$M$96,B201+1))","v":""}]
[null,null,null,null,0,{"$f":"IF(E202=\"\",\"\",VLOOKUP(E202,$K$10:$M$96,B202+1))","v":""}]
[null,null,null,null,0,""]
[null,null,null,null,0,""]
[null,null,null,null,0,""]
[null,null,null,null,0,""]
[null,null,null,null,0,""]
[null,null,null,null,0,""]
[null,null,null,null,0,""]
[null,null,null,null,0,""]
[null,null,null,null,0,""]
[null,null,null,null,0,""]
[null,null,null,null,0,""]
[null,null,null,null,0,""]
[null,null,null,null,0,""]
[null,null,null,null,0,""]
[null,null,null,null,0,""]
[null,null,null,null,0,""]
[null,null,null,null,0,""]
[null,null,null,null,0,""]
[null,null,null,null,0,""]
[null,null,null,null,0,""]
[null,null,null,null,0,""]
[null,null,null,null,0,""]
[null,null,null,null,0,""]
[null,null,null,null,0,""]
[null,null,null,null,0,""]
[null,null,null,null,0,""]
[null,null,null,null,0,""]
[null,null,null,null,0,""]
[null,null,null,null,0,""]
[null,null,null,null,0,""]
[null,null,null,null,{"$f":"IF(D233=\"\",0,SUM(C233-D233))","v":0},""]
[null,null,null,null,0,""]
[null,null,null,null,0,""]
[null,null,null,null,0,""]
[null,null,null,null,0,""]
[null,null,null,null,0,""]
[null,null,null,null,0,""]
[null,null,null,null,0,""]
[null,null,null,null,0,""]
[null,null,null,null,0,""]
[null,null,null,null,0,""]
[null,null,null,null,0,""]
[null,null,null,null,0,""]
[null,null,null,null,0,""]
[null,null,null,null,0,""]
[null,null,null,null,0,""]
[null,null,null,null,0,""]
[null,null,null,null,0,""]
[null,null,null,null,0,""]
[null,null,null,null,0,""]
[null,null,null,null,0,""]
[null,null,null,null,0,""]
[null,null,null,null,0,""]
[null,null,null,null,0,""]
[null,null,null,null,0,""]
[null,null,null,null,0,""]
[null,null,null,null,0,""]
[null,null,null,null,0,""]
[null,null,null,null,0,""]
[null,null,null,null,0,""]
[null,null,null,null,0,""]
[null,null,null,null,0,""]
[null,null,null,null,0,""]
[null,null,null,null,0,{"$f":"IF(E266=\"\",\"\",VLOOKUP(E266,$K$10:$M$96,B266+1))","v":""}]
[null,null,null,null,0,""]
[null,null,null,null,0,""]
[null,null,null,null,0,""]
[null,null,null,null,0,""]
[null,null,null,null,0,""]
[null,null,null,null,0,""]
[null,null,null,null,0,""]
[null,null,null,null,0,""]
[null,null,null,null,0,""]
[null,null,null,null,0,""]
[null,null,null,null,0,""]
[null,null,null,null,0,""]
[null,null,null,null,0,""]
[null,null,null,null,0,""]
[null,null,null,null,0,""]
[null,null,null,null,0,""]
[null,null,null,null,0,""]
[null,null,null,null,0,""]
[null,null,null,null,0,""]
[null,null,null,null,0,""]
[null,null,null,null,0,""]
[null,null,null,null,0,""]
[null,null,null,null,0,""]
[null,null,null,null,0,""]
[null,null,null,null,0,""]
[null,null,null,null,0,""]
[null,null,null,null,0,""]
[null,null,null,null,0,""]
[null,null,null,null,0,""]
[null,null,null,null,0,""]
[null,null,null,null,{"$f":"IF(D297=\"\",0,SUM(C297-D297))","v":0},""]
[null,null,null,null,0,""]
[null,null,null,null,0,""]
[null,null,null,null,0,""]
[null,null,null,null,0,""]
[null,null,null,null,0,""]
[null,null,null,null,0,""]
[null,null,null,null,0,""]
[null,null,null,null,0,""]
[null,null,null,null,0,""]
[null,null,null,null,0,""]
[null,null,null,null,0,""]
[null,null,null,null,0,""]
[null,null,null,null,0,""]
[null,null,null,null,0,""]
[null,null,null,null,0,""]
[null,null,null,null,0,""]
[null,null,null,null,0,""]
[null,null,null,null,0,""]
[null,null,null,null,0,""]
[null,null,null,null,0,""]
[null,null,null,null,0,""]
[null,null,null,null,0,""]
[null,null,null,null,0,""]
[null,null,null,null,0,""]
[null,null,null,null,0,""]
[null,null,null,null,0,""]
[null,null,null,null,0,""]
[null,null,null,null,0,""]
[null,null,null,null,0,""]
[null,null,null,null,0,""]
[null,null,null,null,0,""]
[null,null,null,null,0,""]
[null,null,null,null,0,{"$f":"IF(E330=\"\",\"\",VLOOKUP(E330,$K$10:$M$96,B330+1))","v":""}]
[null,null,null,null,0,""]
[null,null,null,null,0,""]
[null,null,null,null,0,""]
[null,null,null,null,0,""]
[null,null,null,null,0,""]
[null,null,null,null,0,""]
[null,null,null,null,0,""]
[null,null,null,null,0,""]
[null,null,null,null,0,""]
[null,null,null,null,0,""]
[null,null,null,null,0,""]
[null,null,null,null,0,""]
[null,null,null,null,0,""]
[null,null,null,null,0,""]
[null,null,null,null,0,""]
[null,null,null,null,0,""]
[null,null,null,null,0,""]
[null,null,null,null,0,""]
[null,null,null,null,0,""]
[null,null,null,null,0,""]
[null,null,null,null,0,""]
[null,null,null,null,0,""]
[null,null,null,null,0,""]
[null,null,null,null,0,""]
[null,null,null,null,0,""]
[null,null,null,null,0,""]
[null,null,null,null,0,""]
[null,null,null,null,0,""]
[null,null,null,null,0,""]
[null,null,null,null,0,""]
[null,null,null,null,{"$f":"IF(D361=\"\",0,SUM(C361-D361))","v":0},""]
[null,null,null,null,0,""]
[null,null,null,null,0,""]
[null,null,null,null,0,""]
[null,null,null,null,0,""]
[null,null,null,null,0,""]
[null,null,null,null,0,""]
[null,null,null,null,0,""]
[null,null,null,null,0,""]
[null,null,null,null,0,""]
[null,null,null,null,0,""]
[null,null,null,null,0,""]
[null,null,null,null,0,""]
[null,null,null,null,0,""]
[null,null,null,null,0,""]
[null,null,null,null,0,""]
[null,null,null,null,0,""]
[null,null,null,null,0,""]
[null,null,null,null,0,""]
[null,null,null,null,0,""]
[null,null,null,null,0,""]
[null,null,null,null,0,""]
[null,null,null,null,0,""]
[null,null,null,null,0,""]
[null,null,null,null,0,""]
[null,null,null,null,0,""]
[null,null,null,null,0,""]
[null,null,null,null,0,""]
[null,null,null,null,0,""]
[null,null,null,null,0,""]
[null,null,null,null,0,""]
[null,null,null,null,0,""]

{"sheet":"Mixer","index":24,"n_rows":368,"n_cols":10,"rows_kept":368,"cut":false,"hidden":false,"merged":[]}
["Mixer  Data"]
[null,null,null,null,null,null,"Page No.: "]
["Project No.: ",{"$f":"IF(Info!B3=\"\",\"\",(Info!B3))","v":""},null,null,null,null,"Contract ID.: ",null,{"$f":"IF(Info!B4=\"\",\"\",(Info!B4))","v":""}]
[]
[null,null,null,null,"Mixing",null,null,null,"Rev."]
[null,"Truck","Date","Mixer","Capacity","Mixing Speed",null,"Agit.","Counter"]
["Date","No.","Certified","Brand","yd3 (m3)","Rated","Actual","Speed","(man/auto)","By"]
[null,null,null,null,null," "]
[]
[]
[]
[]
[]
[]
[]
[]
[]
[]
[]
[]
[]
[]
[]
[]
[]
[]
[]
[]
[]
[]
[]
[]
[]
[]
[]
[]
[]
[]
[]
[]
[]
[]
[]
[]
[]
[]
[]
[]
[]
[]
[]
[]
[]
[]
[]
[]
[]
[]
[]
[]
[]
[]
[]
[]
[]
[]
[]
[]
[]
[]
[]
[]
[]
[]
[]
[]
[]
[]
[]
[]
[]
[]
[]
[]
[]
[]
[]
[]
[]
[]
[]
[]
[]
[]
[]
[]
[]
[]
[]
[]
[]
[]
[]
[]
[]
[]
[]
[]
[]
[]
[]
[]
[]
[]
[]
[]
[]
[]
[]
[]
[]
[]
[]
[]
[]
[]
[]
[null,null,null,null,null," "]
[]
[]
[]
[]
[]
[]
[]
[]
[]
[]
[]
[]
[]
[]
[]
[]
[]
[]
[]
[]
[]
[]
[]
[]
[]
[]
[]
[]
[]
[]
[]
[]
[]
[]
[]
[]
[]
[]
[]
[]
[]
[]
[]
[]
[]
[]
[]
[]
[]
[]
[]
[]
[]
[]
[]
[]
[]
[]
[]
[]
[]
[]
[]
[]
[]
[]
[]
[]
[]
[]
[]
[]
[]
[]
[]
[]
[]
[]
[]
[]
[]
[]
[]
[]
[]
[]
[]
[]
[]
[]
[]
[]
[]
[]
[]
[]
[]
[]
[]
[]
[]
[]
[]
[]
[]
[]
[]
[]
[]
[]
[]
[]
[]
[]
[]
[]
[]
[]
[]
[null,null,null,null,null," "]
[]
[]
[]
[]
[]
[]
[]
[]
[]
[]
[]
[]
[]
[]
[]
[]
[]
[]
[]
[]
[]
[]
[]
[]
[]
[]
[]
[]
[]
[]
[]
[]
[]
[]
[]
[]
[]
[]
[]
[]
[]
[]
[]
[]
[]
[]
[]
[]
[]
[]
[]
[]
[]
[]
[]
[]
[]
[]
[]
[]
[]
[]
[]
[]
[]
[]
[]
[]
[]
[]
[]
[]
[]
[]
[]
[]
[]
[]
[]
[]
[]
[]
[]
[]
[]
[]
[]
[]
[]
[]
[]
[]
[]
[]
[]
[]
[]
[]
[]
[]
[]
[]
[]
[]
[]
[]
[]
[]
[]
[]
[]
[]
[]
[]
[]
[]
[]
[]
[]
[null,null,null,null,null," "]

{"sheet":"Ck. List","index":25,"n_rows":6,"n_cols":9,"rows_kept":6,"cut":false,"hidden":false,"merged":[]}
["Ready  Mix  Check  List"]
[null,null,null,null,null,null,"Page No.: "]
["Project No.: ",{"$f":"IF(Info!B3=\"\",\"\",(Info!B3))","v":""},null,null,null,null,"Contract ID.: ",{"$f":"IF(Info!B4=\"\",\"\",(Info!B4))","v":""}]
[]
[null,"Scale","Scale","Mixing","Mixing",null,"Admixture","Plant"]
["Date","Sensitivity","Operations","Revolutions","Time","Stockpiles","Dispensers","Site","By"]

{"sheet":"Rand","index":26,"n_rows":161,"n_cols":9,"rows_kept":161,"cut":false,"hidden":true,"merged":[]}
["Random  Gradations"]
[null,null,null,null,null,null,"Page No.: "]
["Project No.: ",{"$f":"IF(Info!B3=\"\",0,(Info!B3))","v":0},null,null,null,null,"Contract ID.: ",{"$f":"IF(Info!B4=\"\",0,(Info!B4))","v":0}]
[]
[null,null,null,"Random",null,"Sample",null,null," "]
[null,null,"Die","Needed","2nd","Tested"]
["Date","Day","Roll","( Y / N )","Roll","(2nd / 3rd)","Remarks",null,"By"]
[null,1,null,{"$f":"IF(C8=B8,\"Y\",\"N\")","v":"N"},null,{"$f":"IF(E8=1,\"3rd\",IF(E8=2,\"2nd\",IF(E8=3,\"3rd\",IF(E8=4,\"2nd\",IF(E8=5,\"3rd\",IF(E8=6,\"2nd\",0))))))","v":0}]
[{"$f":"IF(A8=\"\",\"\",A8+1)","v":""},2,null,"N",null,0]
["",3,null,"N",null,0]
["",4,null,"N",null,0]
["",5,null,"N",null,0]
["",6,null,"N",null,0]
["",7,null,"N",null,0]
[null,1,null,"N",null,0]
[{"$f":"IF(A15=\"\",\"\",A15+1)","v":""},2,null,"N",null,0]
["",3,null,"N",null,0]
["",4,null,"N",null,0]
["",5,null,"N",null,0]
["",6,null,"N",null,0]
["",7,null,"N",null,0]
[null,1,null,"N",null,0]
[{"$f":"IF(A22=\"\",\"\",A22+1)","v":""},2,null,"N",null,0]
["",3,null,"N",null,0]
["",4,null,"N",null,0]
["",5,null,"N",null,0]
["",6,null,"N",null,0]
["",7,null,"N",null,0]
[null,1,null,"N",null,0]
[{"$f":"IF(A29=\"\",\"\",A29+1)","v":""},2,null,"N",null,0]
["",3,null,"N",null,0]
["",4,null,"N",null,0]
["",5,null,"N",null,0]
["",6,null,"N",null,0]
["",7,null,"N",null,0]
[null,1,null,"N",null,0]
[{"$f":"IF(A36=\"\",\"\",A36+1)","v":""},2,null,"N",null,0]
["",3,null,"N",null,0]
["",4,null,"N",null,0]
["",5,null,{"$f":"IF(C40=B40,\"Y\",\"N\")","v":"N"},null,{"$f":"IF(E40=1,\"3rd\",IF(E40=2,\"2nd\",IF(E40=3,\"3rd\",IF(E40=4,\"2nd\",IF(E40=5,\"3rd\",IF(E40=6,\"2nd\",0))))))","v":0}]
["",6,null,"N",null,0]
["",7,null,"N",null,0]
[null,1,null,"N",null,0]
[{"$f":"IF(A43=\"\",\"\",A43+1)","v":""},2,null,"N",null,0]
["",3,null,"N",null,0]
["",4,null,"N",null,0]
["",5,null,"N",null,0]
["",6,null,"N",null,0]
["",7,null,"N",null,0]
[null,1,null,"N",null,0]
[{"$f":"IF(A50=\"\",\"\",A50+1)","v":""},2,null,"N",null,0]
["",3,null,"N",null,0]
["",4,null,"N",null,0]
["",5,null,"N",null,0]
["",6,null,"N",null,0]
["",7,null,"N",null,0]
[null,1,null,"N",null,0]
[{"$f":"IF(A57=\"\",\"\",A57+1)","v":""},2,null,"N",null,0]
["",3,null,"N",null,0]
["",4,null,"N",null,0]
["",5,null,"N",null,0]
["",6,null,"N",null,0]
["",7,null,"N",null,0]
[null,1,null,"N",null,0]
[{"$f":"IF(A64=\"\",\"\",A64+1)","v":""},2,null,"N",null,0]
["",3,null,"N",null,0]
["",4,null,"N",null,0]
["",5,null,"N",null,0]
["",6,null,"N",null,0]
["",7,null,"N",null,0]
[null,1,null,"N",null,0]
[{"$f":"IF(A71=\"\",\"\",A71+1)","v":""},2,null,{"$f":"IF(C72=B72,\"Y\",\"N\")","v":"N"},null,{"$f":"IF(E72=1,\"3rd\",IF(E72=2,\"2nd\",IF(E72=3,\"3rd\",IF(E72=4,\"2nd\",IF(E72=5,\"3rd\",IF(E72=6,\"2nd\",0))))))","v":0}]
["",3,null,"N",null,0]
["",4,null,"N",null,0]
["",5,null,"N",null,0]
["",6,null,"N",null,0]
["",7,null,"N",null,0]
[null,1,null,"N",null,0]
[{"$f":"IF(A78=\"\",\"\",A78+1)","v":""},2,null,"N",null,0]
["",3,null,"N",null,0]
["",4,null,"N",null,0]
["",5,null,"N",null,0]
["",6,null,"N",null,0]
["",7,null,"N",null,0]
[null,1,null,"N",null,0]
[{"$f":"IF(A85=\"\",\"\",A85+1)","v":""},2,null,"N",null,0]
["",3,null,"N",null,0]
["",4,null,"N",null,0]
["",5,null,"N",null,0]
["",6,null,"N",null,0]
["",7,null,"N",null,0]
[null,1,null,"N",null,0]
[{"$f":"IF(A92=\"\",\"\",A92+1)","v":""},2,null,"N",null,0]
["",3,null,"N",null,0]
["",4,null,"N",null,0]
["",5,null,"N",null,0]
["",6,null,"N",null,0]
["",7,null,"N",null,0]
[null,1,null,"N",null,0]
[{"$f":"IF(A99=\"\",\"\",A99+1)","v":""},2,null,"N",null,0]
["",3,null,"N",null,0]
["",4,null,"N",null,0]
["",5,null,"N",null,0]
["",6,null,{"$f":"IF(C104=B104,\"Y\",\"N\")","v":"N"},null,{"$f":"IF(E104=1,\"3rd\",IF(E104=2,\"2nd\",IF(E104=3,\"3rd\",IF(E104=4,\"2nd\",IF(E104=5,\"3rd\",IF(E104=6,\"2nd\",0))))))","v":0}]
["",7,null,"N",null,0]
[null,1,null,"N",null,0]
[{"$f":"IF(A106=\"\",\"\",A106+1)","v":""},2,null,"N",null,0]
["",3,null,"N",null,0]
["",4,null,"N",null,0]
["",5,null,"N",null,0]
["",6,null,"N",null,0]
["",7,null,"N",null,0]
[null,1,null,"N",null,0]
[{"$f":"IF(A113=\"\",\"\",A113+1)","v":""},2,null,"N",null,0]
["",3,null,"N",null,0]
["",4,null,"N",null,0]
["",5,null,"N",null,0]
["",6,null,"N",null,0]
["",7,null,"N",null,0]
[null,1,null,"N",null,0]
[{"$f":"IF(A120=\"\",\"\",A120+1)","v":""},2,null,"N",null,0]
["",3,null,"N",null,0]
["",4,null,"N",null,0]
["",5,null,"N",null,0]
["",6,null,"N",null,0]
["",7,null,"N",null,0]
[null,1,null,"N",null,0]
[{"$f":"IF(A127=\"\",\"\",A127+1)","v":""},2,null,"N",null,0]
["",3,null,"N",null,0]
["",4,null,"N",null,0]
["",5,null,"N",null,0]
["",6,null,"N",null,0]
["",7,null,"N",null,0]
[null,1,null,"N",null,0]
[{"$f":"IF(A134=\"\",\"\",A134+1)","v":""},2,null,"N",null,0]
["",3,null,{"$f":"IF(C136=B136,\"Y\",\"N\")","v":"N"},null,{"$f":"IF(E136=1,\"3rd\",IF(E136=2,\"2nd\",IF(E136=3,\"3rd\",IF(E136=4,\"2nd\",IF(E136=5,\"3rd\",IF(E136=6,\"2nd\",0))))))","v":0}]
["",4,null,"N",null,0]
["",5,null,"N",null,0]
["",6,null,"N",null,0]
["",7,null,"N",null,0]
[null,1,null,"N",null,0]
[{"$f":"IF(A141=\"\",\"\",A141+1)","v":""},2,null,"N",null,0]
["",3,null,"N",null,0]
["",4,null,"N",null,0]
["",5,null,"N",null,0]
["",6,null,"N",null,0]
["",7,null,"N",null,0]
[null,1,null,"N",null,0]
[{"$f":"IF(A148=\"\",\"\",A148+1)","v":""},2,null,"N",null,0]
["",3,null,"N",null,0]
["",4,null,"N",null,0]
["",5,null,"N",null,0]
["",6,null,"N",null,0]
["",7,null,"N",null,0]
[null,1,null,"N",null,0]
[{"$f":"IF(A155=\"\",\"\",A155+1)","v":""},2,null,"N",null,0]
["",3,null,"N",null,0]
["",4,null,"N",null,0]
["",5,null,"N",null,0]
["",6,null,"N",null,0]
["",7,null,"N",null,0]

{"sheet":"Insp","index":27,"n_rows":990,"n_cols":7,"rows_kept":990,"cut":false,"hidden":false,"merged":[]}
["Plant  Site  Inspection  List ( PCC )"]
[null,null,null,null,"Page: "]
["Project No.: ",{"$f":"IF(Info!B3=\"\",\"\",Info!B3)","v":""},null,null,"Contract ID.: ",{"$f":"IF(Info!B4=\"\",\"\",(Info!B4))","v":""}]
[]
["Date",null,"Complies"]
["Checked","Item","Yes","No","Remarks",null,"By"]
[null,"Bins"]
[null,"Bin Dividers"]
[null,"Bin Supports"]
[null,"Screens"]
[null,"Guards"]
[null,"Ladders"]
[null,"Railings"]
[null,"Belt  Lockouts"]
[null,"Sampling Location"]
[null,"Aggregate Scales"]
[null,"Cement Scales"]
[null,"Flyash Scales"]
[null,"Admixture Dispensers"]
[null,"Water Meter"]
[null,"Cement Storage"]
[null,"Flyash Storage"]
[null,"Mixing Equipment"]
[null,"Lab Location"]
[null,"Lab Condition"]
[null,"Lab Equipment"]
[null,"Air  Condition"]
[null,"Heating"]
[null,"Phone (Cell)"]
[null,"Water"]
[null,"Exhaust Fan"]
[null,"Restroom"]
[null,"Computer/Data"]
["Date",null,"Complies"]
["Checked","Item","Yes","No","Remarks",null,"By"]
[null,"Bins"]
[null,"Bin Dividers"]
[null,"Bin Supports"]
[null,"Screens"]
[null,"Guards"]
[null,"Ladders"]
[null,"Railings"]
[null,"Belt  Lockouts"]
[null,"Sampling Location"]
[null,"Aggregate Scales"]
[null,"Cement Scales"]
[null,"Flyash Scales"]
[null,"Admixture Dispensers"]
[null,"Water Meter"]
[null,"Cement Storage"]
[null,"Flyash Storage"]
[null,"Mixing Equipment"]
[null,"Lab Location"]
[null,"Lab Condition"]
[null,"Lab Equipment"]
[null,"Air  Condition"]
[null,"Heating"]
[null,"Phone (Cell)"]
[null,"Water"]
[null,"Exhaust Fan"]
[null,"Restroom"]
[null,"Computer/Data"]
["Date",null,"Complies"]
["Checked","Item","Yes","No","Remarks",null,"By"]
[null,"Bins"]
[null,"Bin Dividers"]
[null,"Bin Supports"]
[null,"Screens"]
[null,"Guards"]
[null,"Ladders"]
[null,"Railings"]
[null,"Belt  Lockouts"]
[null,"Sampling Location"]
[null,"Aggregate Scales"]
[null,"Cement Scales"]
[null,"Flyash Scales"]
[null,"Admixture Dispensers"]
[null,"Water Meter"]
[null,"Cement Storage"]
[null,"Flyash Storage"]
[null,"Mixing Equipment"]
[null,"Lab Location"]
[null,"Lab Condition"]
[null,"Lab Equipment"]
[null,"Air  Condition"]
[null,"Heating"]
[null,"Phone (Cell)"]
[null,"Water"]
[null,"Exhaust Fan"]
[null,"Restroom"]
[null,"Computer/Data"]
["Date",null,"Complies"]
["Checked","Item","Yes","No","Remarks",null,"By"]
[null,"Bins"]
[null,"Bin Dividers"]
[null,"Bin Supports"]
[null,"Screens"]
[null,"Guards"]
[null,"Ladders"]
[null,"Railings"]
[null,"Belt  Lockouts"]
[null,"Sampling Location"]
[null,"Aggregate Scales"]
[null,"Cement Scales"]
[null,"Flyash Scales"]
[null,"Admixture Dispensers"]
[null,"Water Meter"]
[null,"Cement Storage"]
[null,"Flyash Storage"]
[null,"Mixing Equipment"]
[null,"Lab Location"]
[null,"Lab Condition"]
[null,"Lab Equipment"]
[null,"Air  Condition"]
[null,"Heating"]
[null,"Phone (Cell)"]
[null,"Water"]
[null,"Exhaust Fan"]
[null,"Restroom"]
[null,"Computer/Data"]
["Date",null,"Complies"]
["Checked","Item","Yes","No","Remarks",null,"By"]
[null,"Bins"]
[null,"Bin Dividers"]
[null,"Bin Supports"]
[null,"Screens"]
[null,"Guards"]
[null,"Ladders"]
[null,"Railings"]
[null,"Belt  Lockouts"]
[null,"Sampling Location"]
[null,"Aggregate Scales"]
[null,"Cement Scales"]
[null,"Flyash Scales"]
[null,"Admixture Dispensers"]
[null,"Water Meter"]
[null,"Cement Storage"]
[null,"Flyash Storage"]
[null,"Mixing Equipment"]
[null,"Lab Location"]
[null,"Lab Condition"]
[null,"Lab Equipment"]
[null,"Air  Condition"]
[null,"Heating"]
[null,"Phone (Cell)"]
[null,"Water"]
[null,"Exhaust Fan"]
[null,"Restroom"]
[null,"Computer/Data"]
["Date",null,"Complies"]
["Checked","Item","Yes","No","Remarks",null,"By"]
[null,"Bins"]
[null,"Bin Dividers"]
[null,"Bin Supports"]
[null,"Screens"]
[null,"Guards"]
[null,"Ladders"]
[null,"Railings"]
[null,"Belt  Lockouts"]
[null,"Sampling Location"]
[null,"Aggregate Scales"]
[null,"Cement Scales"]
[null,"Flyash Scales"]
[null,"Admixture Dispensers"]
[null,"Water Meter"]
[null,"Cement Storage"]
[null,"Flyash Storage"]
[null,"Mixing Equipment"]
[null,"Lab Location"]
[null,"Lab Condition"]
[null,"Lab Equipment"]
[null,"Air  Condition"]
[null,"Heating"]
[null,"Phone (Cell)"]
[null,"Water"]
[null,"Exhaust Fan"]
[null,"Restroom"]
[null,"Computer/Data"]
["Date",null,"Complies"]
["Checked","Item","Yes","No","Remarks",null,"By"]
[null,"Bins"]
[null,"Bin Dividers"]
[null,"Bin Supports"]
[null,"Screens"]
[null,"Guards"]
[null,"Ladders"]
[null,"Railings"]
[null,"Belt  Lockouts"]
[null,"Sampling Location"]
[null,"Aggregate Scales"]
[null,"Cement Scales"]
[null,"Flyash Scales"]
[null,"Admixture Dispensers"]
[null,"Water Meter"]
[null,"Cement Storage"]
[null,"Flyash Storage"]
[null,"Mixing Equipment"]
[null,"Lab Location"]
[null,"Lab Condition"]
[null,"Lab Equipment"]
[null,"Air  Condition"]
[null,"Heating"]
[null,"Phone (Cell)"]
[null,"Water"]
[null,"Exhaust Fan"]
[null,"Restroom"]
[null,"Computer/Data"]
["Date",null,"Complies"]
["Checked","Item","Yes","No","Remarks",null,"By"]
[null,"Bins"]
[null,"Bin Dividers"]
[null,"Bin Supports"]
[null,"Screens"]
[null,"Guards"]
[null,"Ladders"]
[null,"Railings"]
[null,"Belt  Lockouts"]
[null,"Sampling Location"]
[null,"Aggregate Scales"]
[null,"Cement Scales"]
[null,"Flyash Scales"]
[null,"Admixture Dispensers"]
[null,"Water Meter"]
[null,"Cement Storage"]
[null,"Flyash Storage"]
[null,"Mixing Equipment"]
[null,"Lab Location"]
[null,"Lab Condition"]
[null,"Lab Equipment"]
[null,"Air  Condition"]
[null,"Heating"]
[null,"Phone (Cell)"]
[null,"Water"]
[null,"Exhaust Fan"]
[null,"Restroom"]
[null,"Computer/Data"]
["Date",null,"Complies"]
["Checked","Item","Yes","No","Remarks",null,"By"]
[null,"Bins"]
[null,"Bin Dividers"]
[null,"Bin Supports"]
[null,"Screens"]
[null,"Guards"]
[null,"Ladders"]
[null,"Railings"]
[null,"Belt  Lockouts"]
[null,"Sampling Location"]
[null,"Aggregate Scales"]
[null,"Cement Scales"]
[null,"Flyash Scales"]
[null,"Admixture Dispensers"]
[null,"Water Meter"]
[null,"Cement Storage"]
[null,"Flyash Storage"]
[null,"Mixing Equipment"]
[null,"Lab Location"]
[null,"Lab Condition"]
[null,"Lab Equipment"]
[null,"Air  Condition"]
[null,"Heating"]
[null,"Phone (Cell)"]
[null,"Water"]
[null,"Exhaust Fan"]
[null,"Restroom"]
[null,"Computer/Data"]
["Date",null,"Complies"]
["Checked","Item","Yes","No","Remarks",null,"By"]
[null,"Bins"]
[null,"Bin Dividers"]
[null,"Bin Supports"]
[null,"Screens"]
[null,"Guards"]
[null,"Ladders"]
[null,"Railings"]
[null,"Belt  Lockouts"]
[null,"Sampling Location"]
[null,"Aggregate Scales"]
[null,"Cement Scales"]
[null,"Flyash Scales"]
[null,"Admixture Dispensers"]
[null,"Water Meter"]
[null,"Cement Storage"]
[null,"Flyash Storage"]
[null,"Mixing Equipment"]
[null,"Lab Location"]
[null,"Lab Condition"]
[null,"Lab Equipment"]
[null,"Air  Condition"]
[null,"Heating"]
[null,"Phone (Cell)"]
[null,"Water"]
[null,"Exhaust Fan"]
[null,"Restroom"]
[null,"Computer/Data"]
["Date",null,"Complies"]
["Checked","Item","Yes","No","Remarks",null,"By"]
[null,"Bins"]
[null,"Bin Dividers"]
[null,"Bin Supports"]
[null,"Screens"]
[null,"Guards"]
[null,"Ladders"]
[null,"Railings"]
[null,"Belt  Lockouts"]
[null,"Sampling Location"]
[null,"Aggregate Scales"]
[null,"Cement Scales"]
[null,"Flyash Scales"]
[null,"Admixture Dispensers"]
[null,"Water Meter"]
[null,"Cement Storage"]
[null,"Flyash Storage"]
[null,"Mixing Equipment"]
[null,"Lab Location"]
[null,"Lab Condition"]
[null,"Lab Equipment"]
[null,"Air  Condition"]
[null,"Heating"]
[null,"Phone (Cell)"]
[null,"Water"]
[null,"Exhaust Fan"]
[null,"Restroom"]
[null,"Computer/Data"]
["Date",null,"Complies"]
["Checked","Item","Yes","No","Remarks",null,"By"]
[null,"Bins"]
[null,"Bin Dividers"]
[null,"Bin Supports"]
[null,"Screens"]
[null,"Guards"]
[null,"Ladders"]
[null,"Railings"]
[null,"Belt  Lockouts"]
[null,"Sampling Location"]
[null,"Aggregate Scales"]
[null,"Cement Scales"]
[null,"Flyash Scales"]
[null,"Admixture Dispensers"]
[null,"Water Meter"]
[null,"Cement Storage"]
[null,"Flyash Storage"]
[null,"Mixing Equipment"]
[null,"Lab Location"]
[null,"Lab Condition"]
[null,"Lab Equipment"]
[null,"Air  Condition"]
[null,"Heating"]
[null,"Phone (Cell)"]
[null,"Water"]
[null,"Exhaust Fan"]
[null,"Restroom"]
[null,"Computer/Data"]
["Date",null,"Complies"]
["Checked","Item","Yes","No","Remarks",null,"By"]
[null,"Bins"]
[null,"Bin Dividers"]
[null,"Bin Supports"]
[null,"Screens"]
[null,"Guards"]
[null,"Ladders"]
[null,"Railings"]
[null,"Belt  Lockouts"]
[null,"Sampling Location"]
[null,"Aggregate Scales"]
[null,"Cement Scales"]
[null,"Flyash Scales"]
[null,"Admixture Dispensers"]
[null,"Water Meter"]
[null,"Cement Storage"]
[null,"Flyash Storage"]
[null,"Mixing Equipment"]
[null,"Lab Location"]
[null,"Lab Condition"]
[null,"Lab Equipment"]
[null,"Air  Condition"]
[null,"Heating"]
[null,"Phone (Cell)"]
[null,"Water"]
[null,"Exhaust Fan"]
[null,"Restroom"]
[null,"Computer/Data"]
["Date",null,"Complies"]
["Checked","Item","Yes","No","Remarks",null,"By"]
[null,"Bins"]
[null,"Bin Dividers"]
[null,"Bin Supports"]
[null,"Screens"]
[null,"Guards"]
[null,"Ladders"]
[null,"Railings"]
[null,"Belt  Lockouts"]
[null,"Sampling Location"]
[null,"Aggregate Scales"]
[null,"Cement Scales"]
[null,"Flyash Scales"]
[null,"Admixture Dispensers"]
[null,"Water Meter"]
[null,"Cement Storage"]
[null,"Flyash Storage"]
[null,"Mixing Equipment"]
[null,"Lab Location"]
[null,"Lab Condition"]
[null,"Lab Equipment"]
[null,"Air  Condition"]
[null,"Heating"]
[null,"Phone (Cell)"]
[null,"Water"]
[null,"Exhaust Fan"]
[null,"Restroom"]
[null,"Computer/Data"]
["Date",null,"Complies"]
["Checked","Item","Yes","No","Remarks",null,"By"]
[null,"Bins"]
[null,"Bin Dividers"]
[null,"Bin Supports"]
[null,"Screens"]
[null,"Guards"]
[null,"Ladders"]
[null,"Railings"]
[null,"Belt  Lockouts"]
[null,"Sampling Location"]
[null,"Aggregate Scales"]
[null,"Cement Scales"]
[null,"Flyash Scales"]
[null,"Admixture Dispensers"]
[null,"Water Meter"]
[null,"Cement Storage"]
[null,"Flyash Storage"]
[null,"Mixing Equipment"]
[null,"Lab Location"]
[null,"Lab Condition"]
[null,"Lab Equipment"]
[null,"Air  Condition"]
[null,"Heating"]
[null,"Phone (Cell)"]
[null,"Water"]
[null,"Exhaust Fan"]
[null,"Restroom"]
[null,"Computer/Data"]
["Date",null,"Complies"]
["Checked","Item","Yes","No","Remarks",null,"By"]
[null,"Bins"]
[null,"Bin Dividers"]
[null,"Bin Supports"]
[null,"Screens"]
[null,"Guards"]
[null,"Ladders"]
[null,"Railings"]
[null,"Belt  Lockouts"]
[null,"Sampling Location"]
[null,"Aggregate Scales"]
[null,"Cement Scales"]
[null,"Flyash Scales"]
[null,"Admixture Dispensers"]
[null,"Water Meter"]
[null,"Cement Storage"]
[null,"Flyash Storage"]
[null,"Mixing Equipment"]
[null,"Lab Location"]
[null,"Lab Condition"]
[null,"Lab Equipment"]
[null,"Air  Condition"]
[null,"Heating"]
[null,"Phone (Cell)"]
[null,"Water"]
[null,"Exhaust Fan"]
[null,"Restroom"]
[null,"Computer/Data"]
["Date",null,"Complies"]
["Checked","Item","Yes","No","Remarks",null,"By"]
[null,"Bins"]
[null,"Bin Dividers"]
[null,"Bin Supports"]
[null,"Screens"]
[null,"Guards"]
[null,"Ladders"]
[null,"Railings"]
[null,"Belt  Lockouts"]
[null,"Sampling Location"]
[null,"Aggregate Scales"]
[null,"Cement Scales"]
[null,"Flyash Scales"]
[null,"Admixture Dispensers"]
[null,"Water Meter"]
[null,"Cement Storage"]
[null,"Flyash Storage"]
[null,"Mixing Equipment"]
[null,"Lab Location"]
[null,"Lab Condition"]
[null,"Lab Equipment"]
[null,"Air  Condition"]
[null,"Heating"]
[null,"Phone (Cell)"]
[null,"Water"]
[null,"Exhaust Fan"]
[null,"Restroom"]
[null,"Computer/Data"]
["Date",null,"Complies"]
["Checked","Item","Yes","No","Remarks",null,"By"]
[null,"Bins"]
[null,"Bin Dividers"]
[null,"Bin Supports"]
[null,"Screens"]
[null,"Guards"]
[null,"Ladders"]
[null,"Railings"]
[null,"Belt  Lockouts"]
[null,"Sampling Location"]
[null,"Aggregate Scales"]
[null,"Cement Scales"]
[null,"Flyash Scales"]
[null,"Admixture Dispensers"]
[null,"Water Meter"]
[null,"Cement Storage"]
[null,"Flyash Storage"]
[null,"Mixing Equipment"]
[null,"Lab Location"]
[null,"Lab Condition"]
[null,"Lab Equipment"]
[null,"Air  Condition"]
[null,"Heating"]
[null,"Phone (Cell)"]
[null,"Water"]
[null,"Exhaust Fan"]
[null,"Restroom"]
[null,"Computer/Data"]
["Date",null,"Complies"]
["Checked","Item","Yes","No","Remarks",null,"By"]
[null,"Bins"]
[null,"Bin Dividers"]
[null,"Bin Supports"]
[null,"Screens"]
[null,"Guards"]
[null,"Ladders"]
[null,"Railings"]
[null,"Belt  Lockouts"]
[null,"Sampling Location"]
[null,"Aggregate Scales"]
[null,"Cement Scales"]
[null,"Flyash Scales"]
[null,"Admixture Dispensers"]
[null,"Water Meter"]
[null,"Cement Storage"]
[null,"Flyash Storage"]
[null,"Mixing Equipment"]
[null,"Lab Location"]
[null,"Lab Condition"]
[null,"Lab Equipment"]
[null,"Air  Condition"]
[null,"Heating"]
[null,"Phone (Cell)"]
[null,"Water"]
[null,"Exhaust Fan"]
[null,"Restroom"]
[null,"Computer/Data"]
["Date",null,"Complies"]
["Checked","Item","Yes","No","Remarks",null,"By"]
[null,"Bins"]
[null,"Bin Dividers"]
[null,"Bin Supports"]
[null,"Screens"]
[null,"Guards"]
[null,"Ladders"]
[null,"Railings"]
[null,"Belt  Lockouts"]
[null,"Sampling Location"]
[null,"Aggregate Scales"]
[null,"Cement Scales"]
[null,"Flyash Scales"]
[null,"Admixture Dispensers"]
[null,"Water Meter"]
[null,"Cement Storage"]
[null,"Flyash Storage"]
[null,"Mixing Equipment"]
[null,"Lab Location"]
[null,"Lab Condition"]
[null,"Lab Equipment"]
[null,"Air  Condition"]
[null,"Heating"]
[null,"Phone (Cell)"]
[null,"Water"]
[null,"Exhaust Fan"]
[null,"Restroom"]
[null,"Computer/Data"]
["Date",null,"Complies"]
["Checked","Item","Yes","No","Remarks",null,"By"]
[null,"Bins"]
[null,"Bin Dividers"]
[null,"Bin Supports"]
[null,"Screens"]
[null,"Guards"]
[null,"Ladders"]
[null,"Railings"]
[null,"Belt  Lockouts"]
[null,"Sampling Location"]
[null,"Aggregate Scales"]
[null,"Cement Scales"]
[null,"Flyash Scales"]
[null,"Admixture Dispensers"]
[null,"Water Meter"]
[null,"Cement Storage"]
[null,"Flyash Storage"]
[null,"Mixing Equipment"]
[null,"Lab Location"]
[null,"Lab Condition"]
[null,"Lab Equipment"]
[null,"Air  Condition"]
[null,"Heating"]
[null,"Phone (Cell)"]
[null,"Water"]
[null,"Exhaust Fan"]
[null,"Restroom"]
[null,"Computer/Data"]
["Date",null,"Complies"]
["Checked","Item","Yes","No","Remarks",null,"By"]
[null,"Bins"]
[null,"Bin Dividers"]
[null,"Bin Supports"]
[null,"Screens"]
[null,"Guards"]
[null,"Ladders"]
[null,"Railings"]
[null,"Belt  Lockouts"]
[null,"Sampling Location"]
[null,"Aggregate Scales"]
[null,"Cement Scales"]
[null,"Flyash Scales"]
[null,"Admixture Dispensers"]
[null,"Water Meter"]
[null,"Cement Storage"]
[null,"Flyash Storage"]
[null,"Mixing Equipment"]
[null,"Lab Location"]
[null,"Lab Condition"]
[null,"Lab Equipment"]
[null,"Air  Condition"]
[null,"Heating"]
[null,"Phone (Cell)"]
[null,"Water"]
[null,"Exhaust Fan"]
[null,"Restroom"]
[null,"Computer/Data"]
["Date",null,"Complies"]
["Checked","Item","Yes","No","Remarks",null,"By"]
[null,"Bins"]
[null,"Bin Dividers"]
[null,"Bin Supports"]
[null,"Screens"]
[null,"Guards"]
[null,"Ladders"]
[null,"Railings"]
[null,"Belt  Lockouts"]
[null,"Sampling Location"]
[null,"Aggregate Scales"]
[null,"Cement Scales"]
[null,"Flyash Scales"]
[null,"Admixture Dispensers"]
[null,"Water Meter"]
[null,"Cement Storage"]
[null,"Flyash Storage"]
[null,"Mixing Equipment"]
[null,"Lab Location"]
[null,"Lab Condition"]
[null,"Lab Equipment"]
[null,"Air  Condition"]
[null,"Heating"]
[null,"Phone (Cell)"]
[null,"Water"]
[null,"Exhaust Fan"]
[null,"Restroom"]
[null,"Computer/Data"]
["Date",null,"Complies"]
["Checked","Item","Yes","No","Remarks",null,"By"]
[null,"Bins"]
[null,"Bin Dividers"]
[null,"Bin Supports"]
[null,"Screens"]
[null,"Guards"]
[null,"Ladders"]
[null,"Railings"]
[null,"Belt  Lockouts"]
[null,"Sampling Location"]
[null,"Aggregate Scales"]
[null,"Cement Scales"]
[null,"Flyash Scales"]
[null,"Admixture Dispensers"]
[null,"Water Meter"]
[null,"Cement Storage"]
[null,"Flyash Storage"]
[null,"Mixing Equipment"]
[null,"Lab Location"]
[null,"Lab Condition"]
[null,"Lab Equipment"]
[null,"Air  Condition"]
[null,"Heating"]
[null,"Phone (Cell)"]
[null,"Water"]
[null,"Exhaust Fan"]
[null,"Restroom"]
[null,"Computer/Data"]
["Date",null,"Complies"]
["Checked","Item","Yes","No","Remarks",null,"By"]
[null,"Bins"]
[null,"Bin Dividers"]
[null,"Bin Supports"]
[null,"Screens"]
[null,"Guards"]
[null,"Ladders"]
[null,"Railings"]
[null,"Belt  Lockouts"]
[null,"Sampling Location"]
[null,"Aggregate Scales"]
[null,"Cement Scales"]
[null,"Flyash Scales"]
[null,"Admixture Dispensers"]
[null,"Water Meter"]
[null,"Cement Storage"]
[null,"Flyash Storage"]
[null,"Mixing Equipment"]
[null,"Lab Location"]
[null,"Lab Condition"]
[null,"Lab Equipment"]
[null,"Air  Condition"]
[null,"Heating"]
[null,"Phone (Cell)"]
[null,"Water"]
[null,"Exhaust Fan"]
[null,"Restroom"]
[null,"Computer/Data"]
["Date",null,"Complies"]
["Checked","Item","Yes","No","Remarks",null,"By"]
[null,"Bins"]
[null,"Bin Dividers"]
[null,"Bin Supports"]
[null,"Screens"]
[null,"Guards"]
[null,"Ladders"]
[null,"Railings"]
[null,"Belt  Lockouts"]
[null,"Sampling Location"]
[null,"Aggregate Scales"]
[null,"Cement Scales"]
[null,"Flyash Scales"]
[null,"Admixture Dispensers"]
[null,"Water Meter"]
[null,"Cement Storage"]
[null,"Flyash Storage"]
[null,"Mixing Equipment"]
[null,"Lab Location"]
[null,"Lab Condition"]
[null,"Lab Equipment"]
[null,"Air  Condition"]
[null,"Heating"]
[null,"Phone (Cell)"]
[null,"Water"]
[null,"Exhaust Fan"]
[null,"Restroom"]
[null,"Computer/Data"]
["Date",null,"Complies"]
["Checked","Item","Yes","No","Remarks",null,"By"]
[null,"Bins"]
[null,"Bin Dividers"]
[null,"Bin Supports"]
[null,"Screens"]
[null,"Guards"]
[null,"Ladders"]
[null,"Railings"]
[null,"Belt  Lockouts"]
[null,"Sampling Location"]
[null,"Aggregate Scales"]
[null,"Cement Scales"]
[null,"Flyash Scales"]
[null,"Admixture Dispensers"]
[null,"Water Meter"]
[null,"Cement Storage"]
[null,"Flyash Storage"]
[null,"Mixing Equipment"]
[null,"Lab Location"]
[null,"Lab Condition"]
[null,"Lab Equipment"]
[null,"Air  Condition"]
[null,"Heating"]
[null,"Phone (Cell)"]
[null,"Water"]
[null,"Exhaust Fan"]
[null,"Restroom"]
[null,"Computer/Data"]
["Date",null,"Complies"]
["Checked","Item","Yes","No","Remarks",null,"By"]
[null,"Bins"]
[null,"Bin Dividers"]
[null,"Bin Supports"]
[null,"Screens"]
[null,"Guards"]
[null,"Ladders"]
[null,"Railings"]
[null,"Belt  Lockouts"]
[null,"Sampling Location"]
[null,"Aggregate Scales"]
[null,"Cement Scales"]
[null,"Flyash Scales"]
[null,"Admixture Dispensers"]
[null,"Water Meter"]
[null,"Cement Storage"]
[null,"Flyash Storage"]
[null,"Mixing Equipment"]
[null,"Lab Location"]
[null,"Lab Condition"]
[null,"Lab Equipment"]
[null,"Air  Condition"]
[null,"Heating"]
[null,"Phone (Cell)"]
[null,"Water"]
[null,"Exhaust Fan"]
[null,"Restroom"]
[null,"Computer/Data"]
["Date",null,"Complies"]
["Checked","Item","Yes","No","Remarks",null,"By"]
[null,"Bins"]
[null,"Bin Dividers"]
[null,"Bin Supports"]
[null,"Screens"]
[null,"Guards"]
[null,"Ladders"]
[null,"Railings"]
[null,"Belt  Lockouts"]
[null,"Sampling Location"]
[null,"Aggregate Scales"]
[null,"Cement Scales"]
[null,"Flyash Scales"]
[null,"Admixture Dispensers"]
[null,"Water Meter"]
[null,"Cement Storage"]
[null,"Flyash Storage"]
[null,"Mixing Equipment"]
[null,"Lab Location"]
[null,"Lab Condition"]
[null,"Lab Equipment"]
[null,"Air  Condition"]
[null,"Heating"]
[null,"Phone (Cell)"]
[null,"Water"]
[null,"Exhaust Fan"]
[null,"Restroom"]
[null,"Computer/Data"]
["Date",null,"Complies"]
["Checked","Item","Yes","No","Remarks",null,"By"]
[null,"Bins"]
[null,"Bin Dividers"]
[null,"Bin Supports"]
[null,"Screens"]
[null,"Guards"]
[null,"Ladders"]
[null,"Railings"]
[null,"Belt  Lockouts"]
[null,"Sampling Location"]
[null,"Aggregate Scales"]
[null,"Cement Scales"]
[null,"Flyash Scales"]
[null,"Admixture Dispensers"]
[null,"Water Meter"]
[null,"Cement Storage"]
[null,"Flyash Storage"]
[null,"Mixing Equipment"]
[null,"Lab Location"]
[null,"Lab Condition"]
[null,"Lab Equipment"]
[null,"Air  Condition"]
[null,"Heating"]
[null,"Phone (Cell)"]
[null,"Water"]
[null,"Exhaust Fan"]
[null,"Restroom"]
[null,"Computer/Data"]
["Date",null,"Complies"]
["Checked","Item","Yes","No","Remarks",null,"By"]
[null,"Bins"]
[null,"Bin Dividers"]
[null,"Bin Supports"]
[null,"Screens"]
[null,"Guards"]
[null,"Ladders"]
[null,"Railings"]
[null,"Belt  Lockouts"]
[null,"Sampling Location"]
[null,"Aggregate Scales"]
[null,"Cement Scales"]
[null,"Flyash Scales"]
[null,"Admixture Dispensers"]
[null,"Water Meter"]
[null,"Cement Storage"]
[null,"Flyash Storage"]
[null,"Mixing Equipment"]
[null,"Lab Location"]
[null,"Lab Condition"]
[null,"Lab Equipment"]
[null,"Air  Condition"]
[null,"Heating"]
[null,"Phone (Cell)"]
[null,"Water"]
[null,"Exhaust Fan"]
[null,"Restroom"]
[null,"Computer/Data"]
["Date",null,"Complies"]
["Checked","Item","Yes","No","Remarks",null,"By"]
[null,"Bins"]
[null,"Bin Dividers"]
[null,"Bin Supports"]
[null,"Screens"]
[null,"Guards"]
[null,"Ladders"]
[null,"Railings"]
[null,"Belt  Lockouts"]
[null,"Sampling Location"]
[null,"Aggregate Scales"]
[null,"Cement Scales"]
[null,"Flyash Scales"]
[null,"Admixture Dispensers"]
[null,"Water Meter"]
[null,"Cement Storage"]
[null,"Flyash Storage"]
[null,"Mixing Equipment"]
[null,"Lab Location"]
[null,"Lab Condition"]
[null,"Lab Equipment"]
[null,"Air  Condition"]
[null,"Heating"]
[null,"Phone (Cell)"]
[null,"Water"]
[null,"Exhaust Fan"]
[null,"Restroom"]
[null,"Computer/Data"]
["Date",null,"Complies"]
["Checked","Item","Yes","No","Remarks",null,"By"]
[null,"Bins"]
[null,"Bin Dividers"]
[null,"Bin Supports"]
[null,"Screens"]
[null,"Guards"]
[null,"Ladders"]
[null,"Railings"]
[null,"Belt  Lockouts"]
[null,"Sampling Location"]
[null,"Aggregate Scales"]
[null,"Cement Scales"]
[null,"Flyash Scales"]
[null,"Admixture Dispensers"]
[null,"Water Meter"]
[null,"Cement Storage"]
[null,"Flyash Storage"]
[null,"Mixing Equipment"]
[null,"Lab Location"]
[null,"Lab Condition"]
[null,"Lab Equipment"]
[null,"Air  Condition"]
[null,"Heating"]
[null,"Phone (Cell)"]
[null,"Water"]
[null,"Exhaust Fan"]
[null,"Restroom"]
[null,"Computer/Data"]
["Date",null,"Complies"]
["Checked","Item","Yes","No","Remarks",null,"By"]
[null,"Bins"]
[null,"Bin Dividers"]
[null,"Bin Supports"]
[null,"Screens"]
[null,"Guards"]
[null,"Ladders"]
[null,"Railings"]
[null,"Belt  Lockouts"]
[null,"Sampling Location"]
[null,"Aggregate Scales"]
[null,"Cement Scales"]
[null,"Flyash Scales"]
[null,"Admixture Dispensers"]
[null,"Water Meter"]
[null,"Cement Storage"]
[null,"Flyash Storage"]
[null,"Mixing Equipment"]
[null,"Lab Location"]
[null,"Lab Condition"]
[null,"Lab Equipment"]
[null,"Air  Condition"]
[null,"Heating"]
[null,"Phone (Cell)"]
[null,"Water"]
[null,"Exhaust Fan"]
[null,"Restroom"]
[null,"Computer/Data"]

{"sheet":"CA","index":28,"n_rows":342,"n_cols":3,"rows_kept":342,"cut":false,"hidden":true,"merged":[[0,0,1,3]]}
["Coarse Aggregate Source Information"]
[]
[]
[{"$f":"CONCATENATE(B4,\"-\",C4)","v":"A03002-WEXFORD"},"A03002","WEXFORD"]
["A03004-LANGE","A03004","LANGE"]
["A03014-HAMMEL-BOONIES","A03014","HAMMEL-BOONIES"]
["A03038-RIEHM","A03038","RIEHM"]
["A03040-DEE","A03040","DEE"]
["A03046-MOHS","A03046","MOHS"]
["A03048-POSTVILLE","A03048","POSTVILLE"]
["A03050-GREEN","A03050","GREEN"]
["A03066-ELSBERN","A03066","ELSBERN"]
["A03502-HARPERS FERRY","A03502","HARPERS FERRY"]
["A04016-WALNUT CITY","A04016","WALNUT CITY"]
["A05506-EXIRA","A05506","EXIRA"]
["A06006-GARRISON B","A06006","GARRISON B"]
["A06012-JABENS","A06012","JABENS"]
["A07004-WATERLOO SOUTH","A07004","WATERLOO SOUTH"]
["A07008-MORGAN","A07008","MORGAN"]
["A07018-RAYMOND-PESKE","A07018","RAYMOND-PESKE"]
["A07020-STEINBRON","A07020","STEINBRON"]
["A07022-MESSERLY","A07022","MESSERLY"]
["A07508-GILBERTVILLE","A07508","GILBERTVILLE"]
["A09006-TRIPOLI-PLATTE","A09006","TRIPOLI-PLATTE"]
["A10002-WESTON-LAMONT","A10002","WESTON-LAMONT"]
["A10004-BLOOM-JESUP","A10004","BLOOM-JESUP"]
["A10008-OELWEIN","A10008","OELWEIN"]
["A10010-HAZELTON","A10010","HAZELTON"]
["A10016-OELWEIN #2","A10016","OELWEIN #2"]
["A10022-BROOKS","A10022","BROOKS"]
["A10030-SOUTH AURORA","A10030","SOUTH AURORA"]
["A12502-CLARKSVILLE","A12502","CLARKSVILLE"]
["A14504-REINHART","A14504","REINHART"]
["A14510-LANESBORO","A14510","LANESBORO"]
["A14514-MACKE","A14514","MACKE"]
["A14518-MILLER","A14518","MILLER"]
["A16004-LOWDEN-SCHNECKLOTH","A16004","LOWDEN-SCHNECKLOTH"]
["A16006-STONEMILL","A16006","STONEMILL"]
["A16012-ONION GROVE","A16012","ONION GROVE"]
["A16022-TRICON","A16022","TRICON"]
["A16026-PEDEN #2","A16026","PEDEN #2"]
["A17008-PORTLAND WEST","A17008","PORTLAND WEST"]
["A17012-UBBEN","A17012","UBBEN"]
["A17020-MASON CITY","A17020","MASON CITY"]
["A17514-HOLCIM SAND","A17514","HOLCIM SAND"]
["A18506-CHEROKEE SOUTH","A18506","CHEROKEE SOUTH"]
["A18514-LARRABEE-MONTGOMERY","A18514","LARRABEE-MONTGOMERY"]
["A18526-CHEROKEE NORTH","A18526","CHEROKEE NORTH"]
["A18528-WASHTA","A18528","WASHTA"]
["A18534-NELSON","A18534","NELSON"]
["A19522-BUCKY'S","A19522","BUCKY'S"]
["A21506-EVERLY","A21506","EVERLY"]
["A21516-SPENCER #1","A21516","SPENCER #1"]
["A21528-GOEKEN","A21528","GOEKEN"]
["A22004-BENTE-ELKADER-WATSON","A22004","BENTE-ELKADER-WATSON"]
["A22010-OSTERDOCK","A22010","OSTERDOCK"]
["A22012-SCHMIDT","A22012","SCHMIDT"]
["A22014-BLUME","A22014","BLUME"]
["A22016-GISLESON","A22016","GISLESON"]
["A22020-MUELLER","A22020","MUELLER"]
["A22030-EBERHARDT","A22030","EBERHARDT"]
["A22034-KRUSE","A22034","KRUSE"]
["A22038-FASSBINDER","A22038","FASSBINDER"]
["A22040-HARTMAN","A22040","HARTMAN"]
["A22060-JOHNSON","A22060","JOHNSON"]
["A22062-SNY MAGILL","A22062","SNY MAGILL"]
["A22068-MILLVILLE","A22068","MILLVILLE"]
[{"$f":"CONCATENATE(B68,\"-\",C68)","v":"A22070-BERNHARD/GIARD"},"A22070","BERNHARD/GIARD"]
["A22074-STRAWBERRY POINT","A22074","STRAWBERRY POINT"]
["A22084-MOYNA","A22084","MOYNA"]
["A22090-FRENCHTOWN","A22090","FRENCHTOWN"]
["A23002-ELWOOD-YEAGER","A23002","ELWOOD-YEAGER"]
["A23004-BEHR","A23004","BEHR"]
["A23006-SHAFFTON","A23006","SHAFFTON"]
["A23504-BEHR","A23504","BEHR"]
["A24512-DUNLAP","A24512","DUNLAP"]
["A25510-PERRY","A25510","PERRY"]
["A25514-BOONEVILLE","A25514","BOONEVILLE"]
["A25516-VAN METER SOUTH","A25516","VAN METER SOUTH"]
["A25518-RACCOON RIVER SAND","A25518","RACCOON RIVER SAND"]
["A25520-LEAGACY MATERIALS","A25520","LEAGACY MATERIALS"]
["A25522-BOONEVILLE WEST","A25522","BOONEVILLE WEST"]
["A26004-LEWIS","A26004","LEWIS"]
["A26006-BROWN","A26006","BROWN"]
["A28008-EDGEWOOD WEST","A28008","EDGEWOOD WEST"]
["A28010-TIBBOTT","A28010","TIBBOTT"]
["A28012-BAUL","A28012","BAUL"]
["A28014-LOGAN","A28014","LOGAN"]
["A28016-WHITE","A28016","WHITE"]
["A28038-EDGEWOOD EAST","A28038","EDGEWOOD EAST"]
["A28040-KRAPFL","A28040","KRAPFL"]
["A28044-DUNDEE","A28044","DUNDEE"]
["A28052-MANCHESTER","A28052","MANCHESTER"]
["A29002-YARMOUTH","A29002","YARMOUTH"]
["A29008-NELSON","A29008","NELSON"]
["A29502-SPRING GROVE","A29502","SPRING GROVE"]
["A30508-FOSTORIA/LOST","A30508","FOSTORIA/LOST"]
["A30510-WEDEKING","A30510","WEDEKING"]
["A30514-MILFORD/LEITH","A30514","MILFORD/LEITH"]
["A30520-MILFORD/DERNER","A30520","MILFORD/DERNER"]
["A31002-ROSE SPUR","A31002","ROSE SPUR"]
["A31006-DYERSVILLE EAST","A31006","DYERSVILLE EAST"]
["A31008-KLEIN-RICHARDSVILLE","A31008","KLEIN-RICHARDSVILLE"]
["A31010-BROWN","A31010","BROWN"]
["A31014-KURT","A31014","KURT"]
["A31018-MELOY","A31018","MELOY"]
["A31020-SCHLITCHE","A31020","SCHLITCHE"]
["A31026-ARNSDORF","A31026","ARNSDORF"]
["A31028-THOLE","A31028","THOLE"]
["A31032-CASCADE-REITER","A31032","CASCADE-REITER"]
["A31046-DECKER","A31046","DECKER"]
["A31048-MCDERMOTT","A31048","MCDERMOTT"]
["A31050-PLOESSEL-DYERSVILLE","A31050","PLOESSEL-DYERSVILLE"]
["A31052-EPWORTH-KIDDER","A31052","EPWORTH-KIDDER"]
["A31056-RUBIE","A31056","RUBIE"]
["A31060-CASCADE EAST","A31060","CASCADE EAST"]
["A31064-WEBER","A31064","WEBER"]
["A31066-FILLMORE","A31066","FILLMORE"]
["A31068-DYERSVILLE-MAIERS","A31068","DYERSVILLE-MAIERS"]
["A32502-ESTHERVILLE","A32502","ESTHERVILLE"]
["A32530-ESTHERVILLE/WHITE","A32530","ESTHERVILLE/WHITE"]
["A32538-JENSEN","A32538","JENSEN"]
["A32548-LILLAND","A32548","LILLAND"]
["A33002-ELDORADO-JACOBSEN","A33002","ELDORADO-JACOBSEN"]
["A33024-WAUCOMA","A33024","WAUCOMA"]
["A33038-PAPE","A33038","PAPE"]
["A34002-CARVILLE-BUNN","A34002","CARVILLE-BUNN"]
["A34004-MAXON","A34004","MAXON"]
["A34008-WARNHOLTZ","A34008","WARNHOLTZ"]
["A34010-LACOSTA","A34010","LACOSTA"]
["A34018-JONES","A34018","JONES"]
[{"$f":"CONCATENATE(B132,\"-\",C132)","v":"A34020-JENSEN"},"A34020","JENSEN"]
["A34502-ROCKFORD","A34502","ROCKFORD"]
["A34516-CEDAR ACRE RESORT","A34516","CEDAR ACRE RESORT"]
["A34520-FOOTHILL","A34520","FOOTHILL"]
["A35502-GENEVA","A35502","GENEVA"]
["A35522-MCDOWELL SAND","A35522","MCDOWELL SAND"]
["A37504-JEFFERSON","A37504","JEFFERSON"]
["A37520-GREEN COUNTY MATERIALS","A37520","GREEN COUNTY MATERIALS"]
["A40006-GRANDGEORGE","A40006","GRANDGEORGE"]
["A41002-GARNER NORTH","A41002","GARNER NORTH"]
["A42002-ALDEN","A42002","ALDEN"]
["A42532-H & M FARMS","A42532","H & M FARMS"]
["A43512-WOODBINE-MCCANN","A43512","WOODBINE-MCCANN"]
["A44006-LEEPER","A44006","LEEPER"]
["A45006-NELSON","A45006","NELSON"]
["A45008-DOTZLER","A45008","DOTZLER"]
["A45010-DALEY","A45010","DALEY"]
["A45028-ELMA","A45028","ELMA"]
["A45504-ECKERMAN","A45504","ECKERMAN"]
["A45508-SOVEREIGN","A45508","SOVEREIGN"]
["A46004-GRIFFITH","A46004","GRIFFITH"]
["A46006-HODGES","A46006","HODGES"]
["A46014-PEDERSEN","A46014","PEDERSEN"]
["A46018-MOORE EAST","A46018","MOORE EAST"]
["A46518-PEDERSEN","A46518","PEDERSEN"]
["A47504-CROCKER","A47504","CROCKER"]
["A49002-BELLEVUE","A49002","BELLEVUE"]
["A49008-IRON HILL","A49008","IRON HILL"]
["A49010-ANDREW","A49010","ANDREW"]
["A49012-FROST","A49012","FROST"]
["A49020-PRESTON","A49020","PRESTON"]
["A49021-PRESTON R/M","A49021","PRESTON R/M"]
["A49024-MAQUOKETA EAST","A49024","MAQUOKETA EAST"]
["A49060-ST DONATUS","A49060","ST DONATUS"]
["A49064-VEACH","A49064","VEACH"]
["A49068-BELLEVUE FARM","A49068","BELLEVUE FARM"]
["A49506-BELLEVUE","A49506","BELLEVUE"]
["A49516-TURNER","A49516","TURNER"]
["A49524-GRIEBEL","A49524","GRIEBEL"]
["A49526-BELLEVUE FARM","A49526","BELLEVUE FARM"]
["A49530-PETERSON","A49530","PETERSON"]
["A50002-SULLY MINE","A50002","SULLY MINE"]
["A51006-JEFFERSON","A51006","JEFFERSON"]
["A52004-CONKLIN","A52004","CONKLIN"]
["A52006-KLEIN","A52006","KLEIN"]
["A52008-ERNST","A52008","ERNST"]
["A53002-FARMERS-BEHRENDS","A53002","FARMERS-BEHRENDS"]
["A53006-ANAMOSA","A53006","ANAMOSA"]
["A53010-BALLOU-OLIN","A53010","BALLOU-OLIN"]
["A53016-STONE CITY","A53016","STONE CITY"]
["A53018-FINN","A53018","FINN"]
["A53024-SULLIVAN","A53024","SULLIVAN"]
["A53026-ANAMOSA","A53026","ANAMOSA"]
["A54002-KESWICK","A54002","KESWICK"]
["A54004-OLLIE","A54004","OLLIE"]
["A54010-LYLE MINE","A54010","LYLE MINE"]
["A56016-HERITAGE","A56016","HERITAGE"]
["A57002-BETENBENDER-COGGON","A57002","BETENBENDER-COGGON"]
["A57004-PLOWER","A57004","PLOWER"]
["A57006-ROBINS","A57006","ROBINS"]
["A57008-BOWSER-SPRINGVILLE","A57008","BOWSER-SPRINGVILLE"]
["A57018-CEDAR RAPIDS","A57018","CEDAR RAPIDS"]
["A57022-LEE CRAWFORD","A57022","LEE CRAWFORD"]
["A57028-CEDAR RAPIDS SOUTH","A57028","CEDAR RAPIDS SOUTH"]
[{"$f":"CONCATENATE(B196,\"-\",C196)","v":"A57030-HENNESSEY"},"A57030","HENNESSEY"]
["A57528-BLAIRSFERRY SAND","A57528","BLAIRSFERRY SAND"]
["A58002-COLUMBUS JCT.","A58002","COLUMBUS JCT."]
["A60502-ROCK RAPIDS #1","A60502","ROCK RAPIDS #1"]
["A63002-DURHAM MINE","A63002","DURHAM MINE"]
["A63010-S&S","A63010","S&S"]
["A63512-NEW HARVEY","A63512","NEW HARVEY"]
["A64002-FERGUSON","A64002","FERGUSON"]
["A64004-LE GRAND","A64004","LE GRAND"]
["A64502-MARSHALLTOWN","A64502","MARSHALLTOWN"]
["A66002-DUENOW","A66002","DUENOW"]
["A66016-LESCH","A66016","LESCH"]
["A66516-BOERJAN","A66516","BOERJAN"]
["A67502-RODNEY","A67502","RODNEY"]
["A70002-MOSCOW","A70002","MOSCOW"]
["A70506-ACME","A70506","ACME"]
["A72504-OCHEYEDAN","A72504","OCHEYEDAN"]
["A72506-ASHTON","A72506","ASHTON"]
["A72530-BOYD","A72530","BOYD"]
["A72534-ASHTON-SEIVERT","A72534","ASHTON-SEIVERT"]
["A73538-MONEY PIT #1","A73538","MONEY PIT #1"]
["A73508-SHENANDOAH-CONNELL II","A73508","SHENANDOAH-CONNELL II"]
["A74502-EMMETSBURG S&G","A74502","EMMETSBURG S&G"]
["A75502-AKRON","A75502","AKRON"]
["A75503-AKRON","A75503","AKRON"]
["A75518-HINTON","A75518","HINTON"]
["A76004-MOORE","A76004","MOORE"]
["A77504-DENNY-JOHNSTON","A77504","DENNY-JOHNSTON"]
["A77522-EDM #2-VANDALIA","A77522","EDM #2-VANDALIA"]
["A77530-NORTH DES MOINES WHITE","A77530","NORTH DES MOINES WHITE"]
["A77534-SAYLORVILLE SAND","A77534","SAYLORVILLE SAND"]
["A77538-NORTH DES MOINES HOVELAND","A77538","NORTH DES MOINES HOVELAND"]
["A78504-OAKLAND","A78504","OAKLAND"]
["A79002-MALCOM MINE","A79002","MALCOM MINE"]
["A81502-SACTON-LAKEVIEW","A81502","SACTON-LAKEVIEW"]
["A81504-AUBURN","A81504","AUBURN"]
["A81514-CARNARVON S&G","A81514","CARNARVON S&G"]
["A81528-WALL LAKE","A81528","WALL LAKE"]
["A81542-WALL LAKE BOYER","A81542","WALL LAKE BOYER"]
["A81544-ULMER-MEISTER","A81544","ULMER-MEISTER"]
["A81546-MEISTER","A81546","MEISTER"]
["A82002-MCCAUSLAND(MC39)","A82002","MCCAUSLAND(MC39)"]
["A82004-NEW LIBERTY(MC41)","A82004","NEW LIBERTY(MC41)"]
["A82006-LECLAIRE(MC38)","A82006","LECLAIRE(MC38)"]
["A82008-LINWOOD MINE","A82008","LINWOOD MINE"]
["A83506-HARLAN-REINIG","A83506","HARLAN-REINIG"]
["A84502-VANZEE","A84502","VANZEE"]
["A84506-HUDSON-OSTERCAMP","A84506","HUDSON-OSTERCAMP"]
["A84510-HAWARDEN-NORTH","A84510","HAWARDEN-NORTH"]
["A84528-HIGMAN-CHATSWORTH","A84528","HIGMAN-CHATSWORTH"]
["A84532-LASSON","A84532","LASSON"]
["A84536-VANBEEK","A84536","VANBEEK"]
["A84538-VAN'T HUL","A84538","VAN'T HUL"]
["A85006-AMES MINE","A85006","AMES MINE"]
["A85510-AMES SOUTH","A85510","AMES SOUTH"]
["A86002-MONTOUR","A86002","MONTOUR"]
["A86502-FLINT","A86502","FLINT"]
["A89002-DOUDS MINE","A89002","DOUDS MINE"]
["A89006-FARMINGTON-COMANCHE","A89006","FARMINGTON-COMANCHE"]
["A89008-SELMA-GARDNER","A89008","SELMA-GARDNER"]
["A90508-STEVENSON","A90508","STEVENSON"]
["A90510-CHILLICOTHE","A90510","CHILLICOTHE"]
["A92002-WEST CHESTER","A92002","WEST CHESTER"]
["A94002-FT DODGE MINE","A94002","FT DODGE MINE"]
[{"$f":"CONCATENATE(B260,\"-\",C260)","v":"A96002-KENDALLVILLE"},"A96002","KENDALLVILLE"]
["A96004-HOVEY","A96004","HOVEY"]
["A96011-GJETLEY","A96011","GJETLEY"]
["A96017-SKYLINE B","A96017","SKYLINE B"]
["A96052-ESTREM","A96052","ESTREM"]
["A96064-STIKA","A96064","STIKA"]
["A96090-MCKENNA SOUTH","A96090","MCKENNA SOUTH"]
["A97502-CORRECTIONVILLE-BUCK","A97502","CORRECTIONVILLE-BUCK"]
["A97516-ANTHON","A97516","ANTHON"]
["A97518-SMITHLAND","A97518","SMITHLAND"]
["A97538-ANTHON-WRIGHT","A97538","ANTHON-WRIGHT"]
["A98010-FERTILE","A98010","FERTILE"]
["A98014-STEVENS","A98014","STEVENS"]
["A98016-EMIL OLSON-BOLTON","A98016","EMIL OLSON-BOLTON"]
["A98020-TRENHAILE","A98020","TRENHAILE"]
["A98502-RANDALL TRANSIT MIX","A98502","RANDALL TRANSIT MIX"]
["A98504-FERTILE","A98504","FERTILE"]
["A99002-VOSS","A99002","VOSS"]
["A99502-WRIGHT","A99502","WRIGHT"]
["AIL006-MIDWAY(MC45)","AIL006","MIDWAY(MC45)"]
["AIL010-ALLIED(MC30)","AIL010","ALLIED(MC30)"]
["AIL014-DALLAS CITY","AIL014","DALLAS CITY"]
["AIL016-CLEVELAND(MC31)","AIL016","CLEVELAND(MC31)"]
["AIL020-HAMILTON","AIL020","HAMILTON"]
["AIL028-TURNBAUGH","AIL028","TURNBAUGH"]
["AIL046-BLUFF CITY MATERIALS","AIL046","BLUFF CITY MATERIALS"]
["AIL522-CORDOVA INLAND","AIL522","CORDOVA INLAND"]
["AMN004-POOL HILL.","AMN004","POOL HILL."]
["AMN006-OTTERNESS","AMN006","OTTERNESS"]
["AMN008-QUARTZITE","AMN008","QUARTZITE"]
["AMN010-ST CLOUD-GRANITE","AMN010","ST CLOUD-GRANITE"]
["AMN026-BIG STONE","AMN026","BIG STONE"]
["AMN030-GENGLER","AMN030","GENGLER"]
["AMN032-COTTONWOOD","AMN032","COTTONWOOD"]
["AMN034-ENGRAV","AMN034","ENGRAV"]
["AMN042-SCOTT-ROCK","AMN042","SCOTT-ROCK"]
["AMN044-BIESANZ","AMN044","BIESANZ"]
["AMN046-43 QUARRY","AMN046","43 QUARRY"]
[{"$f":"CONCATENATE(B298,\"-\",C298)","v":"AMN052-ABNET"},"AMN052","ABNET"]
[{"$f":"CONCATENATE(B299,\"-\",C299)","v":"AMN054-HARDROCK"},"AMN054","HARDROCK"]
["AMN522-PRAIRIE ISLAND #3","AMN522","PRAIRIE ISLAND #3"]
["AMN528-POPE","AMN528","POPE"]
["AMN536-ELK RIVER","AMN536","ELK RIVER"]
["AMN544-LAKEVILLE","AMN544","LAKEVILLE"]
["AMN548-HENDERSON","AMN548","HENDERSON"]
[{"$f":"CONCATENATE(B305,\"-\",C305)","v":"AMN550-SACHS"},"AMN550","SACHS"]
["AMN558-ST CROIX","AMN558","ST CROIX"]
["AMN560-ROSEMOUNT","AMN560","ROSEMOUNT"]
["AMN564-HASTINGS-MAR FARMS","AMN564","HASTINGS-MAR FARMS"]
["AMN566-ELK RIVER","AMN566","ELK RIVER"]
["AMN568-EMPIRE","AMN568","EMPIRE"]
["AMN570-WINONA AGGREGATE","AMN570","WINONA AGGREGATE"]
["AMN576-TILSTRA","AMN576","TILSTRA"]
["AMO002-KAHOKA","AMO002","KAHOKA"]
["AMO022-IRON MT","AMO022","IRON MT"]
["AMO024-HUNTINGTON","AMO024","HUNTINGTON"]
["AMO058-PIT#3","AMO058","PIT#3"]
["AMO060-RANDOLPH MINE","AMO060","RANDOLPH MINE"]
["ANE002-WEEPING WATER MINE","ANE002","WEEPING WATER MINE"]
["ANE010-FT CALHOUN","ANE010","FT CALHOUN"]
["ANE504-WATERLOO #40","ANE504","WATERLOO #40"]
["ANE544-VALLEY","ANE544","VALLEY"]
["ANE548-WEST CENTER SAND","ANE548","WEST CENTER SAND"]
["ANE552 -WATERLOO SAND","ANE552 ","WATERLOO SAND"]
[{"$f":"CONCATENATE(B324,\"-\",C324)","v":"ANE560-PLANT #47"},"ANE560","PLANT #47"]
["ANE564-NORTH VALLEY SAND","ANE564","NORTH VALLEY SAND"]
["ANE566-PLANT #52","ANE566","PLANT #52"]
["ASD002-DELL RAPIDS","ASD002","DELL RAPIDS"]
["ASD004-SIOUX FALLS QUARTZITE","ASD004","SIOUX FALLS QUARTZITE"]
["ASD006-EAST SIOUX","ASD006","EAST SIOUX"]
["ASD008-SPENCER","ASD008","SPENCER"]
["ASD502-BOYER","ASD502","BOYER"]
["ASD526-CORSON","ASD526","CORSON"]
["AWI022-KINGS BLUFF","AWI022","KINGS BLUFF"]
["AWI030-HAVERLAND","AWI030","HAVERLAND"]
["AWI038-ATHENS-MARATHON","AWI038","ATHENS-MARATHON"]
["AWI044-SLAMA","AWI044","SLAMA"]
["AWI046-HAHN","AWI046","HAHN"]
["AWI502-PRAIRIE DU CHIEN","AWI502","PRAIRIE DU CHIEN"]
["AWI504-VOGT","AWI504","VOGT"]
["AWI514-HAGER CITY","AWI514","HAGER CITY"]
["AWI524-HAEF","AWI524","HAEF"]
["AWI528-NELSON","AWI528","NELSON"]

{"sheet":"FA","index":29,"n_rows":299,"n_cols":3,"rows_kept":299,"cut":false,"hidden":true,"merged":[[0,0,1,3]]}
["Fine Aggregate Source Information"]
[]
[]
[{"$f":"CONCATENATE(B4,\"-\",C4)","v":"A03502-HARPERS FERRY"},"A03502","HARPERS FERRY"]
["A03520-IVERSON 2","A03520","IVERSON 2"]
["A05506-EXIRA","A05506","EXIRA"]
["A06502-VINTON-MILROY","A06502","VINTON-MILROY"]
["A06504-COOTS SAND/VINTON","A06504","COOTS SAND/VINTON"]
["A06506-PORK CHOP","A06506","PORK CHOP"]
["A07504-WATERLOO SAND","A07504","WATERLOO SAND"]
["A07506-ASPRO","A07506","ASPRO"]
["A07508-GILBERTVILLE","A07508","GILBERTVILLE"]
["A07512-ZEIEN S&G","A07512","ZEIEN S&G"]
["A07518-JANESVILLE","A07518","JANESVILLE"]
["A07520-BENTON'S LAKE","A07520","BENTON'S LAKE"]
["A09510-PLAINFIELD/ADAMS","A09510","PLAINFIELD/ADAMS"]
["A09512-BOEVERS","A09512","BOEVERS"]
["A10516-MILLER","A10516","MILLER"]
["A10518-YEAROUS","A10518","YEAROUS"]
["A10520-BROOKS","A10520","BROOKS"]
["A10522-NIEMANN-DECKER","A10522","NIEMANN-DECKER"]
["A10524-CRAWFORD","A10524","CRAWFORD"]
["A12502-CLARKSVILLE","A12502","CLARKSVILLE"]
["A12518-SHELL ROCK-ADAMS","A12518","SHELL ROCK-ADAMS"]
["A12520-PARKERSBURG","A12520","PARKERSBURG"]
["A12522-HOBSON","A12522","HOBSON"]
["A13504-JENSEN","A13504","JENSEN"]
["A13506-MOHR","A13506","MOHR"]
["A14504-REINHART","A14504","REINHART"]
["A14510-LANESBORO","A14510","LANESBORO"]
["A14514-MACKE","A14514","MACKE"]
["A14518-MILLER","A14518","MILLER"]
["A16502-SHARPLISS","A16502","SHARPLISS"]
["A16506-ONION GROVE","A16506","ONION GROVE"]
["A16510-CEDAR BLUFF","A16510","CEDAR BLUFF"]
["A17514-HOLCIM SAND","A17514","HOLCIM SAND"]
["A17520-TUTTLE","A17520","TUTTLE"]
["A18506-CHEROKEE SOUTH","A18506","CHEROKEE SOUTH"]
["A18514-LARRABEE-MONTGOMERY","A18514","LARRABEE-MONTGOMERY"]
["A18526-CHEROKEE NORTH","A18526","CHEROKEE NORTH"]
["A18528-WASHTA","A18528","WASHTA"]
["A18534-NELSON","A18534","NELSON"]
["A19508-BUSTA","A19508","BUSTA"]
["A19512-PEARL ROCK","A19512","PEARL ROCK"]
["A19514-NASHUA","A19514","NASHUA"]
["A19516-REWOLDT","A19516","REWOLDT"]
["A19520-ROSONKE","A19520","ROSONKE"]
["A19522-BUCKY'S","A19522","BUCKY'S"]
["A21506-EVERLY","A21506","EVERLY"]
["A21516-SPENCER #1","A21516","SPENCER #1"]
["A21538-NORGAARD SAND & GRAVEL","A21538","NORGAARD SAND & GRAVEL"]
["A22510-BENTE","A22510","BENTE"]
["A22520-WELTERLEN","A22520","WELTERLEN"]
["A22522-MOYNA","A22522","MOYNA"]
["A23504-BEHR","A23504","BEHR"]
["A23506-SCHNECKLOTH","A23506","SCHNECKLOTH"]
["A23508-GATEWAY","A23508","GATEWAY"]
["A23510-SHAFFTON","A23510","SHAFFTON"]
["A23514-ANDERSON","A23514","ANDERSON"]
["A23516-OLSON","A23516","OLSON"]
["A24512-DUNLAP","A24512","DUNLAP"]
["A25510-PERRY","A25510","PERRY"]
["A25514-BOONEVILLE","A25514","BOONEVILLE"]
["A25516-VAN METER SOUTH","A25516","VAN METER SOUTH"]
["A25518-RACCOON RIVER SAND","A25518","RACCOON RIVER SAND"]
["A25520-LEGACY MATERIALS","A25520","LEGACY MATERIALS"]
["A25522-BOONEVILLE WEST","A25522","BOONEVILLE WEST"]
[{"$f":"CONCATENATE(B68,\"-\",C68)","v":"A26502-ELDON-FRANKLIN"},"A26502","ELDON-FRANKLIN"]
["A28504-TEGLER","A28504","TEGLER"]
["A28510-LOGAN","A28510","LOGAN"]
["A28520-MANCHESTER","A28520","MANCHESTER"]
["A28526-HAWK","A28526","HAWK"]
["A28528-CAR 6","A28528","CAR 6"]
["A28530-SUMMERS PIT","A28530","SUMMERS PIT"]
["A29502-SPRING GROVE","A29502","SPRING GROVE"]
["A30508-FOSTORIA/LOST","A30508","FOSTORIA/LOST"]
["A30510-WEDEKING","A30510","WEDEKING"]
["A30520-MILFORD/DERNER","A30520","MILFORD/DERNER"]
["A30526-MILL CREEK","A30526","MILL CREEK"]
["A31512-BURKLE","A31512","BURKLE"]
["A31514-FILLMORE","A31514","FILLMORE"]
["A31516-CASCADE-LOCHER","A31516","CASCADE-LOCHER"]
["A31518-MAIERS","A31518","MAIERS"]
["A32502-ESTHERVILLE","A32502","ESTHERVILLE"]
["A32530-ESTHERVILLE/WHITE","A32530","ESTHERVILLE/WHITE"]
["A32538-JENSEN","A32538","JENSEN"]
["A32544-ANDERSON","A32544","ANDERSON"]
["A32548-LILLAND","A32548","LILLAND"]
["A33506-ALPHA","A33506","ALPHA"]
["A33510-RANDALIA","A33510","RANDALIA"]
["A33518-BASSETT","A33518","BASSETT"]
["A33520-OELWEIN SAND","A33520","OELWEIN SAND"]
["A33522-PAPE","A33522","PAPE"]
["A33524-ROGERS","A33524","ROGERS"]
["A33528-KASEMEIER","A33528","KASEMEIER"]
["A34502-ROCKFORD","A34502","ROCKFORD"]
["A34516-CEDAR ACRE RESORT","A34516","CEDAR ACRE RESORT"]
["A34520-FOOTHILL","A34520","FOOTHILL"]
["A34522-ROTTINGHAUS","A34522","ROTTINGHAUS"]
["A35502-GENEVA","A35502","GENEVA"]
["A35520-BRANDT","A35520","BRANDT"]
["A35522-MCDOWELL SAND","A35522","MCDOWELL SAND"]
["A37504-JEFFERSON","A37504","JEFFERSON"]
["A37514-WRIGHT","A37514","WRIGHT"]
["A37520-GREEN COUNTY MATERIALS","A37520","GREEN COUNTY MATERIALS"]
["A38504-HERONIMOUS","A38504","HERONIMOUS"]
["A38506-MEESTER","A38506","MEESTER"]
["A39508-L & L","A39508","L & L"]
["A40512-ANDERSON","A40512","ANDERSON"]
["A42512-HARDIN AGGREGATES","A42512","HARDIN AGGREGATES"]
["A42532-H & M FARMS","A42532","H & M FARMS"]
["A43512-WOODBINE-MCCANN","A43512","WOODBINE-MCCANN"]
["A44502-NORTH ROME","A44502","NORTH ROME"]
["A44504-ENSMINGER-ROME","A44504","ENSMINGER-ROME"]
["A44506-COPPOCK SAND","A44506","COPPOCK SAND"]
["A45504-ECKERMAN","A45504","ECKERMAN"]
["A45508-SOVEREIGN","A45508","SOVEREIGN"]
["A45516-FREIDERICH","A45516","FREIDERICH"]
["A45518-ELMA","A45518","ELMA"]
["A45520-HOOVER","A45520","HOOVER"]
["A46516-ERICKSON","A46516","ERICKSON"]
["A46518-PEDERSEN","A46518","PEDERSEN"]
["A48506-MARENGO","A48506","MARENGO"]
["A48508-DISTERHOFT","A48508","DISTERHOFT"]
["A49506-BELLEVUE","A49506","BELLEVUE"]
["A49516-TURNER","A49516","TURNER"]
["A49524-GRIEBEL","A49524","GRIEBEL"]
["A49526-BELLEVUE FARM","A49526","BELLEVUE FARM"]
["A49530-PETERSON","A49530","PETERSON"]
["A49532-IRON HILL","A49532","IRON HILL"]
["A49538-MAQUOKETA SAND","A49538","MAQUOKETA SAND"]
[{"$f":"CONCATENATE(B132,\"-\",C132)","v":"A50504-REASNOR"},"A50504","REASNOR"]
["A52502-SHOWERS","A52502","SHOWERS"]
["A52506-BUTLER","A52506","BUTLER"]
["A52508-WILLIAMS","A52508","WILLIAMS"]
["A52510-RIVERSIDE #2","A52510","RIVERSIDE #2"]
["A52512-RIVERSIDE SAND","A52512","RIVERSIDE SAND"]
["A53514-FLEMING","A53514","FLEMING"]
["A53522-WEBER","A53522","WEBER"]
["A53526-STEPHENS","A53526","STEPHENS"]
["A53528-ANAMOSA","A53528","ANAMOSA"]
["A53530-ANAMOSA-WOOD'S","A53530","ANAMOSA-WOOD'S"]
["A53532-LOES","A53532","LOES"]
["A54502-WINN","A54502","WINN"]
["A56504-VINCENNES","A56504","VINCENNES"]
["A56506-FT MADISON","A56506","FT MADISON"]
["A56508-LEE COUNTY S & G","A56508","LEE COUNTY S & G"]
["A57502-SWEETING","A57502","SWEETING"]
["A57506-CEDAR RAPIDS","A57506","CEDAR RAPIDS"]
["A57520-IVANHOE","A57520","IVANHOE"]
["A57522-CENTRAL CITY","A57522","CENTRAL CITY"]
["A57524-COGGON","A57524","COGGON"]
["A57526-TROY MILLS","A57526","TROY MILLS"]
["A57528-BLAIRSFERRY SAND","A57528","BLAIRSFERRY SAND"]
["A57530-HESS","A57530","HESS"]
["A57532-PALO","A57532","PALO"]
["A57534-LINN COUNTY SAND","A57534","LINN COUNTY SAND"]
["A57536-POWER PLANT","A57536","POWER PLANT"]
["A58504-FREDONIA","A58504","FREDONIA"]
["A60502-ROCK RAPIDS #1","A60502","ROCK RAPIDS #1"]
["A62502-G71","A62502","G71"]
["A63502-BEAN PROPERTY","A63502","BEAN PROPERTY"]
["A63512-NEW HARVEY","A63512","NEW HARVEY"]
["A64502-MARSHALLTOWN","A64502","MARSHALLTOWN"]
["A64508-NEW MARSHALLTOWN","A64508","NEW MARSHALLTOWN"]
["A66502-OSAGE-SCHMIDT","A66502","OSAGE-SCHMIDT"]
["A66512-KLAAHSEN","A66512","KLAAHSEN"]
["A66514-LOVIK","A66514","LOVIK"]
["A66516-BOERJAN","A66516","BOERJAN"]
["A66520-LESCH","A66520","LESCH"]
["A67502-RODNEY","A67502","RODNEY"]
["A70504-ATALISSA-MCKILLIP","A70504","ATALISSA-MCKILLIP"]
["A70506-ACME","A70506","ACME"]
["A71504-RABE PAULLINA","A71504","RABE PAULLINA"]
["A71536-PHLOW CREEK","A71536","PHLOW CREEK"]
["A72504-OCHEYEDAN","A72504","OCHEYEDAN"]
["A72506-ASHTON","A72506","ASHTON"]
["A72524-BOERHAVE","A72524","BOERHAVE"]
["A72530-BOYD","A72530","BOYD"]
["A72532-OCHEYEDAN/PEDLEY","A72532","OCHEYEDAN/PEDLEY"]
["A72534-ASHTON-SEIVERT","A72534","ASHTON-SEIVERT"]
["A72538-MONEY PIT #1","A72538","MONEY PIT #1"]
["A73508-SHENANDOAH-CONNELL II","A73508","SHENANDOAH-CONNELL II"]
["A74502-EMMETSBURG S&G","A74502","EMMETSBURG S&G"]
["A75502-AKRON","A75502","AKRON"]
["A75503-AKRON","A75503","AKRON"]
["A75524-G DIRKSEN #2","A75524","G DIRKSEN #2"]
["A75526-FRITZ DIRKSEN","A75526","FRITZ DIRKSEN"]
["A76514-MILLER","A76514","MILLER"]
["A76518-BANWART","A76518","BANWART"]
["A77504-DENNY-JOHNSTON","A77504","DENNY-JOHNSTON"]
["A77522-EDM #2-VANDALIA","A77522","EDM #2-VANDALIA"]
["A77530-NORTH DES MOINES WHITE","A77530","NORTH DES MOINES WHITE"]
["A77534-SAYLORVILLE SAND","A77534","SAYLORVILLE SAND"]
["A77536-SAYLORCREEK SAND","A77536","SAYLORCREEK SAND"]
[{"$f":"CONCATENATE(B196,\"-\",C196)","v":"A77538-NORTH DES MOINES HOVELAND"},"A77538","NORTH DES MOINES HOVELAND"]
["A78504-OAKLAND","A78504","OAKLAND"]
["A81502-SACTON-LAKEVIEW","A81502","SACTON-LAKEVIEW"]
["A81504-AUBURN","A81504","AUBURN"]
["A81506-SAC CITY","A81506","SAC CITY"]
["A81514-CARNARVON S&G","A81514","CARNARVON S&G"]
["A81520-UREN","A81520","UREN"]
["A81528-WALL LAKE","A81528","WALL LAKE"]
["A81530-LEITZ NORTH","A81530","LEITZ NORTH"]
["A81534-EARLY","A81534","EARLY"]
["A81536-DAIKER","A81536","DAIKER"]
["A81542-WALL LAKE BOYER","A81542","WALL LAKE BOYER"]
["A81544-ULMER-MEISTER","A81544","ULMER-MEISTER"]
["A81546-MEISTER","A81546","MEISTER"]
["A81550-HOSTEG-HAGGE","A81550","HOSTEG-HAGGE"]
["A82502-MCCAUSLAND(MC43)","A82502","MCCAUSLAND(MC43)"]
["A83506-HARLAN-REINIG","A83506","HARLAN-REINIG"]
["A84502-VANZEE","A84502","VANZEE"]
["A84506-HUDSON-OSTERCAMP","A84506","HUDSON-OSTERCAMP"]
["A84510-HAWARDEN-NORTH","A84510","HAWARDEN-NORTH"]
["A84528-HIGMAN-CHATSWORTH","A84528","HIGMAN-CHATSWORTH"]
["A84532-LASSON","A84532","LASSON"]
["A84536-VANBEEK","A84536","VANBEEK"]
["A84538-VAN'T HUL","A84538","VAN'T HUL"]
["A85510-AMES SOUTH","A85510","AMES SOUTH"]
["A86502-FLINT","A86502","FLINT"]
["A90506-WAPELLO CO SAND & ROCK","A90506","WAPELLO CO SAND & ROCK"]
["A90508-STEVENSON","A90508","STEVENSON"]
["A90510-CHILLICOTHE","A90510","CHILLICOTHE"]
["A92502-RIVERSIDE","A92502","RIVERSIDE"]
["A94502-YATES","A94502","YATES"]
["A94522-CROFT","A94522","CROFT"]
["A94526-BUSKE","A94526","BUSKE"]
["A94532-REIGELSBERGER","A94532","REIGELSBERGER"]
["A96502-DECORAH","A96502","DECORAH"]
["A96506-FREEPORT","A96506","FREEPORT"]
["A96520-SWEDES BOTTOM","A96520","SWEDES BOTTOM"]
["A96526-STIKA","A96526","STIKA"]
["A96528-GJETLEY","A96528","GJETLEY"]
["A96530-CARLSON-FREEPORT","A96530","CARLSON-FREEPORT"]
["A96532-SCHMITT","A96532","SCHMITT"]
["A97502-CORRECTIONVILLE-BUCK","A97502","CORRECTIONVILLE-BUCK"]
["A97516-ANTHON","A97516","ANTHON"]
["A97518-SMITHLAND","A97518","SMITHLAND"]
["A97528-EDWARDS","A97528","EDWARDS"]
["A97532-CREASEY","A97532","CREASEY"]
["A97538-ANTHON-WRIGHT","A97538","ANTHON-WRIGHT"]
["A98502-RANDALL TRANSIT MIX","A98502","RANDALL TRANSIT MIX"]
["A98504-FERTILE","A98504","FERTILE"]
["A98524-TRENHAILE","A98524","TRENHAILE"]
["A99502-WRIGHT","A99502","WRIGHT"]
["A99510-MEINEKE","A99510","MEINEKE"]
["A99524-STECHER","A99524","STECHER"]
["AIL522-CORDOVA INLAND (MC17)","AIL522","CORDOVA INLAND (MC17)"]
["AIL526-BLUFF CITY SAND","AIL526","BLUFF CITY SAND"]
["AKS504-FRISBIE-PLANT #3","AKS504","FRISBIE-PLANT #3"]
["AKS506-OAKLAND SAND PIT","AKS506","OAKLAND SAND PIT"]
["AKS508-SILVER LAKE SAND PIT","AKS508","SILVER LAKE SAND PIT"]
["AMN516-OLSON","AMN516","OLSON"]
["AMN518-LANESBORO","AMN518","LANESBORO"]
["AMN522-PRAIRIE ISLAND #3","AMN522","PRAIRIE ISLAND #3"]
["AMN528-POPE","AMN528","POPE"]
["AMN536-ELK RIVER","AMN536","ELK RIVER"]
["AMN538-SHADE","AMN538","SHADE"]
[{"$f":"CONCATENATE(B260,\"-\",C260)","v":"AMN544-LAKEVILLE"},"AMN544","LAKEVILLE"]
["AMN546-WALLNER","AMN546","WALLNER"]
["AMN550-SACHS","AMN550","SACHS"]
["AMN552-WINDMILL","AMN552","WINDMILL"]
["AMN554-ANNENDALE","AMN554","ANNENDALE"]
["AMN558-ST CROIX","AMN558","ST CROIX"]
["AMN560-ROSEMOUNT","AMN560","ROSEMOUNT"]
["AMN562-LUVERNE","AMN562","LUVERNE"]
["AMN566-ELK RIVER","AMN566","ELK RIVER"]
["AMN568-EMPIRE","AMN568","EMPIRE"]
["AMN572-KUESTER #3","AMN572","KUESTER #3"]
["AMN574-LINDMAN SOUTH","AMN574","LINDMAN SOUTH"]
["AMN576-TILSTRA","AMN576","TILSTRA"]
["AMO502-WAYLAND","AMO502","WAYLAND"]
["AMO516-MOUNT MORIAH","AMO516","MOUNT MORIAH"]
["AMO520-STANBERRY","AMO520","STANBERRY"]
["AMO524-CS61 LAGRANGE S&G","AMO524","CS61 LAGRANGE S&G"]
["ANE502-CULLOM  #5","ANE502","CULLOM  #5"]
["ANE504-WATERLOO #40","ANE504","WATERLOO #40"]
["ANE538-WEST POINT","ANE538","WEST POINT"]
["ANE544-VALLEY","ANE544","VALLEY"]
["ANE548-WEST CENTER SAND","ANE548","WEST CENTER SAND"]
["ANE552-WATERLOO","ANE552","WATERLOO"]
["ANE560-PLANT #47","ANE560","PLANT #47"]
["ANE564-NORTH VALLEY SAND","ANE564","NORTH VALLEY SAND"]
["ANE566-PLANT #52","ANE566","PLANT #52"]
["ASD508-CANTON","ASD508","CANTON"]
["ASD522-BROOKINGS","ASD522","BROOKINGS"]
["ASD526-CORSON","ASD526","CORSON"]
["ASD528-EAST SIOUX","ASD528","EAST SIOUX"]
["AWI502-PRAIRIE DU CHIEN","AWI502","PRAIRIE DU CHIEN"]
["AWI504-VOGT","AWI504","VOGT"]
["AWI506-KRAMER","AWI506","KRAMER"]
["AWI508-BARN","AWI508","BARN"]
["AWI514-HAGER CITY","AWI514","HAGER CITY"]
["AWI516-SCHEER","AWI516","SCHEER"]
["AWI522-RIB FALLS PLANT","AWI522","RIB FALLS PLANT"]
["AWI524-HAEF","AWI524","HAEF"]
["AWI526-MILAS","AWI526","MILAS"]
["AWI528-NELSON","AWI528","NELSON"]

{"sheet":"CEMENT","index":30,"n_rows":47,"n_cols":11,"rows_kept":47,"cut":false,"hidden":true,"merged":[[0,0,1,4],[0,12,1,16]]}
["Cement"]
[]
[null,null,null,null,null,null,null,null,null,"HPC-S or D","HPC-O"]
[{"$f":"_xlfn.CONCAT(B4, \"-\", C4, \"-\",D4)","v":"PC0003-Ash Grove - Louisville-III"},"PC0003","Ash Grove - Louisville","III",3.15," ","I",0,1,"Minimum 30% Slag Required, 35% Maximum","Cement Type I Can't Be Used With This Mix."]
["PC0008-Ash Grove - Louisville-IP(25)","PC0008","Ash Grove - Louisville","IP(25)",2.99,"IP, IS, IT","I/II",0,1,"Minimum 30% Slag Required, 35% Maximum","Minimum 25% Slag Required, 35% Maximum"]
["PC0009-Ash Grove - Louisville-IL","PC0009","Ash Grove - Louisville","IL",3.11,"I, II, IL","III",0,1,"Cement Type III Can't Be Used With This Mix.","Cement Type III Can't Be Used With This Mix."]
["PC0018-Ash Grove - Louisville-IP(30)","PC0018","Ash Grove - Louisville","IP(30)",2.9,"IP, IS, IT","IL",0.1,0.9,"Minimum 30% Slag Required, 35% Maximum","Minimum 25% Slag Required, 35% Maximum"]
["PC0103-Ash Grove - Chanute-III","PC0103","Ash Grove - Chanute","III",3.15,null,"IP(25)",0.25,0.75]
["PC0108-Ash Grove - Chanute-IP(25)","PC0108","Ash Grove - Chanute","IP(25)",2.97,"IP, IS, IT","IP(30)",0.3,0.7]
["PC0109-Ash Grove - Chanute-IL","PC0109","Ash Grove - Chanute","IL",3.11,"I, II, IL","IT(S20)(L9)",0.28999999999999998,0.71," "," "]
["PC0203-Continental - Hannibal-III","PC0203","Continental - Hannibal","III",3.15,null,"IT(S38)(L7)",0.45,0.55000000000000004," "," "]
["PC0209-Continental - Hannibal-IL","PC0209","Continental - Hannibal","IL",3.11,"I, II, IL","IT(P25)(L6)",0.31,0.69," "," "]
["PC0401-Lehigh - Mason City-I","PC0401","Lehigh - Mason City","I",3.14,"I, II, IL",null,null,null," "," "]
["PC0403-Lehigh - Mason City-III","PC0403","Lehigh - Mason City","III",3.15,null,null,null,null," "," "]
["PC0409-Lehigh - Mason City-IL","PC0409","Lehigh - Mason City","IL",3.11,"I, II, IL"]
["PC0509-Continental - Davenport-IL","PC0509","Continental - Davenport","IL",3.11,"I, II, IL"]
["PC0703-Central Plains - Sugar Creek-III","PC0703","Central Plains - Sugar Creek","III",3.15]
["PC0706-Central Plains - Sugar Creek-IT(S20)(L9)","PC0706","Central Plains - Sugar Creek","IT(S20)(L9)",3.07,"IP, IS, IT"]
["PC0709-Central Plains - Sugar Creek-IL","PC0709","Central Plains - Sugar Creek","IL",3.11,"I, II, IL"]
["PC0802-Monarch - Humboldt-I/II","PC0802","Monarch - Humboldt","I/II",3.14,"I, II, IL"]
["PC0803-Monarch - Humboldt-III","PC0803","Monarch - Humboldt","III",3.15]
["PC0809-Monarch - Humboldt-IL","PC0809","Monarch - Humboldt","IL",3.11,"I, II, IL"]
["PC1002-GCC - Rapid City-I/II","PC1002","GCC - Rapid City","I/II",3.14,"I, II, IL"]
["PC1003-GCC - Rapid City-III","PC1003","GCC - Rapid City","III",3.15]
["PC1008-GCC - Rapid City-IP(25)","PC1008","GCC - Rapid City","IP(25)",3.05,"IP, IS, IT"]
["PC1009-GCC - Rapid City-IL","PC1009","GCC - Rapid City","IL",3.11,"I, II, IL"]
["PC1309-Holcim- Joppa-IL","PC1309","Holcim- Joppa","IL",3.11,"I, II, IL"]
["PC1401-Buzzi - Pryor-I","PC1401","Buzzi - Pryor","I",3.14,"I, II, IL"]
["PC1409-Buzzi - Pryor-IL","PC1409","Buzzi - Pryor","IL",3.11,"I, II, IL"]
["PC1502-Buzzi - Cape Girardeau-I/II","PC1502","Buzzi - Cape Girardeau","I/II",3.14,"I, II, IL"]
["PC1509-Buzzi - Cape Girardeau-IL","PC1509","Buzzi - Cape Girardeau","IL",3.11,"I, II, IL"]
["PC1702-St Marys - Ontario-II","PC1702","St Marys - Ontario","II",3.14,"I, II, IL"]
["PC1809-Holcim- Alpena-IL","PC1809","Holcim- Alpena","IL",3.11,"I, II, IL"]
["PC1909-Holcim- Ada-IL","PC1909","Holcim- Ada","IL",3.11,"I, II, IL"]
["PC2008-Holcim - Florence-IP(25)","PC2008","Holcim - Florence","IP(25)",3.01,"IP, IS, IT"]
["PC2806-Central Plains - EaglePave -IT(S38)(L7)","PC2806","Central Plains - EaglePave ","IT(S38)(L7)",3.05,"IP, IS, IT"]
["PC2902-GCC - Pueblo-I/II","PC2902","GCC - Pueblo","I/II",3.14,"I, II, IL"]
["PC2909-GCC - Pueblo-IL","PC2909","GCC - Pueblo","IL",3.11,"I, II, IL"]
["PC3002-Buzzi - Festus-I/II","PC3002","Buzzi - Festus","I/II",3.14,"I, II, IL"]
["PC3009-Buzzi - Festus-IL","PC3009","Buzzi - Festus","IL",3.11,"I, II, IL"]
["PC3206-Holcim - ST. Gen-IT(P25)(L6)","PC3206","Holcim - ST. Gen","IT(P25)(L6)",2.85,"IP, IS, IT"]
["PC3209-Holcim - ST. Gen-IL","PC3209","Holcim - ST. Gen","IL",3.11,"I, II, IL"]
["PC3302-Illinois-I/II","PC3302","Illinois","I/II",3.14,"I, II, IL"]
["PC3402-St Marys - Charlevoix-II","PC3402","St Marys - Charlevoix","II",3.14,"I, II, IL"]
["PC3602-GCC - Samalayuca-I/II","PC3602","GCC - Samalayuca","I/II",3.14,"I, II, IL"]
["PC3603-GCC - Samalayuca-III","PC3603","GCC - Samalayuca","III",3.15]
["PC3702-Ozinga-Song Lam JSC-I/II","PC3702","Ozinga-Song Lam JSC","I/II",3.14,"I, II, IL"]

{"sheet":"FLYASH","index":31,"n_rows":54,"n_cols":7,"rows_kept":54,"cut":false,"hidden":true,"merged":[[0,0,1,4]]}
["Fly Ash"]
[]
[]
[{"$f":"_xlfn.CONCAT(B4, \"-\", C4)","v":"FA001C-Columbia Generating Station #1, #2 or Comb"},"FA001C","Columbia Generating Station #1, #2 or Comb","C",2.75,null,"C"]
["FA003F-Coal Creek Micron 3","FA003F","Coal Creek Micron 3","F",2.63,null,"F"]
["FA003CF-Coal Creek Power Plant","FA003CF","Coal Creek Power Plant","CF",2.48,null,"CF"]
["FA004C-Council Bluffs Unit #3","FA004C","Council Bluffs Unit #3","C",2.62]
["FA005C-Iatan Generating Station, Unit #2 ","FA005C","Iatan Generating Station, Unit #2 ","C",2.68]
["FA007C-Iatan Generating Station, Unit #1","FA007C","Iatan Generating Station, Unit #1","C",2.78]
["FA009C-Louisa Generating Station","FA009C","Louisa Generating Station","C",2.69]
["FA010C-Muscatine Power & Water","FA010C","Muscatine Power & Water","C",2.76]
["FA011C-Nebraska City Station","FA011C","Nebraska City Station","C",2.73]
["FA012C-North Omaha Generating Station","FA012C","North Omaha Generating Station","C",2.68]
["FA013C-Ottumwa Generating Station","FA013C","Ottumwa Generating Station","C",2.75]
["FA015C-Port Neal Power Plant #3, #4 or Combined","FA015C","Port Neal Power Plant #3, #4 or Combined","C",2.66]
["FA017F-Joliet Generating Station","FA017F","Joliet Generating Station","F",2.54]
["FA018C-M.L. Kapp Generating Station","FA018C","M.L. Kapp Generating Station","C",2.73]
["FA020C-Edgewater Unit #5 Generating Station","FA020C","Edgewater Unit #5 Generating Station","C",2.78]
["FA022C-Labadie Power Plant Labadie","FA022C","Labadie Power Plant Labadie","C",2.73]
["FA025C-Thomas Hill Energy Center","FA025C","Thomas Hill Energy Center","C",2.7]
["FA026C-Weston Generating Station","FA026C","Weston Generating Station","C",2.64]
["FA027C-Rush Island Power Plant","FA027C","Rush Island Power Plant","C",2.69]
["FA028C-Gerald Gentleman Station, Unit #1","FA028C","Gerald Gentleman Station, Unit #1","C",2.67]
["FA032C-J.P. Madgett Station, Dairyland, Poz AC","FA032C","J.P. Madgett Station, Dairyland, Poz AC","C",2.7]
["FA033C-Northeastern Generating Station","FA033C","Northeastern Generating Station","C",2.68]
["FA034C-Genoa Power Station #3, Dairyland","FA034C","Genoa Power Station #3, Dairyland","C",2.7]
["FA035C-La Cygne Station Power Plant, Unit #2","FA035C","La Cygne Station Power Plant, Unit #2","C",2.64]
["FA036C-Montrose Station Power Plant, Unit #3","FA036C","Montrose Station Power Plant, Unit #3","C",2.67]
["FA037C-Elm Road Generating Station Combined","FA037C","Elm Road Generating Station Combined","C",2.7]
["FA038F-Petersburg Generating Station, Unit #3","FA038F","Petersburg Generating Station, Unit #3","F",2.52]
["FA039C-Clay Boswell Generating Station, Unit #3","FA039C","Clay Boswell Generating Station, Unit #3","C",2.61]
["FA041C-Prairie Creek Generating Station, Unit #3","FA041C","Prairie Creek Generating Station, Unit #3","C",2.8]
["FA042C-Muskogee Generating Station","FA042C","Muskogee Generating Station","C",2.69]
["FA043F-Durapoz F","FA043F","Durapoz F","F",2.5499999999999998]
["FA044C-Dynegy Newton Power Station","FA044C","Dynegy Newton Power Station","C",2.66]
["FA045C-Oak Creek Power Station","FA045C","Oak Creek Power Station","C",2.7]
["FA046F-Praire State Generating Station","FA046F","Praire State Generating Station","F",2.42]
["FA050C-Duck Creek Power Station","FA050C","Duck Creek Power Station","C",2.71]
["FA051C-North Shore Station","FA051C","North Shore Station","C",2.7]
["FA052C-Whelan Hastings Generation Plant, Unit 2","FA052C","Whelan Hastings Generation Plant, Unit 2","C",2.64]
["FA053C-Leland Olds Station, Unit 1","FA053C","Leland Olds Station, Unit 1","C",2.78]
["FA054F-P2P PSGC/Louisa Blend","FA054F","P2P PSGC/Louisa Blend","F",2.46]
["FA055F-CarbonSense CWLP F Ash","FA055F","CarbonSense CWLP F Ash","F",2.46]
["FA056C-Jeffery Energy Center ","FA056C","Jeffery Energy Center ","C",2.9]
["FA057C-Platte Generating Station","FA057C","Platte Generating Station","C",2.59]
["FA058F-Cumberland Power Station","FA058F","Cumberland Power Station","F",2.5]
["FA059C-Limestone Plant","FA059C","Limestone Plant","C",2.69]
["FA060F-Oak Grove Pozzolan","FA060F","Oak Grove Pozzolan","F",2.42]
["FA137F-Elm Road Generating Station Unit #1","FA137F","Elm Road Generating Station Unit #1","F",2.68]
["FA223C-CarbonSense C Ash","FA223C","CarbonSense C Ash","C",2.79]
["FA237F-Elm Road Generating Station Unit #2","FA237F","Elm Road Generating Station Unit #2","F",2.67]
["FA249C-Edwards Power Station, Unit#2","FA249C","Edwards Power Station, Unit#2","C",2.71]
["FA323F-CarbonSense F Ash","FA323F","CarbonSense F Ash","F",2.6]
["FA349C-Edwards Power Station, Unit#3","FA349C","Edwards Power Station, Unit#3","C",2.72]

{"sheet":"SLAG","index":32,"n_rows":6,"n_cols":5,"rows_kept":6,"cut":false,"hidden":true,"merged":[[0,0,1,4]]}
["Slag"]
[]
[]
[{"$f":"_xlfn.CONCAT(B4, \"-\", C4)","v":"SL00A-Skyway Cement"},"SL00A","Skyway Cement",2.87,100]
[{"$f":"_xlfn.CONCAT(B5, \"-\", C5)","v":"SL02A-NewCem"},"SL02A","NewCem",2.93,100]
[{"$f":"_xlfn.CONCAT(B6, \"-\", C6)","v":"SL05A-Carbon Smart Grade 100"},"SL05A","Carbon Smart Grade 100",2.95,100]

{"sheet":"ADMIX-AIR","index":33,"n_rows":40,"n_cols":3,"rows_kept":40,"cut":false,"hidden":true,"merged":[[0,0,1,2]]}
["Air Entraining "]
[]
[]
[{"$f":"_xlfn.CONCAT(B4, \"-\", C4)","v":"Air Plus-Fritz-Pak"},"Air Plus","Fritz-Pak"]
[{"$f":"_xlfn.CONCAT(B5, \"-\", C5)","v":"Airalon 3000-GCP"},"Airalon 3000","GCP"]
["Airalon 7000-GCP","Airalon 7000","GCP"]
["Chryso Air 260-CHRYSO Inc","Chryso Air 260","CHRYSO Inc"]
["ConAir 260-Premiere Admix.","ConAir 260","Premiere Admix."]
["ConAir X-Premiere Admix.","ConAir X","Premiere Admix."]
["DSA 110-DarCole Products, Inc","DSA 110","DarCole Products, Inc"]
["Daravair 1000-GCP","Daravair 1000","GCP"]
["Daravair 1400-GCP","Daravair 1400","GCP"]
["Daravair AT 30-GCP","Daravair AT 30","GCP"]
["Daravair AT 60-GCP","Daravair AT 60","GCP"]
["Daravair M-GCP","Daravair M","GCP"]
["Darex II AEA-GCP","Darex II AEA","GCP"]
["Eucon AEA-92-Euclid","Eucon AEA-92","Euclid"]
["Eucon AEA-92S-Euclid","Eucon AEA-92S","Euclid"]
["Eucon Air MAC12-Euclid","Eucon Air MAC12","Euclid"]
["Eucon Air MAC6-Euclid","Eucon Air MAC6","Euclid"]
["Eucon Air Mix-Euclid","Eucon Air Mix","Euclid"]
[{"$f":"_xlfn.CONCAT(B22, \"-\", C22)","v":"Mapeair SA-Mapei"},"Mapeair SA","Mapei"]
[{"$f":"_xlfn.CONCAT(B23, \"-\", C23)","v":"Mapeair SA-50-Mapei"},"Mapeair SA-50","Mapei"]
[{"$f":"_xlfn.CONCAT(B24, \"-\", C24)","v":"Mapeair VR-Mapei"},"Mapeair VR","Mapei"]
["MasterAir AE 200-Master Builders","MasterAir AE 200","Master Builders"]
["MasterAir AE 400-Master Builders","MasterAir AE 400","Master Builders"]
["MasterAir AE 90-Master Builders","MasterAir AE 90","Master Builders"]
["MasterAir VR 10-Master Builders","MasterAir VR 10","Master Builders"]
["Miracon 2315-Miracon Tech.","Miracon 2315","Miracon Tech."]
["RAE-260-RussTech, Inc.","RAE-260","RussTech, Inc."]
["RSA-10-RussTech, Inc.","RSA-10","RussTech, Inc."]
["Sika AEA-14-Sika","Sika AEA-14","Sika"]
["Sika AER-C-Sika","Sika AER-C","Sika"]
["Sika Air-Sika","Sika Air","Sika"]
["Sika Air-260-Sika","Sika Air-260","Sika"]
["Sika Air-360-Sika","Sika Air-360","Sika"]
["SikaControl AIR-160-Sika","SikaControl AIR-160","Sika"]
["Stable Air-CCT","Stable Air","CCT"]
["Super Air Plus-Fritz-Pak","Super Air Plus","Fritz-Pak"]
["Terapave AEA-GCP","Terapave AEA","GCP"]

{"sheet":"ADMIX-WR","index":34,"n_rows":63,"n_cols":3,"rows_kept":63,"cut":false,"hidden":true,"merged":[[0,0,1,2]]}
["Normal Water Reducer"]
[]
[]
[{"$f":"_xlfn.CONCAT(B4, \"-\", C4)","v":"ADVA 140M-GCP"},"ADVA 140M","GCP"]
[{"$f":"_xlfn.CONCAT(B5, \"-\", C5)","v":"ADVA Cast 600-GCP"},"ADVA Cast 600","GCP"]
[{"$f":"_xlfn.CONCAT(B6, \"-\", C6)","v":"Accelguard G3-Euclid"},"Accelguard G3","Euclid"]
[{"$f":"_xlfn.CONCAT(B7, \"-\", C7)","v":"Chryso Fluid Optima 256-CHRYSO"},"Chryso Fluid Optima 256","CHRYSO"]
["Clarena MC 2000-GCP","Clarena MC 2000","GCP"]
[{"$f":"_xlfn.CONCAT(B9, \"-\", C9)","v":"Concera CP1124-GCP"},"Concera CP1124","GCP"]
["Concera SA8080-GCP","Concera SA8080","GCP"]
["DNL 485-DarCole Products, Inc","DNL 485","DarCole Products, Inc"]
["DNL 785-DarCole Products, Inc","DNL 785","DarCole Products, Inc"]
["Dynamon 850-Mapei","Dynamon 850","Mapei"]
["Dynamon NRG 1092-Mapei","Dynamon NRG 1092","Mapei"]
["Dynamon NRG 546-Mapei","Dynamon NRG 546","Mapei"]
["Eucon MRX-Euclid","Eucon MRX","Euclid"]
["Eucon SE-Euclid","Eucon SE","Euclid"]
["Eucon WR-Euclid","Eucon WR","Euclid"]
["Eucon WR-75-Euclid","Eucon WR-75","Euclid"]
["Eucon WR-91-Euclid","Eucon WR-91","Euclid"]
["Eucon X-15-Euclid","Eucon X-15","Euclid"]
["Extendflo X90-RussTech","Extendflo X90","RussTech"]
["FinishEase-NC-RussTech","FinishEase-NC","RussTech"]
["LC-400P-RussTech","LC-400P","RussTech"]
["MIRA 62-GCP","MIRA 62","GCP"]
["MIRA 95-GCP","MIRA 95","GCP"]
["Mapefluid N200-Mapei","Mapefluid N200","Mapei"]
["Mapeplast 400 NC-Mapei","Mapeplast 400 NC","Mapei"]
["Mapeplast KB 1200-Mapei","Mapeplast KB 1200","Mapei"]
["Mapeplast MR 107-Mapei","Mapeplast MR 107","Mapei"]
["Mapeplast N-Mapei","Mapeplast N","Mapei"]
["Mapeplast Paver Plus-Mapei","Mapeplast Paver Plus","Mapei"]
["Master X-Seed 66-21st Century","Master X-Seed 66","21st Century"]
["MasterGlenium 1466-Master Builders","MasterGlenium 1466","Master Builders"]
["MasterGlenium 3030-Master Builders","MasterGlenium 3030","Master Builders"]
["MasterGlenium 7920-Master Builders","MasterGlenium 7920","Master Builders"]
["MasterPolyheed 900-Master Builders","MasterPolyheed 900","Master Builders"]
["MasterPolyheed 997-Master Builders","MasterPolyheed 997","Master Builders"]
["MasterPozzolith 200-Master Builders","MasterPozzolith 200","Master Builders"]
["MasterPozzolith 322-Master Builders","MasterPozzolith 322","Master Builders"]
["MasterPozzolith 700-Master Builders","MasterPozzolith 700","Master Builders"]
["MasterPozzolith 80-Master Builders","MasterPozzolith 80","Master Builders"]
["Melchem 38-Mapei","Melchem 38","Mapei"]
["OptiFlo 500-Premiere Admix","OptiFlo 500","Premiere Admix"]
["OptiFlo 700-Premiere Admix","OptiFlo 700","Premiere Admix"]
["OpiFlo MR-Premiere Admix","OpiFlo MR","Premiere Admix"]
[{"$f":"_xlfn.CONCAT(B47, \"-\", C47)","v":"Plastol 6420-Euclid"},"Plastol 6420","Euclid"]
[{"$f":"_xlfn.CONCAT(B48, \"-\", C48)","v":"Plastol 6425-Euclid"},"Plastol 6425","Euclid"]
["Polychem 3000-Mapei","Polychem 3000","Mapei"]
["Sika Plastocrete 10N-Sika","Sika Plastocrete 10N","Sika"]
["Sika Plastocrete 161-Sika","Sika Plastocrete 161","Sika"]
["Sika Plastocrete-250-Sika","Sika Plastocrete-250","Sika"]
[{"$f":"_xlfn.CONCAT(B53, \"-\", C53)","v":"Sika ViscoFlow-2020-Sika"},"Sika ViscoFlow-2020","Sika"]
[{"$f":"_xlfn.CONCAT(B54, \"-\", C54)","v":"Sika Viscocrete-1100-Sika"},"Sika Viscocrete-1100","Sika"]
["Sikament 686-Sika","Sikament 686","Sika"]
["Sikament-475-Sika","Sikament-475","Sika"]
["Superflo 2000 RM-RussTech","Superflo 2000 RM","RussTech"]
["Superflo 2000 SCC-RussTech","Superflo 2000 SCC","RussTech"]
["Superflo 2040 RM-RussTech","Superflo 2040 RM","RussTech"]
["WRDA 82-GCP","WRDA 82","GCP"]
["ZYLA 620-GCP","ZYLA 620","GCP"]
["ZYLA 630-GCP","ZYLA 630","GCP"]
["ZYLA 640-GCP","ZYLA 640","GCP"]

{"sheet":"ADMIX-MR","index":35,"n_rows":37,"n_cols":3,"rows_kept":37,"cut":false,"hidden":true,"merged":[[0,0,1,2]]}
["Mid Range Water Reducers"]
[]
[]
[{"$f":"_xlfn.CONCAT(B4, \"-\", C4)","v":"ADVA 140M-GCP"},"ADVA 140M","GCP"]
["ADVA Cast 575-GCP","ADVA Cast 575","GCP"]
["ADVA Cast 600-GCP","ADVA Cast 600","GCP"]
["Chryso Fluid Optima 256-CHRYSO","Chryso Fluid Optima 256","CHRYSO"]
["Daracem 65-GCP","Daracem 65","GCP"]
["Dynamon SX-Mapei","Dynamon SX","Mapei"]
["Elara SP200-GCP","Elara SP200","GCP"]
["Eucon MR-Euclid","Eucon MR","Euclid"]
["Eucon MRX-Euclid","Eucon MRX","Euclid"]
["Eucon X-15-Euclid","Eucon X-15","Euclid"]
["FinishEase-NC-RussTech","FinishEase-NC","RussTech"]
["MIRA 110-GCP","MIRA 110","GCP"]
["MIRA 62-GCP","MIRA 62","GCP"]
["MIRA 95-GCP","MIRA 95","GCP"]
["Mapeplast KB 1200-Mapei","Mapeplast KB 1200","Mapei"]
["Mapeplast MR 107-Mapei","Mapeplast MR 107","Mapei"]
["MasterGlenium 3030-Master Builders","MasterGlenium 3030","Master Builders"]
["MasterGlenium 7500-Master Builders","MasterGlenium 7500","Master Builders"]
["MasterPolyheed 1020-Master Builders","MasterPolyheed 1020","Master Builders"]
["MasterPolyheed 1025-Master Builders","MasterPolyheed 1025","Master Builders"]
["MasterPolyheed 1720-Master Builders","MasterPolyheed 1720","Master Builders"]
["MasterPolyheed 1725-Master Builders","MasterPolyheed 1725","Master Builders"]
["MasterPolyheed 900-Master Builders","MasterPolyheed 900","Master Builders"]
["MasterPolyheed 997-Master Builders","MasterPolyheed 997","Master Builders"]
["OptiFlo MR-Premiere Admix","OptiFlo MR","Premiere Admix"]
["OptiFlo 700-Premiere Admix","OptiFlo 700","Premiere Admix"]
["Plastol 6420-Euclid","Plastol 6420","Euclid"]
["Polychem 3000-Mapei","Polychem 3000","Mapei"]
["Sika ViscoFlow 2020-Sika","Sika ViscoFlow 2020","Sika"]
["Sika ViscoCrete 1000-Sika","Sika ViscoCrete 1000","Sika"]
["Sikament AFM-Sika","Sikament AFM","Sika"]
[{"$f":"_xlfn.CONCAT(B35, \"-\", C35)","v":"Sikament-475-Sika"},"Sikament-475","Sika"]
[{"$f":"_xlfn.CONCAT(B36, \"-\", C36)","v":"Sikaplast 200-Sika"},"Sikaplast 200","Sika"]
[{"$f":"_xlfn.CONCAT(B37, \"-\", C37)","v":"Sikaplast 300GP-Sika"},"Sikaplast 300GP","Sika"]

{"sheet":"ADMIX-HR","index":36,"n_rows":65,"n_cols":3,"rows_kept":65,"cut":false,"hidden":true,"merged":[[0,0,1,2]]}
["High Range Water Reducers"]
[]
[]
[{"$f":"_xlfn.CONCAT(B4, \"-\", C4)","v":"ADVA 140M-GCP"},"ADVA 140M","GCP"]
[{"$f":"_xlfn.CONCAT(B5, \"-\", C5)","v":"ADVA 190-GCP"},"ADVA 190","GCP"]
["ADVA 195-GCP","ADVA 195","GCP"]
["ADVA 198-GCP","ADVA 198","GCP"]
["ADVA 405-GCP","ADVA 405","GCP"]
["ADVA Cast 555-GCP","ADVA Cast 555","GCP"]
["ADVA Cast 575-GCP","ADVA Cast 575","GCP"]
["ADVA Cast 585-GCP","ADVA Cast 585","GCP"]
["ADVA Cast 600-GCP","ADVA Cast 600","GCP"]
["ADVA ITM750-GCP","ADVA ITM750","GCP"]
["ADVA Cast 593-GCP","ADVA Cast 593","GCP"]
["Chryso Fluid Optima 256-CHRYSO","Chryso Fluid Optima 256","CHRYSO"]
["Clarena MC 2000-GCP","Clarena MC 2000","GCP"]
["Concera SA8080-GCP","Concera SA8080","GCP"]
["Daracem 19-GCP","Daracem 19","GCP"]
["Dynamon 850-Mapei","Dynamon 850","Mapei"]
["Dynamon NRG 1092-Mapei","Dynamon NRG 1092","Mapei"]
["Dynamon NRG 546-Mapei","Dynamon NRG 546","Mapei"]
["Dynamon SX-Mapei","Dynamon SX","Mapei"]
["Dynamon SX 37-Mapei","Dynamon SX 37","Mapei"]
["Eucon 1037-Euclid","Eucon 1037","Euclid"]
["Eucon 37-Euclid","Eucon 37","Euclid"]
["Eucon MRX-Euclid","Eucon MRX","Euclid"]
["MIRA 110-GCP","MIRA 110","GCP"]
["MIRA 62-GCP","MIRA 62","GCP"]
["Mapefluid N200-Mapei","Mapefluid N200","Mapei"]
["MasterGlenium 1466-Master Builders","MasterGlenium 1466","Master Builders"]
["MasterGlenium 3030-Master Builders","MasterGlenium 3030","Master Builders"]
["MasterGlenium 3400-Master Builders","MasterGlenium 3400","Master Builders"]
["MasterGlenium 7500-Master Builders","MasterGlenium 7500","Master Builders"]
["MasterGlenium 7700-Master Builders","MasterGlenium 7700","Master Builders"]
["MasterGlenium 7920-Master Builders","MasterGlenium 7920","Master Builders"]
["MasterRheobuild 1000-Master Builders","MasterRheobuild 1000","Master Builders"]
["Melchem 38-Mapei","Melchem 38","Mapei"]
["Plastol 341-Euclid","Plastol 341","Euclid"]
["Plastol 341-S-Euclid","Plastol 341-S","Euclid"]
["Plastol 5000-Euclid","Plastol 5000","Euclid"]
["Plastol 6400-Euclid","Plastol 6400","Euclid"]
["Plastol 6420-Euclid","Plastol 6420","Euclid"]
["Plastol 6425-Euclid","Plastol 6425","Euclid"]
["Plastol Ultra 209-Euclid","Plastol Ultra 209","Euclid"]
["Polychem 3000-Mapei","Polychem 3000","Mapei"]
["Polychem SPC-Mapei","Polychem SPC","Mapei"]
["Sika ViscoCrete 1000-Sika","Sika ViscoCrete 1000","Sika"]
["Sika ViscoCrete 1100-Sika","Sika ViscoCrete 1100","Sika"]
["Sika ViscoCrete 2100-Sika","Sika ViscoCrete 2100","Sika"]
["Sika ViscoCrete 2110-Sika","Sika ViscoCrete 2110","Sika"]
["Sika ViscoCrete 4100-Sika","Sika ViscoCrete 4100","Sika"]
["Sika ViscoCrete 6100-Sika","Sika ViscoCrete 6100","Sika"]
["Sikament 686-Sika","Sikament 686","Sika"]
["Sikament AFM-Sika","Sikament AFM","Sika"]
["Sikament SPMN-Sika","Sikament SPMN","Sika"]
["Sikament-475-Sika","Sikament-475","Sika"]
["Supercizer 5 -Fritz-Pak","Supercizer 5 ","Fritz-Pak"]
["Supercizer 7-Fritz-Pak","Supercizer 7","Fritz-Pak"]
["Superflo 2000 RM-RussTech","Superflo 2000 RM","RussTech"]
["Superflo 2000 SCC-RussTech","Superflo 2000 SCC","RussTech"]
["Superflo 2040 RM-RussTech","Superflo 2040 RM","RussTech"]
["Superflo DSF 1443-DarCole Products, Inc","Superflo DSF 1443","DarCole Products, Inc"]
["UltraFlo 2000-Premiere Admix","UltraFlo 2000","Premiere Admix"]
["UltraFlo 5600-Premiere Admix","UltraFlo 5600","Premiere Admix"]
["UltraFlo DP-Premiere Admix","UltraFlo DP","Premiere Admix"]

{"sheet":"ADMIX-RETARDER","index":37,"n_rows":40,"n_cols":3,"rows_kept":40,"cut":false,"hidden":true,"merged":[[0,0,1,2]]}
["Retarder"]
[]
[]
[{"$f":"_xlfn.CONCAT(B4,\"-\",C4)","v":"Daratard 17-GCP"},"Daratard 17","GCP"]
[{"$f":"_xlfn.CONCAT(B5,\"-\",C5)","v":"Eucon DS-Euclid"},"Eucon DS","Euclid"]
[{"$f":"_xlfn.CONCAT(B6,\"-\",C6)","v":"Eucon Retarder 100-Euclid"},"Eucon Retarder 100","Euclid"]
["Eucon SE-Euclid","Eucon SE","Euclid"]
["Eucon Stasis-Euclid","Eucon Stasis","Euclid"]
["Eucon WR-91-Euclid","Eucon WR-91","Euclid"]
["LC-400P-RussTech","LC-400P","RussTech"]
["LC-400R-RussTech","LC-400R","RussTech"]
["Mapeplast 400 NC-Mapei","Mapeplast 400 NC","Mapei"]
["Mapeplast N-Mapei","Mapeplast N","Mapei"]
["Mapetard Plus-Mapei","Mapetard Plus","Mapei"]
["Mapetard R-Mapei","Mapetard R","Mapei"]
["MasterPozzolith 200-Master Builders US","MasterPozzolith 200","Master Builders US"]
["MasterPozzolith 322-Master Builders US","MasterPozzolith 322","Master Builders US"]
["MasterPozzolith 700-Master Builders US","MasterPozzolith 700","Master Builders US"]
["MasterPozzolith 80-Master Builders US","MasterPozzolith 80","Master Builders US"]
["MasterSet Delvo-Master Builders US","MasterSet Delvo","Master Builders US"]
["MasterSet Delvo ESC-Master Builders US","MasterSet Delvo ESC","Master Builders US"]
["MasterSet R 100-Master Builders US","MasterSet R 100","Master Builders US"]
["MasterSet R 300-BASF","MasterSet R 300","BASF"]
["Mini Delayed Set-Fritz-Pak","Mini Delayed Set","Fritz-Pak"]
["OptiFlo 500-Premiere Admix","OptiFlo 500","Premiere Admix"]
["Polychem Renu-Mapei","Polychem Renu","Mapei"]
["ProLong L-Premiere Admix","ProLong L","Premiere Admix"]
["RENU-RussTech","RENU","RussTech"]
["RECOVER-GCP","RECOVER","GCP"]
["Sika Plastiment-Sika","Sika Plastiment","Sika"]
["Sika Plastiment XR-Sika","Sika Plastiment XR","Sika"]
["Sika Plastocrete 10N-Sika","Sika Plastocrete 10N","Sika"]
["Sika Plastocrete 161-Sika","Sika Plastocrete 161","Sika"]
["Sika Plastocrete-250-Sika","Sika Plastocrete-250","Sika"]
["SikaTard 440-Sika","SikaTard 440","Sika"]
["Standard Delayed Set-Fritz-Pak","Standard Delayed Set","Fritz-Pak"]
["V-Mar VSC 500-GCP","V-Mar VSC 500","GCP"]
["WRDA with Hycol-GCP","WRDA with Hycol","GCP"]
["Zyla 640-GCP","Zyla 640","GCP"]
["Zyla R-GCP","Zyla R","GCP"]

{"sheet":"ADMIX-SP","index":38,"n_rows":30,"n_cols":3,"rows_kept":30,"cut":false,"hidden":true,"merged":[[0,0,1,2]]}
["Special Performance"]
[]
[]
[{"$f":"_xlfn.CONCAT(B4,\"-\",C4)","v":"ADVA ITM750-GCP"},"ADVA ITM750","GCP"]
[{"$f":"_xlfn.CONCAT(B5,\"-\",C5)","v":"CSXtreme-Concrete Moisture Solutions"},"CSXtreme","Concrete Moisture Solutions"]
[{"$f":"_xlfn.CONCAT(B6,\"-\",C6)","v":"DG-F-Mapei"},"DG-F","Mapei"]
[{"$f":"_xlfn.CONCAT(B7,\"-\",C7)","v":"E5 Internal Cure-Specification Products"},"E5 Internal Cure","Specification Products"]
["E5 Liquid FlyAsh-Specification Products","E5 Liquid FlyAsh","Specification Products"]
["Eucon AWA-P20-Euclid","Eucon AWA-P20","Euclid"]
["Hycrete X1002-Hycrete","Hycrete X1002","Hycrete"]
["Mapecrete V3K-Mapei","Mapecrete V3K","Mapei"]
["Mapecrete VMA-Mapei","Mapecrete VMA","Mapei"]
["Master X-Seed 44-Master Builders","Master X-Seed 44","Master Builders"]
["Master X-Seed 55-Master Builders","Master X-Seed 55","Master Builders"]
["MasterMatrix VMA 358-Master Builders","MasterMatrix VMA 358","Master Builders"]
["MasterMatrix VMA 362-Master Builders","MasterMatrix VMA 362","Master Builders"]
["MasterPel 240-Master Builders","MasterPel 240","Master Builders"]
["MasterSure Z-60-Master Builders","MasterSure Z-60","Master Builders"]
["Penetron Admix SB-Penrtron USA","Penetron Admix SB","Penrtron USA"]
["Sika WT-240 P-Sika","Sika WT-240 P","Sika"]
["SikaControl NS-Sika","SikaControl NS","Sika"]
["SikaControl SC-Sika","SikaControl SC","Sika"]
["Slick-Pak-Fritz-Pak","Slick-Pak","Fritz-Pak"]
["Slick-Pak II-Fritz-Pak","Slick-Pak II","Fritz-Pak"]
["Stabilizer-4R-Sika","Stabilizer-4R","Sika"]
["Super Slump Buster-Fritz-Pak","Super Slump Buster","Fritz-Pak"]
["V-Mar 3-GCP","V-Mar 3","GCP"]
["V-Mar F100-GCP","V-Mar F100","GCP"]
["VMA-758-RussTech, Inc","VMA-758","RussTech, Inc"]
["Visctrol-Euclid","Visctrol","Euclid"]

{"sheet":"FIBERS","index":39,"n_rows":37,"n_cols":3,"rows_kept":37,"cut":false,"hidden":true,"merged":[[0,0,1,2]]}
["Concrete Fibers"]
[]
[]
[{"$f":"_xlfn.CONCAT(B4,\"-\",C4)","v":"AC 50-ICF Concrete Additives"},"AC 50","ICF Concrete Additives"]
["AC 60-ICF Concrete Additives","AC 60","ICF Concrete Additives"]
["BarChip 48-BarChip USA","BarChip 48","BarChip USA"]
["BarChip 54-BarChip USA","BarChip 54","BarChip USA"]
["Enduro Prime 55-Sika","Enduro Prime 55","Sika"]
[{"$f":"_xlfn.CONCAT(B9,\"-\",C9)","v":"FIB-300-Sika"},"FIB-300","Sika"]
[{"$f":"_xlfn.CONCAT(B10,\"-\",C10)","v":"FIB 300 FabPro-FabPro Polymers"},"FIB 300 FabPro","FabPro Polymers"]
["FiberForce 300-ABC","FiberForce 300","ABC"]
["FiberForce 750-ABC","FiberForce 750","ABC"]
["Fibermesh 300-Sika","Fibermesh 300","Sika"]
["Forta-Ferro-Forta","Forta-Ferro","Forta"]
["GRT Advantage Structural Fiber-Mapei","GRT Advantage Structural Fiber","Mapei"]
["GRT Polymesh Fibrillated Fiber-Mapei","GRT Polymesh Fibrillated Fiber","Mapei"]
[{"$f":"_xlfn.CONCAT(B17,\"-\",C17)","v":"Genesis Fibrillated-FabPro Polymers"},"Genesis Fibrillated","FabPro Polymers"]
["Genesis XF-FabPro Polymers","Genesis XF","FabPro Polymers"]
["MapeFibre ST 42-Mapei","MapeFibre ST 42","Mapei"]
["MasterFiber F 100-Master Builders","MasterFiber F 100","Master Builders"]
["MasterFiber F 70-Master Builders","MasterFiber F 70","Master Builders"]
["MasterFiber MAC 100-Master Builders","MasterFiber MAC 100","Master Builders"]
["MasterFiber MAC 360 FF-Master Builders","MasterFiber MAC 360 FF","Master Builders"]
["MasterFiber MAC Matrix-Master Builders","MasterFiber MAC Matrix","Master Builders"]
["MONO 150-Sika","MONO 150","Sika"]
["Performax-FabPro Polymers","Performax","FabPro Polymers"]
[{"$f":"_xlfn.CONCAT(B27,\"-\",C27)","v":"Performax HT-FabPro Polymers"},"Performax HT","FabPro Polymers"]
[{"$f":"_xlfn.CONCAT(B28,\"-\",C28)","v":"Plexus 44F-FabPro Polymers"},"Plexus 44F","FabPro Polymers"]
["Plexus 54F-FabPro Polymers","Plexus 54F","FabPro Polymers"]
["Polymesh M-Mapei","Polymesh M","Mapei"]
["PSI Fiberstrand F-Euclid","PSI Fiberstrand F","Euclid"]
["SikaFiber 800 Stealth-Sika","SikaFiber 800 Stealth","Sika"]
["Sinta F19-GCP","Sinta F19","GCP"]
["STRUX 75/32-GCP","STRUX 75/32","GCP"]
["STRUX 90/40-GCP","STRUX 90/40","GCP"]
["TUF-STRAND SF-Euclid","TUF-STRAND SF","Euclid"]
["TUF-STRAND SuperMix SP-Euclid","TUF-STRAND SuperMix SP","Euclid"]

{"sheet":"ADMIX-CO2","index":40,"n_rows":5,"n_cols":3,"rows_kept":5,"cut":false,"hidden":true,"merged":[[0,0,1,2]]}
["CO2 ADMIX"]
[]
[]
[{"$f":"_xlfn.CONCAT(B4,\"-\",C4)","v":"CarbonCure-CarbonCure Tech."},"CarbonCure","CarbonCure Tech."]
[{"$f":"_xlfn.CONCAT(B5,\"-\",C5)","v":"CarbonJect-CRH"},"CarbonJect","CRH"]

{"sheet":"ADMIX-FF","index":41,"n_rows":13,"n_cols":3,"rows_kept":13,"cut":false,"hidden":true,"merged":[[0,0,1,2]]}
["Flowable Fill"]
[]
[]
[{"$f":"_xlfn.CONCAT(B4, \"-\", C4)","v":"Cretefoam CMX-Richway Ind."},"Cretefoam CMX","Richway Ind."]
[{"$f":"_xlfn.CONCAT(B5, \"-\", C5)","v":"DNF 842-DarCole Pro."},"DNF 842","DarCole Pro."]
["Darafill-GCP","Darafill","GCP"]
["Eucon Easy Fill-Euclid","Eucon Easy Fill","Euclid"]
["FLO-L-Premiere","FLO-L","Premiere"]
["Lightcrete-Sika","Lightcrete","Sika"]
["Mapeair LA/L-Mapei","Mapeair LA/L","Mapei"]
["MasterCell 25-Master Builders","MasterCell 25","Master Builders"]
["RUSS-FLO-RussTech","RUSS-FLO","RussTech"]
["Stable Air-CCT","Stable Air","CCT"]

{"sheet":"COUNTIES","index":42,"n_rows":102,"n_cols":3,"rows_kept":102,"cut":false,"hidden":true,"merged":[[0,0,1,2]]}
["Counties"]
[]
[]
[{"$f":"_xlfn.CONCAT(B4, \"-\", C4)","v":"01-Adair"},"01","Adair"]
[{"$f":"_xlfn.CONCAT(B5, \"-\", C5)","v":"02-Adams"},"02","Adams"]
["03-Allamakee","03","Allamakee"]
["04-Appanoose","04","Appanoose"]
["05-Audubon","05","Audubon"]
["06-Benton","06","Benton"]
["07-Black Hawk","07","Black Hawk"]
["08-Boone","08","Boone"]
["09-Bremer","09","Bremer"]
["10-Buchanan","10","Buchanan"]
["11-Buena Vista","11","Buena Vista"]
["12-Butler","12","Butler"]
["13-Calhoun","13","Calhoun"]
["14-Carroll","14","Carroll"]
["15-Cass","15","Cass"]
["16-Cedar","16","Cedar"]
["17-Cerro Gordo","17","Cerro Gordo"]
["18-Cherokee","18","Cherokee"]
["19-Chickasaw","19","Chickasaw"]
["20-Clarke","20","Clarke"]
["21-Clay","21","Clay"]
["22-Clayton","22","Clayton"]
["23-Clinton","23","Clinton"]
["24-Crawford","24","Crawford"]
["25-Dallas","25","Dallas"]
["26-Davis","26","Davis"]
["27-Decatur","27","Decatur"]
["28-Delaware","28","Delaware"]
["29-Des Moines","29","Des Moines"]
["30-Dickinson","30","Dickinson"]
["31-Dubuque","31","Dubuque"]
["32-Emmet","32","Emmet"]
["33-Fayette","33","Fayette"]
["34-Floyd","34","Floyd"]
["35-Franklin","35","Franklin"]
["36-Fremont","36","Fremont"]
["37-Greene","37","Greene"]
["38-Grundy","38","Grundy"]
["39-Guthrie","39","Guthrie"]
["40-Hamilton","40","Hamilton"]
["41-Hancock","41","Hancock"]
["42-Hardin","42","Hardin"]
["43-Harrison","43","Harrison"]
["44-Henry","44","Henry"]
["45-Howard","45","Howard"]
["46-Humboldt","46","Humboldt"]
["47-Ida","47","Ida"]
["48-Iowa","48","Iowa"]
["49-Jackson","49","Jackson"]
["50-Jasper","50","Jasper"]
["51-Jefferson","51","Jefferson"]
["52-Johnson","52","Johnson"]
["53-Jones","53","Jones"]
["54-Keokuk","54","Keokuk"]
["55-Kossuth","55","Kossuth"]
["56-Lee","56","Lee"]
["57-Linn","57","Linn"]
["58-Louisa","58","Louisa"]
["59-Lucas","59","Lucas"]
["60-Lyon","60","Lyon"]
["61-Madison","61","Madison"]
["62-Mahaska","62","Mahaska"]
["63-Marion","63","Marion"]
["64-Marshall","64","Marshall"]
["65-Mills","65","Mills"]
[{"$f":"_xlfn.CONCAT(B69, \"-\", C69)","v":"66-Mitchell"},"66","Mitchell"]
["67-Monona","67","Monona"]
["68-Monroe","68","Monroe"]
["69-Montgomery","69","Montgomery"]
["70-Muscatine","70","Muscatine"]
["71-O'Brien","71","O'Brien"]
["72-Osceola","72","Osceola"]
["73-Page","73","Page"]
["74-Palo Alto","74","Palo Alto"]
["75-Plymouth","75","Plymouth"]
["76-Pocahontas","76","Pocahontas"]
["77-Polk","77","Polk"]
["78-Pottawattamie","78","Pottawattamie"]
["79-Poweshiek","79","Poweshiek"]
["80-Ringgold","80","Ringgold"]
["81-Sac","81","Sac"]
["82-Scott","82","Scott"]
["83-Shelby","83","Shelby"]
["84-Sioux","84","Sioux"]
["85-Story","85","Story"]
["86-Tama","86","Tama"]
["87-Taylor","87","Taylor"]
["88-Union","88","Union"]
["89-Van Buren","89","Van Buren"]
["90-Wapello","90","Wapello"]
["91-Warren","91","Warren"]
["92-Washington","92","Washington"]
["93-Wayne","93","Wayne"]
["94-Webster","94","Webster"]
["95-Winnebago","95","Winnebago"]
["96-Winneshiek","96","Winneshiek"]
["97-Woodbury","97","Woodbury"]
["98-Worth","98","Worth"]
["99-Wright","99","Wright"]